Workbook

Sheet 총괄부
A1: Column1 | B1: 날짜 | C1: 장소 | D1: Column4 | E1: Column5 | F1: Column6 | G1: Column7 | H1: Column8 | I1: Column9 | J1: Column10 | K1: Column11 | L1: Column12 | M1: Column13 | N1: Column14 | O1: Column15 | P1: Column16 | Q1: Column17 | R1: Column18 | S1: Column19 | T1: Column20 | U1: Column21 | V1: Column22 | W1: Column23 | X1: Column24 | Y1: Column25 | Z1: Column26 | AA1: Column27 | AB1: Column28 | AC1: Column29 | AD1: Column30 | AE1: Column31 | AF1: Column32 | AG1: Column33 | AH1: Column34 | AI1: Column35 | AJ1: Column36 | AK1: Column37 | AL1: Column38 | AM1: Column39 | AN1: Column40 | AO1: Column41 | AP1: Column42 | AQ1: Column43 | AR1: Column44 | AS1: Column45 | AT1: Column46 | AU1: Column47 | AV1: Column48 | AW1: Column49 | AX1: Column50 | AY1: Column51 | AZ1: Column52 | BA1: Column53 | BB1: Column54 | BC1: Column55 | BD1: Column56 | BE1: Column57 | BF1: Column58 | BG1: Column59 | BH1: Column60
B2: 46224 | C2: (4501) A | D2: 1 | E2: 0 | F2: 0 | G2: 0 | H2: 0 | I2: 0 | J2: 0 | K2: 0 | L2: 0 | M2: 0 | N2: 0 | O2: 0 | P2: 1 | Q2: 0 | R2: 2 | S2: 3,400 | T2: 17 | U2: 22,800 | V2: 15 | W2: 116,000 | X2: 0 | Y2: 0 | Z2: 32 | AA2: 138,800 | AB2: 0 | AC2: 0 | AD2: 2 | AE2: 200 | AF2: 9 | AG2: 80,000 | AH2: 11 | AI2: 80,200 | AJ2: 19 | AK2: 9,500 | AL2: 0 | AM2: 0 | AN2: 0 | AO2: 0 | AP2: 0 | AQ2: 0 | AR2: 0 | AS2: 0 | AT2: 0 | AU2: 0 | AV2: 196,000 | AW2: 26,200 | AX2: 200 | AY2: 222,400 | AZ2: 4,569 | BA2: 2,809 | BB2: -14 | BC2: 1,746 | BD2: 1,760 | BE2: 669 | BF2: 686 | BG2: 859,050 | BH2: 1,589,300
B3: 46224 | C3: (4502) B | D3: 1 | E3: 0 | F3: 0 | G3: 0 | H3: 0 | I3: 0 | J3: 0 | K3: 0 | L3: 0 | M3: 0 | N3: 0 | O3: 0 | P3: 1 | Q3: 0 | R3: 2 | S3: 2,200 | T3: 18 | U3: 16,900 | V3: 19 | W3: 262,000 | X3: 0 | Y3: 0 | Z3: 37 | AA3: 278,900 | AB3: 0 | AC3: 0 | AD3: 1 | AE3: 200 | AF3: 1 | AG3: 10,000 | AH3: 2 | AI3: 10,200 | AJ3: 18 | AK3: 9,000 | AL3: 0 | AM3: 0 | AN3: 0 | AO3: 0 | AP3: 0 | AQ3: 0 | AR3: 0 | AS3: 0 | AT3: 0 | AU3: 0 | AV3: 272,000 | AW3: 19,100 | AX3: 200 | AY3: 291,300 | AZ3: 2,328 | BA3: 1,591 | BB3: 221 | BC3: 958 | BD3: 737 | BE3: 402 | BF3: 401 | BG3: 597,160 | BH3: 1,089,180
B4: 46224 | C4: (4503) C | D4: 5 | E4: 1,500 | F4: 0 | G4: 0 | H4: 0 | I4: 0 | J4: 0 | K4: 0 | L4: 0 | M4: 0 | N4: 0 | O4: 0 | P4: 5 | Q4: 1,500 | R4: 2 | S4: 3,300 | T4: 8 | U4: 6,400 | V4: 7 | W4: 44,000 | X4: 0 | Y4: 0 | Z4: 15 | AA4: 50,400 | AB4: 0 | AC4: 0 | AD4: 1 | AE4: 300 | AF4: 1 | AG4: 1,000 | AH4: 2 | AI4: 1,300 | AJ4: 12 | AK4: 6,000 | AL4: 0 | AM4: 0 | AN4: 0 | AO4: 0 | AP4: 0 | AQ4: 0 | AR4: 0 | AS4: 0 | AT4: 1,500 | AU4: 0 | AV4: 45,000 | AW4: 9,700 | AX4: 300 | AY4: 56,500 | AZ4: 2,011 | BA4: 1,410 | BB4: 90 | BC4: 691 | BD4: 601 | BE4: 663 | BF4: 645 | BG4: 333,700 | BH4: 747,080
B5: 46224 | C5: (4504) D | D5: 2 | E5: 0 | F5: 0 | G5: 0 | H5: 0 | I5: 0 | J5: 0 | K5: 0 | L5: 0 | M5: 0 | N5: 0 | O5: 0 | P5: 2 | Q5: 0 | R5: 1 | S5: 550 | T5: 12 | U5: 10,950 | V5: 10 | W5: 138,000 | X5: 0 | Y5: 0 | Z5: 22 | AA5: 148,950 | AB5: 0 | AC5: 0 | AD5: 1 | AE5: 0 | AF5: 0 | AG5: 0 | AH5: 1 | AI5: 0 | AJ5: 11 | AK5: 5,500 | AL5: 0 | AM5: 0 | AN5: 0 | AO5: 0 | AP5: 0 | AQ5: 0 | AR5: 0 | AS5: 0 | AT5: 0 | AU5: 0 | AV5: 138,000 | AW5: 11,500 | AX5: 0 | AY5: 149,500 | AZ5: 2,258 | BA5: 1,611 | BB5: 385 | BC5: 1,032 | BD5: 647 | BE5: 558 | BF5: 555 | BG5: 448,250 | BH5: 963,460
B6: 46224 | C6: (4505) E | D6: 4 | E6: 3,800 | F6: 0 | G6: 0 | H6: 0 | I6: 0 | J6: 0 | K6: 0 | L6: 0 | M6: 0 | N6: 0 | O6: 0 | P6: 4 | Q6: 3,800 | R6: 4 | S6: 2,200 | T6: 32 | U6: 31,650 | V6: 19 | W6: 251,000 | X6: 0 | Y6: 0 | Z6: 51 | AA6: 282,650 | AB6: 3 | AC6: 120,000 | AD6: 0 | AE6: 0 | AF6: 0 | AG6: 0 | AH6: 0 | AI6: 0 | AJ6: 24 | AK6: 12,000 | AL6: 0 | AM6: 0 | AN6: 0 | AO6: 0 | AP6: 0 | AQ6: 0 | AR6: 0 | AS6: 0 | AT6: 3,800 | AU6: 120,000 | AV6: 251,000 | AW6: 33,850 | AX6: 0 | AY6: 408,650 | AZ6: 5,117 | BA6: 3,733 | BB6: 1,023 | BC6: 2,407 | BD6: 1,384 | BE6: 1,294 | BF6: 1,282 | BG6: 1,050,120 | BH6: 2,323,230
B7: 46224 | C7: (4506) F | D7: 1 | E7: 0 | F7: 0 | G7: 0 | H7: 0 | I7: 0 | J7: 0 | K7: 0 | L7: 0 | M7: 0 | N7: 0 | O7: 0 | P7: 1 | Q7: 0 | R7: 0 | S7: 0 | T7: 5 | U7: 6,800 | V7: 8 | W7: 66,000 | X7: 0 | Y7: 0 | Z7: 13 | AA7: 72,800 | AB7: 0 | AC7: 0 | AD7: 0 | AE7: 0 | AF7: 0 | AG7: 0 | AH7: 0 | AI7: 0 | AJ7: 7 | AK7: 3,500 | AL7: 0 | AM7: 0 | AN7: 0 | AO7: 0 | AP7: 0 | AQ7: 0 | AR7: 0 | AS7: 0 | AT7: 0 | AU7: 0 | AV7: 66,000 | AW7: 6,800 | AX7: 0 | AY7: 72,800 | AZ7: 1,772 | BA7: 1,394 | BB7: 548 | BC7: 926 | BD7: 378 | BE7: 440 | BF7: 435 | BG7: 454,690 | BH7: 946,000
B8: 46224 | C8: (4508) G | D8: 4 | E8: 6,200 | F8: 0 | G8: 0 | H8: 1 | I8: 1,650 | J8: 0 | K8: 0 | L8: 0 | M8: 0 | N8: 0 | O8: 0 | P8: 5 | Q8: 4,550 | R8: 3 | S8: 3,850 | T8: 9 | U8: 7,150 | V8: 12 | W8: 76,000 | X8: 0 | Y8: 0 | Z8: 21 | AA8: 83,150 | AB8: 0 | AC8: 0 | AD8: 0 | AE8: 0 | AF8: 5 | AG8: 38,000 | AH8: 5 | AI8: 38,000 | AJ8: 9 | AK8: 4,500 | AL8: 0 | AM8: 0 | AN8: 0 | AO8: 0 | AP8: 0 | AQ8: 0 | AR8: 0 | AS8: 0 | AT8: 4,550 | AU8: 0 | AV8: 114,000 | AW8: 11,000 | AX8: 0 | AY8: 129,550 | AZ8: 1,830 | BA8: 1,447 | BB8: 739 | BC8: 1,122 | BD8: 383 | BE8: 519 | BF8: 530 | BG8: 413,850 | BH8: 788,410
B9: 46224 | C9: (4509) H | D9: 6 | E9: 500 | F9: 0 | G9: 0 | H9: 0 | I9: 0 | J9: 0 | K9: 0 | L9: 0 | M9: 0 | N9: 0 | O9: 0 | P9: 6 | Q9: 500 | R9: 6 | S9: 6,600 | T9: 10 | U9: 6,650 | V9: 11 | W9: 84,000 | X9: 0 | Y9: 0 | Z9: 21 | AA9: 90,650 | AB9: 1 | AC9: 50,000 | AD9: 0 | AE9: 0 | AF9: 5 | AG9: 50,000 | AH9: 5 | AI9: 50,000 | AJ9: 11 | AK9: 5,500 | AL9: 0 | AM9: 0 | AN9: 0 | AO9: 0 | AP9: 0 | AQ9: 0 | AR9: 0 | AS9: 0 | AT9: 500 | AU9: 50,000 | AV9: 134,000 | AW9: 13,250 | AX9: 0 | AY9: 197,750 | AZ9: 2,906 | BA9: 2,240 | BB9: 1,043 | BC9: 1,709 | BD9: 666 | BE9: 1,129 | BF9: 1,114 | BG9: 398,000 | BH9: 896,270
B10: 46224 | C10: (4510) I | D10: 0 | E10: 0 | F10: 0 | G10: 0 | H10: 0 | I10: 0 | J10: 0 | K10: 0 | L10: 0 | M10: 0 | N10: 0 | O10: 0 | P10: 0 | Q10: 0 | R10: 10 | S10: 11,000 | T10: 10 | U10: 13,000 | V10: 15 | W10: 171,000 | X10: 0 | Y10: 0 | Z10: 25 | AA10: 184,000 | AB10: 0 | AC10: 0 | AD10: 0 | AE10: 0 | AF10: 0 | AG10: 0 | AH10: 0 | AI10: 0 | AJ10: 11 | AK10: 5,500 | AL10: 0 | AM10: 0 | AN10: 0 | AO10: 0 | AP10: 0 | AQ10: 0 | AR10: 0 | AS10: 0 | AT10: 0 | AU10: 0 | AV10: 171,000 | AW10: 24,000 | AX10: 0 | AY10: 195,000 | AZ10: 3,064 | BA10: 2,440 | BB10: 1,212 | BC10: 1,836 | BD10: 624 | BE10: 597 | BF10: 617 | BG10: 727,170 | BH10: 1,279,650
B11: 46224 | C11: (4511) J | D11: 6 | E11: 1,050 | F11: 0 | G11: 0 | H11: 0 | I11: 0 | J11: 0 | K11: 0 | L11: 0 | M11: 0 | N11: 0 | O11: 0 | P11: 6 | Q11: 1,050 | R11: 17 | S11: 13,750 | T11: 9 | U11: 10,350 | V11: 18 | W11: 147,000 | X11: 0 | Y11: 0 | Z11: 27 | AA11: 157,350 | AB11: 2 | AC11: 53,000 | AD11: 0 | AE11: 0 | AF11: 1 | AG11: 10,000 | AH11: 1 | AI11: 10,000 | AJ11: 10 | AK11: 5,000 | AL11: 0 | AM11: 0 | AN11: 0 | AO11: 0 | AP11: 0 | AQ11: 0 | AR11: 0 | AS11: 0 | AT11: 1,050 | AU11: 53,000 | AV11: 157,000 | AW11: 24,100 | AX11: 0 | AY11: 235,150 | AZ11: 2,589 | BA11: 2,017 | BB11: 888 | BC11: 1,460 | BD11: 572 | BE11: 780 | BF11: 763 | BG11: 652,450 | BH11: 1,202,290
B12: 46224 | C12: (4512) K | D12: 3 | E12: 0 | F12: 0 | G12: 0 | H12: 0 | I12: 0 | J12: 0 | K12: 0 | L12: 0 | M12: 0 | N12: 0 | O12: 0 | P12: 3 | Q12: 0 | R12: 14 | S12: 12,100 | T12: 12 | U12: 9,500 | V12: 19 | W12: 148,000 | X12: 1 | Y12: 68,200 | Z12: 32 | AA12: 225,700 | AB12: 1 | AC12: 50,000 | AD12: 0 | AE12: 0 | AF12: 1 | AG12: 10,000 | AH12: 1 | AI12: 10,000 | AJ12: 21 | AK12: 10,500 | AL12: 0 | AM12: 0 | AN12: 0 | AO12: 0 | AP12: 0 | AQ12: 0 | AR12: 0 | AS12: 0 | AT12: 0 | AU12: 50,000 | AV12: 226,200 | AW12: 21,600 | AX12: 0 | AY12: 297,800 | AZ12: 3,770 | BA12: 2,882 | BB12: 1,374 | BC12: 2,262 | BD12: 888 | BE12: 1,167 | BF12: 1,222 | BG12: 832,220 | BH12: 1,490,490
B13: 46224 | C13: (4513) L | D13: 3 | E13: 0 | F13: 0 | G13: 0 | H13: 0 | I13: 0 | J13: 0 | K13: 0 | L13: 0 | M13: 0 | N13: 0 | O13: 0 | P13: 3 | Q13: 0 | R13: 13 | S13: 11,550 | T13: 5 | U13: 8,000 | V13: 10 | W13: 60,000 | X13: 0 | Y13: 0 | Z13: 15 | AA13: 68,000 | AB13: 0 | AC13: 0 | AD13: 0 | AE13: 0 | AF13: 0 | AG13: 0 | AH13: 0 | AI13: 0 | AJ13: 7 | AK13: 3,500 | AL13: 0 | AM13: 0 | AN13: 0 | AO13: 0 | AP13: 0 | AQ13: 0 | AR13: 0 | AS13: 0 | AT13: 0 | AU13: 0 | AV13: 60,000 | AW13: 19,550 | AX13: 0 | AY13: 79,550 | AZ13: 1,821 | BA13: 1,524 | BB13: 784 | BC13: 1,081 | BD13: 297 | BE13: 246 | BF13: 234 | BG13: 613,280 | BH13: 944,310
... B31: 46225 | C31: (4517) F | D31: 1 | E31: 0 | F31: 0 | G31: 0 | H31: 0 | I31: 0 | J31: 0 | K31: 0 | L31: 0 | M31: 0 | N31: 0 | O31: 0 | P31: 1 | Q31: 0 | R31: 7 | S31: 9,350 | T31: 18 | U31: 32,000 | V31: 13 | W31: 119,000 | X31: 1 | Y31: 68,200 | Z31: 32 | AA31: 219,200 | AB31: 2 | AC31: 10,000 | AD31: 3 | AE31: 600 | AF31: 0 | AG31: 0 | AH31: 3 | AI31: 600 | AJ31: 8 | AK31: 4,000 | AL31: 0 | AM31: 0 | AN31: 0 | AO31: 0 | AP31: 0 | AQ31: 0 | AR31: 0 | AS31: 0 | AT31: 0 | AU31: 10,000 | AV31: 187,200 | AW31: 41,350 | AX31: 600 | AY31: 239,150 | AZ31: 2,369 | BA31: 1,714 | BB31: 384 | BC31: 1,039 | BD31: 655 | BE31: 283 | BF31: 309 | BG31: 800,760 | BH31: 1,332,260

Sheet 6일
G1: 가 | I1: =A5 -> 46224
G2: 나 | I2: =C8 -> #REF! | O2: 특종
G3: 다 | I3: =D8 -> #REF!
G4: 라 | I4: =SUM(I2:I3)+P2 -> #REF!
A5: 46224
A6: 구분 | B6: 총합 | C6: 가 | D6: 나 | E6: 다 | F6: 라 | G6: 마 | H6: 바 | J6: 가나 | K6: 디리 | L6: 마바 | M6: 사아 | N6: 바하 | R6: 자산
H7: 사 | I7: 아 | N7: 가 | O7: 나 | P7: 다 | Q7: 라 | R7: 가 | S7: 나
A8: 합계 | B8: =SUM(C8:D8) -> #REF! | C8: =SUM(H8,J8,M8,N8,R8,P8)-K8 -> #REF! | D8: =L8+Q8+S8+E8 -> #REF! | E8: =SUM(E9:E23) -> #REF! | F8: =SUM(F9:F23) -> #REF! | G8: =SUM(G9:G23) -> 0 | H8: =SUM(H9:H23) -> #REF! | I8: =SUM(I9:I23) -> #REF! | J8: =SUM(J9:J23) -> 0 | K8: =SUM(K9:K23) -> 0 | L8: =SUM(L9:L23) -> 0 | ... S8: =SUM(S9:S23) -> 0
A9: (4501) A | B9: =SUM(C9:D9) -> #REF! | C9: =SUM(H9,J9,M9,N9,R9,P9)-K9 -> #REF! | D9: =L9+Q9+S9+E9 -> #REF! | E9: =F9-G9 -> #REF! | F9: =I9+O9 -> #REF! | G9: =SUMIFS(총괄부!$AK:$AK,총괄부!B:B,$A$5,총괄부!$C:$C,A9) -> 0 | H9: =SUMIFS(총괄부!$Q:$Q,총괄부!B:B,$A$5,총괄부!$C:$C,A9)-I9 -> #REF! | I9: =COUNTIFS(#REF!,A9,#REF!,"=발권기",#REF!,$A$5)*500 -> #REF! | J9: =SUMIFS(총괄부!$AM:$AM,총괄부!B:B,$A$5,총괄부!$C:$C,A9) -> 0 | K9: =SUMIFS(총괄부!AO:AO,총괄부!B:B,$A$5,총괄부!$C:$C,A9) -> 0 | L9: =SUMIFS(총괄부!$AC:$AC,총괄부!B:B,$A$5,총괄부!$C:$C,A9) -> 0 | M9: =SUMIFS(총괄부!$S:$S,총괄부!B:B,$A$5,총괄부!$C:$C,A9) -> 0 | N9: =SUMIFS(총괄부!$U:$U,총괄부!B:B,$A$5,총괄부!$C:$C,A9)-O9 -> 0 | O9: =SUMIFS(총괄부!$T:$T,총괄부!B:B,$A$5,총괄부!$C:$C,A9)*500 -> 0 | P9: =SUMIFS(총괄부!$Y:$Y,총괄부!B:B,$A$5,총괄부!$C:$C,A9) -> 0 | Q9: =SUMIFS(총괄부!W:W,총괄부!B:B,$A$5,총괄부!$C:$C,A9) -> 0 | R9: =SUMIFS(총괄부!$AE:$AE,총괄부!B:B,$A$5,총괄부!$C:$C,A9) -> 0 | S9: =SUMIFS(총괄부!$AG:$AG,총괄부!B:B,$A$5,총괄부!$C:$C,A9) -> 0
A10: (4502) B | B10: =SUM(C10:D10) -> #REF! | C10: =SUM(H10,J10,M10,N10,R10,P10)-K10 -> #REF! | D10: =L10+Q10+S10+E10 -> #REF! | E10: =F10-G10 -> #REF! | F10: =I10+O10 -> #REF! | G10: =SUMIFS(총괄부!$AK:$AK,총괄부!B:B,$A$5,총괄부!$C:$C,A10) -> 0 | H10: =SUMIFS(총괄부!$Q:$Q,총괄부!B:B,$A$5,총괄부!$C:$C,A10)-I10 -> #REF! | I10: =COUNTIFS(#REF!,A10,#REF!,"=발권기",#REF!,$A$5)*500 -> #REF! | J10: =SUMIFS(총괄부!$AM:$AM,총괄부!B:B,$A$5,총괄부!$C:$C,A10) -> 0 | K10: =SUMIFS(총괄부!AO:AO,총괄부!B:B,$A$5,총괄부!$C:$C,A10) -> 0 | L10: =SUMIFS(총괄부!$AC:$AC,총괄부!B:B,$A$5,총괄부!$C:$C,A10) -> 0 | M10: =SUMIFS(총괄부!$S:$S,총괄부!B:B,$A$5,총괄부!$C:$C,A10) -> 0 | N10: =SUMIFS(총괄부!$U:$U,총괄부!B:B,$A$5,총괄부!$C:$C,A10)-O10 -> 0 | O10: =SUMIFS(총괄부!$T:$T,총괄부!B:B,$A$5,총괄부!$C:$C,A10)*500 -> 0 | P10: =SUMIFS(총괄부!$Y:$Y,총괄부!B:B,$A$5,총괄부!$C:$C,A10) -> 0 | Q10: =SUMIFS(총괄부!W:W,총괄부!B:B,$A$5,총괄부!$C:$C,A10) -> 0 | R10: =SUMIFS(총괄부!$AE:$AE,총괄부!B:B,$A$5,총괄부!$C:$C,A10) -> 0 | S10: =SUMIFS(총괄부!$AG:$AG,총괄부!B:B,$A$5,총괄부!$C:$C,A10) -> 0
A11: (4503) C | B11: =SUM(C11:D11) -> #REF! | C11: =SUM(H11,J11,M11,N11,R11,P11)-K11 -> #REF! | D11: =L11+Q11+S11+E11 -> #REF! | E11: =F11-G11 -> #REF! | F11: =I11+O11 -> #REF! | G11: =SUMIFS(총괄부!$AK:$AK,총괄부!B:B,$A$5,총괄부!$C:$C,A11) -> 0 | H11: =SUMIFS(총괄부!$Q:$Q,총괄부!B:B,$A$5,총괄부!$C:$C,A11)-I11 -> #REF! | I11: =COUNTIFS(#REF!,A11,#REF!,"=발권기",#REF!,$A$5)*500 -> #REF! | J11: =SUMIFS(총괄부!$AM:$AM,총괄부!B:B,$A$5,총괄부!$C:$C,A11) -> 0 | K11: =SUMIFS(총괄부!AO:AO,총괄부!B:B,$A$5,총괄부!$C:$C,A11) -> 0 | L11: =SUMIFS(총괄부!$AC:$AC,총괄부!B:B,$A$5,총괄부!$C:$C,A11) -> 0 | M11: =SUMIFS(총괄부!$S:$S,총괄부!B:B,$A$5,총괄부!$C:$C,A11) -> 0 | N11: =SUMIFS(총괄부!$U:$U,총괄부!B:B,$A$5,총괄부!$C:$C,A11)-O11 -> 0 | O11: =SUMIFS(총괄부!$T:$T,총괄부!B:B,$A$5,총괄부!$C:$C,A11)*500 -> 0 | P11: =SUMIFS(총괄부!$Y:$Y,총괄부!B:B,$A$5,총괄부!$C:$C,A11) -> 0 | Q11: =SUMIFS(총괄부!W:W,총괄부!B:B,$A$5,총괄부!$C:$C,A11) -> 0 | R11: =SUMIFS(총괄부!$AE:$AE,총괄부!B:B,$A$5,총괄부!$C:$C,A11) -> 0 | S11: =SUMIFS(총괄부!$AG:$AG,총괄부!B:B,$A$5,총괄부!$C:$C,A11) -> 0
A12: (4504) D | B12: =SUM(C12:D12) -> #REF! | C12: =SUM(H12,J12,M12,N12,R12,P12)-K12 -> #REF! | D12: =L12+Q12+S12+E12 -> #REF! | E12: =F12-G12 -> #REF! | F12: =I12+O12 -> #REF! | G12: =SUMIFS(총괄부!$AK:$AK,총괄부!B:B,$A$5,총괄부!$C:$C,A12) -> 0 | H12: =SUMIFS(총괄부!$Q:$Q,총괄부!B:B,$A$5,총괄부!$C:$C,A12)-I12 -> #REF! | I12: =COUNTIFS(#REF!,A12,#REF!,"=발권기",#REF!,$A$5)*500 -> #REF! | J12: =SUMIFS(총괄부!$AM:$AM,총괄부!B:B,$A$5,총괄부!$C:$C,A12) -> 0 | K12: =SUMIFS(총괄부!AO:AO,총괄부!B:B,$A$5,총괄부!$C:$C,A12) -> 0 | L12: =SUMIFS(총괄부!$AC:$AC,총괄부!B:B,$A$5,총괄부!$C:$C,A12) -> 0 | M12: =SUMIFS(총괄부!$S:$S,총괄부!B:B,$A$5,총괄부!$C:$C,A12) -> 0 | N12: =SUMIFS(총괄부!$U:$U,총괄부!B:B,$A$5,총괄부!$C:$C,A12)-O12 -> 0 | O12: =SUMIFS(총괄부!$T:$T,총괄부!B:B,$A$5,총괄부!$C:$C,A12)*500 -> 0 | P12: =SUMIFS(총괄부!$Y:$Y,총괄부!B:B,$A$5,총괄부!$C:$C,A12) -> 0 | Q12: =SUMIFS(총괄부!W:W,총괄부!B:B,$A$5,총괄부!$C:$C,A12) -> 0 | R12: =SUMIFS(총괄부!$AE:$AE,총괄부!B:B,$A$5,총괄부!$C:$C,A12) -> 0 | S12: =SUMIFS(총괄부!$AG:$AG,총괄부!B:B,$A$5,총괄부!$C:$C,A12) -> 0
A13: (4505) E | B13: =SUM(C13:D13) -> #REF! | C13: =SUM(H13,J13,M13,N13,R13,P13)-K13 -> #REF! | D13: =L13+Q13+S13+E13 -> #REF! | E13: =F13-G13 -> #REF! | F13: =I13+O13 -> #REF! | G13: =SUMIFS(총괄부!$AK:$AK,총괄부!B:B,$A$5,총괄부!$C:$C,A13) -> 0 | H13: =SUMIFS(총괄부!$Q:$Q,총괄부!B:B,$A$5,총괄부!$C:$C,A13)-I13 -> #REF! | I13: =COUNTIFS(#REF!,A13,#REF!,"=발권기",#REF!,$A$5)*500 -> #REF! | J13: =SUMIFS(총괄부!$AM:$AM,총괄부!B:B,$A$5,총괄부!$C:$C,A13) -> 0 | K13: =SUMIFS(총괄부!AO:AO,총괄부!B:B,$A$5,총괄부!$C:$C,A13) -> 0 | L13: =SUMIFS(총괄부!$AC:$AC,총괄부!B:B,$A$5,총괄부!$C:$C,A13) -> 0 | M13: =SUMIFS(총괄부!$S:$S,총괄부!B:B,$A$5,총괄부!$C:$C,A13) -> 0 | N13: =SUMIFS(총괄부!$U:$U,총괄부!B:B,$A$5,총괄부!$C:$C,A13)-O13 -> 0 | O13: =SUMIFS(총괄부!$T:$T,총괄부!B:B,$A$5,총괄부!$C:$C,A13)*500 -> 0 | P13: =SUMIFS(총괄부!$Y:$Y,총괄부!B:B,$A$5,총괄부!$C:$C,A13) -> 0 | Q13: =SUMIFS(총괄부!W:W,총괄부!B:B,$A$5,총괄부!$C:$C,A13) -> 0 | R13: =SUMIFS(총괄부!$AE:$AE,총괄부!B:B,$A$5,총괄부!$C:$C,A13) -> 0 | S13: =SUMIFS(총괄부!$AG:$AG,총괄부!B:B,$A$5,총괄부!$C:$C,A13) -> 0
A14: (4506) F | B14: =SUM(C14:D14) -> #REF! | C14: =SUM(H14,J14,M14,N14,R14,P14)-K14 -> #REF! | D14: =L14+Q14+S14+E14 -> #REF! | E14: =F14-G14 -> #REF! | F14: =I14+O14 -> #REF! | G14: =SUMIFS(총괄부!$AK:$AK,총괄부!B:B,$A$5,총괄부!$C:$C,A14) -> 0 | H14: =SUMIFS(총괄부!$Q:$Q,총괄부!B:B,$A$5,총괄부!$C:$C,A14)-I14 -> #REF! | I14: =COUNTIFS(#REF!,A14,#REF!,"=발권기",#REF!,$A$5)*500 -> #REF! | J14: =SUMIFS(총괄부!$AM:$AM,총괄부!B:B,$A$5,총괄부!$C:$C,A14) -> 0 | K14: =SUMIFS(총괄부!AO:AO,총괄부!B:B,$A$5,총괄부!$C:$C,A14) -> 0 | L14: =SUMIFS(총괄부!$AC:$AC,총괄부!B:B,$A$5,총괄부!$C:$C,A14) -> 0 | M14: =SUMIFS(총괄부!$S:$S,총괄부!B:B,$A$5,총괄부!$C:$C,A14) -> 0 | N14: =SUMIFS(총괄부!$U:$U,총괄부!B:B,$A$5,총괄부!$C:$C,A14)-O14 -> 0 | O14: =SUMIFS(총괄부!$T:$T,총괄부!B:B,$A$5,총괄부!$C:$C,A14)*500 -> 0 | P14: =SUMIFS(총괄부!$Y:$Y,총괄부!B:B,$A$5,총괄부!$C:$C,A14) -> 0 | Q14: =SUMIFS(총괄부!W:W,총괄부!B:B,$A$5,총괄부!$C:$C,A14) -> 0 | R14: =SUMIFS(총괄부!$AE:$AE,총괄부!B:B,$A$5,총괄부!$C:$C,A14) -> 0 | S14: =SUMIFS(총괄부!$AG:$AG,총괄부!B:B,$A$5,총괄부!$C:$C,A14) -> 0
A15: (4508) G | B15: =SUM(C15:D15) -> #REF! | C15: =SUM(H15,J15,M15,N15,R15,P15)-K15 -> #REF! | D15: =L15+Q15+S15+E15 -> #REF! | E15: =(F15-G15)+T15 -> #REF! | F15: =I15+O15 -> #REF! | G15: =SUMIFS(총괄부!$AK:$AK,총괄부!B:B,$A$5,총괄부!$C:$C,A15) -> 0 | H15: =SUMIFS(총괄부!$Q:$Q,총괄부!B:B,$A$5,총괄부!$C:$C,A15)-I15 -> #REF! | I15: =COUNTIFS(#REF!,A15,#REF!,"=발권기",#REF!,$A$5)*500 -> #REF! | J15: =SUMIFS(총괄부!$AM:$AM,총괄부!B:B,$A$5,총괄부!$C:$C,A15) -> 0 | K15: =SUMIFS(총괄부!AO:AO,총괄부!B:B,$A$5,총괄부!$C:$C,A15) -> 0 | L15: =SUMIFS(총괄부!$AC:$AC,총괄부!B:B,$A$5,총괄부!$C:$C,A15) -> 0 | M15: =SUMIFS(총괄부!$S:$S,총괄부!B:B,$A$5,총괄부!$C:$C,A15) -> 0 | N15: =SUMIFS(총괄부!$U:$U,총괄부!B:B,$A$5,총괄부!$C:$C,A15)-O15 -> 0 | O15: =SUMIFS(총괄부!$T:$T,총괄부!B:B,$A$5,총괄부!$C:$C,A15)*500 -> 0 | P15: =SUMIFS(총괄부!$Y:$Y,총괄부!B:B,$A$5,총괄부!$C:$C,A15) -> 0 | Q15: =SUMIFS(총괄부!W:W,총괄부!B:B,$A$5,총괄부!$C:$C,A15) -> 0 | R15: =SUMIFS(총괄부!$AE:$AE,총괄부!B:B,$A$5,총괄부!$C:$C,A15) -> 0 | S15: =SUMIFS(총괄부!$AG:$AG,총괄부!B:B,$A$5,총괄부!$C:$C,A15) -> 0 | T15: 2500
A16: (4509) H | B16: =SUM(C16:D16) -> #REF! | C16: =SUM(H16,J16,M16,N16,R16,P16)-K16 -> #REF! | D16: =L16+Q16+S16+E16 -> #REF! | E16: =F16-G16 -> #REF! | F16: =I16+O16 -> #REF! | G16: =SUMIFS(총괄부!$AK:$AK,총괄부!B:B,$A$5,총괄부!$C:$C,A16) -> 0 | H16: =SUMIFS(총괄부!$Q:$Q,총괄부!B:B,$A$5,총괄부!$C:$C,A16)-I16 -> #REF! | I16: =COUNTIFS(#REF!,A16,#REF!,"=발권기",#REF!,$A$5)*500 -> #REF! | J16: =SUMIFS(총괄부!$AM:$AM,총괄부!B:B,$A$5,총괄부!$C:$C,A16) -> 0 | K16: =SUMIFS(총괄부!AO:AO,총괄부!B:B,$A$5,총괄부!$C:$C,A16) -> 0 | L16: =SUMIFS(총괄부!$AC:$AC,총괄부!B:B,$A$5,총괄부!$C:$C,A16) -> 0 | M16: =SUMIFS(총괄부!$S:$S,총괄부!B:B,$A$5,총괄부!$C:$C,A16) -> 0 | N16: =SUMIFS(총괄부!$U:$U,총괄부!B:B,$A$5,총괄부!$C:$C,A16)-O16 -> 0 | O16: =SUMIFS(총괄부!$T:$T,총괄부!B:B,$A$5,총괄부!$C:$C,A16)*500 -> 0 | P16: =SUMIFS(총괄부!$Y:$Y,총괄부!B:B,$A$5,총괄부!$C:$C,A16) -> 0 | Q16: =SUMIFS(총괄부!W:W,총괄부!B:B,$A$5,총괄부!$C:$C,A16) -> 0 | R16: =SUMIFS(총괄부!$AE:$AE,총괄부!B:B,$A$5,총괄부!$C:$C,A16) -> 0 | S16: =SUMIFS(총괄부!$AG:$AG,총괄부!B:B,$A$5,총괄부!$C:$C,A16) -> 0 | T16: 양수음수 반대로 입력
A17: (4510) I | B17: =SUM(C17:D17) -> #REF! | C17: =SUM(H17,J17,M17,N17,R17,P17)-K17 -> #REF! | D17: =L17+Q17+S17+E17 -> #REF! | E17: =F17-G17 -> #REF! | F17: =I17+O17 -> #REF! | G17: =SUMIFS(총괄부!$AK:$AK,총괄부!B:B,$A$5,총괄부!$C:$C,A17) -> 0 | H17: =SUMIFS(총괄부!$Q:$Q,총괄부!B:B,$A$5,총괄부!$C:$C,A17)-I17 -> #REF! | I17: =COUNTIFS(#REF!,A17,#REF!,"=발권기",#REF!,$A$5)*500 -> #REF! | J17: =SUMIFS(총괄부!$AM:$AM,총괄부!B:B,$A$5,총괄부!$C:$C,A17) -> 0 | K17: =SUMIFS(총괄부!AO:AO,총괄부!B:B,$A$5,총괄부!$C:$C,A17) -> 0 | L17: =SUMIFS(총괄부!$AC:$AC,총괄부!B:B,$A$5,총괄부!$C:$C,A17) -> 0 | M17: =SUMIFS(총괄부!$S:$S,총괄부!B:B,$A$5,총괄부!$C:$C,A17) -> 0 | N17: =SUMIFS(총괄부!$U:$U,총괄부!B:B,$A$5,총괄부!$C:$C,A17)-O17 -> 0 | O17: =SUMIFS(총괄부!$T:$T,총괄부!B:B,$A$5,총괄부!$C:$C,A17)*500 -> 0 | P17: =SUMIFS(총괄부!$Y:$Y,총괄부!B:B,$A$5,총괄부!$C:$C,A17) -> 0 | Q17: =SUMIFS(총괄부!W:W,총괄부!B:B,$A$5,총괄부!$C:$C,A17) -> 0 | R17: =SUMIFS(총괄부!$AE:$AE,총괄부!B:B,$A$5,총괄부!$C:$C,A17) -> 0 | S17: =SUMIFS(총괄부!$AG:$AG,총괄부!B:B,$A$5,총괄부!$C:$C,A17) -> 0 | T17: 보증금차액 일일보고서에 입력
A18: (4511) J | B18: =SUM(C18:D18) -> #REF! | C18: =SUM(H18,J18,M18,N18,R18,P18)-K18 -> #REF! | D18: =L18+Q18+S18+E18 -> #REF! | E18: =F18-G18 -> #REF! | F18: =I18+O18 -> #REF! | G18: =SUMIFS(총괄부!$AK:$AK,총괄부!B:B,$A$5,총괄부!$C:$C,A18) -> 0 | H18: =SUMIFS(총괄부!$Q:$Q,총괄부!B:B,$A$5,총괄부!$C:$C,A18)-I18 -> #REF! | I18: =COUNTIFS(#REF!,A18,#REF!,"=발권기",#REF!,$A$5)*500 -> #REF! | J18: =SUMIFS(총괄부!$AM:$AM,총괄부!B:B,$A$5,총괄부!$C:$C,A18) -> 0 | K18: =SUMIFS(총괄부!AO:AO,총괄부!B:B,$A$5,총괄부!$C:$C,A18) -> 0 | L18: =SUMIFS(총괄부!$AC:$AC,총괄부!B:B,$A$5,총괄부!$C:$C,A18) -> 0 | M18: =SUMIFS(총괄부!$S:$S,총괄부!B:B,$A$5,총괄부!$C:$C,A18) -> 0 | N18: =SUMIFS(총괄부!$U:$U,총괄부!B:B,$A$5,총괄부!$C:$C,A18)-O18 -> 0 | O18: =SUMIFS(총괄부!$T:$T,총괄부!B:B,$A$5,총괄부!$C:$C,A18)*500 -> 0 | P18: =SUMIFS(총괄부!$Y:$Y,총괄부!B:B,$A$5,총괄부!$C:$C,A18) -> 0 | Q18: =SUMIFS(총괄부!W:W,총괄부!B:B,$A$5,총괄부!$C:$C,A18) -> 0 | R18: =SUMIFS(총괄부!$AE:$AE,총괄부!B:B,$A$5,총괄부!$C:$C,A18) -> 0 | S18: =SUMIFS(총괄부!$AG:$AG,총괄부!B:B,$A$5,총괄부!$C:$C,A18) -> 0
A19: (4512) K | B19: =SUM(C19:D19) -> #REF! | C19: =SUM(H19,J19,M19,N19,R19,P19)-K19 -> #REF! | D19: =L19+Q19+S19+E19 -> #REF! | E19: =F19-G19 -> #REF! | F19: =I19+O19 -> #REF! | G19: =SUMIFS(총괄부!$AK:$AK,총괄부!B:B,$A$5,총괄부!$C:$C,A19) -> 0 | H19: =SUMIFS(총괄부!$Q:$Q,총괄부!B:B,$A$5,총괄부!$C:$C,A19)-I19 -> #REF! | I19: =COUNTIFS(#REF!,A19,#REF!,"=발권기",#REF!,$A$5)*500 -> #REF! | J19: =SUMIFS(총괄부!$AM:$AM,총괄부!B:B,$A$5,총괄부!$C:$C,A19) -> 0 | K19: =SUMIFS(총괄부!AO:AO,총괄부!B:B,$A$5,총괄부!$C:$C,A19) -> 0 | L19: =SUMIFS(총괄부!$AC:$AC,총괄부!B:B,$A$5,총괄부!$C:$C,A19) -> 0 | M19: =SUMIFS(총괄부!$S:$S,총괄부!B:B,$A$5,총괄부!$C:$C,A19) -> 0 | N19: =SUMIFS(총괄부!$U:$U,총괄부!B:B,$A$5,총괄부!$C:$C,A19)-O19 -> 0 | O19: =SUMIFS(총괄부!$T:$T,총괄부!B:B,$A$5,총괄부!$C:$C,A19)*500 -> 0 | P19: =SUMIFS(총괄부!$Y:$Y,총괄부!B:B,$A$5,총괄부!$C:$C,A19) -> 0 | Q19: =SUMIFS(총괄부!W:W,총괄부!B:B,$A$5,총괄부!$C:$C,A19) -> 0 | R19: =SUMIFS(총괄부!$AE:$AE,총괄부!B:B,$A$5,총괄부!$C:$C,A19) -> 0 | S19: =SUMIFS(총괄부!$AG:$AG,총괄부!B:B,$A$5,총괄부!$C:$C,A19) -> 0
A20: (4513) L | B20: =SUM(C20:D20) -> #REF! | C20: =SUM(H20,J20,M20,N20,R20,P20)-K20 -> #REF! | D20: =L20+Q20+S20+E20 -> #REF! | E20: =F20-G20 -> #REF! | F20: =I20+O20 -> #REF! | G20: =SUMIFS(총괄부!$AK:$AK,총괄부!B:B,$A$5,총괄부!$C:$C,A20) -> 0 | H20: =SUMIFS(총괄부!$Q:$Q,총괄부!B:B,$A$5,총괄부!$C:$C,A20)-I20 -> #REF! | I20: =COUNTIFS(#REF!,A20,#REF!,"=발권기",#REF!,$A$5)*500 -> #REF! | J20: =SUMIFS(총괄부!$AM:$AM,총괄부!B:B,$A$5,총괄부!$C:$C,A20) -> 0 | K20: =SUMIFS(총괄부!AO:AO,총괄부!B:B,$A$5,총괄부!$C:$C,A20) -> 0 | L20: =SUMIFS(총괄부!$AC:$AC,총괄부!B:B,$A$5,총괄부!$C:$C,A20) -> 0 | M20: =SUMIFS(총괄부!$S:$S,총괄부!B:B,$A$5,총괄부!$C:$C,A20) -> 0 | N20: =SUMIFS(총괄부!$U:$U,총괄부!B:B,$A$5,총괄부!$C:$C,A20)-O20 -> 0 | O20: =SUMIFS(총괄부!$T:$T,총괄부!B:B,$A$5,총괄부!$C:$C,A20)*500 -> 0 | P20: =SUMIFS(총괄부!$Y:$Y,총괄부!B:B,$A$5,총괄부!$C:$C,A20) -> 0 | Q20: =SUMIFS(총괄부!W:W,총괄부!B:B,$A$5,총괄부!$C:$C,A20) -> 0 | R20: =SUMIFS(총괄부!$AE:$AE,총괄부!B:B,$A$5,총괄부!$C:$C,A20) -> 0 | S20: =SUMIFS(총괄부!$AG:$AG,총괄부!B:B,$A$5,총괄부!$C:$C,A20) -> 0
A21: (4514) M | B21: =SUM(C21:D21) -> #REF! | C21: =SUM(H21,J21,M21,N21,R21,P21)-K21 -> #REF! | D21: =L21+Q21+S21+E21 -> #REF! | E21: =F21-G21 -> #REF! | F21: =I21+O21 -> #REF! | G21: =SUMIFS(총괄부!$AK:$AK,총괄부!B:B,$A$5,총괄부!$C:$C,A21) -> 0 | H21: =SUMIFS(총괄부!$Q:$Q,총괄부!B:B,$A$5,총괄부!$C:$C,A21)-I21 -> #REF! | I21: =COUNTIFS(#REF!,A21,#REF!,"=발권기",#REF!,$A$5)*500 -> #REF! | J21: =SUMIFS(총괄부!$AM:$AM,총괄부!B:B,$A$5,총괄부!$C:$C,A21) -> 0 | K21: =SUMIFS(총괄부!AO:AO,총괄부!B:B,$A$5,총괄부!$C:$C,A21) -> 0 | L21: =SUMIFS(총괄부!$AC:$AC,총괄부!B:B,$A$5,총괄부!$C:$C,A21) -> 0 | M21: =SUMIFS(총괄부!$S:$S,총괄부!B:B,$A$5,총괄부!$C:$C,A21) -> 0 | N21: =SUMIFS(총괄부!$U:$U,총괄부!B:B,$A$5,총괄부!$C:$C,A21)-O21 -> 0 | O21: =SUMIFS(총괄부!$T:$T,총괄부!B:B,$A$5,총괄부!$C:$C,A21)*500 -> 0 | P21: =SUMIFS(총괄부!$Y:$Y,총괄부!B:B,$A$5,총괄부!$C:$C,A21) -> 0 | Q21: =SUMIFS(총괄부!W:W,총괄부!B:B,$A$5,총괄부!$C:$C,A21) -> 0 | R21: =SUMIFS(총괄부!$AE:$AE,총괄부!B:B,$A$5,총괄부!$C:$C,A21) -> 0 | S21: =SUMIFS(총괄부!$AG:$AG,총괄부!B:B,$A$5,총괄부!$C:$C,A21) -> 0
A22: (4515) N | B22: =SUM(C22:D22) -> #REF! | C22: =SUM(H22,J22,M22,N22,R22,P22)-K22 -> #REF! | D22: =L22+Q22+S22+E22 -> #REF! | E22: =F22-G22 -> #REF! | F22: =I22+O22 -> #REF! | G22: =SUMIFS(총괄부!$AK:$AK,총괄부!B:B,$A$5,총괄부!$C:$C,A22) -> 0 | H22: =SUMIFS(총괄부!$Q:$Q,총괄부!B:B,$A$5,총괄부!$C:$C,A22)-I22 -> #REF! | I22: =COUNTIFS(#REF!,A22,#REF!,"=발권기",#REF!,$A$5)*500 -> #REF! | J22: =SUMIFS(총괄부!$AM:$AM,총괄부!B:B,$A$5,총괄부!$C:$C,A22) -> 0 | K22: =SUMIFS(총괄부!AO:AO,총괄부!B:B,$A$5,총괄부!$C:$C,A22) -> 0 | L22: =SUMIFS(총괄부!$AC:$AC,총괄부!B:B,$A$5,총괄부!$C:$C,A22) -> 0 | M22: =SUMIFS(총괄부!$S:$S,총괄부!B:B,$A$5,총괄부!$C:$C,A22) -> 0 | N22: =SUMIFS(총괄부!$U:$U,총괄부!B:B,$A$5,총괄부!$C:$C,A22)-O22 -> 0 | O22: =SUMIFS(총괄부!$T:$T,총괄부!B:B,$A$5,총괄부!$C:$C,A22)*500 -> 0 | P22: =SUMIFS(총괄부!$Y:$Y,총괄부!B:B,$A$5,총괄부!$C:$C,A22) -> 0 | Q22: =SUMIFS(총괄부!W:W,총괄부!B:B,$A$5,총괄부!$C:$C,A22) -> 0 | R22: =SUMIFS(총괄부!$AE:$AE,총괄부!B:B,$A$5,총괄부!$C:$C,A22) -> 0 | S22: =SUMIFS(총괄부!$AG:$AG,총괄부!B:B,$A$5,총괄부!$C:$C,A22) -> 0
A23: (4517) F | B23: =SUM(C23:D23) -> #REF! | C23: =SUM(H23,J23,M23,N23,R23,P23)-K23 -> #REF! | D23: =L23+Q23+S23+E23 -> #REF! | E23: =F23-G23 -> #REF! | F23: =I23+O23 -> #REF! | G23: =SUMIFS(총괄부!$AK:$AK,총괄부!B:B,$A$5,총괄부!$C:$C,A23) -> 0 | H23: =SUMIFS(총괄부!$Q:$Q,총괄부!B:B,$A$5,총괄부!$C:$C,A23)-I23 -> #REF! | I23: =COUNTIFS(#REF!,A23,#REF!,"=발권기",#REF!,$A$5)*500 -> #REF! | J23: =SUMIFS(총괄부!$AM:$AM,총괄부!B:B,$A$5,총괄부!$C:$C,A23) -> 0 | K23: =SUMIFS(총괄부!AO:AO,총괄부!B:B,$A$5,총괄부!$C:$C,A23) -> 0 | L23: =SUMIFS(총괄부!$AC:$AC,총괄부!B:B,$A$5,총괄부!$C:$C,A23) -> 0 | M23: =SUMIFS(총괄부!$S:$S,총괄부!B:B,$A$5,총괄부!$C:$C,A23) -> 0 | N23: =SUMIFS(총괄부!$U:$U,총괄부!B:B,$A$5,총괄부!$C:$C,A23)-O23 -> 0 | O23: =SUMIFS(총괄부!$T:$T,총괄부!B:B,$A$5,총괄부!$C:$C,A23)*500 -> 0 | P23: =SUMIFS(총괄부!$Y:$Y,총괄부!B:B,$A$5,총괄부!$C:$C,A23) -> 0 | Q23: =SUMIFS(총괄부!W:W,총괄부!B:B,$A$5,총괄부!$C:$C,A23) -> 0 | R23: =SUMIFS(총괄부!$AE:$AE,총괄부!B:B,$A$5,총괄부!$C:$C,A23) -> 0 | S23: =SUMIFS(총괄부!$AG:$AG,총괄부!B:B,$A$5,총괄부!$C:$C,A23) -> 0
H205: 408
