Workbook
Name DATA1: #REF!
Name DATA10: #REF!
Name DATA11: #REF!
Name DATA12: #REF!
Name DATA13: #REF!
Name DATA2: #REF!
Name DATA3: #REF!
Name DATA4: #REF!
Name DATA5: #REF!
Name DATA6: #REF!
Name DATA7: #REF!
Name DATA8: #REF!
Name DATA9: #REF!
Name TEST0: #REF!
Name TESTHKEY: #REF!
Name TESTKEYS: #REF!
Name TESTVKEY: #REF!

Sheet 2026
A1: 통지일 | B1: 통지 | C1: 내역 | D1: 보고인 (사번) | E1: 요청자 | F1: SECTION
A3: =IF(ISBLANK(D8),"",index(명부!D3:D100),MATCH(1,(명부!A3:A100='2026'!D8)+(명부!B3:B100='2026'!D8)+(명부!C3:C100='2026'!D8),0)))
A8: 20260710 | B8: 31196377 | C8: BS-202,203 Cleaning 요청 | D8: 770418 | E8: =IF(ISBLANK(D8),"",index(명부!D3:D100),MATCH(1,(명부!A3:A100='2026'!D8)+(명부!B3:B100='2026'!D8)+(명부!C3:C100='2026'!D8),0))) | F8: =IF(ISBLANK(D9),"",VLOOKUP(D8,명부!$A$3:$E$100,5,0)) -> #N/A
A9: 20260709 | B9: 31196329 | C9: AMMONIA PUMP 동쪽 라이트닝 점검 | D9: 521002 | E9: =IF(ISBLANK(D9),"",VLOOKUP(D9,명부!$A$3:$D$100,4,0)) -> 장영찬 | F9: =IF(ISBLANK(D9),"",VLOOKUP(D9,명부!$A$3:$E$100,5,0)) -> HOT
A10: 20260709 | B10: 31196218 | C10: PD-101"B" Pumping 불량 / Stroke 낮을경우 유량x | D10: 520573 | E10: =IF(ISBLANK(D10),"",VLOOKUP(D10,명부!$A$3:$D$100,4,0)) -> 김성원 | F10: =IF(ISBLANK(D10),"",VLOOKUP(D10,명부!$A$3:$E$100,5,0)) -> HOT
A11: 20260708 | B11: 31195959 | C11: E Area Eye Shower 밸브 교체를 위한 보온 해체 요청 | D11: 520995 | E11: =IF(ISBLANK(D11),"",VLOOKUP(D11,명부!$A$3:$D$100,4,0)) -> 박석남 | F11: =IF(ISBLANK(D11),"",VLOOKUP(D11,명부!$A$3:$E$100,5,0)) -> COLD
A12: 20260708 | B12: 31196150 | C12: BS-202 Cleaning 요청 | D12: 520701 | E12: =IF(ISBLANK(D12),"",VLOOKUP(D12,명부!$A$3:$D$100,4,0)) -> 임대성 | F12: =IF(ISBLANK(D12),"",VLOOKUP(D12,명부!$A$3:$E$100,5,0)) -> HOT
A13: 20260708 | B13: 31196144 | C13: M10-FT-14303A/B 검교정 요청-FEED SWITCH후 | D13: 520306 | E13: =IF(ISBLANK(D13),"",VLOOKUP(D13,명부!$A$3:$D$100,4,0)) -> 김정운 | F13: =IF(ISBLANK(D13),"",VLOOKUP(D13,명부!$A$3:$E$100,5,0)) -> HOT
A14: 20260708 | B14: 31196145 | C14: M10-FT-14703A/B 검교정 요청-FEED SWITCH후 | D14: 520306 | E14: =IF(ISBLANK(D14),"",VLOOKUP(D14,명부!$A$3:$D$100,4,0)) -> 김정운 | F14: =IF(ISBLANK(D14),"",VLOOKUP(D14,명부!$A$3:$E$100,5,0)) -> HOT
A15: 20260708 | B15: 31196146 | C15: M10-FT-14803A/B 검교정 요청-FEED SWITCH후 | D15: 520306 | E15: =IF(ISBLANK(D15),"",VLOOKUP(D15,명부!$A$3:$D$100,4,0)) -> 김정운 | F15: =IF(ISBLANK(D15),"",VLOOKUP(D15,명부!$A$3:$E$100,5,0)) -> HOT
A16: 20260708 | B16: 31195971 | C16: PRC 루브오일 Accumulator PG-6823A N2 Make Up | D16: 520995 | E16: =IF(ISBLANK(D16),"",VLOOKUP(D16,명부!$A$3:$D$100,4,0)) -> 박석남 | F16: =IF(ISBLANK(D16),"",VLOOKUP(D16,명부!$A$3:$E$100,5,0)) -> COLD
A17: 20260708 | B17: 31196130 | C17: XV-5242 eiv Lamp 점검 요청드립니다. | D17: 520994 | E17: =IF(ISBLANK(D17),"",VLOOKUP(D17,명부!$A$3:$D$100,4,0)) -> 류제우 | F17: =IF(ISBLANK(D17),"",VLOOKUP(D17,명부!$A$3:$E$100,5,0)) -> COLD
A18: 20260707 | B18: 31195893 | C18: FT-15101C/D 검교정작업 요청 | D18: 520459 | E18: =IF(ISBLANK(D18),"",VLOOKUP(D18,명부!$A$3:$D$100,4,0)) -> 김성완 | F18: =IF(ISBLANK(D18),"",VLOOKUP(D18,명부!$A$3:$E$100,5,0)) -> HOT
A19: 20260707 | B19: 31195897 | C19: FT-15201C,D 교정작업 요청 | D19: 520459 | E19: =IF(ISBLANK(D19),"",VLOOKUP(D19,명부!$A$3:$D$100,4,0)) -> 김성완 | F19: =IF(ISBLANK(D19),"",VLOOKUP(D19,명부!$A$3:$E$100,5,0)) -> HOT
A20: 20260707 | B20: 31195894 | C20: FT-15301C,D 교정작업 요청 | D20: 520459 | E20: =IF(ISBLANK(D20),"",VLOOKUP(D20,명부!$A$3:$D$100,4,0)) -> 김성완 | F20: =IF(ISBLANK(D20),"",VLOOKUP(D20,명부!$A$3:$E$100,5,0)) -> HOT

Sheet 명부
B1: 신규사번 생성 | C1: 신규사번 생성
A2: 사번1 | B2: 사번2 | C2: 사번3 | D2: 성명
A3: 520317 | D3: 고재현 | E3: COLD
A4: 520361 | D4: 고한석 | E4: HOT
A5: 520520 | D5: 권대윤 | E5: HOT
A6: 520244 | D6: 김규만
A7: 520469 | D7: 김기남
A8: 520636 | D8: 김기호
A9: 520283 | D9: 김동건 | E9: Foreman
A10: 520246 | D10: 김명기
A11: 520348 | D11: 김민수 | E11: HOT
A12: 520407 | D12: 김민재 | E12: HOT
A13: 520459 | D13: 김성완 | E13: HOT
A14: 520573 | D14: 김성원 | E14: HOT
A15: 520470 | D15: 김영웅 | E15: HOT
A16: 520637 | D16: 김오진
A17: 520824 | D17: 김용빈 | E17: HOT
A18: 520638 | D18: 김재언
A19: 520521 | D19: 김정민 | E19: HOT
A20: 520306 | D20: 김정운 | E20: HOT
A21: 520464 | D21: 김진태 | E21: HOT
A22: 520307 | D22: 김호한
A23: 520057 | D23: 박기오 | E23: COLD
A24: 520465 | D24: 박기웅 | E24: COLD
A25: 520460 | D25: 박도일 | E25: COLD
A26: 520408 | D26: 박명환 | E26: COLD
A27: 520344 | D27: 박성우 | E27: HOT
A28: 520639 | D28: 박용식
A29: 520882 | D29: 박찬영
A30: 520278 | D30: 박철석
A31: 520567 | D31: 반규남 | E31: COLD
A32: 520310 | D32: 백상열
A33: 520089 | D33: 서석배
A34: 520522 | D34: 서정훈
A35: 520248 | D35: 소형철
A36: 520251 | D36: 송준호
A37: 520466 | D37: 신희권 | E37: COLD
A38: 520523 | D38: 양진웅
A39: 520684 | D39: 우영훈
A40: 520365 | D40: 유수민 | E40: HOT
...
