Workbook

Sheet 접수대장
A1: 접수대장 수식 자동분류
A2: J:K:L 열은 수식입니다. 띄어쓰기/줄바꿈/탭/전각공백을 제거해 제목 키워드와 발신처를 비교합니다.
A4: 연번 | B4: 접수일자 | C4: 발신처 | D4: 시행일자 | E4: 문서번호 윗줄 | F4: 문서번호 아랫줄 | G4: 제목 | H4: 문서보관상자 위치번호 | I4: 관계철 위치번호 | J4: 문서목록표 일련번호 1번째 칸 | K4: 문서목록표 일련번호 2번째 칸 | L4: 문서목록표 일련번호 3번째 칸 | M4: 비고 | N4: 제목정리 | O4: 문서번호정리 | P4: 제목기준행 | Q4: 담당부서 | R4: 제목기준장 | S4: 발신처기준장 | T4: 발신처정리
A5: 1 | B5: 46211 | C5: 구름 | D5: 46211 | E5: 감리 | F5: -2790 | G5: 일반 안내 | J5: =IF($R5<>"",$R5,$S5) -> 1번장 | K5: =IF($A5="","",INDEX(기준표!$I$5:$I$7,MATCH("접수",기준표!$H$5:$H$7,0))) -> 2라인 | L5: =IF(LEN($O5)=0,"B",IF(LEN($N5)=0,"",IF($P5="","A",INDEX(기준표!$M$5:$M$24,$P5-4)))) -> A | M5: 문서번호 있음 + 제목 기준 없음 → A / 발신처 구름 → 1번장 | N5: =SUBSTITUTE(SUBSTITUTE(SUBSTITUTE(SUBSTITUTE($G5," ",""),CHAR(10),""),CHAR(9),"")," ","") -> 일반안내 | O5: =SUBSTITUTE(SUBSTITUTE(SUBSTITUTE(SUBSTITUTE($E5&$F5," ",""),CHAR(10),""),CHAR(9),"")," ","") -> 감리-2790 | P5: =IF(AND($N5<>"",기준표!$O$5<>"",ISNUMBER(SEARCH(기준표!$O$5,$N5))),5,IF(AND($N5<>"",기준표!$O$6<>"",ISNUMBER(SEARCH(기준표!$O$6,$N5))),6,IF(AND($N5<>"",기준표!$O$7<>"",ISNUMBER(SEARCH(기준표!$O$7,$N5))),7,IF(AND($N5<>"",기준표!$O$8<>"",ISNUMBER(SEARCH(기준표!$O$8,$N5))),8,IF(AND($N5<>"",기준표!$O$9<>"",ISNUMBER(SEARCH(기준표!$O$9,$N5))),9,IF(AND($N5<>"",기준표!$O$10<>"",ISNUMBER(SEARCH(기준표!$O$10,$N5))),10,IF(AND($N5<>"",기준표!$O$11<>"",ISNUMBER(SEARCH(기준표!$O$11,$N5))),11,IF(AND($N5<>"",기준표!$O$12<>"",ISNUMBER(SEARCH(기준표!$O$12,$N5))),12,IF(AND($N5<>"",기준표!$O$13<>"",ISNUMBER(SEARCH(기준표!$O$13,$N5))),13,IF(AND($N5<>"",기준표!$O$14<>"",ISNUMBER(SEARCH(기준표!$O$14,$N5))),14,IF(AND($N5<>"",기준표!$O$15<>"",ISNUMBER(SEARCH(기준표!$O$15,$N5))),15,IF(AND($N5<>"",기준표!$O$16<>"",ISNUMBER(SEARCH(기준표!$O$16,$N5))),16,IF(AND($N5<>"",기준표!$O$17<>"",ISNUMBER(SEARCH(기준표!$O$17,$N5))),17,IF(AND($N5<>"",기준표!$O$18<>"",ISNUMBER(SEARCH(기준표!$O$18,$N5))),18,IF(AND($N5<>"",기준표!$O$19<>"",ISNUMBER(SEARCH(기준표!$O$19,$N5))),19,IF(AND($N5<>"",기준표!$O$20<>"",ISNUMBER(SEARCH(기준표!$O$20,$N5))),20,IF(AND($N5<>"",기준표!$O$21<>"",ISNUMBER(SEARCH(기준표!$O$21,$N5))),21,IF(AND($N5<>"",기준표!$O$22<>"",ISNUMBER(SEARCH(기준표!$O$22,$N5))),22,IF(AND($N5<>"",기준표!$O$23<>"",ISNUMBER(SEARCH(기준표!$O$23,$N5))),23,IF(AND($N5<>"",기준표!$O$24<>"",ISNUMBER(SEARCH(기준표!$O$24,$N5))),24,"")))))))))))))))))))) | Q5: {=IF($P5="","",INDEX(기준표!$N$5:$N$24,$P5-4))} | R5: =IF($Q5="","",IFERROR(INDEX(기준표!$C$5:$C$15,MATCH($Q5,기준표!$B$5:$B$15,0)),"")) | S5: =IF(AND($T5<>"",기준표!$E$5<>"",ISNUMBER(SEARCH(기준표!$E$5,$T5))),기준표!$C$5,IF(AND($T5<>"",기준표!$E$6<>"",ISNUMBER(SEARCH(기준표!$E$6,$T5))),기준표!$C$6,IF(AND($T5<>"",기준표!$E$7<>"",ISNUMBER(SEARCH(기준표!$E$7,$T5))),기준표!$C$7,IF(AND($T5<>"",기준표!$E$8<>"",ISNUMBER(SEARCH(기준표!$E$8,$T5))),기준표!$C$8,IF(AND($T5<>"",기준표!$E$9<>"",ISNUMBER(SEARCH(기준표!$E$9,$T5))),기준표!$C$9,IF(AND($T5<>"",기준표!$E$10<>"",ISNUMBER(SEARCH(기준표!$E$10,$T5))),기준표!$C$10,IF(AND($T5<>"",기준표!$E$11<>"",ISNUMBER(SEARCH(기준표!$E$11,$T5))),기준표!$C$11,IF(AND($T5<>"",기준표!$E$12<>"",ISNUMBER(SEARCH(기준표!$E$12,$T5))),기준표!$C$12,IF(AND($T5<>"",기준표!$E$13<>"",ISNUMBER(SEARCH(기준표!$E$13,$T5))),기준표!$C$13,IF(AND($T5<>"",기준표!$E$14<>"",ISNUMBER(SEARCH(기준표!$E$14,$T5))),기준표!$C$14,IF(AND($T5<>"",기준표!$E$15<>"",ISNUMBER(SEARCH(기준표!$E$15,$T5))),기준표!$C$15,IFERROR(INDEX(기준표!$C$5:$C$15,MATCH("기타",기준표!$B$5:$B$15,0)),"5번장")))))))))))) -> 1번장 | T5: =SUBSTITUTE(SUBSTITUTE(SUBSTITUTE(SUBSTITUTE($C5," ",""),CHAR(10),""),CHAR(9),"")," ","") -> 구름
A6: 2 | B6: 46211 | C6: 구름 | D6: 46211 | E6: 감리 | F6: -2308 | G6: 안 전 관리 실 적 제출 | J6: =IF($R6<>"",$R6,$S6) -> 8번장 | K6: =IF($A6="","",INDEX(기준표!$I$5:$I$7,MATCH("접수",기준표!$H$5:$H$7,0))) -> 2라인 | L6: =IF(LEN($O6)=0,"B",IF(LEN($N6)=0,"",IF($P6="","A",INDEX(기준표!$M$5:$M$24,$P6-4)))) -> D | M6: 띄어쓰기 오류: 안전관리실적 → D / 안전 → 8번장 | N6: =SUBSTITUTE(SUBSTITUTE(SUBSTITUTE(SUBSTITUTE($G6," ",""),CHAR(10),""),CHAR(9),"")," ","") -> 안전관리실적제출 | O6: =SUBSTITUTE(SUBSTITUTE(SUBSTITUTE(SUBSTITUTE($E6&$F6," ",""),CHAR(10),""),CHAR(9),"")," ","") -> 감리-2308 | P6: =IF(AND($N6<>"",기준표!$O$5<>"",ISNUMBER(SEARCH(기준표!$O$5,$N6))),5,IF(AND($N6<>"",기준표!$O$6<>"",ISNUMBER(SEARCH(기준표!$O$6,$N6))),6,IF(AND($N6<>"",기준표!$O$7<>"",ISNUMBER(SEARCH(기준표!$O$7,$N6))),7,IF(AND($N6<>"",기준표!$O$8<>"",ISNUMBER(SEARCH(기준표!$O$8,$N6))),8,IF(AND($N6<>"",기준표!$O$9<>"",ISNUMBER(SEARCH(기준표!$O$9,$N6))),9,IF(AND($N6<>"",기준표!$O$10<>"",ISNUMBER(SEARCH(기준표!$O$10,$N6))),10,IF(AND($N6<>"",기준표!$O$11<>"",ISNUMBER(SEARCH(기준표!$O$11,$N6))),11,IF(AND($N6<>"",기준표!$O$12<>"",ISNUMBER(SEARCH(기준표!$O$12,$N6))),12,IF(AND($N6<>"",기준표!$O$13<>"",ISNUMBER(SEARCH(기준표!$O$13,$N6))),13,IF(AND($N6<>"",기준표!$O$14<>"",ISNUMBER(SEARCH(기준표!$O$14,$N6))),14,IF(AND($N6<>"",기준표!$O$15<>"",ISNUMBER(SEARCH(기준표!$O$15,$N6))),15,IF(AND($N6<>"",기준표!$O$16<>"",ISNUMBER(SEARCH(기준표!$O$16,$N6))),16,IF(AND($N6<>"",기준표!$O$17<>"",ISNUMBER(SEARCH(기준표!$O$17,$N6))),17,IF(AND($N6<>"",기준표!$O$18<>"",ISNUMBER(SEARCH(기준표!$O$18,$N6))),18,IF(AND($N6<>"",기준표!$O$19<>"",ISNUMBER(SEARCH(기준표!$O$19,$N6))),19,IF(AND($N6<>"",기준표!$O$20<>"",ISNUMBER(SEARCH(기준표!$O$20,$N6))),20,IF(AND($N6<>"",기준표!$O$21<>"",ISNUMBER(SEARCH(기준표!$O$21,$N6))),21,IF(AND($N6<>"",기준표!$O$22<>"",ISNUMBER(SEARCH(기준표!$O$22,$N6))),22,IF(AND($N6<>"",기준표!$O$23<>"",ISNUMBER(SEARCH(기준표!$O$23,$N6))),23,IF(AND($N6<>"",기준표!$O$24<>"",ISNUMBER(SEARCH(기준표!$O$24,$N6))),24,"")))))))))))))))))))) -> 8 | Q6: {=IF($P6="","",INDEX(기준표!$N$5:$N$24,$P6-4))} -> 안전 | R6: =IF($Q6="","",IFERROR(INDEX(기준표!$C$5:$C$15,MATCH($Q6,기준표!$B$5:$B$15,0)),"")) -> 8번장 | S6: =IF(AND($T6<>"",기준표!$E$5<>"",ISNUMBER(SEARCH(기준표!$E$5,$T6))),기준표!$C$5,IF(AND($T6<>"",기준표!$E$6<>"",ISNUMBER(SEARCH(기준표!$E$6,$T6))),기준표!$C$6,IF(AND($T6<>"",기준표!$E$7<>"",ISNUMBER(SEARCH(기준표!$E$7,$T6))),기준표!$C$7,IF(AND($T6<>"",기준표!$E$8<>"",ISNUMBER(SEARCH(기준표!$E$8,$T6))),기준표!$C$8,IF(AND($T6<>"",기준표!$E$9<>"",ISNUMBER(SEARCH(기준표!$E$9,$T6))),기준표!$C$9,IF(AND($T6<>"",기준표!$E$10<>"",ISNUMBER(SEARCH(기준표!$E$10,$T6))),기준표!$C$10,IF(AND($T6<>"",기준표!$E$11<>"",ISNUMBER(SEARCH(기준표!$E$11,$T6))),기준표!$C$11,IF(AND($T6<>"",기준표!$E$12<>"",ISNUMBER(SEARCH(기준표!$E$12,$T6))),기준표!$C$12,IF(AND($T6<>"",기준표!$E$13<>"",ISNUMBER(SEARCH(기준표!$E$13,$T6))),기준표!$C$13,IF(AND($T6<>"",기준표!$E$14<>"",ISNUMBER(SEARCH(기준표!$E$14,$T6))),기준표!$C$14,IF(AND($T6<>"",기준표!$E$15<>"",ISNUMBER(SEARCH(기준표!$E$15,$T6))),기준표!$C$15,IFERROR(INDEX(기준표!$C$5:$C$15,MATCH("기타",기준표!$B$5:$B$15,0)),"5번장")))))))))))) -> 1번장 | T6: =SUBSTITUTE(SUBSTITUTE(SUBSTITUTE(SUBSTITUTE($C6," ",""),CHAR(10),""),CHAR(9),"")," ","") -> 구름
A7: 3 | B7: 46212 | C7: 마음아 | D7: 46212 | E7: 감리 | F7: -3110 | G7: 품질 정기 점검 결과 | J7: =IF($R7<>"",$R7,$S7) -> 11번장 | K7: =IF($A7="","",INDEX(기준표!$I$5:$I$7,MATCH("접수",기준표!$H$5:$H$7,0))) -> 2라인 | L7: =IF(LEN($O7)=0,"B",IF(LEN($N7)=0,"",IF($P7="","A",INDEX(기준표!$M$5:$M$24,$P7-4)))) -> G | M7: 띄어쓰기 오류: 품질정기점검 → G / 품질 → 11번장 | N7: =SUBSTITUTE(SUBSTITUTE(SUBSTITUTE(SUBSTITUTE($G7," ",""),CHAR(10),""),CHAR(9),"")," ","") -> 품질정기점검결과 | O7: =SUBSTITUTE(SUBSTITUTE(SUBSTITUTE(SUBSTITUTE($E7&$F7," ",""),CHAR(10),""),CHAR(9),"")," ","") -> 감리-3110 | P7: =IF(AND($N7<>"",기준표!$O$5<>"",ISNUMBER(SEARCH(기준표!$O$5,$N7))),5,IF(AND($N7<>"",기준표!$O$6<>"",ISNUMBER(SEARCH(기준표!$O$6,$N7))),6,IF(AND($N7<>"",기준표!$O$7<>"",ISNUMBER(SEARCH(기준표!$O$7,$N7))),7,IF(AND($N7<>"",기준표!$O$8<>"",ISNUMBER(SEARCH(기준표!$O$8,$N7))),8,IF(AND($N7<>"",기준표!$O$9<>"",ISNUMBER(SEARCH(기준표!$O$9,$N7))),9,IF(AND($N7<>"",기준표!$O$10<>"",ISNUMBER(SEARCH(기준표!$O$10,$N7))),10,IF(AND($N7<>"",기준표!$O$11<>"",ISNUMBER(SEARCH(기준표!$O$11,$N7))),11,IF(AND($N7<>"",기준표!$O$12<>"",ISNUMBER(SEARCH(기준표!$O$12,$N7))),12,IF(AND($N7<>"",기준표!$O$13<>"",ISNUMBER(SEARCH(기준표!$O$13,$N7))),13,IF(AND($N7<>"",기준표!$O$14<>"",ISNUMBER(SEARCH(기준표!$O$14,$N7))),14,IF(AND($N7<>"",기준표!$O$15<>"",ISNUMBER(SEARCH(기준표!$O$15,$N7))),15,IF(AND($N7<>"",기준표!$O$16<>"",ISNUMBER(SEARCH(기준표!$O$16,$N7))),16,IF(AND($N7<>"",기준표!$O$17<>"",ISNUMBER(SEARCH(기준표!$O$17,$N7))),17,IF(AND($N7<>"",기준표!$O$18<>"",ISNUMBER(SEARCH(기준표!$O$18,$N7))),18,IF(AND($N7<>"",기준표!$O$19<>"",ISNUMBER(SEARCH(기준표!$O$19,$N7))),19,IF(AND($N7<>"",기준표!$O$20<>"",ISNUMBER(SEARCH(기준표!$O$20,$N7))),20,IF(AND($N7<>"",기준표!$O$21<>"",ISNUMBER(SEARCH(기준표!$O$21,$N7))),21,IF(AND($N7<>"",기준표!$O$22<>"",ISNUMBER(SEARCH(기준표!$O$22,$N7))),22,IF(AND($N7<>"",기준표!$O$23<>"",ISNUMBER(SEARCH(기준표!$O$23,$N7))),23,IF(AND($N7<>"",기준표!$O$24<>"",ISNUMBER(SEARCH(기준표!$O$24,$N7))),24,"")))))))))))))))))))) -> 11 | Q7: {=IF($P7="","",INDEX(기준표!$N$5:$N$24,$P7-4))} -> 품질 | R7: =IF($Q7="","",IFERROR(INDEX(기준표!$C$5:$C$15,MATCH($Q7,기준표!$B$5:$B$15,0)),"")) -> 11번장 | S7: =IF(AND($T7<>"",기준표!$E$5<>"",ISNUMBER(SEARCH(기준표!$E$5,$T7))),기준표!$C$5,IF(AND($T7<>"",기준표!$E$6<>"",ISNUMBER(SEARCH(기준표!$E$6,$T7))),기준표!$C$6,IF(AND($T7<>"",기준표!$E$7<>"",ISNUMBER(SEARCH(기준표!$E$7,$T7))),기준표!$C$7,IF(AND($T7<>"",기준표!$E$8<>"",ISNUMBER(SEARCH(기준표!$E$8,$T7))),기준표!$C$8,IF(AND($T7<>"",기준표!$E$9<>"",ISNUMBER(SEARCH(기준표!$E$9,$T7))),기준표!$C$9,IF(AND($T7<>"",기준표!$E$10<>"",ISNUMBER(SEARCH(기준표!$E$10,$T7))),기준표!$C$10,IF(AND($T7<>"",기준표!$E$11<>"",ISNUMBER(SEARCH(기준표!$E$11,$T7))),기준표!$C$11,IF(AND($T7<>"",기준표!$E$12<>"",ISNUMBER(SEARCH(기준표!$E$12,$T7))),기준표!$C$12,IF(AND($T7<>"",기준표!$E$13<>"",ISNUMBER(SEARCH(기준표!$E$13,$T7))),기준표!$C$13,IF(AND($T7<>"",기준표!$E$14<>"",ISNUMBER(SEARCH(기준표!$E$14,$T7))),기준표!$C$14,IF(AND($T7<>"",기준표!$E$15<>"",ISNUMBER(SEARCH(기준표!$E$15,$T7))),기준표!$C$15,IFERROR(INDEX(기준표!$C$5:$C$15,MATCH("기타",기준표!$B$5:$B$15,0)),"5번장")))))))))))) -> 2번장 | T7: =SUBSTITUTE(SUBSTITUTE(SUBSTITUTE(SUBSTITUTE($C7," ",""),CHAR(10),""),CHAR(9),"")," ","") -> 마음아
A8: 4 | B8: 46212 | C8: 우리도 | D8: 46212 | E8: 공동 | F8: -1200 | G8: 시 공 계 획 서 제출 | J8: =IF($R8<>"",$R8,$S8) -> 7번장 | K8: =IF($A8="","",INDEX(기준표!$I$5:$I$7,MATCH("접수",기준표!$H$5:$H$7,0))) -> 2라인 | L8: =IF(LEN($O8)=0,"B",IF(LEN($N8)=0,"",IF($P8="","A",INDEX(기준표!$M$5:$M$24,$P8-4)))) -> H | M8: 띄어쓰기 오류: 시공계획서 → H / 공사 → 7번장 | N8: =SUBSTITUTE(SUBSTITUTE(SUBSTITUTE(SUBSTITUTE($G8," ",""),CHAR(10),""),CHAR(9),"")," ","") -> 시공계획서제출 | O8: =SUBSTITUTE(SUBSTITUTE(SUBSTITUTE(SUBSTITUTE($E8&$F8," ",""),CHAR(10),""),CHAR(9),"")," ","") -> 공동-1200 | P8: =IF(AND($N8<>"",기준표!$O$5<>"",ISNUMBER(SEARCH(기준표!$O$5,$N8))),5,IF(AND($N8<>"",기준표!$O$6<>"",ISNUMBER(SEARCH(기준표!$O$6,$N8))),6,IF(AND($N8<>"",기준표!$O$7<>"",ISNUMBER(SEARCH(기준표!$O$7,$N8))),7,IF(AND($N8<>"",기준표!$O$8<>"",ISNUMBER(SEARCH(기준표!$O$8,$N8))),8,IF(AND($N8<>"",기준표!$O$9<>"",ISNUMBER(SEARCH(기준표!$O$9,$N8))),9,IF(AND($N8<>"",기준표!$O$10<>"",ISNUMBER(SEARCH(기준표!$O$10,$N8))),10,IF(AND($N8<>"",기준표!$O$11<>"",ISNUMBER(SEARCH(기준표!$O$11,$N8))),11,IF(AND($N8<>"",기준표!$O$12<>"",ISNUMBER(SEARCH(기준표!$O$12,$N8))),12,IF(AND($N8<>"",기준표!$O$13<>"",ISNUMBER(SEARCH(기준표!$O$13,$N8))),13,IF(AND($N8<>"",기준표!$O$14<>"",ISNUMBER(SEARCH(기준표!$O$14,$N8))),14,IF(AND($N8<>"",기준표!$O$15<>"",ISNUMBER(SEARCH(기준표!$O$15,$N8))),15,IF(AND($N8<>"",기준표!$O$16<>"",ISNUMBER(SEARCH(기준표!$O$16,$N8))),16,IF(AND($N8<>"",기준표!$O$17<>"",ISNUMBER(SEARCH(기준표!$O$17,$N8))),17,IF(AND($N8<>"",기준표!$O$18<>"",ISNUMBER(SEARCH(기준표!$O$18,$N8))),18,IF(AND($N8<>"",기준표!$O$19<>"",ISNUMBER(SEARCH(기준표!$O$19,$N8))),19,IF(AND($N8<>"",기준표!$O$20<>"",ISNUMBER(SEARCH(기준표!$O$20,$N8))),20,IF(AND($N8<>"",기준표!$O$21<>"",ISNUMBER(SEARCH(기준표!$O$21,$N8))),21,IF(AND($N8<>"",기준표!$O$22<>"",ISNUMBER(SEARCH(기준표!$O$22,$N8))),22,IF(AND($N8<>"",기준표!$O$23<>"",ISNUMBER(SEARCH(기준표!$O$23,$N8))),23,IF(AND($N8<>"",기준표!$O$24<>"",ISNUMBER(SEARCH(기준표!$O$24,$N8))),24,"")))))))))))))))))))) -> 12 | Q8: {=IF($P8="","",INDEX(기준표!$N$5:$N$24,$P8-4))} -> 공사 | R8: =IF($Q8="","",IFERROR(INDEX(기준표!$C$5:$C$15,MATCH($Q8,기준표!$B$5:$B$15,0)),"")) -> 7번장 | S8: =IF(AND($T8<>"",기준표!$E$5<>"",ISNUMBER(SEARCH(기준표!$E$5,$T8))),기준표!$C$5,IF(AND($T8<>"",기준표!$E$6<>"",ISNUMBER(SEARCH(기준표!$E$6,$T8))),기준표!$C$6,IF(AND($T8<>"",기준표!$E$7<>"",ISNUMBER(SEARCH(기준표!$E$7,$T8))),기준표!$C$7,IF(AND($T8<>"",기준표!$E$8<>"",ISNUMBER(SEARCH(기준표!$E$8,$T8))),기준표!$C$8,IF(AND($T8<>"",기준표!$E$9<>"",ISNUMBER(SEARCH(기준표!$E$9,$T8))),기준표!$C$9,IF(AND($T8<>"",기준표!$E$10<>"",ISNUMBER(SEARCH(기준표!$E$10,$T8))),기준표!$C$10,IF(AND($T8<>"",기준표!$E$11<>"",ISNUMBER(SEARCH(기준표!$E$11,$T8))),기준표!$C$11,IF(AND($T8<>"",기준표!$E$12<>"",ISNUMBER(SEARCH(기준표!$E$12,$T8))),기준표!$C$12,IF(AND($T8<>"",기준표!$E$13<>"",ISNUMBER(SEARCH(기준표!$E$13,$T8))),기준표!$C$13,IF(AND($T8<>"",기준표!$E$14<>"",ISNUMBER(SEARCH(기준표!$E$14,$T8))),기준표!$C$14,IF(AND($T8<>"",기준표!$E$15<>"",ISNUMBER(SEARCH(기준표!$E$15,$T8))),기준표!$C$15,IFERROR(INDEX(기준표!$C$5:$C$15,MATCH("기타",기준표!$B$5:$B$15,0)),"5번장")))))))))))) -> 3번장 | T8: =SUBSTITUTE(SUBSTITUTE(SUBSTITUTE(SUBSTITUTE($C8," ",""),CHAR(10),""),CHAR(9),"")," ","") -> 우리도
A9: 5 | B9: 46213 | C9: 같이해 | D9: 46213 | E9: 시공 | F9: -0101 | G9: 실정보고서 제출 | J9: =IF($R9<>"",$R9,$S9) -> 4번장 | K9: =IF($A9="","",INDEX(기준표!$I$5:$I$7,MATCH("접수",기준표!$H$5:$H$7,0))) -> 2라인 | L9: =IF(LEN($O9)=0,"B",IF(LEN($N9)=0,"",IF($P9="","A",INDEX(기준표!$M$5:$M$24,$P9-4)))) -> C | M9: 실정보고 → C / 담당부서 없음 → 발신처 같이해 4번장 | N9: =SUBSTITUTE(SUBSTITUTE(SUBSTITUTE(SUBSTITUTE($G9," ",""),CHAR(10),""),CHAR(9),"")," ","") -> 실정보고서제출 | O9: =SUBSTITUTE(SUBSTITUTE(SUBSTITUTE(SUBSTITUTE($E9&$F9," ",""),CHAR(10),""),CHAR(9),"")," ","") -> 시공-0101 | P9: =IF(AND($N9<>"",기준표!$O$5<>"",ISNUMBER(SEARCH(기준표!$O$5,$N9))),5,IF(AND($N9<>"",기준표!$O$6<>"",ISNUMBER(SEARCH(기준표!$O$6,$N9))),6,IF(AND($N9<>"",기준표!$O$7<>"",ISNUMBER(SEARCH(기준표!$O$7,$N9))),7,IF(AND($N9<>"",기준표!$O$8<>"",ISNUMBER(SEARCH(기준표!$O$8,$N9))),8,IF(AND($N9<>"",기준표!$O$9<>"",ISNUMBER(SEARCH(기준표!$O$9,$N9))),9,IF(AND($N9<>"",기준표!$O$10<>"",ISNUMBER(SEARCH(기준표!$O$10,$N9))),10,IF(AND($N9<>"",기준표!$O$11<>"",ISNUMBER(SEARCH(기준표!$O$11,$N9))),11,IF(AND($N9<>"",기준표!$O$12<>"",ISNUMBER(SEARCH(기준표!$O$12,$N9))),12,IF(AND($N9<>"",기준표!$O$13<>"",ISNUMBER(SEARCH(기준표!$O$13,$N9))),13,IF(AND($N9<>"",기준표!$O$14<>"",ISNUMBER(SEARCH(기준표!$O$14,$N9))),14,IF(AND($N9<>"",기준표!$O$15<>"",ISNUMBER(SEARCH(기준표!$O$15,$N9))),15,IF(AND($N9<>"",기준표!$O$16<>"",ISNUMBER(SEARCH(기준표!$O$16,$N9))),16,IF(AND($N9<>"",기준표!$O$17<>"",ISNUMBER(SEARCH(기준표!$O$17,$N9))),17,IF(AND($N9<>"",기준표!$O$18<>"",ISNUMBER(SEARCH(기준표!$O$18,$N9))),18,IF(AND($N9<>"",기준표!$O$19<>"",ISNUMBER(SEARCH(기준표!$O$19,$N9))),19,IF(AND($N9<>"",기준표!$O$20<>"",ISNUMBER(SEARCH(기준표!$O$20,$N9))),20,IF(AND($N9<>"",기준표!$O$21<>"",ISNUMBER(SEARCH(기준표!$O$21,$N9))),21,IF(AND($N9<>"",기준표!$O$22<>"",ISNUMBER(SEARCH(기준표!$O$22,$N9))),22,IF(AND($N9<>"",기준표!$O$23<>"",ISNUMBER(SEARCH(기준표!$O$23,$N9))),23,IF(AND($N9<>"",기준표!$O$24<>"",ISNUMBER(SEARCH(기준표!$O$24,$N9))),24,"")))))))))))))))))))) -> 7 | Q9: {=IF($P9="","",INDEX(기준표!$N$5:$N$24,$P9-4))} -> 0 | R9: =IF($Q9="","",IFERROR(INDEX(기준표!$C$5:$C$15,MATCH($Q9,기준표!$B$5:$B$15,0)),"")) | S9: =IF(AND($T9<>"",기준표!$E$5<>"",ISNUMBER(SEARCH(기준표!$E$5,$T9))),기준표!$C$5,IF(AND($T9<>"",기준표!$E$6<>"",ISNUMBER(SEARCH(기준표!$E$6,$T9))),기준표!$C$6,IF(AND($T9<>"",기준표!$E$7<>"",ISNUMBER(SEARCH(기준표!$E$7,$T9))),기준표!$C$7,IF(AND($T9<>"",기준표!$E$8<>"",ISNUMBER(SEARCH(기준표!$E$8,$T9))),기준표!$C$8,IF(AND($T9<>"",기준표!$E$9<>"",ISNUMBER(SEARCH(기준표!$E$9,$T9))),기준표!$C$9,IF(AND($T9<>"",기준표!$E$10<>"",ISNUMBER(SEARCH(기준표!$E$10,$T9))),기준표!$C$10,IF(AND($T9<>"",기준표!$E$11<>"",ISNUMBER(SEARCH(기준표!$E$11,$T9))),기준표!$C$11,IF(AND($T9<>"",기준표!$E$12<>"",ISNUMBER(SEARCH(기준표!$E$12,$T9))),기준표!$C$12,IF(AND($T9<>"",기준표!$E$13<>"",ISNUMBER(SEARCH(기준표!$E$13,$T9))),기준표!$C$13,IF(AND($T9<>"",기준표!$E$14<>"",ISNUMBER(SEARCH(기준표!$E$14,$T9))),기준표!$C$14,IF(AND($T9<>"",기준표!$E$15<>"",ISNUMBER(SEARCH(기준표!$E$15,$T9))),기준표!$C$15,IFERROR(INDEX(기준표!$C$5:$C$15,MATCH("기타",기준표!$B$5:$B$15,0)),"5번장")))))))))))) -> 4번장 | T9: =SUBSTITUTE(SUBSTITUTE(SUBSTITUTE(SUBSTITUTE($C9," ",""),CHAR(10),""),CHAR(9),"")," ","") -> 같이해
A10: 6 | B10: 46213 | C10: 구름 | D10: 46213 | G10: 안전관리실적 제출 | J10: =IF($R10<>"",$R10,$S10) -> 8번장 | K10: =IF($A10="","",INDEX(기준표!$I$5:$I$7,MATCH("접수",기준표!$H$5:$H$7,0))) -> 2라인 | L10: =IF(LEN($O10)=0,"B",IF(LEN($N10)=0,"",IF($P10="","A",INDEX(기준표!$M$5:$M$24,$P10-4)))) -> B | M10: 문서번호 없음 → 3번째 칸 B / 1번째 칸은 제목 기준 8번장 | N10: =SUBSTITUTE(SUBSTITUTE(SUBSTITUTE(SUBSTITUTE($G10," ",""),CHAR(10),""),CHAR(9),"")," ","") -> 안전관리실적제출 | O10: =SUBSTITUTE(SUBSTITUTE(SUBSTITUTE(SUBSTITUTE($E10&$F10," ",""),CHAR(10),""),CHAR(9),"")," ","") | P10: =IF(AND($N10<>"",기준표!$O$5<>"",ISNUMBER(SEARCH(기준표!$O$5,$N10))),5,IF(AND($N10<>"",기준표!$O$6<>"",ISNUMBER(SEARCH(기준표!$O$6,$N10))),6,IF(AND($N10<>"",기준표!$O$7<>"",ISNUMBER(SEARCH(기준표!$O$7,$N10))),7,IF(AND($N10<>"",기준표!$O$8<>"",ISNUMBER(SEARCH(기준표!$O$8,$N10))),8,IF(AND($N10<>"",기준표!$O$9<>"",ISNUMBER(SEARCH(기준표!$O$9,$N10))),9,IF(AND($N10<>"",기준표!$O$10<>"",ISNUMBER(SEARCH(기준표!$O$10,$N10))),10,IF(AND($N10<>"",기준표!$O$11<>"",ISNUMBER(SEARCH(기준표!$O$11,$N10))),11,IF(AND($N10<>"",기준표!$O$12<>"",ISNUMBER(SEARCH(기준표!$O$12,$N10))),12,IF(AND($N10<>"",기준표!$O$13<>"",ISNUMBER(SEARCH(기준표!$O$13,$N10))),13,IF(AND($N10<>"",기준표!$O$14<>"",ISNUMBER(SEARCH(기준표!$O$14,$N10))),14,IF(AND($N10<>"",기준표!$O$15<>"",ISNUMBER(SEARCH(기준표!$O$15,$N10))),15,IF(AND($N10<>"",기준표!$O$16<>"",ISNUMBER(SEARCH(기준표!$O$16,$N10))),16,IF(AND($N10<>"",기준표!$O$17<>"",ISNUMBER(SEARCH(기준표!$O$17,$N10))),17,IF(AND($N10<>"",기준표!$O$18<>"",ISNUMBER(SEARCH(기준표!$O$18,$N10))),18,IF(AND($N10<>"",기준표!$O$19<>"",ISNUMBER(SEARCH(기준표!$O$19,$N10))),19,IF(AND($N10<>"",기준표!$O$20<>"",ISNUMBER(SEARCH(기준표!$O$20,$N10))),20,IF(AND($N10<>"",기준표!$O$21<>"",ISNUMBER(SEARCH(기준표!$O$21,$N10))),21,IF(AND($N10<>"",기준표!$O$22<>"",ISNUMBER(SEARCH(기준표!$O$22,$N10))),22,IF(AND($N10<>"",기준표!$O$23<>"",ISNUMBER(SEARCH(기준표!$O$23,$N10))),23,IF(AND($N10<>"",기준표!$O$24<>"",ISNUMBER(SEARCH(기준표!$O$24,$N10))),24,"")))))))))))))))))))) -> 8 | Q10: {=IF($P10="","",INDEX(기준표!$N$5:$N$24,$P10-4))} -> 안전 | R10: =IF($Q10="","",IFERROR(INDEX(기준표!$C$5:$C$15,MATCH($Q10,기준표!$B$5:$B$15,0)),"")) -> 8번장 | S10: =IF(AND($T10<>"",기준표!$E$5<>"",ISNUMBER(SEARCH(기준표!$E$5,$T10))),기준표!$C$5,IF(AND($T10<>"",기준표!$E$6<>"",ISNUMBER(SEARCH(기준표!$E$6,$T10))),기준표!$C$6,IF(AND($T10<>"",기준표!$E$7<>"",ISNUMBER(SEARCH(기준표!$E$7,$T10))),기준표!$C$7,IF(AND($T10<>"",기준표!$E$8<>"",ISNUMBER(SEARCH(기준표!$E$8,$T10))),기준표!$C$8,IF(AND($T10<>"",기준표!$E$9<>"",ISNUMBER(SEARCH(기준표!$E$9,$T10))),기준표!$C$9,IF(AND($T10<>"",기준표!$E$10<>"",ISNUMBER(SEARCH(기준표!$E$10,$T10))),기준표!$C$10,IF(AND($T10<>"",기준표!$E$11<>"",ISNUMBER(SEARCH(기준표!$E$11,$T10))),기준표!$C$11,IF(AND($T10<>"",기준표!$E$12<>"",ISNUMBER(SEARCH(기준표!$E$12,$T10))),기준표!$C$12,IF(AND($T10<>"",기준표!$E$13<>"",ISNUMBER(SEARCH(기준표!$E$13,$T10))),기준표!$C$13,IF(AND($T10<>"",기준표!$E$14<>"",ISNUMBER(SEARCH(기준표!$E$14,$T10))),기준표!$C$14,IF(AND($T10<>"",기준표!$E$15<>"",ISNUMBER(SEARCH(기준표!$E$15,$T10))),기준표!$C$15,IFERROR(INDEX(기준표!$C$5:$C$15,MATCH("기타",기준표!$B$5:$B$15,0)),"5번장")))))))))))) -> 1번장 | T10: =SUBSTITUTE(SUBSTITUTE(SUBSTITUTE(SUBSTITUTE($C10," ",""),CHAR(10),""),CHAR(9),"")," ","") -> 구름
A11: 7 | B11: 46214 | C11: 구름 주식회사 | D11: 46214 | E11: 발주 | F11: -4502 | G11: 안전 | J11: =IF($R11<>"",$R11,$S11) -> 1번장 | K11: =IF($A11="","",INDEX(기준표!$I$5:$I$7,MATCH("접수",기준표!$H$5:$H$7,0))) -> 2라인 | L11: =IF(LEN($O11)=0,"B",IF(LEN($N11)=0,"",IF($P11="","A",INDEX(기준표!$M$5:$M$24,$P11-4)))) -> A | M11: 안전만 입력 → D/E 아님 → A / 발신처 일부검색 1번장 | N11: =SUBSTITUTE(SUBSTITUTE(SUBSTITUTE(SUBSTITUTE($G11," ",""),CHAR(10),""),CHAR(9),"")," ","") -> 안전 | O11: =SUBSTITUTE(SUBSTITUTE(SUBSTITUTE(SUBSTITUTE($E11&$F11," ",""),CHAR(10),""),CHAR(9),"")," ","") -> 발주-4502 | P11: =IF(AND($N11<>"",기준표!$O$5<>"",ISNUMBER(SEARCH(기준표!$O$5,$N11))),5,IF(AND($N11<>"",기준표!$O$6<>"",ISNUMBER(SEARCH(기준표!$O$6,$N11))),6,IF(AND($N11<>"",기준표!$O$7<>"",ISNUMBER(SEARCH(기준표!$O$7,$N11))),7,IF(AND($N11<>"",기준표!$O$8<>"",ISNUMBER(SEARCH(기준표!$O$8,$N11))),8,IF(AND($N11<>"",기준표!$O$9<>"",ISNUMBER(SEARCH(기준표!$O$9,$N11))),9,IF(AND($N11<>"",기준표!$O$10<>"",ISNUMBER(SEARCH(기준표!$O$10,$N11))),10,IF(AND($N11<>"",기준표!$O$11<>"",ISNUMBER(SEARCH(기준표!$O$11,$N11))),11,IF(AND($N11<>"",기준표!$O$12<>"",ISNUMBER(SEARCH(기준표!$O$12,$N11))),12,IF(AND($N11<>"",기준표!$O$13<>"",ISNUMBER(SEARCH(기준표!$O$13,$N11))),13,IF(AND($N11<>"",기준표!$O$14<>"",ISNUMBER(SEARCH(기준표!$O$14,$N11))),14,IF(AND($N11<>"",기준표!$O$15<>"",ISNUMBER(SEARCH(기준표!$O$15,$N11))),15,IF(AND($N11<>"",기준표!$O$16<>"",ISNUMBER(SEARCH(기준표!$O$16,$N11))),16,IF(AND($N11<>"",기준표!$O$17<>"",ISNUMBER(SEARCH(기준표!$O$17,$N11))),17,IF(AND($N11<>"",기준표!$O$18<>"",ISNUMBER(SEARCH(기준표!$O$18,$N11))),18,IF(AND($N11<>"",기준표!$O$19<>"",ISNUMBER(SEARCH(기준표!$O$19,$N11))),19,IF(AND($N11<>"",기준표!$O$20<>"",ISNUMBER(SEARCH(기준표!$O$20,$N11))),20,IF(AND($N11<>"",기준표!$O$21<>"",ISNUMBER(SEARCH(기준표!$O$21,$N11))),21,IF(AND($N11<>"",기준표!$O$22<>"",ISNUMBER(SEARCH(기준표!$O$22,$N11))),22,IF(AND($N11<>"",기준표!$O$23<>"",ISNUMBER(SEARCH(기준표!$O$23,$N11))),23,IF(AND($N11<>"",기준표!$O$24<>"",ISNUMBER(SEARCH(기준표!$O$24,$N11))),24,"")))))))))))))))))))) | Q11: {=IF($P11="","",INDEX(기준표!$N$5:$N$24,$P11-4))} | R11: =IF($Q11="","",IFERROR(INDEX(기준표!$C$5:$C$15,MATCH($Q11,기준표!$B$5:$B$15,0)),"")) | S11: =IF(AND($T11<>"",기준표!$E$5<>"",ISNUMBER(SEARCH(기준표!$E$5,$T11))),기준표!$C$5,IF(AND($T11<>"",기준표!$E$6<>"",ISNUMBER(SEARCH(기준표!$E$6,$T11))),기준표!$C$6,IF(AND($T11<>"",기준표!$E$7<>"",ISNUMBER(SEARCH(기준표!$E$7,$T11))),기준표!$C$7,IF(AND($T11<>"",기준표!$E$8<>"",ISNUMBER(SEARCH(기준표!$E$8,$T11))),기준표!$C$8,IF(AND($T11<>"",기준표!$E$9<>"",ISNUMBER(SEARCH(기준표!$E$9,$T11))),기준표!$C$9,IF(AND($T11<>"",기준표!$E$10<>"",ISNUMBER(SEARCH(기준표!$E$10,$T11))),기준표!$C$10,IF(AND($T11<>"",기준표!$E$11<>"",ISNUMBER(SEARCH(기준표!$E$11,$T11))),기준표!$C$11,IF(AND($T11<>"",기준표!$E$12<>"",ISNUMBER(SEARCH(기준표!$E$12,$T11))),기준표!$C$12,IF(AND($T11<>"",기준표!$E$13<>"",ISNUMBER(SEARCH(기준표!$E$13,$T11))),기준표!$C$13,IF(AND($T11<>"",기준표!$E$14<>"",ISNUMBER(SEARCH(기준표!$E$14,$T11))),기준표!$C$14,IF(AND($T11<>"",기준표!$E$15<>"",ISNUMBER(SEARCH(기준표!$E$15,$T11))),기준표!$C$15,IFERROR(INDEX(기준표!$C$5:$C$15,MATCH("기타",기준표!$B$5:$B$15,0)),"5번장")))))))))))) -> 1번장 | T11: =SUBSTITUTE(SUBSTITUTE(SUBSTITUTE(SUBSTITUTE($C11," ",""),CHAR(10),""),CHAR(9),"")," ","") -> 구름주식회사
A12: 8 | B12: 46214 | C12: 우리도 | D12: 46214 | E12: 공동 | F12: -7733 | G12: 품질공정검사 요청 | J12: =IF($R12<>"",$R12,$S12) -> 11번장 | K12: =IF($A12="","",INDEX(기준표!$I$5:$I$7,MATCH("접수",기준표!$H$5:$H$7,0))) -> 2라인 | L12: =IF(LEN($O12)=0,"B",IF(LEN($N12)=0,"",IF($P12="","A",INDEX(기준표!$M$5:$M$24,$P12-4)))) -> F | M12: 품질공정검사 → F / 품질 → 11번장 | N12: =SUBSTITUTE(SUBSTITUTE(SUBSTITUTE(SUBSTITUTE($G12," ",""),CHAR(10),""),CHAR(9),"")," ","") -> 품질공정검사요청 | O12: =SUBSTITUTE(SUBSTITUTE(SUBSTITUTE(SUBSTITUTE($E12&$F12," ",""),CHAR(10),""),CHAR(9),"")," ","") -> 공동-7733 | P12: =IF(AND($N12<>"",기준표!$O$5<>"",ISNUMBER(SEARCH(기준표!$O$5,$N12))),5,IF(AND($N12<>"",기준표!$O$6<>"",ISNUMBER(SEARCH(기준표!$O$6,$N12))),6,IF(AND($N12<>"",기준표!$O$7<>"",ISNUMBER(SEARCH(기준표!$O$7,$N12))),7,IF(AND($N12<>"",기준표!$O$8<>"",ISNUMBER(SEARCH(기준표!$O$8,$N12))),8,IF(AND($N12<>"",기준표!$O$9<>"",ISNUMBER(SEARCH(기준표!$O$9,$N12))),9,IF(AND($N12<>"",기준표!$O$10<>"",ISNUMBER(SEARCH(기준표!$O$10,$N12))),10,IF(AND($N12<>"",기준표!$O$11<>"",ISNUMBER(SEARCH(기준표!$O$11,$N12))),11,IF(AND($N12<>"",기준표!$O$12<>"",ISNUMBER(SEARCH(기준표!$O$12,$N12))),12,IF(AND($N12<>"",기준표!$O$13<>"",ISNUMBER(SEARCH(기준표!$O$13,$N12))),13,IF(AND($N12<>"",기준표!$O$14<>"",ISNUMBER(SEARCH(기준표!$O$14,$N12))),14,IF(AND($N12<>"",기준표!$O$15<>"",ISNUMBER(SEARCH(기준표!$O$15,$N12))),15,IF(AND($N12<>"",기준표!$O$16<>"",ISNUMBER(SEARCH(기준표!$O$16,$N12))),16,IF(AND($N12<>"",기준표!$O$17<>"",ISNUMBER(SEARCH(기준표!$O$17,$N12))),17,IF(AND($N12<>"",기준표!$O$18<>"",ISNUMBER(SEARCH(기준표!$O$18,$N12))),18,IF(AND($N12<>"",기준표!$O$19<>"",ISNUMBER(SEARCH(기준표!$O$19,$N12))),19,IF(AND($N12<>"",기준표!$O$20<>"",ISNUMBER(SEARCH(기준표!$O$20,$N12))),20,IF(AND($N12<>"",기준표!$O$21<>"",ISNUMBER(SEARCH(기준표!$O$21,$N12))),21,IF(AND($N12<>"",기준표!$O$22<>"",ISNUMBER(SEARCH(기준표!$O$22,$N12))),22,IF(AND($N12<>"",기준표!$O$23<>"",ISNUMBER(SEARCH(기준표!$O$23,$N12))),23,IF(AND($N12<>"",기준표!$O$24<>"",ISNUMBER(SEARCH(기준표!$O$24,$N12))),24,"")))))))))))))))))))) -> 10 | Q12: {=IF($P12="","",INDEX(기준표!$N$5:$N$24,$P12-4))} -> 품질 | R12: =IF($Q12="","",IFERROR(INDEX(기준표!$C$5:$C$15,MATCH($Q12,기준표!$B$5:$B$15,0)),"")) -> 11번장 | S12: =IF(AND($T12<>"",기준표!$E$5<>"",ISNUMBER(SEARCH(기준표!$E$5,$T12))),기준표!$C$5,IF(AND($T12<>"",기준표!$E$6<>"",ISNUMBER(SEARCH(기준표!$E$6,$T12))),기준표!$C$6,IF(AND($T12<>"",기준표!$E$7<>"",ISNUMBER(SEARCH(기준표!$E$7,$T12))),기준표!$C$7,IF(AND($T12<>"",기준표!$E$8<>"",ISNUMBER(SEARCH(기준표!$E$8,$T12))),기준표!$C$8,IF(AND($T12<>"",기준표!$E$9<>"",ISNUMBER(SEARCH(기준표!$E$9,$T12))),기준표!$C$9,IF(AND($T12<>"",기준표!$E$10<>"",ISNUMBER(SEARCH(기준표!$E$10,$T12))),기준표!$C$10,IF(AND($T12<>"",기준표!$E$11<>"",ISNUMBER(SEARCH(기준표!$E$11,$T12))),기준표!$C$11,IF(AND($T12<>"",기준표!$E$12<>"",ISNUMBER(SEARCH(기준표!$E$12,$T12))),기준표!$C$12,IF(AND($T12<>"",기준표!$E$13<>"",ISNUMBER(SEARCH(기준표!$E$13,$T12))),기준표!$C$13,IF(AND($T12<>"",기준표!$E$14<>"",ISNUMBER(SEARCH(기준표!$E$14,$T12))),기준표!$C$14,IF(AND($T12<>"",기준표!$E$15<>"",ISNUMBER(SEARCH(기준표!$E$15,$T12))),기준표!$C$15,IFERROR(INDEX(기준표!$C$5:$C$15,MATCH("기타",기준표!$B$5:$B$15,0)),"5번장")))))))))))) -> 3번장 | T12: =SUBSTITUTE(SUBSTITUTE(SUBSTITUTE(SUBSTITUTE($C12," ",""),CHAR(10),""),CHAR(9),"")," ","") -> 우리도
A13: 9 | B13: 46215 | C13: 같이해 | D13: 46215 | E13: 시공 | F13: -2100 | J13: =IF($R13<>"",$R13,$S13) -> 4번장 | K13: =IF($A13="","",INDEX(기준표!$I$5:$I$7,MATCH("접수",기준표!$H$5:$H$7,0))) -> 2라인 | L13: =IF(LEN($O13)=0,"B",IF(LEN($N13)=0,"",IF($P13="","A",INDEX(기준표!$M$5:$M$24,$P13-4)))) | M13: 문서번호 있음 + 제목 빈칸 → 3번째 칸 빈칸 | N13: =SUBSTITUTE(SUBSTITUTE(SUBSTITUTE(SUBSTITUTE($G13," ",""),CHAR(10),""),CHAR(9),"")," ","") | O13: =SUBSTITUTE(SUBSTITUTE(SUBSTITUTE(SUBSTITUTE($E13&$F13," ",""),CHAR(10),""),CHAR(9),"")," ","") -> 시공-2100 | P13: =IF(AND($N13<>"",기준표!$O$5<>"",ISNUMBER(SEARCH(기준표!$O$5,$N13))),5,IF(AND($N13<>"",기준표!$O$6<>"",ISNUMBER(SEARCH(기준표!$O$6,$N13))),6,IF(AND($N13<>"",기준표!$O$7<>"",ISNUMBER(SEARCH(기준표!$O$7,$N13))),7,IF(AND($N13<>"",기준표!$O$8<>"",ISNUMBER(SEARCH(기준표!$O$8,$N13))),8,IF(AND($N13<>"",기준표!$O$9<>"",ISNUMBER(SEARCH(기준표!$O$9,$N13))),9,IF(AND($N13<>"",기준표!$O$10<>"",ISNUMBER(SEARCH(기준표!$O$10,$N13))),10,IF(AND($N13<>"",기준표!$O$11<>"",ISNUMBER(SEARCH(기준표!$O$11,$N13))),11,IF(AND($N13<>"",기준표!$O$12<>"",ISNUMBER(SEARCH(기준표!$O$12,$N13))),12,IF(AND($N13<>"",기준표!$O$13<>"",ISNUMBER(SEARCH(기준표!$O$13,$N13))),13,IF(AND($N13<>"",기준표!$O$14<>"",ISNUMBER(SEARCH(기준표!$O$14,$N13))),14,IF(AND($N13<>"",기준표!$O$15<>"",ISNUMBER(SEARCH(기준표!$O$15,$N13))),15,IF(AND($N13<>"",기준표!$O$16<>"",ISNUMBER(SEARCH(기준표!$O$16,$N13))),16,IF(AND($N13<>"",기준표!$O$17<>"",ISNUMBER(SEARCH(기준표!$O$17,$N13))),17,IF(AND($N13<>"",기준표!$O$18<>"",ISNUMBER(SEARCH(기준표!$O$18,$N13))),18,IF(AND($N13<>"",기준표!$O$19<>"",ISNUMBER(SEARCH(기준표!$O$19,$N13))),19,IF(AND($N13<>"",기준표!$O$20<>"",ISNUMBER(SEARCH(기준표!$O$20,$N13))),20,IF(AND($N13<>"",기준표!$O$21<>"",ISNUMBER(SEARCH(기준표!$O$21,$N13))),21,IF(AND($N13<>"",기준표!$O$22<>"",ISNUMBER(SEARCH(기준표!$O$22,$N13))),22,IF(AND($N13<>"",기준표!$O$23<>"",ISNUMBER(SEARCH(기준표!$O$23,$N13))),23,IF(AND($N13<>"",기준표!$O$24<>"",ISNUMBER(SEARCH(기준표!$O$24,$N13))),24,"")))))))))))))))))))) | Q13: {=IF($P13="","",INDEX(기준표!$N$5:$N$24,$P13-4))} | R13: =IF($Q13="","",IFERROR(INDEX(기준표!$C$5:$C$15,MATCH($Q13,기준표!$B$5:$B$15,0)),"")) | S13: =IF(AND($T13<>"",기준표!$E$5<>"",ISNUMBER(SEARCH(기준표!$E$5,$T13))),기준표!$C$5,IF(AND($T13<>"",기준표!$E$6<>"",ISNUMBER(SEARCH(기준표!$E$6,$T13))),기준표!$C$6,IF(AND($T13<>"",기준표!$E$7<>"",ISNUMBER(SEARCH(기준표!$E$7,$T13))),기준표!$C$7,IF(AND($T13<>"",기준표!$E$8<>"",ISNUMBER(SEARCH(기준표!$E$8,$T13))),기준표!$C$8,IF(AND($T13<>"",기준표!$E$9<>"",ISNUMBER(SEARCH(기준표!$E$9,$T13))),기준표!$C$9,IF(AND($T13<>"",기준표!$E$10<>"",ISNUMBER(SEARCH(기준표!$E$10,$T13))),기준표!$C$10,IF(AND($T13<>"",기준표!$E$11<>"",ISNUMBER(SEARCH(기준표!$E$11,$T13))),기준표!$C$11,IF(AND($T13<>"",기준표!$E$12<>"",ISNUMBER(SEARCH(기준표!$E$12,$T13))),기준표!$C$12,IF(AND($T13<>"",기준표!$E$13<>"",ISNUMBER(SEARCH(기준표!$E$13,$T13))),기준표!$C$13,IF(AND($T13<>"",기준표!$E$14<>"",ISNUMBER(SEARCH(기준표!$E$14,$T13))),기준표!$C$14,IF(AND($T13<>"",기준표!$E$15<>"",ISNUMBER(SEARCH(기준표!$E$15,$T13))),기준표!$C$15,IFERROR(INDEX(기준표!$C$5:$C$15,MATCH("기타",기준표!$B$5:$B$15,0)),"5번장")))))))))))) -> 4번장 | T13: =SUBSTITUTE(SUBSTITUTE(SUBSTITUTE(SUBSTITUTE($C13," ",""),CHAR(10),""),CHAR(9),"")," ","") -> 같이해
A14: 10 | B14: 46215 | C14: 외부업체 | D14: 46215 | E14: 외부 | F14: -5000 | G14: 일반 문의 | J14: =IF($R14<>"",$R14,$S14) -> 5번장 | K14: =IF($A14="","",INDEX(기준표!$I$5:$I$7,MATCH("접수",기준표!$H$5:$H$7,0))) -> 2라인 | L14: =IF(LEN($O14)=0,"B",IF(LEN($N14)=0,"",IF($P14="","A",INDEX(기준표!$M$5:$M$24,$P14-4)))) -> A | M14: 발신처 미등록 → 기타 5번장 / 제목 기준 없음 → A | N14: =SUBSTITUTE(SUBSTITUTE(SUBSTITUTE(SUBSTITUTE($G14," ",""),CHAR(10),""),CHAR(9),"")," ","") -> 일반문의 | O14: =SUBSTITUTE(SUBSTITUTE(SUBSTITUTE(SUBSTITUTE($E14&$F14," ",""),CHAR(10),""),CHAR(9),"")," ","") -> 외부-5000 | P14: =IF(AND($N14<>"",기준표!$O$5<>"",ISNUMBER(SEARCH(기준표!$O$5,$N14))),5,IF(AND($N14<>"",기준표!$O$6<>"",ISNUMBER(SEARCH(기준표!$O$6,$N14))),6,IF(AND($N14<>"",기준표!$O$7<>"",ISNUMBER(SEARCH(기준표!$O$7,$N14))),7,IF(AND($N14<>"",기준표!$O$8<>"",ISNUMBER(SEARCH(기준표!$O$8,$N14))),8,IF(AND($N14<>"",기준표!$O$9<>"",ISNUMBER(SEARCH(기준표!$O$9,$N14))),9,IF(AND($N14<>"",기준표!$O$10<>"",ISNUMBER(SEARCH(기준표!$O$10,$N14))),10,IF(AND($N14<>"",기준표!$O$11<>"",ISNUMBER(SEARCH(기준표!$O$11,$N14))),11,IF(AND($N14<>"",기준표!$O$12<>"",ISNUMBER(SEARCH(기준표!$O$12,$N14))),12,IF(AND($N14<>"",기준표!$O$13<>"",ISNUMBER(SEARCH(기준표!$O$13,$N14))),13,IF(AND($N14<>"",기준표!$O$14<>"",ISNUMBER(SEARCH(기준표!$O$14,$N14))),14,IF(AND($N14<>"",기준표!$O$15<>"",ISNUMBER(SEARCH(기준표!$O$15,$N14))),15,IF(AND($N14<>"",기준표!$O$16<>"",ISNUMBER(SEARCH(기준표!$O$16,$N14))),16,IF(AND($N14<>"",기준표!$O$17<>"",ISNUMBER(SEARCH(기준표!$O$17,$N14))),17,IF(AND($N14<>"",기준표!$O$18<>"",ISNUMBER(SEARCH(기준표!$O$18,$N14))),18,IF(AND($N14<>"",기준표!$O$19<>"",ISNUMBER(SEARCH(기준표!$O$19,$N14))),19,IF(AND($N14<>"",기준표!$O$20<>"",ISNUMBER(SEARCH(기준표!$O$20,$N14))),20,IF(AND($N14<>"",기준표!$O$21<>"",ISNUMBER(SEARCH(기준표!$O$21,$N14))),21,IF(AND($N14<>"",기준표!$O$22<>"",ISNUMBER(SEARCH(기준표!$O$22,$N14))),22,IF(AND($N14<>"",기준표!$O$23<>"",ISNUMBER(SEARCH(기준표!$O$23,$N14))),23,IF(AND($N14<>"",기준표!$O$24<>"",ISNUMBER(SEARCH(기준표!$O$24,$N14))),24,"")))))))))))))))))))) | Q14: {=IF($P14="","",INDEX(기준표!$N$5:$N$24,$P14-4))} | R14: =IF($Q14="","",IFERROR(INDEX(기준표!$C$5:$C$15,MATCH($Q14,기준표!$B$5:$B$15,0)),"")) | S14: =IF(AND($T14<>"",기준표!$E$5<>"",ISNUMBER(SEARCH(기준표!$E$5,$T14))),기준표!$C$5,IF(AND($T14<>"",기준표!$E$6<>"",ISNUMBER(SEARCH(기준표!$E$6,$T14))),기준표!$C$6,IF(AND($T14<>"",기준표!$E$7<>"",ISNUMBER(SEARCH(기준표!$E$7,$T14))),기준표!$C$7,IF(AND($T14<>"",기준표!$E$8<>"",ISNUMBER(SEARCH(기준표!$E$8,$T14))),기준표!$C$8,IF(AND($T14<>"",기준표!$E$9<>"",ISNUMBER(SEARCH(기준표!$E$9,$T14))),기준표!$C$9,IF(AND($T14<>"",기준표!$E$10<>"",ISNUMBER(SEARCH(기준표!$E$10,$T14))),기준표!$C$10,IF(AND($T14<>"",기준표!$E$11<>"",ISNUMBER(SEARCH(기준표!$E$11,$T14))),기준표!$C$11,IF(AND($T14<>"",기준표!$E$12<>"",ISNUMBER(SEARCH(기준표!$E$12,$T14))),기준표!$C$12,IF(AND($T14<>"",기준표!$E$13<>"",ISNUMBER(SEARCH(기준표!$E$13,$T14))),기준표!$C$13,IF(AND($T14<>"",기준표!$E$14<>"",ISNUMBER(SEARCH(기준표!$E$14,$T14))),기준표!$C$14,IF(AND($T14<>"",기준표!$E$15<>"",ISNUMBER(SEARCH(기준표!$E$15,$T14))),기준표!$C$15,IFERROR(INDEX(기준표!$C$5:$C$15,MATCH("기타",기준표!$B$5:$B$15,0)),"5번장")))))))))))) -> 5번장 | T14: =SUBSTITUTE(SUBSTITUTE(SUBSTITUTE(SUBSTITUTE($C14," ",""),CHAR(10),""),CHAR(9),"")," ","") -> 외부업체
A17: 수식 설명
A18: 1번째 칸 | B18: 제목에서 3번표 중분류 전체 단어를 먼저 찾고, 해당 행의 담당부서로 1번표 대분류의 장번호를 가져옵니다. 제목 기준이 없으면 발신처를 1번표 업체명에서 검색하고, 없으면 기타 5번장입니다.
A19: 2번째 칸 | B19: 접수대장이므로 기준표의 '접수' 라인번호인 2라인을 가져옵니다.
A20: 3번째 칸 | B20: 문서번호가 없으면 B, 문서번호가 있되 제목이 비어 있으면 빈칸, 문서번호와 제목이 있으면 3번표 중분류를 검색하고 없으면 A입니다.
A21: 비교 방식 | B21: 제목/발신처/기준표 값은 공백, 줄바꿈, 탭, 전각공백을 제거한 뒤 SEARCH로 포함 여부를 판단합니다. '안전'만 입력되면 안전관리실적/안전관리계획과 일치하지 않으므로 A가 됩니다.

Sheet 기준표
A1: 접수대장 수식 자동분류 기준표
A2: 오른쪽 기준표 값을 수정하면 접수대장 시트의 수식 결과가 자동으로 바뀝니다. 표3의 담당부서는 표1 대분류와 일치해야 장번호를 가져옵니다.
A4: No | B4: 대분류 | C4: 분류코드 | D4: 업체명 | E4: 업체명 정리 | G4: No | H4: 중분류 | I4: 분류코드 | K4: No | L4: 중분류 | M4: 분류코드 | N4: 담당부서 | O4: 중분류 정리
A5: 1 | B5: 발주처 | C5: 1번장 | D5: 구름 | E5: =SUBSTITUTE(SUBSTITUTE(SUBSTITUTE(SUBSTITUTE(D5," ",""),CHAR(10),""),CHAR(9),"")," ","") -> 구름 | G5: 0 | H5: 대장 | I5: 0라인 | K5: 0 | L5: 공문 | M5: A | O5: =SUBSTITUTE(SUBSTITUTE(SUBSTITUTE(SUBSTITUTE(L5," ",""),CHAR(10),""),CHAR(9),"")," ","") -> 공문
A6: 2 | B6: 감리단 | C6: 2번장 | D6: 마음아 | E6: =SUBSTITUTE(SUBSTITUTE(SUBSTITUTE(SUBSTITUTE(D6," ",""),CHAR(10),""),CHAR(9),"")," ","") -> 마음아 | G6: 1 | H6: 발송 | I6: 1라인 | K6: 1 | L6: 기타 | M6: B | O6: =SUBSTITUTE(SUBSTITUTE(SUBSTITUTE(SUBSTITUTE(L6," ",""),CHAR(10),""),CHAR(9),"")," ","") -> 기타
A7: 3 | B7: 공동도급사 | C7: 3번장 | D7: 우리도 | E7: =SUBSTITUTE(SUBSTITUTE(SUBSTITUTE(SUBSTITUTE(D7," ",""),CHAR(10),""),CHAR(9),"")," ","") -> 우리도 | G7: 2 | H7: 접수 | I7: 2라인 | K7: 2 | L7: 실정보고 | M7: C | O7: =SUBSTITUTE(SUBSTITUTE(SUBSTITUTE(SUBSTITUTE(L7," ",""),CHAR(10),""),CHAR(9),"")," ","") -> 실정보고
A8: 4 | B8: 시공사 | C8: 4번장 | D8: 같이해 | E8: =SUBSTITUTE(SUBSTITUTE(SUBSTITUTE(SUBSTITUTE(D8," ",""),CHAR(10),""),CHAR(9),"")," ","") -> 같이해 | K8: 3 | L8: 안전관리실적 | M8: D | N8: 안전 | O8: =SUBSTITUTE(SUBSTITUTE(SUBSTITUTE(SUBSTITUTE(L8," ",""),CHAR(10),""),CHAR(9),"")," ","") -> 안전관리실적
A9: 5 | B9: 기타 | C9: 5번장 | E9: =SUBSTITUTE(SUBSTITUTE(SUBSTITUTE(SUBSTITUTE(D9," ",""),CHAR(10),""),CHAR(9),"")," ","") | K9: 4 | L9: 안전관리계획 | M9: E | N9: 안전 | O9: =SUBSTITUTE(SUBSTITUTE(SUBSTITUTE(SUBSTITUTE(L9," ",""),CHAR(10),""),CHAR(9),"")," ","") -> 안전관리계획
A10: 6 | B10: 공무 | C10: 6번장 | E10: =SUBSTITUTE(SUBSTITUTE(SUBSTITUTE(SUBSTITUTE(D10," ",""),CHAR(10),""),CHAR(9),"")," ","") | K10: 5 | L10: 품질공정검사 | M10: F | N10: 품질 | O10: =SUBSTITUTE(SUBSTITUTE(SUBSTITUTE(SUBSTITUTE(L10," ",""),CHAR(10),""),CHAR(9),"")," ","") -> 품질공정검사
A11: 7 | B11: 공사 | C11: 7번장 | E11: =SUBSTITUTE(SUBSTITUTE(SUBSTITUTE(SUBSTITUTE(D11," ",""),CHAR(10),""),CHAR(9),"")," ","") | K11: 6 | L11: 품질정기점검 | M11: G | N11: 품질 | O11: =SUBSTITUTE(SUBSTITUTE(SUBSTITUTE(SUBSTITUTE(L11," ",""),CHAR(10),""),CHAR(9),"")," ","") -> 품질정기점검
A12: 8 | B12: 안전 | C12: 8번장 | E12: =SUBSTITUTE(SUBSTITUTE(SUBSTITUTE(SUBSTITUTE(D12," ",""),CHAR(10),""),CHAR(9),"")," ","") | K12: 7 | L12: 시공계획서 | M12: H | N12: 공사 | O12: =SUBSTITUTE(SUBSTITUTE(SUBSTITUTE(SUBSTITUTE(L12," ",""),CHAR(10),""),CHAR(9),"")," ","") -> 시공계획서
A13: 9 | B13: 통신 | C13: 9번장 | E13: =SUBSTITUTE(SUBSTITUTE(SUBSTITUTE(SUBSTITUTE(D13," ",""),CHAR(10),""),CHAR(9),"")," ","") | K13: 8 | M13: I | O13: =SUBSTITUTE(SUBSTITUTE(SUBSTITUTE(SUBSTITUTE(L13," ",""),CHAR(10),""),CHAR(9),"")," ","")
A14: 10 | B14: 기계 | C14: 10번장 | E14: =SUBSTITUTE(SUBSTITUTE(SUBSTITUTE(SUBSTITUTE(D14," ",""),CHAR(10),""),CHAR(9),"")," ","") | K14: 9 | M14: J | O14: =SUBSTITUTE(SUBSTITUTE(SUBSTITUTE(SUBSTITUTE(L14," ",""),CHAR(10),""),CHAR(9),"")," ","")
A15: 11 | B15: 품질 | C15: 11번장 | E15: =SUBSTITUTE(SUBSTITUTE(SUBSTITUTE(SUBSTITUTE(D15," ",""),CHAR(10),""),CHAR(9),"")," ","") | K15: 10 | M15: K | O15: =SUBSTITUTE(SUBSTITUTE(SUBSTITUTE(SUBSTITUTE(L15," ",""),CHAR(10),""),CHAR(9),"")," ","")
K16: 11 | M16: L | O16: =SUBSTITUTE(SUBSTITUTE(SUBSTITUTE(SUBSTITUTE(L16," ",""),CHAR(10),""),CHAR(9),"")," ","")
K17: 12 | M17: M | O17: =SUBSTITUTE(SUBSTITUTE(SUBSTITUTE(SUBSTITUTE(L17," ",""),CHAR(10),""),CHAR(9),"")," ","")
K18: 13 | M18: N | O18: =SUBSTITUTE(SUBSTITUTE(SUBSTITUTE(SUBSTITUTE(L18," ",""),CHAR(10),""),CHAR(9),"")," ","")
K19: 14 | M19: O | O19: =SUBSTITUTE(SUBSTITUTE(SUBSTITUTE(SUBSTITUTE(L19," ",""),CHAR(10),""),CHAR(9),"")," ","")
K20: 15 | M20: P | O20: =SUBSTITUTE(SUBSTITUTE(SUBSTITUTE(SUBSTITUTE(L20," ",""),CHAR(10),""),CHAR(9),"")," ","")
K21: 16 | M21: Q | O21: =SUBSTITUTE(SUBSTITUTE(SUBSTITUTE(SUBSTITUTE(L21," ",""),CHAR(10),""),CHAR(9),"")," ","")
K22: 17 | M22: R | O22: =SUBSTITUTE(SUBSTITUTE(SUBSTITUTE(SUBSTITUTE(L22," ",""),CHAR(10),""),CHAR(9),"")," ","")
K23: 18 | M23: S | O23: =SUBSTITUTE(SUBSTITUTE(SUBSTITUTE(SUBSTITUTE(L23," ",""),CHAR(10),""),CHAR(9),"")," ","")
K24: 19 | M24: T | O24: =SUBSTITUTE(SUBSTITUTE(SUBSTITUTE(SUBSTITUTE(L24," ",""),CHAR(10),""),CHAR(9),"")," ","")
