Workbook

Sheet 접수대장
A1: 접수대장 수식 자동분류
A2: J:K:L 열은 수식입니다. 발신처/문서번호/제목을 바꾸면 자동분류 결과가 바뀝니다.
A4: 연번 | B4: 접수일자 | C4: 발신처 | D4: 시행일자 | E4: 문서번호 윗줄 | F4: 문서번호 아랫줄 | G4: 제목 | H4: 문서보관상자 위치번호 | I4: 관계철 위치번호 | J4: 문서목록표 일련번호 1번째 칸 | K4: 문서목록표 일련번호 2번째 칸 | L4: 문서목록표 일련번호 3번째 칸 | M4: 비고
A5: 1 | B5: 46211 | C5: 구름 | D5: 46211 | E5: 감리 | F5: -2790 | G5: 기타 | J5: =IF(ISNUMBER(SEARCH(기준표!$N$5,$G5)),기준표!$O$5,IF(ISNUMBER(SEARCH(기준표!$N$6,$G5)),기준표!$O$6,IF(ISNUMBER(SEARCH(기준표!$N$7,$G5)),기준표!$O$7,IFERROR(INDEX(기준표!$C$5:$C$15,MATCH($C5,기준표!$D$5:$D$15,0)),"5번장")))) -> 1번장 | K5: =INDEX(기준표!$I$5:$I$7,MATCH("접수",기준표!$H$5:$H$7,0)) -> 2라인 | L5: =IF(LEN(TRIM($E5&$F5))=0,"B",IF(ISNUMBER(SEARCH(기준표!$L$7,$G5)),기준표!$M$7,IF(ISNUMBER(SEARCH(기준표!$L$8,$G5)),기준표!$M$8,IF(ISNUMBER(SEARCH(기준표!$L$9,$G5)),기준표!$M$9,IF(ISNUMBER(SEARCH(기준표!$L$10,$G5)),기준표!$M$10,IF(ISNUMBER(SEARCH(기준표!$L$11,$G5)),기준표!$M$11,IF(ISNUMBER(SEARCH(기준표!$L$12,$G5)),기준표!$M$12,"A"))))))) -> A | M5: 문서번호가 있으므로 제목 '기타'여도 A
A6: 2 | B6: 46211 | C6: 구름 | D6: 46211 | E6: 감리 | F6: -2308 | G6: 안전관리실적 제출 | J6: =IF(ISNUMBER(SEARCH(기준표!$N$5,$G6)),기준표!$O$5,IF(ISNUMBER(SEARCH(기준표!$N$6,$G6)),기준표!$O$6,IF(ISNUMBER(SEARCH(기준표!$N$7,$G6)),기준표!$O$7,IFERROR(INDEX(기준표!$C$5:$C$15,MATCH($C6,기준표!$D$5:$D$15,0)),"5번장")))) -> 8번장 | K6: =INDEX(기준표!$I$5:$I$7,MATCH("접수",기준표!$H$5:$H$7,0)) -> 2라인 | L6: =IF(LEN(TRIM($E6&$F6))=0,"B",IF(ISNUMBER(SEARCH(기준표!$L$7,$G6)),기준표!$M$7,IF(ISNUMBER(SEARCH(기준표!$L$8,$G6)),기준표!$M$8,IF(ISNUMBER(SEARCH(기준표!$L$9,$G6)),기준표!$M$9,IF(ISNUMBER(SEARCH(기준표!$L$10,$G6)),기준표!$M$10,IF(ISNUMBER(SEARCH(기준표!$L$11,$G6)),기준표!$M$11,IF(ISNUMBER(SEARCH(기준표!$L$12,$G6)),기준표!$M$12,"A"))))))) -> D | M6: 제목 안전 → 8번장 / D
A7: 3 | B7: 46212 | C7: 마음아 | D7: 46212 | E7: 감리 | F7: -3110 | G7: 품질정기점검 결과 | J7: =IF(ISNUMBER(SEARCH(기준표!$N$5,$G7)),기준표!$O$5,IF(ISNUMBER(SEARCH(기준표!$N$6,$G7)),기준표!$O$6,IF(ISNUMBER(SEARCH(기준표!$N$7,$G7)),기준표!$O$7,IFERROR(INDEX(기준표!$C$5:$C$15,MATCH($C7,기준표!$D$5:$D$15,0)),"5번장")))) -> 11번장 | K7: =INDEX(기준표!$I$5:$I$7,MATCH("접수",기준표!$H$5:$H$7,0)) -> 2라인 | L7: =IF(LEN(TRIM($E7&$F7))=0,"B",IF(ISNUMBER(SEARCH(기준표!$L$7,$G7)),기준표!$M$7,IF(ISNUMBER(SEARCH(기준표!$L$8,$G7)),기준표!$M$8,IF(ISNUMBER(SEARCH(기준표!$L$9,$G7)),기준표!$M$9,IF(ISNUMBER(SEARCH(기준표!$L$10,$G7)),기준표!$M$10,IF(ISNUMBER(SEARCH(기준표!$L$11,$G7)),기준표!$M$11,IF(ISNUMBER(SEARCH(기준표!$L$12,$G7)),기준표!$M$12,"A"))))))) -> G | M7: 제목 품질 → 11번장 / G
A8: 4 | B8: 46212 | C8: 우리도 | D8: 46212 | E8: 공동 | F8: -1200 | G8: 시공계획서 제출 | J8: =IF(ISNUMBER(SEARCH(기준표!$N$5,$G8)),기준표!$O$5,IF(ISNUMBER(SEARCH(기준표!$N$6,$G8)),기준표!$O$6,IF(ISNUMBER(SEARCH(기준표!$N$7,$G8)),기준표!$O$7,IFERROR(INDEX(기준표!$C$5:$C$15,MATCH($C8,기준표!$D$5:$D$15,0)),"5번장")))) -> 7번장 | K8: =INDEX(기준표!$I$5:$I$7,MATCH("접수",기준표!$H$5:$H$7,0)) -> 2라인 | L8: =IF(LEN(TRIM($E8&$F8))=0,"B",IF(ISNUMBER(SEARCH(기준표!$L$7,$G8)),기준표!$M$7,IF(ISNUMBER(SEARCH(기준표!$L$8,$G8)),기준표!$M$8,IF(ISNUMBER(SEARCH(기준표!$L$9,$G8)),기준표!$M$9,IF(ISNUMBER(SEARCH(기준표!$L$10,$G8)),기준표!$M$10,IF(ISNUMBER(SEARCH(기준표!$L$11,$G8)),기준표!$M$11,IF(ISNUMBER(SEARCH(기준표!$L$12,$G8)),기준표!$M$12,"A"))))))) -> H | M8: 제목 시공계획서 → 7번장 / H
A9: 5 | B9: 46213 | C9: 같이해 | D9: 46213 | E9: 시공 | F9: -0101 | G9: 실정보고서 제출 | J9: =IF(ISNUMBER(SEARCH(기준표!$N$5,$G9)),기준표!$O$5,IF(ISNUMBER(SEARCH(기준표!$N$6,$G9)),기준표!$O$6,IF(ISNUMBER(SEARCH(기준표!$N$7,$G9)),기준표!$O$7,IFERROR(INDEX(기준표!$C$5:$C$15,MATCH($C9,기준표!$D$5:$D$15,0)),"5번장")))) -> 4번장 | K9: =INDEX(기준표!$I$5:$I$7,MATCH("접수",기준표!$H$5:$H$7,0)) -> 2라인 | L9: =IF(LEN(TRIM($E9&$F9))=0,"B",IF(ISNUMBER(SEARCH(기준표!$L$7,$G9)),기준표!$M$7,IF(ISNUMBER(SEARCH(기준표!$L$8,$G9)),기준표!$M$8,IF(ISNUMBER(SEARCH(기준표!$L$9,$G9)),기준표!$M$9,IF(ISNUMBER(SEARCH(기준표!$L$10,$G9)),기준표!$M$10,IF(ISNUMBER(SEARCH(기준표!$L$11,$G9)),기준표!$M$11,IF(ISNUMBER(SEARCH(기준표!$L$12,$G9)),기준표!$M$12,"A"))))))) -> C | M9: 3번째 칸 C
A10: 6 | B10: 46213 | C10: 구름 | D10: 46213 | G10: 일반 문의 | J10: =IF(ISNUMBER(SEARCH(기준표!$N$5,$G10)),기준표!$O$5,IF(ISNUMBER(SEARCH(기준표!$N$6,$G10)),기준표!$O$6,IF(ISNUMBER(SEARCH(기준표!$N$7,$G10)),기준표!$O$7,IFERROR(INDEX(기준표!$C$5:$C$15,MATCH($C10,기준표!$D$5:$D$15,0)),"5번장")))) -> 1번장 | K10: =INDEX(기준표!$I$5:$I$7,MATCH("접수",기준표!$H$5:$H$7,0)) -> 2라인 | L10: =IF(LEN(TRIM($E10&$F10))=0,"B",IF(ISNUMBER(SEARCH(기준표!$L$7,$G10)),기준표!$M$7,IF(ISNUMBER(SEARCH(기준표!$L$8,$G10)),기준표!$M$8,IF(ISNUMBER(SEARCH(기준표!$L$9,$G10)),기준표!$M$9,IF(ISNUMBER(SEARCH(기준표!$L$10,$G10)),기준표!$M$10,IF(ISNUMBER(SEARCH(기준표!$L$11,$G10)),기준표!$M$11,IF(ISNUMBER(SEARCH(기준표!$L$12,$G10)),기준표!$M$12,"A"))))))) -> B | M10: 문서번호 없음 → B
A11: 7 | B11: 46214 | C11: 마음아 | D11: 46214 | E11: 감리 | F11: -4502 | G11: 안전관리계획 보완 | J11: =IF(ISNUMBER(SEARCH(기준표!$N$5,$G11)),기준표!$O$5,IF(ISNUMBER(SEARCH(기준표!$N$6,$G11)),기준표!$O$6,IF(ISNUMBER(SEARCH(기준표!$N$7,$G11)),기준표!$O$7,IFERROR(INDEX(기준표!$C$5:$C$15,MATCH($C11,기준표!$D$5:$D$15,0)),"5번장")))) -> 8번장 | K11: =INDEX(기준표!$I$5:$I$7,MATCH("접수",기준표!$H$5:$H$7,0)) -> 2라인 | L11: =IF(LEN(TRIM($E11&$F11))=0,"B",IF(ISNUMBER(SEARCH(기준표!$L$7,$G11)),기준표!$M$7,IF(ISNUMBER(SEARCH(기준표!$L$8,$G11)),기준표!$M$8,IF(ISNUMBER(SEARCH(기준표!$L$9,$G11)),기준표!$M$9,IF(ISNUMBER(SEARCH(기준표!$L$10,$G11)),기준표!$M$10,IF(ISNUMBER(SEARCH(기준표!$L$11,$G11)),기준표!$M$11,IF(ISNUMBER(SEARCH(기준표!$L$12,$G11)),기준표!$M$12,"A"))))))) -> E | M11: 안전 → 8번장 / E
A12: 8 | B12: 46214 | C12: 우리도 | D12: 46214 | E12: 공동 | F12: -7733 | G12: 품질공정검사 요청 | J12: =IF(ISNUMBER(SEARCH(기준표!$N$5,$G12)),기준표!$O$5,IF(ISNUMBER(SEARCH(기준표!$N$6,$G12)),기준표!$O$6,IF(ISNUMBER(SEARCH(기준표!$N$7,$G12)),기준표!$O$7,IFERROR(INDEX(기준표!$C$5:$C$15,MATCH($C12,기준표!$D$5:$D$15,0)),"5번장")))) -> 11번장 | K12: =INDEX(기준표!$I$5:$I$7,MATCH("접수",기준표!$H$5:$H$7,0)) -> 2라인 | L12: =IF(LEN(TRIM($E12&$F12))=0,"B",IF(ISNUMBER(SEARCH(기준표!$L$7,$G12)),기준표!$M$7,IF(ISNUMBER(SEARCH(기준표!$L$8,$G12)),기준표!$M$8,IF(ISNUMBER(SEARCH(기준표!$L$9,$G12)),기준표!$M$9,IF(ISNUMBER(SEARCH(기준표!$L$10,$G12)),기준표!$M$10,IF(ISNUMBER(SEARCH(기준표!$L$11,$G12)),기준표!$M$11,IF(ISNUMBER(SEARCH(기준표!$L$12,$G12)),기준표!$M$12,"A"))))))) -> F | M12: 품질 → 11번장 / F
A13: 9 | B13: 46215 | C13: 같이해 | D13: 46215 | E13: 시공 | F13: -2100 | G13: 통신 협의 | J13: =IF(ISNUMBER(SEARCH(기준표!$N$5,$G13)),기준표!$O$5,IF(ISNUMBER(SEARCH(기준표!$N$6,$G13)),기준표!$O$6,IF(ISNUMBER(SEARCH(기준표!$N$7,$G13)),기준표!$O$7,IFERROR(INDEX(기준표!$C$5:$C$15,MATCH($C13,기준표!$D$5:$D$15,0)),"5번장")))) -> 4번장 | K13: =INDEX(기준표!$I$5:$I$7,MATCH("접수",기준표!$H$5:$H$7,0)) -> 2라인 | L13: =IF(LEN(TRIM($E13&$F13))=0,"B",IF(ISNUMBER(SEARCH(기준표!$L$7,$G13)),기준표!$M$7,IF(ISNUMBER(SEARCH(기준표!$L$8,$G13)),기준표!$M$8,IF(ISNUMBER(SEARCH(기준표!$L$9,$G13)),기준표!$M$9,IF(ISNUMBER(SEARCH(기준표!$L$10,$G13)),기준표!$M$10,IF(ISNUMBER(SEARCH(기준표!$L$11,$G13)),기준표!$M$11,IF(ISNUMBER(SEARCH(기준표!$L$12,$G13)),기준표!$M$12,"A"))))))) -> A | M13: 제목 우선 없음 → 발신처 기준 4번장 / A
A14: 10 | B14: 46215 | C14: 외부업체 | D14: 46215 | E14: 외부 | F14: -5000 | G14: 기타 안내 | J14: =IF(ISNUMBER(SEARCH(기준표!$N$5,$G14)),기준표!$O$5,IF(ISNUMBER(SEARCH(기준표!$N$6,$G14)),기준표!$O$6,IF(ISNUMBER(SEARCH(기준표!$N$7,$G14)),기준표!$O$7,IFERROR(INDEX(기준표!$C$5:$C$15,MATCH($C14,기준표!$D$5:$D$15,0)),"5번장")))) -> 5번장 | K14: =INDEX(기준표!$I$5:$I$7,MATCH("접수",기준표!$H$5:$H$7,0)) -> 2라인 | L14: =IF(LEN(TRIM($E14&$F14))=0,"B",IF(ISNUMBER(SEARCH(기준표!$L$7,$G14)),기준표!$M$7,IF(ISNUMBER(SEARCH(기준표!$L$8,$G14)),기준표!$M$8,IF(ISNUMBER(SEARCH(기준표!$L$9,$G14)),기준표!$M$9,IF(ISNUMBER(SEARCH(기준표!$L$10,$G14)),기준표!$M$10,IF(ISNUMBER(SEARCH(기준표!$L$11,$G14)),기준표!$M$11,IF(ISNUMBER(SEARCH(기준표!$L$12,$G14)),기준표!$M$12,"A"))))))) -> A | M14: 발신처 미등록 → 5번장 / A
A17: 수식 설명
A18: 1번째 칸 | B18: 제목에 안전/품질/시공계획서가 있으면 부서 장 번호를 우선 적용, 없으면 발신처를 기준표 업체명과 비교합니다.
A19: 2번째 칸 | B19: 접수대장이므로 기준표의 '접수' 라인번호인 2라인을 가져옵니다.
A20: 3번째 칸 | B20: 문서번호가 비어 있으면 B, 문서번호가 있으면 제목 키워드로 C~H를 찾고 없으면 A입니다.

Sheet 기준표
A1: 접수대장 수식 자동분류 기준표
A2: 오른쪽 기준표 값을 수정하면 접수대장 시트의 수식 결과가 자동으로 바뀝니다.
A4: No | B4: 대분류 | C4: 분류코드 | D4: 업체명 | G4: No | H4: 중분류 | I4: 분류코드 | K4: No | L4: 중분류 | M4: 분류코드 | N4: 제목 키워드 | O4: 1번째 칸
A5: 1 | B5: 발주처 | C5: 1번장 | D5: 구름 | G5: 0 | H5: 대장 | I5: 0라인 | K5: 0 | L5: 공문 | M5: A | N5: 안전 | O5: 8번장
A6: 2 | B6: 감리단 | C6: 2번장 | D6: 마음아 | G6: 1 | H6: 발송 | I6: 1라인 | K6: 1 | L6: 기타 | M6: B | N6: 품질 | O6: 11번장
A7: 3 | B7: 공동도급사 | C7: 3번장 | D7: 우리도 | G7: 2 | H7: 접수 | I7: 2라인 | K7: 2 | L7: 실정보고 | M7: C | N7: 시공계획서 | O7: 7번장
A8: 4 | B8: 시공사 | C8: 4번장 | D8: 같이해 | K8: 3 | L8: 안전관리실적 | M8: D
A9: 5 | B9: 기타 | C9: 5번장 | K9: 4 | L9: 안전관리계획 | M9: E
A10: 6 | B10: 공무 | C10: 6번장 | K10: 5 | L10: 품질공정검사 | M10: F
A11: 7 | B11: 공사 | C11: 7번장 | K11: 6 | L11: 품질정기점검 | M11: G
A12: 8 | B12: 안전 | C12: 8번장 | K12: 7 | L12: 시공계획서 | M12: H
A13: 9 | B13: 통신 | C13: 9번장
A14: 10 | B14: 기계 | C14: 10번장
A15: 11 | B15: 품질 | C15: 11번장
