Workbook
Name rng공휴일: OFFSET(일정관리!$A$1,,,COUNTA(일정관리!$A:$A),3)
Name rng공휴일날짜: OFFSET(일정관리!$A$1,,,COUNTA(일정관리!$A:$A))
Name rng공휴일명: OFFSET(일정관리!$C$1,,,COUNTA(일정관리!$A:$A))
Name rng신규메모: INDEX(일정관리!$W:$W,MATCH("*",일정관리!$X:$X,-1)+1)
Name rng신규반복일정: INDEX(일정관리!$AA:$AA,MATCH("*",일정관리!$AA:$AA,-1)+1)
Name rng신규일정: INDEX(일정관리!$J:$J,MATCH("*",일정관리!$K:$K,-1)+1)
Name rng신규휴일: INDEX(일정관리!$B:$B,MATCH("*",일정관리!$C:$C,-1)+1)
Name rng일정: OFFSET(일정관리!$J$2,,,COUNTA(일정관리!$J:$J)-1)
Name rng일정명: OFFSET(일정관리!$N$2,,,COUNTA(일정관리!$J:$J)-1)
Name rng일정색상: OFFSET(일정관리!$M$2,,,COUNTA(일정관리!$J:$J)-1)
Name 달력색상1: 달력!$B$5:$AJ$5,달력!$AL$3
Name 달력색상2: 달력!$AL$5
Name 스케쥴: [1]일정표!$P$6:$P$17,[1]일정표!$N$6:$N$17,[1]일정표!$L$6:$L$17,[1]일정표!$J$6:$J$17,[1]일정표!$H$6:$H$17

Sheet 달력
AN2: 년도 : | AO2: =YEAR(TODAY()) -> 2026 | AP2: 월 : | AQ2: =MONTH(TODAY()) -> 7
AL3: =YEAR(DATE(AO2,AQ2+1,1))&"년 "&MONTH(DATE(AO2,AQ2+1,1))&"월 달력" -> 2026년 8월 달력
B5: =IF(설정!C4="월요일시작",설정!C7,설정!I7) -> Sun | G5: =IF(설정!$C$4="월요일시작",설정!D7,설정!C7) -> Mon | L5: =IF(설정!$C$4="월요일시작",설정!E7,설정!D7) -> Tue | Q5: =IF(설정!$C$4="월요일시작",설정!F7,설정!E7) -> Wed | V5: =IF(설정!$C$4="월요일시작",설정!G7,설정!F7) -> Thu | AA5: =IF(설정!$C$4="월요일시작",설정!H7,설정!G7) -> Fri | AF5: =IF(설정!$C$4="월요일시작",설정!I7,설정!H7) -> Sat | AL5: =연결이미지!$B$10 -> 8월 공휴일
D6: =ROUNDDOWN(COLUMNS($A$6:D$6)/5,0)+설정!$D$4+DATE($AO$2,$AQ$2,1)-WEEKDAY(DATE($AO$2,$AQ$2,1),2) -> 46201 | E6: =IFERROR("("&VLOOKUP(D6,rng공휴일,3,0)&")","") | I6: =ROUNDDOWN(COLUMNS($A$6:I$6)/5,0)+설정!$D$4+DATE($AO$2,$AQ$2,1)-WEEKDAY(DATE($AO$2,$AQ$2,1),2) -> 46202 | J6: =IFERROR("("&VLOOKUP(I6,rng공휴일,3,0)&")","") | N6: =ROUNDDOWN(COLUMNS($A$6:N$6)/5,0)+설정!$D$4+DATE($AO$2,$AQ$2,1)-WEEKDAY(DATE($AO$2,$AQ$2,1),2) -> 46203 | O6: =IFERROR("("&VLOOKUP(N6,rng공휴일,3,0)&")","") | S6: =ROUNDDOWN(COLUMNS($A$6:S$6)/5,0)+설정!$D$4+DATE($AO$2,$AQ$2,1)-WEEKDAY(DATE($AO$2,$AQ$2,1),2) -> 46204 | T6: =IFERROR("("&VLOOKUP(S6,rng공휴일,3,0)&")","") | X6: =ROUNDDOWN(COLUMNS($A$6:X$6)/5,0)+설정!$D$4+DATE($AO$2,$AQ$2,1)-WEEKDAY(DATE($AO$2,$AQ$2,1),2) -> 46205 | Y6: =IFERROR("("&VLOOKUP(X6,rng공휴일,3,0)&")","") | AC6: =ROUNDDOWN(COLUMNS($A$6:AC$6)/5,0)+설정!$D$4+DATE($AO$2,$AQ$2,1)-WEEKDAY(DATE($AO$2,$AQ$2,1),2) -> 46206 | AD6: =IFERROR("("&VLOOKUP(AC6,rng공휴일,3,0)&")","") | AH6: =ROUNDDOWN(COLUMNS($A$6:AH$6)/5,0)+설정!$D$4+DATE($AO$2,$AQ$2,1)-WEEKDAY(DATE($AO$2,$AQ$2,1),2) -> 46207 | AI6: =IFERROR("("&VLOOKUP(AH6,rng공휴일,3,0)&")","")
N7: =IFERROR(VLOOKUP(N6,일정관리!$W:$X,2,0),"") | S7: =IFERROR(VLOOKUP(S6,일정관리!$W:$X,2,0),"") | X7: =IFERROR(VLOOKUP(X6,일정관리!$W:$X,2,0),"") | AC7: =IFERROR(VLOOKUP(AC6,일정관리!$W:$X,2,0),"") | AH7: =IFERROR(VLOOKUP(AH6,일정관리!$W:$X,2,0),"")
C9: =INDIRECT("일정관리!R"&ROW()-7+ROUNDDOWN((COLUMN()+1)/5,0)) | D9: =INDIRECT("일정관리!Q"&ROW()-7+ROUNDDOWN(COLUMN()/5,0)) | H9: =INDIRECT("일정관리!R"&ROW()-7+ROUNDDOWN((COLUMN()+1)/5,0)) | I9: =INDIRECT("일정관리!Q"&ROW()-7+ROUNDDOWN(COLUMN()/5,0)) | M9: =INDIRECT("일정관리!R"&ROW()-7+ROUNDDOWN((COLUMN()+1)/5,0)) | N9: =INDIRECT("일정관리!Q"&ROW()-7+ROUNDDOWN(COLUMN()/5,0)) | R9: =INDIRECT("일정관리!R"&ROW()-7+ROUNDDOWN((COLUMN()+1)/5,0)) -> 빨강 | S9: =INDIRECT("일정관리!Q"&ROW()-7+ROUNDDOWN(COLUMN()/5,0)) -> 💻 영상 편집 | W9: =INDIRECT("일정관리!R"&ROW()-7+ROUNDDOWN((COLUMN()+1)/5,0)) | X9: =INDIRECT("일정관리!Q"&ROW()-7+ROUNDDOWN(COLUMN()/5,0)) | AB9: =INDIRECT("일정관리!R"&ROW()-7+ROUNDDOWN((COLUMN()+1)/5,0)) | AC9: =INDIRECT("일정관리!Q"&ROW()-7+ROUNDDOWN(COLUMN()/5,0)) | AG9: =INDIRECT("일정관리!R"&ROW()-7+ROUNDDOWN((COLUMN()+1)/5,0)) | AH9: =INDIRECT("일정관리!Q"&ROW()-7+ROUNDDOWN(COLUMN()/5,0))
C11: =INDIRECT("일정관리!T"&ROW()-7+ROUNDDOWN((COLUMN()+1)/5,0)-2) | D11: =INDIRECT("일정관리!S"&ROW()-7+ROUNDDOWN(COLUMN()/5,0)-2) | H11: =INDIRECT("일정관리!T"&ROW()-7+ROUNDDOWN((COLUMN()+1)/5,0)-2) | I11: =INDIRECT("일정관리!S"&ROW()-7+ROUNDDOWN(COLUMN()/5,0)-2) | M11: =INDIRECT("일정관리!T"&ROW()-7+ROUNDDOWN((COLUMN()+1)/5,0)-2) | N11: =INDIRECT("일정관리!S"&ROW()-7+ROUNDDOWN(COLUMN()/5,0)-2) | R11: =INDIRECT("일정관리!T"&ROW()-7+ROUNDDOWN((COLUMN()+1)/5,0)-2) -> 초록 | S11: =INDIRECT("일정관리!S"&ROW()-7+ROUNDDOWN(COLUMN()/5,0)-2) -> 📝 편집자 아이디어 회의 | W11: =INDIRECT("일정관리!T"&ROW()-7+ROUNDDOWN((COLUMN()+1)/5,0)-2) | X11: =INDIRECT("일정관리!S"&ROW()-7+ROUNDDOWN(COLUMN()/5,0)-2) | AB11: =INDIRECT("일정관리!T"&ROW()-7+ROUNDDOWN((COLUMN()+1)/5,0)-2) | AC11: =INDIRECT("일정관리!S"&ROW()-7+ROUNDDOWN(COLUMN()/5,0)-2) | AG11: =INDIRECT("일정관리!T"&ROW()-7+ROUNDDOWN((COLUMN()+1)/5,0)-2) | AH11: =INDIRECT("일정관리!S"&ROW()-7+ROUNDDOWN(COLUMN()/5,0)-2)
D13: =AH6+1 -> 46208 | E13: =IFERROR("("&VLOOKUP(D13,rng공휴일,3,0)&")","") | I13: =D13+1 -> 46209 | J13: =IFERROR("("&VLOOKUP(I13,rng공휴일,3,0)&")","") | N13: =I13+1 -> 46210 | O13: =IFERROR("("&VLOOKUP(N13,rng공휴일,3,0)&")","") | S13: =N13+1 -> 46211 | T13: =IFERROR("("&VLOOKUP(S13,rng공휴일,3,0)&")","") | X13: =S13+1 -> 46212 | Y13: =IFERROR("("&VLOOKUP(X13,rng공휴일,3,0)&")","") | AC13: =X13+1 -> 46213 | AD13: =IFERROR("("&VLOOKUP(AC13,rng공휴일,3,0)&")","") | AH13: =AC13+1 -> 46214 | AI13: =IFERROR("("&VLOOKUP(AH13,rng공휴일,3,0)&")","")
D14: =IFERROR(VLOOKUP(D13,일정관리!$W:$X,2,0),"") | I14: =IFERROR(VLOOKUP(I13,일정관리!$W:$X,2,0),"") | N14: =IFERROR(VLOOKUP(N13,일정관리!$W:$X,2,0),"") | S14: =IFERROR(VLOOKUP(S13,일정관리!$W:$X,2,0),"") | X14: =IFERROR(VLOOKUP(X13,일정관리!$W:$X,2,0),"") | AC14: =IFERROR(VLOOKUP(AC13,일정관리!$W:$X,2,0),"") | AH14: =IFERROR(VLOOKUP(AH13,일정관리!$W:$X,2,0),"")
C16: =INDIRECT("일정관리!R"&ROW()-7+ROUNDDOWN((COLUMN()+1)/5,0)) | D16: =INDIRECT("일정관리!Q"&ROW()-7+ROUNDDOWN(COLUMN()/5,0)) | H16: =INDIRECT("일정관리!R"&ROW()-7+ROUNDDOWN((COLUMN()+1)/5,0)) | I16: =INDIRECT("일정관리!Q"&ROW()-7+ROUNDDOWN(COLUMN()/5,0)) | M16: =INDIRECT("일정관리!R"&ROW()-7+ROUNDDOWN((COLUMN()+1)/5,0)) -> 초록 | N16: =INDIRECT("일정관리!Q"&ROW()-7+ROUNDDOWN(COLUMN()/5,0)) -> 📽 유튜브 업로드 | R16: =INDIRECT("일정관리!R"&ROW()-7+ROUNDDOWN((COLUMN()+1)/5,0)) | S16: =INDIRECT("일정관리!Q"&ROW()-7+ROUNDDOWN(COLUMN()/5,0)) | W16: =INDIRECT("일정관리!R"&ROW()-7+ROUNDDOWN((COLUMN()+1)/5,0)) | X16: =INDIRECT("일정관리!Q"&ROW()-7+ROUNDDOWN(COLUMN()/5,0)) | AB16: =INDIRECT("일정관리!R"&ROW()-7+ROUNDDOWN((COLUMN()+1)/5,0)) | AC16: =INDIRECT("일정관리!Q"&ROW()-7+ROUNDDOWN(COLUMN()/5,0)) | AG16: =INDIRECT("일정관리!R"&ROW()-7+ROUNDDOWN((COLUMN()+1)/5,0)) | AH16: =INDIRECT("일정관리!Q"&ROW()-7+ROUNDDOWN(COLUMN()/5,0))
C18: =INDIRECT("일정관리!T"&ROW()-7+ROUNDDOWN((COLUMN()+1)/5,0)-2) | D18: =INDIRECT("일정관리!S"&ROW()-7+ROUNDDOWN(COLUMN()/5,0)-2) | H18: =INDIRECT("일정관리!T"&ROW()-7+ROUNDDOWN((COLUMN()+1)/5,0)-2) | I18: =INDIRECT("일정관리!S"&ROW()-7+ROUNDDOWN(COLUMN()/5,0)-2) | M18: =INDIRECT("일정관리!T"&ROW()-7+ROUNDDOWN((COLUMN()+1)/5,0)-2) | N18: =INDIRECT("일정관리!S"&ROW()-7+ROUNDDOWN(COLUMN()/5,0)-2) | R18: =INDIRECT("일정관리!T"&ROW()-7+ROUNDDOWN((COLUMN()+1)/5,0)-2) | S18: =INDIRECT("일정관리!S"&ROW()-7+ROUNDDOWN(COLUMN()/5,0)-2) | W18: =INDIRECT("일정관리!T"&ROW()-7+ROUNDDOWN((COLUMN()+1)/5,0)-2) | X18: =INDIRECT("일정관리!S"&ROW()-7+ROUNDDOWN(COLUMN()/5,0)-2) | AB18: =INDIRECT("일정관리!T"&ROW()-7+ROUNDDOWN((COLUMN()+1)/5,0)-2) | AC18: =INDIRECT("일정관리!S"&ROW()-7+ROUNDDOWN(COLUMN()/5,0)-2) | AG18: =INDIRECT("일정관리!T"&ROW()-7+ROUNDDOWN((COLUMN()+1)/5,0)-2) | AH18: =INDIRECT("일정관리!S"&ROW()-7+ROUNDDOWN(COLUMN()/5,0)-2)
D20: =AH13+1 -> 46215 | E20: =IFERROR("("&VLOOKUP(D20,rng공휴일,3,0)&")","") | I20: =D20+1 -> 46216 | J20: =IFERROR("("&VLOOKUP(I20,rng공휴일,3,0)&")","") | N20: =I20+1 -> 46217 | O20: =IFERROR("("&VLOOKUP(N20,rng공휴일,3,0)&")","") | S20: =N20+1 -> 46218 | T20: =IFERROR("("&VLOOKUP(S20,rng공휴일,3,0)&")","") | X20: =S20+1 -> 46219 | Y20: =IFERROR("("&VLOOKUP(X20,rng공휴일,3,0)&")","") | AC20: =X20+1 -> 46220 | AD20: =IFERROR("("&VLOOKUP(AC20,rng공휴일,3,0)&")","") | AH20: =AC20+1 -> 46221 | AI20: =IFERROR("("&VLOOKUP(AH20,rng공휴일,3,0)&")","")
D21: =IFERROR(VLOOKUP(D20,일정관리!$W:$X,2,0),"") | I21: =IFERROR(VLOOKUP(I20,일정관리!$W:$X,2,0),"") | N21: =IFERROR(VLOOKUP(N20,일정관리!$W:$X,2,0),"") | S21: =IFERROR(VLOOKUP(S20,일정관리!$W:$X,2,0),"") | X21: =IFERROR(VLOOKUP(X20,일정관리!$W:$X,2,0),"") | AC21: =IFERROR(VLOOKUP(AC20,일정관리!$W:$X,2,0),"") | AH21: =IFERROR(VLOOKUP(AH20,일정관리!$W:$X,2,0),"")
C23: =INDIRECT("일정관리!R"&ROW()-7+ROUNDDOWN((COLUMN()+1)/5,0)) | D23: =INDIRECT("일정관리!Q"&ROW()-7+ROUNDDOWN(COLUMN()/5,0)) | H23: =INDIRECT("일정관리!R"&ROW()-7+ROUNDDOWN((COLUMN()+1)/5,0)) -> 파랑 | I23: =INDIRECT("일정관리!Q"&ROW()-7+ROUNDDOWN(COLUMN()/5,0)) -> 📝 아이디어 회의 | M23: =INDIRECT("일정관리!R"&ROW()-7+ROUNDDOWN((COLUMN()+1)/5,0)) | N23: =INDIRECT("일정관리!Q"&ROW()-7+ROUNDDOWN(COLUMN()/5,0)) | R23: =INDIRECT("일정관리!R"&ROW()-7+ROUNDDOWN((COLUMN()+1)/5,0)) | S23: =INDIRECT("일정관리!Q"&ROW()-7+ROUNDDOWN(COLUMN()/5,0)) | W23: =INDIRECT("일정관리!R"&ROW()-7+ROUNDDOWN((COLUMN()+1)/5,0)) | X23: =INDIRECT("일정관리!Q"&ROW()-7+ROUNDDOWN(COLUMN()/5,0)) | AB23: =INDIRECT("일정관리!R"&ROW()-7+ROUNDDOWN((COLUMN()+1)/5,0)) | AC23: =INDIRECT("일정관리!Q"&ROW()-7+ROUNDDOWN(COLUMN()/5,0)) | AG23: =INDIRECT("일정관리!R"&ROW()-7+ROUNDDOWN((COLUMN()+1)/5,0)) | AH23: =INDIRECT("일정관리!Q"&ROW()-7+ROUNDDOWN(COLUMN()/5,0))
C25: =INDIRECT("일정관리!T"&ROW()-7+ROUNDDOWN((COLUMN()+1)/5,0)-2) | D25: =INDIRECT("일정관리!S"&ROW()-7+ROUNDDOWN(COLUMN()/5,0)-2) | H25: =INDIRECT("일정관리!T"&ROW()-7+ROUNDDOWN((COLUMN()+1)/5,0)-2) -> 노랑 | I25: =INDIRECT("일정관리!S"&ROW()-7+ROUNDDOWN(COLUMN()/5,0)-2) -> 📝 다음영상 편집회의 | M25: =INDIRECT("일정관리!T"&ROW()-7+ROUNDDOWN((COLUMN()+1)/5,0)-2) | N25: =INDIRECT("일정관리!S"&ROW()-7+ROUNDDOWN(COLUMN()/5,0)-2) | R25: =INDIRECT("일정관리!T"&ROW()-7+ROUNDDOWN((COLUMN()+1)/5,0)-2) | S25: =INDIRECT("일정관리!S"&ROW()-7+ROUNDDOWN(COLUMN()/5,0)-2) | W25: =INDIRECT("일정관리!T"&ROW()-7+ROUNDDOWN((COLUMN()+1)/5,0)-2) | X25: =INDIRECT("일정관리!S"&ROW()-7+ROUNDDOWN(COLUMN()/5,0)-2) | AB25: =INDIRECT("일정관리!T"&ROW()-7+ROUNDDOWN((COLUMN()+1)/5,0)-2) | AC25: =INDIRECT("일정관리!S"&ROW()-7+ROUNDDOWN(COLUMN()/5,0)-2) | AG25: =INDIRECT("일정관리!T"&ROW()-7+ROUNDDOWN((COLUMN()+1)/5,0)-2) | AH25: =INDIRECT("일정관리!S"&ROW()-7+ROUNDDOWN(COLUMN()/5,0)-2)
D27: =AH20+1 -> 46222 | E27: =IFERROR("("&VLOOKUP(D27,rng공휴일,3,0)&")","") | I27: =D27+1 -> 46223 | J27: =IFERROR("("&VLOOKUP(I27,rng공휴일,3,0)&")","") | N27: =I27+1 -> 46224 | O27: =IFERROR("("&VLOOKUP(N27,rng공휴일,3,0)&")","") | S27: =N27+1 -> 46225 | T27: =IFERROR("("&VLOOKUP(S27,rng공휴일,3,0)&")","") | X27: =S27+1 -> 46226 | Y27: =IFERROR("("&VLOOKUP(X27,rng공휴일,3,0)&")","") | AC27: =X27+1 -> 46227 | AD27: =IFERROR("("&VLOOKUP(AC27,rng공휴일,3,0)&")","") | AH27: =AC27+1 -> 46228 | AI27: =IFERROR("("&VLOOKUP(AH27,rng공휴일,3,0)&")","")
D28: =IFERROR(VLOOKUP(D27,일정관리!$W:$X,2,0),"") | I28: =IFERROR(VLOOKUP(I27,일정관리!$W:$X,2,0),"") | N28: =IFERROR(VLOOKUP(N27,일정관리!$W:$X,2,0),"") | S28: =IFERROR(VLOOKUP(S27,일정관리!$W:$X,2,0),"") | X28: =IFERROR(VLOOKUP(X27,일정관리!$W:$X,2,0),"") | AC28: =IFERROR(VLOOKUP(AC27,일정관리!$W:$X,2,0),"") | AH28: =IFERROR(VLOOKUP(AH27,일정관리!$W:$X,2,0),"")
C30: =INDIRECT("일정관리!R"&ROW()-7+ROUNDDOWN((COLUMN()+1)/5,0)) -> 노랑 | D30: =INDIRECT("일정관리!Q"&ROW()-7+ROUNDDOWN(COLUMN()/5,0)) -> ✏️ 출판사 2차 미팅 | H30: =INDIRECT("일정관리!R"&ROW()-7+ROUNDDOWN((COLUMN()+1)/5,0)) | I30: =INDIRECT("일정관리!Q"&ROW()-7+ROUNDDOWN(COLUMN()/5,0)) | M30: =INDIRECT("일정관리!R"&ROW()-7+ROUNDDOWN((COLUMN()+1)/5,0)) | N30: =INDIRECT("일정관리!Q"&ROW()-7+ROUNDDOWN(COLUMN()/5,0)) | R30: =INDIRECT("일정관리!R"&ROW()-7+ROUNDDOWN((COLUMN()+1)/5,0)) | S30: =INDIRECT("일정관리!Q"&ROW()-7+ROUNDDOWN(COLUMN()/5,0)) | W30: =INDIRECT("일정관리!R"&ROW()-7+ROUNDDOWN((COLUMN()+1)/5,0)) | X30: =INDIRECT("일정관리!Q"&ROW()-7+ROUNDDOWN(COLUMN()/5,0)) | AB30: =INDIRECT("일정관리!R"&ROW()-7+ROUNDDOWN((COLUMN()+1)/5,0)) | AC30: =INDIRECT("일정관리!Q"&ROW()-7+ROUNDDOWN(COLUMN()/5,0)) | AG30: =INDIRECT("일정관리!R"&ROW()-7+ROUNDDOWN((COLUMN()+1)/5,0)) -> 빨강 | AH30: =INDIRECT("일정관리!Q"&ROW()-7+ROUNDDOWN(COLUMN()/5,0)) -> ⏰ 신규 포장재 구매관련 미팅
C32: =INDIRECT("일정관리!T"&ROW()-7+ROUNDDOWN((COLUMN()+1)/5,0)-2) | D32: =INDIRECT("일정관리!S"&ROW()-7+ROUNDDOWN(COLUMN()/5,0)-2) | H32: =INDIRECT("일정관리!T"&ROW()-7+ROUNDDOWN((COLUMN()+1)/5,0)-2) | I32: =INDIRECT("일정관리!S"&ROW()-7+ROUNDDOWN(COLUMN()/5,0)-2) | M32: =INDIRECT("일정관리!T"&ROW()-7+ROUNDDOWN((COLUMN()+1)/5,0)-2) | N32: =INDIRECT("일정관리!S"&ROW()-7+ROUNDDOWN(COLUMN()/5,0)-2) | R32: =INDIRECT("일정관리!T"&ROW()-7+ROUNDDOWN((COLUMN()+1)/5,0)-2) | S32: =INDIRECT("일정관리!S"&ROW()-7+ROUNDDOWN(COLUMN()/5,0)-2) | W32: =INDIRECT("일정관리!T"&ROW()-7+ROUNDDOWN((COLUMN()+1)/5,0)-2) | X32: =INDIRECT("일정관리!S"&ROW()-7+ROUNDDOWN(COLUMN()/5,0)-2) | AB32: =INDIRECT("일정관리!T"&ROW()-7+ROUNDDOWN((COLUMN()+1)/5,0)-2) | AC32: =INDIRECT("일정관리!S"&ROW()-7+ROUNDDOWN(COLUMN()/5,0)-2) | AG32: =INDIRECT("일정관리!T"&ROW()-7+ROUNDDOWN((COLUMN()+1)/5,0)-2) | AH32: =INDIRECT("일정관리!S"&ROW()-7+ROUNDDOWN(COLUMN()/5,0)-2)
D34: =AH27+1 -> 46229 | E34: =IFERROR("("&VLOOKUP(D34,rng공휴일,3,0)&")","") | I34: =D34+1 -> 46230 | J34: =IFERROR("("&VLOOKUP(I34,rng공휴일,3,0)&")","") | N34: =I34+1 -> 46231 | O34: =IFERROR("("&VLOOKUP(N34,rng공휴일,3,0)&")","") | S34: =N34+1 -> 46232 | T34: =IFERROR("("&VLOOKUP(S34,rng공휴일,3,0)&")","") | X34: =S34+1 -> 46233 | Y34: =IFERROR("("&VLOOKUP(X34,rng공휴일,3,0)&")","") | AC34: =X34+1 -> 46234 | AD34: =IFERROR("("&VLOOKUP(AC34,rng공휴일,3,0)&")","") | AH34: =AC34+1 -> 46235 | AI34: =IFERROR("("&VLOOKUP(AH34,rng공휴일,3,0)&")","")
D35: =IFERROR(VLOOKUP(D34,일정관리!$W:$X,2,0),"") | I35: =IFERROR(VLOOKUP(I34,일정관리!$W:$X,2,0),"") | N35: =IFERROR(VLOOKUP(N34,일정관리!$W:$X,2,0),"") | S35: =IFERROR(VLOOKUP(S34,일정관리!$W:$X,2,0),"") | X35: =IFERROR(VLOOKUP(X34,일정관리!$W:$X,2,0),"") | AC35: =IFERROR(VLOOKUP(AC34,일정관리!$W:$X,2,0),"") | AH35: =IFERROR(VLOOKUP(AH34,일정관리!$W:$X,2,0),"")
C37: =INDIRECT("일정관리!R"&ROW()-7+ROUNDDOWN((COLUMN()+1)/5,0)) | D37: =INDIRECT("일정관리!Q"&ROW()-7+ROUNDDOWN(COLUMN()/5,0)) | H37: =INDIRECT("일정관리!R"&ROW()-7+ROUNDDOWN((COLUMN()+1)/5,0)) | I37: =INDIRECT("일정관리!Q"&ROW()-7+ROUNDDOWN(COLUMN()/5,0)) | M37: =INDIRECT("일정관리!R"&ROW()-7+ROUNDDOWN((COLUMN()+1)/5,0)) | N37: =INDIRECT("일정관리!Q"&ROW()-7+ROUNDDOWN(COLUMN()/5,0)) | R37: =INDIRECT("일정관리!R"&ROW()-7+ROUNDDOWN((COLUMN()+1)/5,0)) | S37: =INDIRECT("일정관리!Q"&ROW()-7+ROUNDDOWN(COLUMN()/5,0)) | W37: =INDIRECT("일정관리!R"&ROW()-7+ROUNDDOWN((COLUMN()+1)/5,0)) | X37: =INDIRECT("일정관리!Q"&ROW()-7+ROUNDDOWN(COLUMN()/5,0)) | AB37: =INDIRECT("일정관리!R"&ROW()-7+ROUNDDOWN((COLUMN()+1)/5,0)) -> 초록 | AC37: =INDIRECT("일정관리!Q"&ROW()-7+ROUNDDOWN(COLUMN()/5,0)) -> 📝 아이디어 미팅 | AG37: =INDIRECT("일정관리!R"&ROW()-7+ROUNDDOWN((COLUMN()+1)/5,0)) | AH37: =INDIRECT("일정관리!Q"&ROW()-7+ROUNDDOWN(COLUMN()/5,0))
C39: =INDIRECT("일정관리!T"&ROW()-7+ROUNDDOWN((COLUMN()+1)/5,0)-2) | D39: =INDIRECT("일정관리!S"&ROW()-7+ROUNDDOWN(COLUMN()/5,0)-2) | H39: =INDIRECT("일정관리!T"&ROW()-7+ROUNDDOWN((COLUMN()+1)/5,0)-2) | I39: =INDIRECT("일정관리!S"&ROW()-7+ROUNDDOWN(COLUMN()/5,0)-2) | M39: =INDIRECT("일정관리!T"&ROW()-7+ROUNDDOWN((COLUMN()+1)/5,0)-2) | N39: =INDIRECT("일정관리!S"&ROW()-7+ROUNDDOWN(COLUMN()/5,0)-2) | R39: =INDIRECT("일정관리!T"&ROW()-7+ROUNDDOWN((COLUMN()+1)/5,0)-2) | S39: =INDIRECT("일정관리!S"&ROW()-7+ROUNDDOWN(COLUMN()/5,0)-2) | W39: =INDIRECT("일정관리!T"&ROW()-7+ROUNDDOWN((COLUMN()+1)/5,0)-2) | X39: =INDIRECT("일정관리!S"&ROW()-7+ROUNDDOWN(COLUMN()/5,0)-2) | AB39: =INDIRECT("일정관리!T"&ROW()-7+ROUNDDOWN((COLUMN()+1)/5,0)-2) | AC39: =INDIRECT("일정관리!S"&ROW()-7+ROUNDDOWN(COLUMN()/5,0)-2) | AG39: =INDIRECT("일정관리!T"&ROW()-7+ROUNDDOWN((COLUMN()+1)/5,0)-2) | AH39: =INDIRECT("일정관리!S"&ROW()-7+ROUNDDOWN(COLUMN()/5,0)-2)
D41: =AH34+1 -> 46236 | E41: =IFERROR("("&VLOOKUP(D41,rng공휴일,3,0)&")","") | I41: =D41+1 -> 46237 | J41: =IFERROR("("&VLOOKUP(I41,rng공휴일,3,0)&")","") | N41: =I41+1 -> 46238 | O41: =IFERROR("("&VLOOKUP(N41,rng공휴일,3,0)&")","") | S41: =N41+1 -> 46239 | T41: =IFERROR("("&VLOOKUP(S41,rng공휴일,3,0)&")","") | X41: =S41+1 -> 46240 | Y41: =IFERROR("("&VLOOKUP(X41,rng공휴일,3,0)&")","") | AC41: =X41+1 -> 46241 | AD41: =IFERROR("("&VLOOKUP(AC41,rng공휴일,3,0)&")","") | AH41: =AC41+1 -> 46242 | AI41: =IFERROR("("&VLOOKUP(AH41,rng공휴일,3,0)&")","")
D42: =IFERROR(VLOOKUP(D41,일정관리!$W:$X,2,0),"") | I42: =IFERROR(VLOOKUP(I41,일정관리!$W:$X,2,0),"") | N42: =IFERROR(VLOOKUP(N41,일정관리!$W:$X,2,0),"") | S42: =IFERROR(VLOOKUP(S41,일정관리!$W:$X,2,0),"") | X42: =IFERROR(VLOOKUP(X41,일정관리!$W:$X,2,0),"") | AC42: =IFERROR(VLOOKUP(AC41,일정관리!$W:$X,2,0),"") | AH42: =IFERROR(VLOOKUP(AH41,일정관리!$W:$X,2,0),"")
C44: =INDIRECT("일정관리!R"&ROW()-7+ROUNDDOWN((COLUMN()+1)/5,0)) | D44: =INDIRECT("일정관리!Q"&ROW()-7+ROUNDDOWN(COLUMN()/5,0)) | H44: =INDIRECT("일정관리!R"&ROW()-7+ROUNDDOWN((COLUMN()+1)/5,0)) | I44: =INDIRECT("일정관리!Q"&ROW()-7+ROUNDDOWN(COLUMN()/5,0)) | M44: =INDIRECT("일정관리!R"&ROW()-7+ROUNDDOWN((COLUMN()+1)/5,0)) | N44: =INDIRECT("일정관리!Q"&ROW()-7+ROUNDDOWN(COLUMN()/5,0)) | R44: =INDIRECT("일정관리!R"&ROW()-7+ROUNDDOWN((COLUMN()+1)/5,0)) | S44: =INDIRECT("일정관리!Q"&ROW()-7+ROUNDDOWN(COLUMN()/5,0)) | W44: =INDIRECT("일정관리!R"&ROW()-7+ROUNDDOWN((COLUMN()+1)/5,0)) -> 초록 | X44: =INDIRECT("일정관리!Q"&ROW()-7+ROUNDDOWN(COLUMN()/5,0)) -> ⏰ 신종코로나 긴급회의 | AB44: =INDIRECT("일정관리!R"&ROW()-7+ROUNDDOWN((COLUMN()+1)/5,0)) | AC44: =INDIRECT("일정관리!Q"&ROW()-7+ROUNDDOWN(COLUMN()/5,0)) | AG44: =INDIRECT("일정관리!R"&ROW()-7+ROUNDDOWN((COLUMN()+1)/5,0)) | AH44: =INDIRECT("일정관리!Q"&ROW()-7+ROUNDDOWN(COLUMN()/5,0))
C46: =INDIRECT("일정관리!T"&ROW()-7+ROUNDDOWN((COLUMN()+1)/5,0)-2) | D46: =INDIRECT("일정관리!S"&ROW()-7+ROUNDDOWN(COLUMN()/5,0)-2) | H46: =INDIRECT("일정관리!T"&ROW()-7+ROUNDDOWN((COLUMN()+1)/5,0)-2) | I46: =INDIRECT("일정관리!S"&ROW()-7+ROUNDDOWN(COLUMN()/5,0)-2) | M46: =INDIRECT("일정관리!T"&ROW()-7+ROUNDDOWN((COLUMN()+1)/5,0)-2) | N46: =INDIRECT("일정관리!S"&ROW()-7+ROUNDDOWN(COLUMN()/5,0)-2) | R46: =INDIRECT("일정관리!T"&ROW()-7+ROUNDDOWN((COLUMN()+1)/5,0)-2) | S46: =INDIRECT("일정관리!S"&ROW()-7+ROUNDDOWN(COLUMN()/5,0)-2) | W46: =INDIRECT("일정관리!T"&ROW()-7+ROUNDDOWN((COLUMN()+1)/5,0)-2) | X46: =INDIRECT("일정관리!S"&ROW()-7+ROUNDDOWN(COLUMN()/5,0)-2) | AB46: =INDIRECT("일정관리!T"&ROW()-7+ROUNDDOWN((COLUMN()+1)/5,0)-2) | AC46: =INDIRECT("일정관리!S"&ROW()-7+ROUNDDOWN(COLUMN()/5,0)-2) | AG46: =INDIRECT("일정관리!T"&ROW()-7+ROUNDDOWN((COLUMN()+1)/5,0)-2) | AH46: =INDIRECT("일정관리!S"&ROW()-7+ROUNDDOWN(COLUMN()/5,0)-2)

Sheet 일정관리
A1: 1900-01-02 | B1: 1 | C1: 0 | F1: 연도 | G1: 날짜 | H1: 휴일명 | J1: 일정 | K1: 아이콘 | L1: 일정명 | M1: 일정색상 | N1: 일정명-목록 | P1: 달력날짜 | Q1: 일정1 | R1: 일정색상1 | S1: 일정2 | T1: 일정색상2 | U1: 요일 | W1: 메모일 | X1: 메모 | Z1: 요일번호 | AA1: 요일 | AB1: 일정명 | AC1: 색상 | AD1: 시작일 | AE1: 종료일 | AG1: 요일 | AH1: 번호
A2: =DATE(달력!AO2,1,1) -> 46023 | B2: =공휴일[[#This Row],[1900-01-02]] -> 46023 | C2: 신정 | F2: =YEAR(G2) -> 2010 | G2: 40222 | H2: 설날 | J2: =TODAY()-35 -> 46170 | K2: 📷 | L2: 영상 촬영 | M2: 초록 | N2: =IF(Table5[[#This Row],[일정명]]<>"",Table5[[#This Row],[아이콘]]&" "&Table5[[#This Row],[일정명]],Table5[[#This Row],[아이콘]]) -> 📷 영상 촬영 | P2: =달력!D6 -> 46201 | Q2: {=IFERROR(INDEX(rng일정명,SMALL(IF($P2=rng일정,ROW(rng일정)-MIN(ROW(rng일정))+1, ""),COLUMN(A1))),"")} | R2: {=IFERROR(INDEX(rng일정색상,SMALL(IF($P2=rng일정,ROW(rng일정)-MIN(ROW(rng일정))+1, ""),COLUMN(A1))),"")} | S2: {=IFERROR(IF(IFERROR(AND(VLOOKUP(Table4[[#This Row],[요일]],표8[요일번호],1)>0,VLOOKUP(Table4[[#This Row],[요일]],표8[#All],5,0)<=Table4[[#This Row],[달력날짜]],VLOOKUP(Table4[[#This Row],[요일]],표8[#All],6,0)>=Table4[[#This Row],[달력날짜]]),FALSE),VLOOKUP(Table4[[#This Row],[요일]],표8[#All],3,0),INDEX(rng일정명,SMALL(IF($P2=rng일정,ROW(rng일정)-MIN(ROW(rng일정))+1, ""),COLUMN($B$1)))),"")} | T2: {=IFERROR(IF(IFERROR(AND(VLOOKUP(Table4[[#This Row],[요일]],표8[요일번호],1)>0,VLOOKUP(Table4[[#This Row],[요일]],표8[#All],5,0)<=Table4[[#This Row],[달력날짜]],VLOOKUP(Table4[[#This Row],[요일]],표8[#All],6,0)>=Table4[[#This Row],[달력날짜]]),FALSE),VLOOKUP(Table4[[#This Row],[요일]],표8[#All],4,0),INDEX(rng일정색상,SMALL(IF($P2=rng일정,ROW(rng일정)-MIN(ROW(rng일정))+1, ""),COLUMN($B$1)))),"")} | U2: =WEEKDAY(Table4[[#This Row],[달력날짜]],2) -> 7 | W2: 43845 | X2: 마케팅 본부 김영식 팀장님 안부인사 드리기 | Z2: =VLOOKUP(표8[[#This Row],[요일]],표9[#All],2,0) -> 1 | AA2: 월 | AB2: 주간업무회의 | AC2: 파랑 | AD2: 43831 | AE2: 43921 | AG2: 월 | AH2: 1
A3: {=INDEX(공휴일목록[날짜],MATCH(1,--((공휴일[[#This Row],[0]]=공휴일목록[휴일명])*(달력!AO2=공휴일목록[연도])),0))} -> 46069 | B3: =공휴일[[#This Row],[1900-01-02]] -> 46069 | C3: 설날 | F3: =YEAR(G3) -> 2010 | G3: 40223 | H3: 설날 | J3: =J2+12 -> 46182 | K3: ✏️ | L3: 사장님 미팅 | M3: 파랑 | N3: =IF(Table5[[#This Row],[일정명]]<>"",Table5[[#This Row],[아이콘]]&" "&Table5[[#This Row],[일정명]],Table5[[#This Row],[아이콘]]) -> ✏️ 사장님 미팅 | P3: =P2+1 -> 46202 | Q3: {=IFERROR(INDEX(rng일정명,SMALL(IF($P3=rng일정,ROW(rng일정)-MIN(ROW(rng일정))+1, ""),COLUMN(A2))),"")} | R3: {=IFERROR(INDEX(rng일정색상,SMALL(IF($P3=rng일정,ROW(rng일정)-MIN(ROW(rng일정))+1, ""),COLUMN(A2))),"")} | S3: {=IFERROR(IF(IFERROR(AND(VLOOKUP(Table4[[#This Row],[요일]],표8[요일번호],1)>0,VLOOKUP(Table4[[#This Row],[요일]],표8[#All],5,0)<=Table4[[#This Row],[달력날짜]],VLOOKUP(Table4[[#This Row],[요일]],표8[#All],6,0)>=Table4[[#This Row],[달력날짜]]),FALSE),VLOOKUP(Table4[[#This Row],[요일]],표8[#All],3,0),INDEX(rng일정명,SMALL(IF($P3=rng일정,ROW(rng일정)-MIN(ROW(rng일정))+1, ""),COLUMN($B$1)))),"")} | T3: {=IFERROR(IF(IFERROR(AND(VLOOKUP(Table4[[#This Row],[요일]],표8[요일번호],1)>0,VLOOKUP(Table4[[#This Row],[요일]],표8[#All],5,0)<=Table4[[#This Row],[달력날짜]],VLOOKUP(Table4[[#This Row],[요일]],표8[#All],6,0)>=Table4[[#This Row],[달력날짜]]),FALSE),VLOOKUP(Table4[[#This Row],[요일]],표8[#All],4,0),INDEX(rng일정색상,SMALL(IF($P3=rng일정,ROW(rng일정)-MIN(ROW(rng일정))+1, ""),COLUMN($B$1)))),"")} | U3: =WEEKDAY(Table4[[#This Row],[달력날짜]],2) -> 1 | W3: 43862 | X3: 중국 베이징 관련 담당자 메일 통보 | Z3: =VLOOKUP(표8[[#This Row],[요일]],표9[#All],2,0) -> 3 | AA3: 수 | AB3: 프로젝트 미팅 | AC3: 빨강 | AD3: 43831 | AE3: 43921 | AG3: 화 | AH3: 2
A4: =A3+1 -> 46070 | B4: =공휴일[[#This Row],[1900-01-02]] -> 46070 | C4: 설날 | F4: =YEAR(G4) -> 2010 | G4: 40224 | H4: 설날 | J4: =J3 -> 46182 | K4: 🎁 | L4: 내생일 | M4: 노랑 | N4: =IF(Table5[[#This Row],[일정명]]<>"",Table5[[#This Row],[아이콘]]&" "&Table5[[#This Row],[일정명]],Table5[[#This Row],[아이콘]]) -> 🎁 내생일 | P4: =P3+1 -> 46203 | Q4: {=IFERROR(INDEX(rng일정명,SMALL(IF($P4=rng일정,ROW(rng일정)-MIN(ROW(rng일정))+1, ""),COLUMN(A3))),"")} | R4: {=IFERROR(INDEX(rng일정색상,SMALL(IF($P4=rng일정,ROW(rng일정)-MIN(ROW(rng일정))+1, ""),COLUMN(A3))),"")} | S4: {=IFERROR(IF(IFERROR(AND(VLOOKUP(Table4[[#This Row],[요일]],표8[요일번호],1)>0,VLOOKUP(Table4[[#This Row],[요일]],표8[#All],5,0)<=Table4[[#This Row],[달력날짜]],VLOOKUP(Table4[[#This Row],[요일]],표8[#All],6,0)>=Table4[[#This Row],[달력날짜]]),FALSE),VLOOKUP(Table4[[#This Row],[요일]],표8[#All],3,0),INDEX(rng일정명,SMALL(IF($P4=rng일정,ROW(rng일정)-MIN(ROW(rng일정))+1, ""),COLUMN($B$1)))),"")} | T4: {=IFERROR(IF(IFERROR(AND(VLOOKUP(Table4[[#This Row],[요일]],표8[요일번호],1)>0,VLOOKUP(Table4[[#This Row],[요일]],표8[#All],5,0)<=Table4[[#This Row],[달력날짜]],VLOOKUP(Table4[[#This Row],[요일]],표8[#All],6,0)>=Table4[[#This Row],[달력날짜]]),FALSE),VLOOKUP(Table4[[#This Row],[요일]],표8[#All],4,0),INDEX(rng일정색상,SMALL(IF($P4=rng일정,ROW(rng일정)-MIN(ROW(rng일정))+1, ""),COLUMN($B$1)))),"")} | U4: =WEEKDAY(Table4[[#This Row],[달력날짜]],2) -> 2 | W4: 43864 | X4: 김상혁 상무님께 출장품의 최종검토 필요 | AG4: 수 | AH4: 3
A5: =A4+1 -> 46071 | B5: =공휴일[[#This Row],[1900-01-02]] -> 46071 | C5: 설날 | F5: =YEAR(G5) -> 2010 | G5: 40319 | H5: 석가탄신일 | J5: =J4+10 -> 46192 | K5: 🎁 | L5: 베스트프렌드 생일 | M5: 빨강 | N5: =IF(Table5[[#This Row],[일정명]]<>"",Table5[[#This Row],[아이콘]]&" "&Table5[[#This Row],[일정명]],Table5[[#This Row],[아이콘]]) -> 🎁 베스트프렌드 생일 | P5: =P4+1 -> 46204 | Q5: {=IFERROR(INDEX(rng일정명,SMALL(IF($P5=rng일정,ROW(rng일정)-MIN(ROW(rng일정))+1, ""),COLUMN(A4))),"")} -> 💻 영상 편집 | R5: {=IFERROR(INDEX(rng일정색상,SMALL(IF($P5=rng일정,ROW(rng일정)-MIN(ROW(rng일정))+1, ""),COLUMN(A4))),"")} -> 빨강 | S5: {=IFERROR(IF(IFERROR(AND(VLOOKUP(Table4[[#This Row],[요일]],표8[요일번호],1)>0,VLOOKUP(Table4[[#This Row],[요일]],표8[#All],5,0)<=Table4[[#This Row],[달력날짜]],VLOOKUP(Table4[[#This Row],[요일]],표8[#All],6,0)>=Table4[[#This Row],[달력날짜]]),FALSE),VLOOKUP(Table4[[#This Row],[요일]],표8[#All],3,0),INDEX(rng일정명,SMALL(IF($P5=rng일정,ROW(rng일정)-MIN(ROW(rng일정))+1, ""),COLUMN($B$1)))),"")} -> 📝 편집자 아이디어 회의 | T5: {=IFERROR(IF(IFERROR(AND(VLOOKUP(Table4[[#This Row],[요일]],표8[요일번호],1)>0,VLOOKUP(Table4[[#This Row],[요일]],표8[#All],5,0)<=Table4[[#This Row],[달력날짜]],VLOOKUP(Table4[[#This Row],[요일]],표8[#All],6,0)>=Table4[[#This Row],[달력날짜]]),FALSE),VLOOKUP(Table4[[#This Row],[요일]],표8[#All],4,0),INDEX(rng일정색상,SMALL(IF($P5=rng일정,ROW(rng일정)-MIN(ROW(rng일정))+1, ""),COLUMN($B$1)))),"")} -> 초록 | U5: =WEEKDAY(Table4[[#This Row],[달력날짜]],2) -> 3 | W5: 43876 | X5: 편집자 회의 후 후속조치 항목 정리 | AG5: 목 | AH5: 4
A6: =DATE(달력!AO2,3,1) -> 46082 | B6: =공휴일[[#This Row],[1900-01-02]] -> 46082 | C6: 삼일절 | F6: =YEAR(G6) -> 2010 | G6: 40442 | H6: 추석 | J6: =J5 -> 46192 | K6: 💻 | L6: 홈페이지 편집 | M6: 초록 | N6: =IF(Table5[[#This Row],[일정명]]<>"",Table5[[#This Row],[아이콘]]&" "&Table5[[#This Row],[일정명]],Table5[[#This Row],[아이콘]]) -> 💻 홈페이지 편집 | P6: =P5+1 -> 46205 | Q6: {=IFERROR(INDEX(rng일정명,SMALL(IF($P6=rng일정,ROW(rng일정)-MIN(ROW(rng일정))+1, ""),COLUMN(A5))),"")} | R6: {=IFERROR(INDEX(rng일정색상,SMALL(IF($P6=rng일정,ROW(rng일정)-MIN(ROW(rng일정))+1, ""),COLUMN(A5))),"")} | S6: {=IFERROR(IF(IFERROR(AND(VLOOKUP(Table4[[#This Row],[요일]],표8[요일번호],1)>0,VLOOKUP(Table4[[#This Row],[요일]],표8[#All],5,0)<=Table4[[#This Row],[달력날짜]],VLOOKUP(Table4[[#This Row],[요일]],표8[#All],6,0)>=Table4[[#This Row],[달력날짜]]),FALSE),VLOOKUP(Table4[[#This Row],[요일]],표8[#All],3,0),INDEX(rng일정명,SMALL(IF($P6=rng일정,ROW(rng일정)-MIN(ROW(rng일정))+1, ""),COLUMN($B$1)))),"")} | T6: {=IFERROR(IF(IFERROR(AND(VLOOKUP(Table4[[#This Row],[요일]],표8[요일번호],1)>0,VLOOKUP(Table4[[#This Row],[요일]],표8[#All],5,0)<=Table4[[#This Row],[달력날짜]],VLOOKUP(Table4[[#This Row],[요일]],표8[#All],6,0)>=Table4[[#This Row],[달력날짜]]),FALSE),VLOOKUP(Table4[[#This Row],[요일]],표8[#All],4,0),INDEX(rng일정색상,SMALL(IF($P6=rng일정,ROW(rng일정)-MIN(ROW(rng일정))+1, ""),COLUMN($B$1)))),"")} | U6: =WEEKDAY(Table4[[#This Row],[달력날짜]],2) -> 4 | W6: 43874 | X6: 마케팅 회의 담당부서 회의록 초안 취합 | AG6: 금 | AH6: 5
A7: =DATE(달력!AO2,5,5) -> 46147 | B7: =공휴일[[#This Row],[1900-01-02]] -> 46147 | C7: 어린이날 | F7: =YEAR(G7) -> 2010 | G7: 40443 | H7: 추석 | J7: =J6+6 -> 46198 | K7: ✔️ | L7: 부장님 미팅 | M7: 초록 | N7: =IF(Table5[[#This Row],[일정명]]<>"",Table5[[#This Row],[아이콘]]&" "&Table5[[#This Row],[일정명]],Table5[[#This Row],[아이콘]]) -> ✔️ 부장님 미팅 | P7: =P6+1 -> 46206 | Q7: {=IFERROR(INDEX(rng일정명,SMALL(IF($P7=rng일정,ROW(rng일정)-MIN(ROW(rng일정))+1, ""),COLUMN(A6))),"")} | R7: {=IFERROR(INDEX(rng일정색상,SMALL(IF($P7=rng일정,ROW(rng일정)-MIN(ROW(rng일정))+1, ""),COLUMN(A6))),"")} | S7: {=IFERROR(IF(IFERROR(AND(VLOOKUP(Table4[[#This Row],[요일]],표8[요일번호],1)>0,VLOOKUP(Table4[[#This Row],[요일]],표8[#All],5,0)<=Table4[[#This Row],[달력날짜]],VLOOKUP(Table4[[#This Row],[요일]],표8[#All],6,0)>=Table4[[#This Row],[달력날짜]]),FALSE),VLOOKUP(Table4[[#This Row],[요일]],표8[#All],3,0),INDEX(rng일정명,SMALL(IF($P7=rng일정,ROW(rng일정)-MIN(ROW(rng일정))+1, ""),COLUMN($B$1)))),"")} | T7: {=IFERROR(IF(IFERROR(AND(VLOOKUP(Table4[[#This Row],[요일]],표8[요일번호],1)>0,VLOOKUP(Table4[[#This Row],[요일]],표8[#All],5,0)<=Table4[[#This Row],[달력날짜]],VLOOKUP(Table4[[#This Row],[요일]],표8[#All],6,0)>=Table4[[#This Row],[달력날짜]]),FALSE),VLOOKUP(Table4[[#This Row],[요일]],표8[#All],4,0),INDEX(rng일정색상,SMALL(IF($P7=rng일정,ROW(rng일정)-MIN(ROW(rng일정))+1, ""),COLUMN($B$1)))),"")} | U7: =WEEKDAY(Table4[[#This Row],[달력날짜]],2) -> 5 | W7: 43885 | X7: 마케팅 회의 관련 팀장 미팅 일정 공지 | AG7: 토 | AH7: 6
A8: {=INDEX(공휴일목록[날짜],MATCH(1,--((공휴일[[#This Row],[0]]=공휴일목록[휴일명])*(달력!AO2=공휴일목록[연도])),0))} -> 46166 | B8: =공휴일[[#This Row],[1900-01-02]] -> 46166 | C8: 석가탄신일 | F8: =YEAR(G8) -> 2010 | G8: 40444 | H8: 추석 | J8: =J7 -> 46198 | K8: ✔️ | L8: 출판사 미팅 | M8: 파랑 | N8: =IF(Table5[[#This Row],[일정명]]<>"",Table5[[#This Row],[아이콘]]&" "&Table5[[#This Row],[일정명]],Table5[[#This Row],[아이콘]]) -> ✔️ 출판사 미팅 | P8: =P7+1 -> 46207 | Q8: {=IFERROR(INDEX(rng일정명,SMALL(IF($P8=rng일정,ROW(rng일정)-MIN(ROW(rng일정))+1, ""),COLUMN(A7))),"")} | R8: {=IFERROR(INDEX(rng일정색상,SMALL(IF($P8=rng일정,ROW(rng일정)-MIN(ROW(rng일정))+1, ""),COLUMN(A7))),"")} | S8: {=IFERROR(IF(IFERROR(AND(VLOOKUP(Table4[[#This Row],[요일]],표8[요일번호],1)>0,VLOOKUP(Table4[[#This Row],[요일]],표8[#All],5,0)<=Table4[[#This Row],[달력날짜]],VLOOKUP(Table4[[#This Row],[요일]],표8[#All],6,0)>=Table4[[#This Row],[달력날짜]]),FALSE),VLOOKUP(Table4[[#This Row],[요일]],표8[#All],3,0),INDEX(rng일정명,SMALL(IF($P8=rng일정,ROW(rng일정)-MIN(ROW(rng일정))+1, ""),COLUMN($B$1)))),"")} | T8: {=IFERROR(IF(IFERROR(AND(VLOOKUP(Table4[[#This Row],[요일]],표8[요일번호],1)>0,VLOOKUP(Table4[[#This Row],[요일]],표8[#All],5,0)<=Table4[[#This Row],[달력날짜]],VLOOKUP(Table4[[#This Row],[요일]],표8[#All],6,0)>=Table4[[#This Row],[달력날짜]]),FALSE),VLOOKUP(Table4[[#This Row],[요일]],표8[#All],4,0),INDEX(rng일정색상,SMALL(IF($P8=rng일정,ROW(rng일정)-MIN(ROW(rng일정))+1, ""),COLUMN($B$1)))),"")} | U8: =WEEKDAY(Table4[[#This Row],[달력날짜]],2) -> 6 | W8: 43878 | X8: 회장님 골프 일정 확인 | AG8: 일 | AH8: 7
A9: =DATE(달력!AO2,6,6) -> 46179 | B9: =공휴일[[#This Row],[1900-01-02]] -> 46179 | C9: 현충일 | F9: =YEAR(G9) -> 2011 | G9: 40576 | H9: 설날 | J9: =J8+6 -> 46204 | K9: 💻 | L9: 영상 편집 | M9: 빨강 | N9: =IF(Table5[[#This Row],[일정명]]<>"",Table5[[#This Row],[아이콘]]&" "&Table5[[#This Row],[일정명]],Table5[[#This Row],[아이콘]]) -> 💻 영상 편집 | P9: =P8+1 -> 46208 | Q9: {=IFERROR(INDEX(rng일정명,SMALL(IF($P9=rng일정,ROW(rng일정)-MIN(ROW(rng일정))+1, ""),COLUMN(A8))),"")} | R9: {=IFERROR(INDEX(rng일정색상,SMALL(IF($P9=rng일정,ROW(rng일정)-MIN(ROW(rng일정))+1, ""),COLUMN(A8))),"")} | S9: {=IFERROR(IF(IFERROR(AND(VLOOKUP(Table4[[#This Row],[요일]],표8[요일번호],1)>0,VLOOKUP(Table4[[#This Row],[요일]],표8[#All],5,0)<=Table4[[#This Row],[달력날짜]],VLOOKUP(Table4[[#This Row],[요일]],표8[#All],6,0)>=Table4[[#This Row],[달력날짜]]),FALSE),VLOOKUP(Table4[[#This Row],[요일]],표8[#All],3,0),INDEX(rng일정명,SMALL(IF($P9=rng일정,ROW(rng일정)-MIN(ROW(rng일정))+1, ""),COLUMN($B$1)))),"")} | T9: {=IFERROR(IF(IFERROR(AND(VLOOKUP(Table4[[#This Row],[요일]],표8[요일번호],1)>0,VLOOKUP(Table4[[#This Row],[요일]],표8[#All],5,0)<=Table4[[#This Row],[달력날짜]],VLOOKUP(Table4[[#This Row],[요일]],표8[#All],6,0)>=Table4[[#This Row],[달력날짜]]),FALSE),VLOOKUP(Table4[[#This Row],[요일]],표8[#All],4,0),INDEX(rng일정색상,SMALL(IF($P9=rng일정,ROW(rng일정)-MIN(ROW(rng일정))+1, ""),COLUMN($B$1)))),"")} | U9: =WEEKDAY(Table4[[#This Row],[달력날짜]],2) -> 7
A10: =DATE(달력!AO2,8,15) -> 46249 | B10: =공휴일[[#This Row],[1900-01-02]] -> 46249 | C10: 광복절 | F10: =YEAR(G10) -> 2011 | G10: 40577 | H10: 설날 | J10: =J9 -> 46204 | K10: 📝 | L10: 편집자 아이디어 회의 | M10: 초록 | N10: =IF(Table5[[#This Row],[일정명]]<>"",Table5[[#This Row],[아이콘]]&" "&Table5[[#This Row],[일정명]],Table5[[#This Row],[아이콘]]) -> 📝 편집자 아이디어 회의 | P10: =P9+1 -> 46209 | Q10: {=IFERROR(INDEX(rng일정명,SMALL(IF($P10=rng일정,ROW(rng일정)-MIN(ROW(rng일정))+1, ""),COLUMN(A9))),"")} | R10: {=IFERROR(INDEX(rng일정색상,SMALL(IF($P10=rng일정,ROW(rng일정)-MIN(ROW(rng일정))+1, ""),COLUMN(A9))),"")} | S10: {=IFERROR(IF(IFERROR(AND(VLOOKUP(Table4[[#This Row],[요일]],표8[요일번호],1)>0,VLOOKUP(Table4[[#This Row],[요일]],표8[#All],5,0)<=Table4[[#This Row],[달력날짜]],VLOOKUP(Table4[[#This Row],[요일]],표8[#All],6,0)>=Table4[[#This Row],[달력날짜]]),FALSE),VLOOKUP(Table4[[#This Row],[요일]],표8[#All],3,0),INDEX(rng일정명,SMALL(IF($P10=rng일정,ROW(rng일정)-MIN(ROW(rng일정))+1, ""),COLUMN($B$1)))),"")} | T10: {=IFERROR(IF(IFERROR(AND(VLOOKUP(Table4[[#This Row],[요일]],표8[요일번호],1)>0,VLOOKUP(Table4[[#This Row],[요일]],표8[#All],5,0)<=Table4[[#This Row],[달력날짜]],VLOOKUP(Table4[[#This Row],[요일]],표8[#All],6,0)>=Table4[[#This Row],[달력날짜]]),FALSE),VLOOKUP(Table4[[#This Row],[요일]],표8[#All],4,0),INDEX(rng일정색상,SMALL(IF($P10=rng일정,ROW(rng일정)-MIN(ROW(rng일정))+1, ""),COLUMN($B$1)))),"")} | U10: =WEEKDAY(Table4[[#This Row],[달력날짜]],2) -> 1
A11: {=INDEX(공휴일목록[날짜],MATCH(1,--((공휴일[[#This Row],[0]]=공휴일목록[휴일명])*(달력!AO2=공휴일목록[연도])),0))} -> 46289 | B11: =공휴일[[#This Row],[1900-01-02]] -> 46289 | C11: 추석 | F11: =YEAR(G11) -> 2011 | G11: 40578 | H11: 설날 | J11: =J10+6 -> 46210 | K11: 📽 | L11: 유튜브 업로드 | M11: 초록 | N11: =IF(Table5[[#This Row],[일정명]]<>"",Table5[[#This Row],[아이콘]]&" "&Table5[[#This Row],[일정명]],Table5[[#This Row],[아이콘]]) -> 📽 유튜브 업로드 | P11: =P10+1 -> 46210 | Q11: {=IFERROR(INDEX(rng일정명,SMALL(IF($P11=rng일정,ROW(rng일정)-MIN(ROW(rng일정))+1, ""),COLUMN(A10))),"")} -> 📽 유튜브 업로드 | R11: {=IFERROR(INDEX(rng일정색상,SMALL(IF($P11=rng일정,ROW(rng일정)-MIN(ROW(rng일정))+1, ""),COLUMN(A10))),"")} -> 초록 | S11: {=IFERROR(IF(IFERROR(AND(VLOOKUP(Table4[[#This Row],[요일]],표8[요일번호],1)>0,VLOOKUP(Table4[[#This Row],[요일]],표8[#All],5,0)<=Table4[[#This Row],[달력날짜]],VLOOKUP(Table4[[#This Row],[요일]],표8[#All],6,0)>=Table4[[#This Row],[달력날짜]]),FALSE),VLOOKUP(Table4[[#This Row],[요일]],표8[#All],3,0),INDEX(rng일정명,SMALL(IF($P11=rng일정,ROW(rng일정)-MIN(ROW(rng일정))+1, ""),COLUMN($B$1)))),"")} | T11: {=IFERROR(IF(IFERROR(AND(VLOOKUP(Table4[[#This Row],[요일]],표8[요일번호],1)>0,VLOOKUP(Table4[[#This Row],[요일]],표8[#All],5,0)<=Table4[[#This Row],[달력날짜]],VLOOKUP(Table4[[#This Row],[요일]],표8[#All],6,0)>=Table4[[#This Row],[달력날짜]]),FALSE),VLOOKUP(Table4[[#This Row],[요일]],표8[#All],4,0),INDEX(rng일정색상,SMALL(IF($P11=rng일정,ROW(rng일정)-MIN(ROW(rng일정))+1, ""),COLUMN($B$1)))),"")} | U11: =WEEKDAY(Table4[[#This Row],[달력날짜]],2) -> 2
A12: =A11+1 -> 46290 | B12: =공휴일[[#This Row],[1900-01-02]] -> 46290 | C12: 추석 | F12: =YEAR(G12) -> 2011 | G12: 40673 | H12: 석가탄신일 | J12: =J11+6 -> 46216 | K12: 📝 | L12: 아이디어 회의 | M12: 파랑 | N12: =IF(Table5[[#This Row],[일정명]]<>"",Table5[[#This Row],[아이콘]]&" "&Table5[[#This Row],[일정명]],Table5[[#This Row],[아이콘]]) -> 📝 아이디어 회의 | P12: =P11+1 -> 46211 | Q12: {=IFERROR(INDEX(rng일정명,SMALL(IF($P12=rng일정,ROW(rng일정)-MIN(ROW(rng일정))+1, ""),COLUMN(A11))),"")} | R12: {=IFERROR(INDEX(rng일정색상,SMALL(IF($P12=rng일정,ROW(rng일정)-MIN(ROW(rng일정))+1, ""),COLUMN(A11))),"")} | S12: {=IFERROR(IF(IFERROR(AND(VLOOKUP(Table4[[#This Row],[요일]],표8[요일번호],1)>0,VLOOKUP(Table4[[#This Row],[요일]],표8[#All],5,0)<=Table4[[#This Row],[달력날짜]],VLOOKUP(Table4[[#This Row],[요일]],표8[#All],6,0)>=Table4[[#This Row],[달력날짜]]),FALSE),VLOOKUP(Table4[[#This Row],[요일]],표8[#All],3,0),INDEX(rng일정명,SMALL(IF($P12=rng일정,ROW(rng일정)-MIN(ROW(rng일정))+1, ""),COLUMN($B$1)))),"")} | T12: {=IFERROR(IF(IFERROR(AND(VLOOKUP(Table4[[#This Row],[요일]],표8[요일번호],1)>0,VLOOKUP(Table4[[#This Row],[요일]],표8[#All],5,0)<=Table4[[#This Row],[달력날짜]],VLOOKUP(Table4[[#This Row],[요일]],표8[#All],6,0)>=Table4[[#This Row],[달력날짜]]),FALSE),VLOOKUP(Table4[[#This Row],[요일]],표8[#All],4,0),INDEX(rng일정색상,SMALL(IF($P12=rng일정,ROW(rng일정)-MIN(ROW(rng일정))+1, ""),COLUMN($B$1)))),"")} | U12: =WEEKDAY(Table4[[#This Row],[달력날짜]],2) -> 3
A13: =A12+1 -> 46291 | B13: =공휴일[[#This Row],[1900-01-02]] -> 46291 | C13: 추석 | F13: =YEAR(G13) -> 2011 | G13: 40797 | H13: 추석 | J13: =J12 -> 46216 | K13: 📝 | L13: 다음영상 편집회의 | M13: 노랑 | N13: =IF(Table5[[#This Row],[일정명]]<>"",Table5[[#This Row],[아이콘]]&" "&Table5[[#This Row],[일정명]],Table5[[#This Row],[아이콘]]) -> 📝 다음영상 편집회의 | P13: =P12+1 -> 46212 | Q13: {=IFERROR(INDEX(rng일정명,SMALL(IF($P13=rng일정,ROW(rng일정)-MIN(ROW(rng일정))+1, ""),COLUMN(A12))),"")} | R13: {=IFERROR(INDEX(rng일정색상,SMALL(IF($P13=rng일정,ROW(rng일정)-MIN(ROW(rng일정))+1, ""),COLUMN(A12))),"")} | S13: {=IFERROR(IF(IFERROR(AND(VLOOKUP(Table4[[#This Row],[요일]],표8[요일번호],1)>0,VLOOKUP(Table4[[#This Row],[요일]],표8[#All],5,0)<=Table4[[#This Row],[달력날짜]],VLOOKUP(Table4[[#This Row],[요일]],표8[#All],6,0)>=Table4[[#This Row],[달력날짜]]),FALSE),VLOOKUP(Table4[[#This Row],[요일]],표8[#All],3,0),INDEX(rng일정명,SMALL(IF($P13=rng일정,ROW(rng일정)-MIN(ROW(rng일정))+1, ""),COLUMN($B$1)))),"")} | T13: {=IFERROR(IF(IFERROR(AND(VLOOKUP(Table4[[#This Row],[요일]],표8[요일번호],1)>0,VLOOKUP(Table4[[#This Row],[요일]],표8[#All],5,0)<=Table4[[#This Row],[달력날짜]],VLOOKUP(Table4[[#This Row],[요일]],표8[#All],6,0)>=Table4[[#This Row],[달력날짜]]),FALSE),VLOOKUP(Table4[[#This Row],[요일]],표8[#All],4,0),INDEX(rng일정색상,SMALL(IF($P13=rng일정,ROW(rng일정)-MIN(ROW(rng일정))+1, ""),COLUMN($B$1)))),"")} | U13: =WEEKDAY(Table4[[#This Row],[달력날짜]],2) -> 4
A14: =DATE(달력!AO2,10,3) -> 46298 | B14: =공휴일[[#This Row],[1900-01-02]] -> 46298 | C14: 개천절 | F14: =YEAR(G14) -> 2011 | G14: 40798 | H14: 추석 | J14: =J13+6 -> 46222 | K14: ✏️ | L14: 출판사 2차 미팅 | M14: 노랑 | N14: =IF(Table5[[#This Row],[일정명]]<>"",Table5[[#This Row],[아이콘]]&" "&Table5[[#This Row],[일정명]],Table5[[#This Row],[아이콘]]) -> ✏️ 출판사 2차 미팅 | P14: =P13+1 -> 46213 | Q14: {=IFERROR(INDEX(rng일정명,SMALL(IF($P14=rng일정,ROW(rng일정)-MIN(ROW(rng일정))+1, ""),COLUMN(A13))),"")} | R14: {=IFERROR(INDEX(rng일정색상,SMALL(IF($P14=rng일정,ROW(rng일정)-MIN(ROW(rng일정))+1, ""),COLUMN(A13))),"")} | S14: {=IFERROR(IF(IFERROR(AND(VLOOKUP(Table4[[#This Row],[요일]],표8[요일번호],1)>0,VLOOKUP(Table4[[#This Row],[요일]],표8[#All],5,0)<=Table4[[#This Row],[달력날짜]],VLOOKUP(Table4[[#This Row],[요일]],표8[#All],6,0)>=Table4[[#This Row],[달력날짜]]),FALSE),VLOOKUP(Table4[[#This Row],[요일]],표8[#All],3,0),INDEX(rng일정명,SMALL(IF($P14=rng일정,ROW(rng일정)-MIN(ROW(rng일정))+1, ""),COLUMN($B$1)))),"")} | T14: {=IFERROR(IF(IFERROR(AND(VLOOKUP(Table4[[#This Row],[요일]],표8[요일번호],1)>0,VLOOKUP(Table4[[#This Row],[요일]],표8[#All],5,0)<=Table4[[#This Row],[달력날짜]],VLOOKUP(Table4[[#This Row],[요일]],표8[#All],6,0)>=Table4[[#This Row],[달력날짜]]),FALSE),VLOOKUP(Table4[[#This Row],[요일]],표8[#All],4,0),INDEX(rng일정색상,SMALL(IF($P14=rng일정,ROW(rng일정)-MIN(ROW(rng일정))+1, ""),COLUMN($B$1)))),"")} | U14: =WEEKDAY(Table4[[#This Row],[달력날짜]],2) -> 5
A15: =DATE(달력!AO2,10,9) -> 46304 | B15: =공휴일[[#This Row],[1900-01-02]] -> 46304 | C15: 한글날 | F15: =YEAR(G15) -> 2011 | G15: 40799 | H15: 추석 | J15: =J14+6 -> 46228 | K15: ⏰ | L15: 신규 포장재 구매관련 미팅 | M15: 빨강 | N15: =IF(Table5[[#This Row],[일정명]]<>"",Table5[[#This Row],[아이콘]]&" "&Table5[[#This Row],[일정명]],Table5[[#This Row],[아이콘]]) -> ⏰ 신규 포장재 구매관련 미팅 | P15: =P14+1 -> 46214 | Q15: {=IFERROR(INDEX(rng일정명,SMALL(IF($P15=rng일정,ROW(rng일정)-MIN(ROW(rng일정))+1, ""),COLUMN(A14))),"")} | R15: {=IFERROR(INDEX(rng일정색상,SMALL(IF($P15=rng일정,ROW(rng일정)-MIN(ROW(rng일정))+1, ""),COLUMN(A14))),"")} | S15: {=IFERROR(IF(IFERROR(AND(VLOOKUP(Table4[[#This Row],[요일]],표8[요일번호],1)>0,VLOOKUP(Table4[[#This Row],[요일]],표8[#All],5,0)<=Table4[[#This Row],[달력날짜]],VLOOKUP(Table4[[#This Row],[요일]],표8[#All],6,0)>=Table4[[#This Row],[달력날짜]]),FALSE),VLOOKUP(Table4[[#This Row],[요일]],표8[#All],3,0),INDEX(rng일정명,SMALL(IF($P15=rng일정,ROW(rng일정)-MIN(ROW(rng일정))+1, ""),COLUMN($B$1)))),"")} | T15: {=IFERROR(IF(IFERROR(AND(VLOOKUP(Table4[[#This Row],[요일]],표8[요일번호],1)>0,VLOOKUP(Table4[[#This Row],[요일]],표8[#All],5,0)<=Table4[[#This Row],[달력날짜]],VLOOKUP(Table4[[#This Row],[요일]],표8[#All],6,0)>=Table4[[#This Row],[달력날짜]]),FALSE),VLOOKUP(Table4[[#This Row],[요일]],표8[#All],4,0),INDEX(rng일정색상,SMALL(IF($P15=rng일정,ROW(rng일정)-MIN(ROW(rng일정))+1, ""),COLUMN($B$1)))),"")} | U15: =WEEKDAY(Table4[[#This Row],[달력날짜]],2) -> 6
A16: =DATE(달력!AO2,12,25) -> 46381 | B16: =공휴일[[#This Row],[1900-01-02]] -> 46381 | C16: 성탄절 | F16: =YEAR(G16) -> 2012 | G16: 40930 | H16: 설날 | J16: =J15+6 -> 46234 | K16: 📝 | L16: 아이디어 미팅 | M16: 초록 | N16: =IF(Table5[[#This Row],[일정명]]<>"",Table5[[#This Row],[아이콘]]&" "&Table5[[#This Row],[일정명]],Table5[[#This Row],[아이콘]]) -> 📝 아이디어 미팅 | P16: =P15+1 -> 46215 | Q16: {=IFERROR(INDEX(rng일정명,SMALL(IF($P16=rng일정,ROW(rng일정)-MIN(ROW(rng일정))+1, ""),COLUMN(A15))),"")} | R16: {=IFERROR(INDEX(rng일정색상,SMALL(IF($P16=rng일정,ROW(rng일정)-MIN(ROW(rng일정))+1, ""),COLUMN(A15))),"")} | S16: {=IFERROR(IF(IFERROR(AND(VLOOKUP(Table4[[#This Row],[요일]],표8[요일번호],1)>0,VLOOKUP(Table4[[#This Row],[요일]],표8[#All],5,0)<=Table4[[#This Row],[달력날짜]],VLOOKUP(Table4[[#This Row],[요일]],표8[#All],6,0)>=Table4[[#This Row],[달력날짜]]),FALSE),VLOOKUP(Table4[[#This Row],[요일]],표8[#All],3,0),INDEX(rng일정명,SMALL(IF($P16=rng일정,ROW(rng일정)-MIN(ROW(rng일정))+1, ""),COLUMN($B$1)))),"")} | T16: {=IFERROR(IF(IFERROR(AND(VLOOKUP(Table4[[#This Row],[요일]],표8[요일번호],1)>0,VLOOKUP(Table4[[#This Row],[요일]],표8[#All],5,0)<=Table4[[#This Row],[달력날짜]],VLOOKUP(Table4[[#This Row],[요일]],표8[#All],6,0)>=Table4[[#This Row],[달력날짜]]),FALSE),VLOOKUP(Table4[[#This Row],[요일]],표8[#All],4,0),INDEX(rng일정색상,SMALL(IF($P16=rng일정,ROW(rng일정)-MIN(ROW(rng일정))+1, ""),COLUMN($B$1)))),"")} | U16: =WEEKDAY(Table4[[#This Row],[달력날짜]],2) -> 7
A17: 1900-01-02 | B17: 1 | C17: 02 | D17: 연간반복 | F17: =YEAR(G17) -> 2012 | G17: 40931 | H17: 설날 | J17: =J16+6 -> 46240 | K17: ⏰ | L17: 신종코로나 긴급회의 | M17: 초록 | N17: =IF(Table5[[#This Row],[일정명]]<>"",Table5[[#This Row],[아이콘]]&" "&Table5[[#This Row],[일정명]],Table5[[#This Row],[아이콘]]) -> ⏰ 신종코로나 긴급회의 | P17: =P16+1 -> 46216 | Q17: {=IFERROR(INDEX(rng일정명,SMALL(IF($P17=rng일정,ROW(rng일정)-MIN(ROW(rng일정))+1, ""),COLUMN(A16))),"")} -> 📝 아이디어 회의 | R17: {=IFERROR(INDEX(rng일정색상,SMALL(IF($P17=rng일정,ROW(rng일정)-MIN(ROW(rng일정))+1, ""),COLUMN(A16))),"")} -> 파랑 | S17: {=IFERROR(IF(IFERROR(AND(VLOOKUP(Table4[[#This Row],[요일]],표8[요일번호],1)>0,VLOOKUP(Table4[[#This Row],[요일]],표8[#All],5,0)<=Table4[[#This Row],[달력날짜]],VLOOKUP(Table4[[#This Row],[요일]],표8[#All],6,0)>=Table4[[#This Row],[달력날짜]]),FALSE),VLOOKUP(Table4[[#This Row],[요일]],표8[#All],3,0),INDEX(rng일정명,SMALL(IF($P17=rng일정,ROW(rng일정)-MIN(ROW(rng일정))+1, ""),COLUMN($B$1)))),"")} -> 📝 다음영상 편집회의 | T17: {=IFERROR(IF(IFERROR(AND(VLOOKUP(Table4[[#This Row],[요일]],표8[요일번호],1)>0,VLOOKUP(Table4[[#This Row],[요일]],표8[#All],5,0)<=Table4[[#This Row],[달력날짜]],VLOOKUP(Table4[[#This Row],[요일]],표8[#All],6,0)>=Table4[[#This Row],[달력날짜]]),FALSE),VLOOKUP(Table4[[#This Row],[요일]],표8[#All],4,0),INDEX(rng일정색상,SMALL(IF($P17=rng일정,ROW(rng일정)-MIN(ROW(rng일정))+1, ""),COLUMN($B$1)))),"")} -> 노랑 | U17: =WEEKDAY(Table4[[#This Row],[달력날짜]],2) -> 1
A18: =IF(Table1[[#This Row],[연간반복]]=TRUE,DATE(달력!$AO$2,MONTH(Table1[[#This Row],[1]]),DAY(Table1[[#This Row],[1]])),Table1[[#This Row],[1]]) -> 46084 | B18: 43893 | C18: 회사창립일 | D18: TRUE | F18: =YEAR(G18) -> 2012 | G18: 40932 | H18: 설날 | P18: =P17+1 -> 46217 | Q18: {=IFERROR(INDEX(rng일정명,SMALL(IF($P18=rng일정,ROW(rng일정)-MIN(ROW(rng일정))+1, ""),COLUMN(A17))),"")} | R18: {=IFERROR(INDEX(rng일정색상,SMALL(IF($P18=rng일정,ROW(rng일정)-MIN(ROW(rng일정))+1, ""),COLUMN(A17))),"")} | S18: {=IFERROR(IF(IFERROR(AND(VLOOKUP(Table4[[#This Row],[요일]],표8[요일번호],1)>0,VLOOKUP(Table4[[#This Row],[요일]],표8[#All],5,0)<=Table4[[#This Row],[달력날짜]],VLOOKUP(Table4[[#This Row],[요일]],표8[#All],6,0)>=Table4[[#This Row],[달력날짜]]),FALSE),VLOOKUP(Table4[[#This Row],[요일]],표8[#All],3,0),INDEX(rng일정명,SMALL(IF($P18=rng일정,ROW(rng일정)-MIN(ROW(rng일정))+1, ""),COLUMN($B$1)))),"")} | T18: {=IFERROR(IF(IFERROR(AND(VLOOKUP(Table4[[#This Row],[요일]],표8[요일번호],1)>0,VLOOKUP(Table4[[#This Row],[요일]],표8[#All],5,0)<=Table4[[#This Row],[달력날짜]],VLOOKUP(Table4[[#This Row],[요일]],표8[#All],6,0)>=Table4[[#This Row],[달력날짜]]),FALSE),VLOOKUP(Table4[[#This Row],[요일]],표8[#All],4,0),INDEX(rng일정색상,SMALL(IF($P18=rng일정,ROW(rng일정)-MIN(ROW(rng일정))+1, ""),COLUMN($B$1)))),"")} | U18: =WEEKDAY(Table4[[#This Row],[달력날짜]],2) -> 2
A19: =IF(Table1[[#This Row],[연간반복]]=TRUE,DATE(달력!$AO$2,MONTH(Table1[[#This Row],[1]]),DAY(Table1[[#This Row],[1]])),Table1[[#This Row],[1]]) -> 46102 | B19: 43911 | C19: 어머님 생신 | D19: TRUE | F19: =YEAR(G19) -> 2012 | G19: 41057 | H19: 석가탄신일 | P19: =P18+1 -> 46218 | Q19: {=IFERROR(INDEX(rng일정명,SMALL(IF($P19=rng일정,ROW(rng일정)-MIN(ROW(rng일정))+1, ""),COLUMN(A18))),"")} | R19: {=IFERROR(INDEX(rng일정색상,SMALL(IF($P19=rng일정,ROW(rng일정)-MIN(ROW(rng일정))+1, ""),COLUMN(A18))),"")} | S19: {=IFERROR(IF(IFERROR(AND(VLOOKUP(Table4[[#This Row],[요일]],표8[요일번호],1)>0,VLOOKUP(Table4[[#This Row],[요일]],표8[#All],5,0)<=Table4[[#This Row],[달력날짜]],VLOOKUP(Table4[[#This Row],[요일]],표8[#All],6,0)>=Table4[[#This Row],[달력날짜]]),FALSE),VLOOKUP(Table4[[#This Row],[요일]],표8[#All],3,0),INDEX(rng일정명,SMALL(IF($P19=rng일정,ROW(rng일정)-MIN(ROW(rng일정))+1, ""),COLUMN($B$1)))),"")} | T19: {=IFERROR(IF(IFERROR(AND(VLOOKUP(Table4[[#This Row],[요일]],표8[요일번호],1)>0,VLOOKUP(Table4[[#This Row],[요일]],표8[#All],5,0)<=Table4[[#This Row],[달력날짜]],VLOOKUP(Table4[[#This Row],[요일]],표8[#All],6,0)>=Table4[[#This Row],[달력날짜]]),FALSE),VLOOKUP(Table4[[#This Row],[요일]],표8[#All],4,0),INDEX(rng일정색상,SMALL(IF($P19=rng일정,ROW(rng일정)-MIN(ROW(rng일정))+1, ""),COLUMN($B$1)))),"")} | U19: =WEEKDAY(Table4[[#This Row],[달력날짜]],2) -> 3
A20: =IF(Table1[[#This Row],[연간반복]]=TRUE,DATE(달력!$AO$2,MONTH(Table1[[#This Row],[1]]),DAY(Table1[[#This Row],[1]])),Table1[[#This Row],[1]]) -> 46106 | B20: 43915 | C20: 결혼기념일 | D20: TRUE | F20: =YEAR(G20) -> 2012 | G20: 41181 | H20: 추석 | P20: =P19+1 -> 46219 | Q20: {=IFERROR(INDEX(rng일정명,SMALL(IF($P20=rng일정,ROW(rng일정)-MIN(ROW(rng일정))+1, ""),COLUMN(A19))),"")} | R20: {=IFERROR(INDEX(rng일정색상,SMALL(IF($P20=rng일정,ROW(rng일정)-MIN(ROW(rng일정))+1, ""),COLUMN(A19))),"")} | S20: {=IFERROR(IF(IFERROR(AND(VLOOKUP(Table4[[#This Row],[요일]],표8[요일번호],1)>0,VLOOKUP(Table4[[#This Row],[요일]],표8[#All],5,0)<=Table4[[#This Row],[달력날짜]],VLOOKUP(Table4[[#This Row],[요일]],표8[#All],6,0)>=Table4[[#This Row],[달력날짜]]),FALSE),VLOOKUP(Table4[[#This Row],[요일]],표8[#All],3,0),INDEX(rng일정명,SMALL(IF($P20=rng일정,ROW(rng일정)-MIN(ROW(rng일정))+1, ""),COLUMN($B$1)))),"")} | T20: {=IFERROR(IF(IFERROR(AND(VLOOKUP(Table4[[#This Row],[요일]],표8[요일번호],1)>0,VLOOKUP(Table4[[#This Row],[요일]],표8[#All],5,0)<=Table4[[#This Row],[달력날짜]],VLOOKUP(Table4[[#This Row],[요일]],표8[#All],6,0)>=Table4[[#This Row],[달력날짜]]),FALSE),VLOOKUP(Table4[[#This Row],[요일]],표8[#All],4,0),INDEX(rng일정색상,SMALL(IF($P20=rng일정,ROW(rng일정)-MIN(ROW(rng일정))+1, ""),COLUMN($B$1)))),"")} | U20: =WEEKDAY(Table4[[#This Row],[달력날짜]],2) -> 4
A21: =IF(Table1[[#This Row],[연간반복]]=TRUE,DATE(달력!$AO$2,MONTH(Table1[[#This Row],[1]]),DAY(Table1[[#This Row],[1]])),Table1[[#This Row],[1]]) -> 46117 | B21: 43560 | C21: 식목일 | D21: TRUE | F21: =YEAR(G21) -> 2012 | G21: 41182 | H21: 추석 | P21: =P20+1 -> 46220 | Q21: {=IFERROR(INDEX(rng일정명,SMALL(IF($P21=rng일정,ROW(rng일정)-MIN(ROW(rng일정))+1, ""),COLUMN(A20))),"")} | R21: {=IFERROR(INDEX(rng일정색상,SMALL(IF($P21=rng일정,ROW(rng일정)-MIN(ROW(rng일정))+1, ""),COLUMN(A20))),"")} | S21: {=IFERROR(IF(IFERROR(AND(VLOOKUP(Table4[[#This Row],[요일]],표8[요일번호],1)>0,VLOOKUP(Table4[[#This Row],[요일]],표8[#All],5,0)<=Table4[[#This Row],[달력날짜]],VLOOKUP(Table4[[#This Row],[요일]],표8[#All],6,0)>=Table4[[#This Row],[달력날짜]]),FALSE),VLOOKUP(Table4[[#This Row],[요일]],표8[#All],3,0),INDEX(rng일정명,SMALL(IF($P21=rng일정,ROW(rng일정)-MIN(ROW(rng일정))+1, ""),COLUMN($B$1)))),"")} | T21: {=IFERROR(IF(IFERROR(AND(VLOOKUP(Table4[[#This Row],[요일]],표8[요일번호],1)>0,VLOOKUP(Table4[[#This Row],[요일]],표8[#All],5,0)<=Table4[[#This Row],[달력날짜]],VLOOKUP(Table4[[#This Row],[요일]],표8[#All],6,0)>=Table4[[#This Row],[달력날짜]]),FALSE),VLOOKUP(Table4[[#This Row],[요일]],표8[#All],4,0),INDEX(rng일정색상,SMALL(IF($P21=rng일정,ROW(rng일정)-MIN(ROW(rng일정))+1, ""),COLUMN($B$1)))),"")} | U21: =WEEKDAY(Table4[[#This Row],[달력날짜]],2) -> 5
A22: =IF(Table1[[#This Row],[연간반복]]=TRUE,DATE(달력!$AO$2,MONTH(Table1[[#This Row],[1]]),DAY(Table1[[#This Row],[1]])),Table1[[#This Row],[1]]) -> 46365 | B22: 43078 | C22: 오빠두설립일 | D22: TRUE | F22: =YEAR(G22) -> 2012 | G22: 41183 | H22: 추석 | P22: =P21+1 -> 46221 | Q22: {=IFERROR(INDEX(rng일정명,SMALL(IF($P22=rng일정,ROW(rng일정)-MIN(ROW(rng일정))+1, ""),COLUMN(A21))),"")} | R22: {=IFERROR(INDEX(rng일정색상,SMALL(IF($P22=rng일정,ROW(rng일정)-MIN(ROW(rng일정))+1, ""),COLUMN(A21))),"")} | S22: {=IFERROR(IF(IFERROR(AND(VLOOKUP(Table4[[#This Row],[요일]],표8[요일번호],1)>0,VLOOKUP(Table4[[#This Row],[요일]],표8[#All],5,0)<=Table4[[#This Row],[달력날짜]],VLOOKUP(Table4[[#This Row],[요일]],표8[#All],6,0)>=Table4[[#This Row],[달력날짜]]),FALSE),VLOOKUP(Table4[[#This Row],[요일]],표8[#All],3,0),INDEX(rng일정명,SMALL(IF($P22=rng일정,ROW(rng일정)-MIN(ROW(rng일정))+1, ""),COLUMN($B$1)))),"")} | T22: {=IFERROR(IF(IFERROR(AND(VLOOKUP(Table4[[#This Row],[요일]],표8[요일번호],1)>0,VLOOKUP(Table4[[#This Row],[요일]],표8[#All],5,0)<=Table4[[#This Row],[달력날짜]],VLOOKUP(Table4[[#This Row],[요일]],표8[#All],6,0)>=Table4[[#This Row],[달력날짜]]),FALSE),VLOOKUP(Table4[[#This Row],[요일]],표8[#All],4,0),INDEX(rng일정색상,SMALL(IF($P22=rng일정,ROW(rng일정)-MIN(ROW(rng일정))+1, ""),COLUMN($B$1)))),"")} | U22: =WEEKDAY(Table4[[#This Row],[달력날짜]],2) -> 6
F23: =YEAR(G23) -> 2013 | G23: 41314 | H23: 설날 | P23: =P22+1 -> 46222 | Q23: {=IFERROR(INDEX(rng일정명,SMALL(IF($P23=rng일정,ROW(rng일정)-MIN(ROW(rng일정))+1, ""),COLUMN(A22))),"")} -> ✏️ 출판사 2차 미팅 | R23: {=IFERROR(INDEX(rng일정색상,SMALL(IF($P23=rng일정,ROW(rng일정)-MIN(ROW(rng일정))+1, ""),COLUMN(A22))),"")} -> 노랑 | S23: {=IFERROR(IF(IFERROR(AND(VLOOKUP(Table4[[#This Row],[요일]],표8[요일번호],1)>0,VLOOKUP(Table4[[#This Row],[요일]],표8[#All],5,0)<=Table4[[#This Row],[달력날짜]],VLOOKUP(Table4[[#This Row],[요일]],표8[#All],6,0)>=Table4[[#This Row],[달력날짜]]),FALSE),VLOOKUP(Table4[[#This Row],[요일]],표8[#All],3,0),INDEX(rng일정명,SMALL(IF($P23=rng일정,ROW(rng일정)-MIN(ROW(rng일정))+1, ""),COLUMN($B$1)))),"")} | T23: {=IFERROR(IF(IFERROR(AND(VLOOKUP(Table4[[#This Row],[요일]],표8[요일번호],1)>0,VLOOKUP(Table4[[#This Row],[요일]],표8[#All],5,0)<=Table4[[#This Row],[달력날짜]],VLOOKUP(Table4[[#This Row],[요일]],표8[#All],6,0)>=Table4[[#This Row],[달력날짜]]),FALSE),VLOOKUP(Table4[[#This Row],[요일]],표8[#All],4,0),INDEX(rng일정색상,SMALL(IF($P23=rng일정,ROW(rng일정)-MIN(ROW(rng일정))+1, ""),COLUMN($B$1)))),"")} | U23: =WEEKDAY(Table4[[#This Row],[달력날짜]],2) -> 7
F24: =YEAR(G24) -> 2013 | G24: 41315 | H24: 설날 | P24: =P23+1 -> 46223 | Q24: {=IFERROR(INDEX(rng일정명,SMALL(IF($P24=rng일정,ROW(rng일정)-MIN(ROW(rng일정))+1, ""),COLUMN(A23))),"")} | R24: {=IFERROR(INDEX(rng일정색상,SMALL(IF($P24=rng일정,ROW(rng일정)-MIN(ROW(rng일정))+1, ""),COLUMN(A23))),"")} | S24: {=IFERROR(IF(IFERROR(AND(VLOOKUP(Table4[[#This Row],[요일]],표8[요일번호],1)>0,VLOOKUP(Table4[[#This Row],[요일]],표8[#All],5,0)<=Table4[[#This Row],[달력날짜]],VLOOKUP(Table4[[#This Row],[요일]],표8[#All],6,0)>=Table4[[#This Row],[달력날짜]]),FALSE),VLOOKUP(Table4[[#This Row],[요일]],표8[#All],3,0),INDEX(rng일정명,SMALL(IF($P24=rng일정,ROW(rng일정)-MIN(ROW(rng일정))+1, ""),COLUMN($B$1)))),"")} | T24: {=IFERROR(IF(IFERROR(AND(VLOOKUP(Table4[[#This Row],[요일]],표8[요일번호],1)>0,VLOOKUP(Table4[[#This Row],[요일]],표8[#All],5,0)<=Table4[[#This Row],[달력날짜]],VLOOKUP(Table4[[#This Row],[요일]],표8[#All],6,0)>=Table4[[#This Row],[달력날짜]]),FALSE),VLOOKUP(Table4[[#This Row],[요일]],표8[#All],4,0),INDEX(rng일정색상,SMALL(IF($P24=rng일정,ROW(rng일정)-MIN(ROW(rng일정))+1, ""),COLUMN($B$1)))),"")} | U24: =WEEKDAY(Table4[[#This Row],[달력날짜]],2) -> 1
F25: =YEAR(G25) -> 2013 | G25: 41316 | H25: 설날 | P25: =P24+1 -> 46224 | Q25: {=IFERROR(INDEX(rng일정명,SMALL(IF($P25=rng일정,ROW(rng일정)-MIN(ROW(rng일정))+1, ""),COLUMN(A24))),"")} | R25: {=IFERROR(INDEX(rng일정색상,SMALL(IF($P25=rng일정,ROW(rng일정)-MIN(ROW(rng일정))+1, ""),COLUMN(A24))),"")} | S25: {=IFERROR(IF(IFERROR(AND(VLOOKUP(Table4[[#This Row],[요일]],표8[요일번호],1)>0,VLOOKUP(Table4[[#This Row],[요일]],표8[#All],5,0)<=Table4[[#This Row],[달력날짜]],VLOOKUP(Table4[[#This Row],[요일]],표8[#All],6,0)>=Table4[[#This Row],[달력날짜]]),FALSE),VLOOKUP(Table4[[#This Row],[요일]],표8[#All],3,0),INDEX(rng일정명,SMALL(IF($P25=rng일정,ROW(rng일정)-MIN(ROW(rng일정))+1, ""),COLUMN($B$1)))),"")} | T25: {=IFERROR(IF(IFERROR(AND(VLOOKUP(Table4[[#This Row],[요일]],표8[요일번호],1)>0,VLOOKUP(Table4[[#This Row],[요일]],표8[#All],5,0)<=Table4[[#This Row],[달력날짜]],VLOOKUP(Table4[[#This Row],[요일]],표8[#All],6,0)>=Table4[[#This Row],[달력날짜]]),FALSE),VLOOKUP(Table4[[#This Row],[요일]],표8[#All],4,0),INDEX(rng일정색상,SMALL(IF($P25=rng일정,ROW(rng일정)-MIN(ROW(rng일정))+1, ""),COLUMN($B$1)))),"")} | U25: =WEEKDAY(Table4[[#This Row],[달력날짜]],2) -> 2
F26: =YEAR(G26) -> 2013 | G26: 41411 | H26: 석가탄신일 | P26: =P25+1 -> 46225 | Q26: {=IFERROR(INDEX(rng일정명,SMALL(IF($P26=rng일정,ROW(rng일정)-MIN(ROW(rng일정))+1, ""),COLUMN(A25))),"")} | R26: {=IFERROR(INDEX(rng일정색상,SMALL(IF($P26=rng일정,ROW(rng일정)-MIN(ROW(rng일정))+1, ""),COLUMN(A25))),"")} | S26: {=IFERROR(IF(IFERROR(AND(VLOOKUP(Table4[[#This Row],[요일]],표8[요일번호],1)>0,VLOOKUP(Table4[[#This Row],[요일]],표8[#All],5,0)<=Table4[[#This Row],[달력날짜]],VLOOKUP(Table4[[#This Row],[요일]],표8[#All],6,0)>=Table4[[#This Row],[달력날짜]]),FALSE),VLOOKUP(Table4[[#This Row],[요일]],표8[#All],3,0),INDEX(rng일정명,SMALL(IF($P26=rng일정,ROW(rng일정)-MIN(ROW(rng일정))+1, ""),COLUMN($B$1)))),"")} | T26: {=IFERROR(IF(IFERROR(AND(VLOOKUP(Table4[[#This Row],[요일]],표8[요일번호],1)>0,VLOOKUP(Table4[[#This Row],[요일]],표8[#All],5,0)<=Table4[[#This Row],[달력날짜]],VLOOKUP(Table4[[#This Row],[요일]],표8[#All],6,0)>=Table4[[#This Row],[달력날짜]]),FALSE),VLOOKUP(Table4[[#This Row],[요일]],표8[#All],4,0),INDEX(rng일정색상,SMALL(IF($P26=rng일정,ROW(rng일정)-MIN(ROW(rng일정))+1, ""),COLUMN($B$1)))),"")} | U26: =WEEKDAY(Table4[[#This Row],[달력날짜]],2) -> 3
F27: =YEAR(G27) -> 2013 | G27: 41535 | H27: 추석 | P27: =P26+1 -> 46226 | Q27: {=IFERROR(INDEX(rng일정명,SMALL(IF($P27=rng일정,ROW(rng일정)-MIN(ROW(rng일정))+1, ""),COLUMN(A26))),"")} | R27: {=IFERROR(INDEX(rng일정색상,SMALL(IF($P27=rng일정,ROW(rng일정)-MIN(ROW(rng일정))+1, ""),COLUMN(A26))),"")} | S27: {=IFERROR(IF(IFERROR(AND(VLOOKUP(Table4[[#This Row],[요일]],표8[요일번호],1)>0,VLOOKUP(Table4[[#This Row],[요일]],표8[#All],5,0)<=Table4[[#This Row],[달력날짜]],VLOOKUP(Table4[[#This Row],[요일]],표8[#All],6,0)>=Table4[[#This Row],[달력날짜]]),FALSE),VLOOKUP(Table4[[#This Row],[요일]],표8[#All],3,0),INDEX(rng일정명,SMALL(IF($P27=rng일정,ROW(rng일정)-MIN(ROW(rng일정))+1, ""),COLUMN($B$1)))),"")} | T27: {=IFERROR(IF(IFERROR(AND(VLOOKUP(Table4[[#This Row],[요일]],표8[요일번호],1)>0,VLOOKUP(Table4[[#This Row],[요일]],표8[#All],5,0)<=Table4[[#This Row],[달력날짜]],VLOOKUP(Table4[[#This Row],[요일]],표8[#All],6,0)>=Table4[[#This Row],[달력날짜]]),FALSE),VLOOKUP(Table4[[#This Row],[요일]],표8[#All],4,0),INDEX(rng일정색상,SMALL(IF($P27=rng일정,ROW(rng일정)-MIN(ROW(rng일정))+1, ""),COLUMN($B$1)))),"")} | U27: =WEEKDAY(Table4[[#This Row],[달력날짜]],2) -> 4
F28: =YEAR(G28) -> 2013 | G28: 41536 | H28: 추석 | P28: =P27+1 -> 46227 | Q28: {=IFERROR(INDEX(rng일정명,SMALL(IF($P28=rng일정,ROW(rng일정)-MIN(ROW(rng일정))+1, ""),COLUMN(A27))),"")} | R28: {=IFERROR(INDEX(rng일정색상,SMALL(IF($P28=rng일정,ROW(rng일정)-MIN(ROW(rng일정))+1, ""),COLUMN(A27))),"")} | S28: {=IFERROR(IF(IFERROR(AND(VLOOKUP(Table4[[#This Row],[요일]],표8[요일번호],1)>0,VLOOKUP(Table4[[#This Row],[요일]],표8[#All],5,0)<=Table4[[#This Row],[달력날짜]],VLOOKUP(Table4[[#This Row],[요일]],표8[#All],6,0)>=Table4[[#This Row],[달력날짜]]),FALSE),VLOOKUP(Table4[[#This Row],[요일]],표8[#All],3,0),INDEX(rng일정명,SMALL(IF($P28=rng일정,ROW(rng일정)-MIN(ROW(rng일정))+1, ""),COLUMN($B$1)))),"")} | T28: {=IFERROR(IF(IFERROR(AND(VLOOKUP(Table4[[#This Row],[요일]],표8[요일번호],1)>0,VLOOKUP(Table4[[#This Row],[요일]],표8[#All],5,0)<=Table4[[#This Row],[달력날짜]],VLOOKUP(Table4[[#This Row],[요일]],표8[#All],6,0)>=Table4[[#This Row],[달력날짜]]),FALSE),VLOOKUP(Table4[[#This Row],[요일]],표8[#All],4,0),INDEX(rng일정색상,SMALL(IF($P28=rng일정,ROW(rng일정)-MIN(ROW(rng일정))+1, ""),COLUMN($B$1)))),"")} | U28: =WEEKDAY(Table4[[#This Row],[달력날짜]],2) -> 5
F29: =YEAR(G29) -> 2013 | G29: 41537 | H29: 추석 | P29: =P28+1 -> 46228 | Q29: {=IFERROR(INDEX(rng일정명,SMALL(IF($P29=rng일정,ROW(rng일정)-MIN(ROW(rng일정))+1, ""),COLUMN(A28))),"")} -> ⏰ 신규 포장재 구매관련 미팅 | R29: {=IFERROR(INDEX(rng일정색상,SMALL(IF($P29=rng일정,ROW(rng일정)-MIN(ROW(rng일정))+1, ""),COLUMN(A28))),"")} -> 빨강 | S29: {=IFERROR(IF(IFERROR(AND(VLOOKUP(Table4[[#This Row],[요일]],표8[요일번호],1)>0,VLOOKUP(Table4[[#This Row],[요일]],표8[#All],5,0)<=Table4[[#This Row],[달력날짜]],VLOOKUP(Table4[[#This Row],[요일]],표8[#All],6,0)>=Table4[[#This Row],[달력날짜]]),FALSE),VLOOKUP(Table4[[#This Row],[요일]],표8[#All],3,0),INDEX(rng일정명,SMALL(IF($P29=rng일정,ROW(rng일정)-MIN(ROW(rng일정))+1, ""),COLUMN($B$1)))),"")} | T29: {=IFERROR(IF(IFERROR(AND(VLOOKUP(Table4[[#This Row],[요일]],표8[요일번호],1)>0,VLOOKUP(Table4[[#This Row],[요일]],표8[#All],5,0)<=Table4[[#This Row],[달력날짜]],VLOOKUP(Table4[[#This Row],[요일]],표8[#All],6,0)>=Table4[[#This Row],[달력날짜]]),FALSE),VLOOKUP(Table4[[#This Row],[요일]],표8[#All],4,0),INDEX(rng일정색상,SMALL(IF($P29=rng일정,ROW(rng일정)-MIN(ROW(rng일정))+1, ""),COLUMN($B$1)))),"")} | U29: =WEEKDAY(Table4[[#This Row],[달력날짜]],2) -> 6
F30: =YEAR(G30) -> 2014 | G30: 41669 | H30: 설날 | P30: =P29+1 -> 46229 | Q30: {=IFERROR(INDEX(rng일정명,SMALL(IF($P30=rng일정,ROW(rng일정)-MIN(ROW(rng일정))+1, ""),COLUMN(A29))),"")} | R30: {=IFERROR(INDEX(rng일정색상,SMALL(IF($P30=rng일정,ROW(rng일정)-MIN(ROW(rng일정))+1, ""),COLUMN(A29))),"")} | S30: {=IFERROR(IF(IFERROR(AND(VLOOKUP(Table4[[#This Row],[요일]],표8[요일번호],1)>0,VLOOKUP(Table4[[#This Row],[요일]],표8[#All],5,0)<=Table4[[#This Row],[달력날짜]],VLOOKUP(Table4[[#This Row],[요일]],표8[#All],6,0)>=Table4[[#This Row],[달력날짜]]),FALSE),VLOOKUP(Table4[[#This Row],[요일]],표8[#All],3,0),INDEX(rng일정명,SMALL(IF($P30=rng일정,ROW(rng일정)-MIN(ROW(rng일정))+1, ""),COLUMN($B$1)))),"")} | T30: {=IFERROR(IF(IFERROR(AND(VLOOKUP(Table4[[#This Row],[요일]],표8[요일번호],1)>0,VLOOKUP(Table4[[#This Row],[요일]],표8[#All],5,0)<=Table4[[#This Row],[달력날짜]],VLOOKUP(Table4[[#This Row],[요일]],표8[#All],6,0)>=Table4[[#This Row],[달력날짜]]),FALSE),VLOOKUP(Table4[[#This Row],[요일]],표8[#All],4,0),INDEX(rng일정색상,SMALL(IF($P30=rng일정,ROW(rng일정)-MIN(ROW(rng일정))+1, ""),COLUMN($B$1)))),"")} | U30: =WEEKDAY(Table4[[#This Row],[달력날짜]],2) -> 7
F31: =YEAR(G31) -> 2014 | G31: 41670 | H31: 설날 | P31: =P30+1 -> 46230 | Q31: {=IFERROR(INDEX(rng일정명,SMALL(IF($P31=rng일정,ROW(rng일정)-MIN(ROW(rng일정))+1, ""),COLUMN(A30))),"")} | R31: {=IFERROR(INDEX(rng일정색상,SMALL(IF($P31=rng일정,ROW(rng일정)-MIN(ROW(rng일정))+1, ""),COLUMN(A30))),"")} | S31: {=IFERROR(IF(IFERROR(AND(VLOOKUP(Table4[[#This Row],[요일]],표8[요일번호],1)>0,VLOOKUP(Table4[[#This Row],[요일]],표8[#All],5,0)<=Table4[[#This Row],[달력날짜]],VLOOKUP(Table4[[#This Row],[요일]],표8[#All],6,0)>=Table4[[#This Row],[달력날짜]]),FALSE),VLOOKUP(Table4[[#This Row],[요일]],표8[#All],3,0),INDEX(rng일정명,SMALL(IF($P31=rng일정,ROW(rng일정)-MIN(ROW(rng일정))+1, ""),COLUMN($B$1)))),"")} | T31: {=IFERROR(IF(IFERROR(AND(VLOOKUP(Table4[[#This Row],[요일]],표8[요일번호],1)>0,VLOOKUP(Table4[[#This Row],[요일]],표8[#All],5,0)<=Table4[[#This Row],[달력날짜]],VLOOKUP(Table4[[#This Row],[요일]],표8[#All],6,0)>=Table4[[#This Row],[달력날짜]]),FALSE),VLOOKUP(Table4[[#This Row],[요일]],표8[#All],4,0),INDEX(rng일정색상,SMALL(IF($P31=rng일정,ROW(rng일정)-MIN(ROW(rng일정))+1, ""),COLUMN($B$1)))),"")} | U31: =WEEKDAY(Table4[[#This Row],[달력날짜]],2) -> 1
F32: =YEAR(G32) -> 2014 | G32: 41671 | H32: 설날 | P32: =P31+1 -> 46231 | Q32: {=IFERROR(INDEX(rng일정명,SMALL(IF($P32=rng일정,ROW(rng일정)-MIN(ROW(rng일정))+1, ""),COLUMN(A31))),"")} | R32: {=IFERROR(INDEX(rng일정색상,SMALL(IF($P32=rng일정,ROW(rng일정)-MIN(ROW(rng일정))+1, ""),COLUMN(A31))),"")} | S32: {=IFERROR(IF(IFERROR(AND(VLOOKUP(Table4[[#This Row],[요일]],표8[요일번호],1)>0,VLOOKUP(Table4[[#This Row],[요일]],표8[#All],5,0)<=Table4[[#This Row],[달력날짜]],VLOOKUP(Table4[[#This Row],[요일]],표8[#All],6,0)>=Table4[[#This Row],[달력날짜]]),FALSE),VLOOKUP(Table4[[#This Row],[요일]],표8[#All],3,0),INDEX(rng일정명,SMALL(IF($P32=rng일정,ROW(rng일정)-MIN(ROW(rng일정))+1, ""),COLUMN($B$1)))),"")} | T32: {=IFERROR(IF(IFERROR(AND(VLOOKUP(Table4[[#This Row],[요일]],표8[요일번호],1)>0,VLOOKUP(Table4[[#This Row],[요일]],표8[#All],5,0)<=Table4[[#This Row],[달력날짜]],VLOOKUP(Table4[[#This Row],[요일]],표8[#All],6,0)>=Table4[[#This Row],[달력날짜]]),FALSE),VLOOKUP(Table4[[#This Row],[요일]],표8[#All],4,0),INDEX(rng일정색상,SMALL(IF($P32=rng일정,ROW(rng일정)-MIN(ROW(rng일정))+1, ""),COLUMN($B$1)))),"")} | U32: =WEEKDAY(Table4[[#This Row],[달력날짜]],2) -> 2
F33: =YEAR(G33) -> 2014 | G33: 41765 | H33: 석가탄신일 | P33: =P32+1 -> 46232 | Q33: {=IFERROR(INDEX(rng일정명,SMALL(IF($P33=rng일정,ROW(rng일정)-MIN(ROW(rng일정))+1, ""),COLUMN(A32))),"")} | R33: {=IFERROR(INDEX(rng일정색상,SMALL(IF($P33=rng일정,ROW(rng일정)-MIN(ROW(rng일정))+1, ""),COLUMN(A32))),"")} | S33: {=IFERROR(IF(IFERROR(AND(VLOOKUP(Table4[[#This Row],[요일]],표8[요일번호],1)>0,VLOOKUP(Table4[[#This Row],[요일]],표8[#All],5,0)<=Table4[[#This Row],[달력날짜]],VLOOKUP(Table4[[#This Row],[요일]],표8[#All],6,0)>=Table4[[#This Row],[달력날짜]]),FALSE),VLOOKUP(Table4[[#This Row],[요일]],표8[#All],3,0),INDEX(rng일정명,SMALL(IF($P33=rng일정,ROW(rng일정)-MIN(ROW(rng일정))+1, ""),COLUMN($B$1)))),"")} | T33: {=IFERROR(IF(IFERROR(AND(VLOOKUP(Table4[[#This Row],[요일]],표8[요일번호],1)>0,VLOOKUP(Table4[[#This Row],[요일]],표8[#All],5,0)<=Table4[[#This Row],[달력날짜]],VLOOKUP(Table4[[#This Row],[요일]],표8[#All],6,0)>=Table4[[#This Row],[달력날짜]]),FALSE),VLOOKUP(Table4[[#This Row],[요일]],표8[#All],4,0),INDEX(rng일정색상,SMALL(IF($P33=rng일정,ROW(rng일정)-MIN(ROW(rng일정))+1, ""),COLUMN($B$1)))),"")} | U33: =WEEKDAY(Table4[[#This Row],[달력날짜]],2) -> 3
F34: =YEAR(G34) -> 2014 | G34: 41889 | H34: 추석 | P34: =P33+1 -> 46233 | Q34: {=IFERROR(INDEX(rng일정명,SMALL(IF($P34=rng일정,ROW(rng일정)-MIN(ROW(rng일정))+1, ""),COLUMN(A33))),"")} | R34: {=IFERROR(INDEX(rng일정색상,SMALL(IF($P34=rng일정,ROW(rng일정)-MIN(ROW(rng일정))+1, ""),COLUMN(A33))),"")} | S34: {=IFERROR(IF(IFERROR(AND(VLOOKUP(Table4[[#This Row],[요일]],표8[요일번호],1)>0,VLOOKUP(Table4[[#This Row],[요일]],표8[#All],5,0)<=Table4[[#This Row],[달력날짜]],VLOOKUP(Table4[[#This Row],[요일]],표8[#All],6,0)>=Table4[[#This Row],[달력날짜]]),FALSE),VLOOKUP(Table4[[#This Row],[요일]],표8[#All],3,0),INDEX(rng일정명,SMALL(IF($P34=rng일정,ROW(rng일정)-MIN(ROW(rng일정))+1, ""),COLUMN($B$1)))),"")} | T34: {=IFERROR(IF(IFERROR(AND(VLOOKUP(Table4[[#This Row],[요일]],표8[요일번호],1)>0,VLOOKUP(Table4[[#This Row],[요일]],표8[#All],5,0)<=Table4[[#This Row],[달력날짜]],VLOOKUP(Table4[[#This Row],[요일]],표8[#All],6,0)>=Table4[[#This Row],[달력날짜]]),FALSE),VLOOKUP(Table4[[#This Row],[요일]],표8[#All],4,0),INDEX(rng일정색상,SMALL(IF($P34=rng일정,ROW(rng일정)-MIN(ROW(rng일정))+1, ""),COLUMN($B$1)))),"")} | U34: =WEEKDAY(Table4[[#This Row],[달력날짜]],2) -> 4
... F43: =YEAR(G43) -> 2015 | G43: 42275 | H43: 추석 | P43: =P42+1 -> 46242 | Q43: {=IFERROR(INDEX(rng일정명,SMALL(IF($P43=rng일정,ROW(rng일정)-MIN(ROW(rng일정))+1, ""),COLUMN(A42))),"")} | R43: {=IFERROR(INDEX(rng일정색상,SMALL(IF($P43=rng일정,ROW(rng일정)-MIN(ROW(rng일정))+1, ""),COLUMN(A42))),"")} | S43: {=IFERROR(IF(IFERROR(AND(VLOOKUP(Table4[[#This Row],[요일]],표8[요일번호],1)>0,VLOOKUP(Table4[[#This Row],[요일]],표8[#All],5,0)<=Table4[[#This Row],[달력날짜]],VLOOKUP(Table4[[#This Row],[요일]],표8[#All],6,0)>=Table4[[#This Row],[달력날짜]]),FALSE),VLOOKUP(Table4[[#This Row],[요일]],표8[#All],3,0),INDEX(rng일정명,SMALL(IF($P43=rng일정,ROW(rng일정)-MIN(ROW(rng일정))+1, ""),COLUMN($B$1)))),"")} | T43: {=IFERROR(IF(IFERROR(AND(VLOOKUP(Table4[[#This Row],[요일]],표8[요일번호],1)>0,VLOOKUP(Table4[[#This Row],[요일]],표8[#All],5,0)<=Table4[[#This Row],[달력날짜]],VLOOKUP(Table4[[#This Row],[요일]],표8[#All],6,0)>=Table4[[#This Row],[달력날짜]]),FALSE),VLOOKUP(Table4[[#This Row],[요일]],표8[#All],4,0),INDEX(rng일정색상,SMALL(IF($P43=rng일정,ROW(rng일정)-MIN(ROW(rng일정))+1, ""),COLUMN($B$1)))),"")} | U43: =WEEKDAY(Table4[[#This Row],[달력날짜]],2) -> 6
F44: =YEAR(G44) -> 2016 | G44: 42408 | H44: 설날
F45: =YEAR(G45) -> 2016 | G45: 42409 | H45: 설날
F46: =YEAR(G46) -> 2016 | G46: 42410 | H46: 설날
F47: =YEAR(G47) -> 2016 | G47: 42504 | H47: 석가탄신일
F48: =YEAR(G48) -> 2016 | G48: 42627 | H48: 추석
F49: =YEAR(G49) -> 2016 | G49: 42628 | H49: 추석
F50: =YEAR(G50) -> 2016 | G50: 42629 | H50: 추석
F51: =YEAR(G51) -> 2017 | G51: 42762 | H51: 설날
F52: =YEAR(G52) -> 2017 | G52: 42763 | H52: 설날
F53: =YEAR(G53) -> 2017 | G53: 42764 | H53: 설날
F54: =YEAR(G54) -> 2017 | G54: 42858 | H54: 석가탄신일
F55: =YEAR(G55) -> 2017 | G55: 43011 | H55: 추석/개천절
... F637: =YEAR(G637) -> 2100 | G637: 73312 | H637: 추석

Sheet 설정
B2: 회사 로고 | F2: ◀ 달력에 표시될 회사 로고를 상자안에 맞춰서 삽입하세요
B4: 시작요일 | C4: 일요일시작 | D4: =IF(C4="월요일시작",1,0) -> 0
B6: 요일명 | C6: 月 | D6: 火 | E6: 水 | F6: 木 | G6: 金 | H6: 土 | I6: 日 | J6: ◀ 익월 달력에 표시될 짧은 요일명을 입력하세요
C7: Mon | D7: Tue | E7: Wed | F7: Thu | G7: Fri | H7: Sat | I7: Sun | J7: ◀ 당월 달력에 표시될 요일명을 입력하세요.
B9: 일정 기본색상 | C9: 빨강 | D9: ◀ 색상이 지정되지 않은 일정의 기본 색상을 입력하세요.
B11: 상단 내용 | C11: 오빠두엑셀 자동화 달력 - 내용을 입력하세요 | G11: ◀ 달력 왼쪽 상단에 표시될 내용을 입력하세요
B13: 색상목록
B14: 빨강
B15: 노랑
B16: 초록
B17: 파랑

Sheet 연결이미지
B2: =TEXT(달력!AO2,"00") -> 2026 | D2: =TEXT(달력!AQ2,"00") -> 07
I5: =IF(설정!C4="월요일시작",설정!C6,설정!I6) -> 日 | J5: =IF(설정!C4="월요일시작",설정!D6,설정!C6) -> 月 | K5: =IF(설정!C4="월요일시작",설정!E6,설정!D6) -> 火 | L5: =IF(설정!C4="월요일시작",설정!F6,설정!E6) -> 水 | M5: =IF(설정!C4="월요일시작",설정!G6,설정!F6) -> 木 | N5: =IF(설정!C4="월요일시작",설정!H6,설정!G6) -> 金 | O5: =IF(설정!C4="월요일시작",설정!I6,설정!H6) -> 土 | Q5: {=IFERROR(INDEX(rng공휴일날짜,SMALL(IF(--((IF(달력!$AQ$2=12,달력!$AO$2+1,달력!$AO$2)=YEAR(rng공휴일날짜))*(IF(달력!$AQ$2=12,1,달력!$AQ$2+1)=MONTH(rng공휴일날짜))),MATCH(ROW(rng공휴일날짜),ROW(rng공휴일날짜)),""),ROWS($A$1:A1))),"")} -> 46249 | R5: {=IFERROR(INDEX(rng공휴일명,SMALL(IF(--((IF(달력!$AQ$2=12,달력!$AO$2+1,달력!$AO$2)=YEAR(rng공휴일날짜))*(IF(달력!$AQ$2=12,1,달력!$AQ$2+1)=MONTH(rng공휴일날짜))),MATCH(ROW(rng공휴일날짜),ROW(rng공휴일날짜)),""),ROWS($A$1:A1))),"")} -> 광복절 | T5: =IF(LEN(Q5)>0,TEXT(Q5,"m월 d일")&": "&R5,"") -> 8월 15일: 광복절 | U5: =IF(LEN(Q6)>0,TEXT(Q6,"m월 d일")&": "&R6,"")
I6: =COLUMN()-9+설정!$D$4+DATE(달력!$AO$2,달력!$AQ$2+1,1)-WEEKDAY(DATE(달력!$AO$2,달력!$AQ$2+1,1),2) -> 46229 | J6: =COLUMN()-9+설정!$D$4+DATE(달력!$AO$2,달력!$AQ$2+1,1)-WEEKDAY(DATE(달력!$AO$2,달력!$AQ$2+1,1),2) -> 46230 | K6: =COLUMN()-9+설정!$D$4+DATE(달력!$AO$2,달력!$AQ$2+1,1)-WEEKDAY(DATE(달력!$AO$2,달력!$AQ$2+1,1),2) -> 46231 | L6: =COLUMN()-9+설정!$D$4+DATE(달력!$AO$2,달력!$AQ$2+1,1)-WEEKDAY(DATE(달력!$AO$2,달력!$AQ$2+1,1),2) -> 46232 | M6: =COLUMN()-9+설정!$D$4+DATE(달력!$AO$2,달력!$AQ$2+1,1)-WEEKDAY(DATE(달력!$AO$2,달력!$AQ$2+1,1),2) -> 46233 | N6: =COLUMN()-9+설정!$D$4+DATE(달력!$AO$2,달력!$AQ$2+1,1)-WEEKDAY(DATE(달력!$AO$2,달력!$AQ$2+1,1),2) -> 46234 | O6: =COLUMN()-9+설정!$D$4+DATE(달력!$AO$2,달력!$AQ$2+1,1)-WEEKDAY(DATE(달력!$AO$2,달력!$AQ$2+1,1),2) -> 46235 | Q6: {=IFERROR(INDEX(rng공휴일날짜,SMALL(IF(--((IF(달력!$AQ$2=12,달력!$AO$2+1,달력!$AO$2)=YEAR(rng공휴일날짜))*(IF(달력!$AQ$2=12,1,달력!$AQ$2+1)=MONTH(rng공휴일날짜))),MATCH(ROW(rng공휴일날짜),ROW(rng공휴일날짜)),""),ROWS($A$1:A2))),"")} | R6: {=IFERROR(INDEX(rng공휴일명,SMALL(IF(--((IF(달력!$AQ$2=12,달력!$AO$2+1,달력!$AO$2)=YEAR(rng공휴일날짜))*(IF(달력!$AQ$2=12,1,달력!$AQ$2+1)=MONTH(rng공휴일날짜))),MATCH(ROW(rng공휴일날짜),ROW(rng공휴일날짜)),""),ROWS($A$1:A2))),"")} | T6: =IF(LEN(Q7)>0,TEXT(Q7,"m월 d일")&": "&R7,"") | U6: =IF(LEN(Q8)>0,TEXT(Q8,"m월 d일")&": "&R8,"")
I7: =O6+1 -> 46236 | J7: =I7+1 -> 46237 | K7: =J7+1 -> 46238 | L7: =K7+1 -> 46239 | M7: =L7+1 -> 46240 | N7: =M7+1 -> 46241 | O7: =N7+1 -> 46242 | Q7: {=IFERROR(INDEX(rng공휴일날짜,SMALL(IF(--((IF(달력!$AQ$2=12,달력!$AO$2+1,달력!$AO$2)=YEAR(rng공휴일날짜))*(IF(달력!$AQ$2=12,1,달력!$AQ$2+1)=MONTH(rng공휴일날짜))),MATCH(ROW(rng공휴일날짜),ROW(rng공휴일날짜)),""),ROWS($A$1:A3))),"")} | R7: {=IFERROR(INDEX(rng공휴일명,SMALL(IF(--((IF(달력!$AQ$2=12,달력!$AO$2+1,달력!$AO$2)=YEAR(rng공휴일날짜))*(IF(달력!$AQ$2=12,1,달력!$AQ$2+1)=MONTH(rng공휴일날짜))),MATCH(ROW(rng공휴일날짜),ROW(rng공휴일날짜)),""),ROWS($A$1:A3))),"")} | T7: =IF(LEN(Q9)>0,TEXT(Q9,"m월 d일")&": "&R9,"") | U7: =IF(LEN(Q10)>0,TEXT(Q10,"m월 d일")&": "&R10,"")
I8: =O7+1 -> 46243 | J8: =I8+1 -> 46244 | K8: =J8+1 -> 46245 | L8: =K8+1 -> 46246 | M8: =L8+1 -> 46247 | N8: =M8+1 -> 46248 | O8: =N8+1 -> 46249 | Q8: {=IFERROR(INDEX(rng공휴일날짜,SMALL(IF(--((IF(달력!$AQ$2=12,달력!$AO$2+1,달력!$AO$2)=YEAR(rng공휴일날짜))*(IF(달력!$AQ$2=12,1,달력!$AQ$2+1)=MONTH(rng공휴일날짜))),MATCH(ROW(rng공휴일날짜),ROW(rng공휴일날짜)),""),ROWS($A$1:A4))),"")} | R8: {=IFERROR(INDEX(rng공휴일명,SMALL(IF(--((IF(달력!$AQ$2=12,달력!$AO$2+1,달력!$AO$2)=YEAR(rng공휴일날짜))*(IF(달력!$AQ$2=12,1,달력!$AQ$2+1)=MONTH(rng공휴일날짜))),MATCH(ROW(rng공휴일날짜),ROW(rng공휴일날짜)),""),ROWS($A$1:A4))),"")} | T8: =IF(LEN(Q11)>0,TEXT(Q11,"m월 d일")&": "&R11,"") | U8: =IF(LEN(Q12)>0,TEXT(Q12,"m월 d일")&": "&R12,"")
I9: =O8+1 -> 46250 | J9: =I9+1 -> 46251 | K9: =J9+1 -> 46252 | L9: =K9+1 -> 46253 | M9: =L9+1 -> 46254 | N9: =M9+1 -> 46255 | O9: =N9+1 -> 46256 | Q9: {=IFERROR(INDEX(rng공휴일날짜,SMALL(IF(--((IF(달력!$AQ$2=12,달력!$AO$2+1,달력!$AO$2)=YEAR(rng공휴일날짜))*(IF(달력!$AQ$2=12,1,달력!$AQ$2+1)=MONTH(rng공휴일날짜))),MATCH(ROW(rng공휴일날짜),ROW(rng공휴일날짜)),""),ROWS($A$1:A5))),"")} | R9: {=IFERROR(INDEX(rng공휴일명,SMALL(IF(--((IF(달력!$AQ$2=12,달력!$AO$2+1,달력!$AO$2)=YEAR(rng공휴일날짜))*(IF(달력!$AQ$2=12,1,달력!$AQ$2+1)=MONTH(rng공휴일날짜))),MATCH(ROW(rng공휴일날짜),ROW(rng공휴일날짜)),""),ROWS($A$1:A5))),"")} | T9: =IF(LEN(Q13)>0,TEXT(Q13,"m월 d일")&": "&R13,"") | U9: =IF(LEN(Q14)>0,TEXT(Q14,"m월 d일")&": "&R14,"")
B10: =MONTH(DATE(달력!AO2,달력!AQ2+1,1))&"월 공휴일" -> 8월 공휴일 | I10: =O9+1 -> 46257 | J10: =I10+1 -> 46258 | K10: =J10+1 -> 46259 | L10: =K10+1 -> 46260 | M10: =L10+1 -> 46261 | N10: =M10+1 -> 46262 | O10: =N10+1 -> 46263 | Q10: {=IFERROR(INDEX(rng공휴일날짜,SMALL(IF(--((IF(달력!$AQ$2=12,달력!$AO$2+1,달력!$AO$2)=YEAR(rng공휴일날짜))*(IF(달력!$AQ$2=12,1,달력!$AQ$2+1)=MONTH(rng공휴일날짜))),MATCH(ROW(rng공휴일날짜),ROW(rng공휴일날짜)),""),ROWS($A$1:A6))),"")} | R10: {=IFERROR(INDEX(rng공휴일명,SMALL(IF(--((IF(달력!$AQ$2=12,달력!$AO$2+1,달력!$AO$2)=YEAR(rng공휴일날짜))*(IF(달력!$AQ$2=12,1,달력!$AQ$2+1)=MONTH(rng공휴일날짜))),MATCH(ROW(rng공휴일날짜),ROW(rng공휴일날짜)),""),ROWS($A$1:A6))),"")}
B11: =MONTH(DATE(달력!AO2,달력!AQ2+1,1))&"월 일정" -> 8월 일정 | I11: =O10+1 -> 46264 | J11: =I11+1 -> 46265 | K11: =J11+1 -> 46266 | L11: =K11+1 -> 46267 | M11: =L11+1 -> 46268 | N11: =M11+1 -> 46269 | O11: =N11+1 -> 46270 | Q11: {=IFERROR(INDEX(rng공휴일날짜,SMALL(IF(--((IF(달력!$AQ$2=12,달력!$AO$2+1,달력!$AO$2)=YEAR(rng공휴일날짜))*(IF(달력!$AQ$2=12,1,달력!$AQ$2+1)=MONTH(rng공휴일날짜))),MATCH(ROW(rng공휴일날짜),ROW(rng공휴일날짜)),""),ROWS($A$1:A7))),"")} | R11: {=IFERROR(INDEX(rng공휴일명,SMALL(IF(--((IF(달력!$AQ$2=12,달력!$AO$2+1,달력!$AO$2)=YEAR(rng공휴일날짜))*(IF(달력!$AQ$2=12,1,달력!$AQ$2+1)=MONTH(rng공휴일날짜))),MATCH(ROW(rng공휴일날짜),ROW(rng공휴일날짜)),""),ROWS($A$1:A7))),"")}
Q12: {=IFERROR(INDEX(rng공휴일날짜,SMALL(IF(--((IF(달력!$AQ$2=12,달력!$AO$2+1,달력!$AO$2)=YEAR(rng공휴일날짜))*(IF(달력!$AQ$2=12,1,달력!$AQ$2+1)=MONTH(rng공휴일날짜))),MATCH(ROW(rng공휴일날짜),ROW(rng공휴일날짜)),""),ROWS($A$1:A8))),"")} | R12: {=IFERROR(INDEX(rng공휴일명,SMALL(IF(--((IF(달력!$AQ$2=12,달력!$AO$2+1,달력!$AO$2)=YEAR(rng공휴일날짜))*(IF(달력!$AQ$2=12,1,달력!$AQ$2+1)=MONTH(rng공휴일날짜))),MATCH(ROW(rng공휴일날짜),ROW(rng공휴일날짜)),""),ROWS($A$1:A8))),"")}
Q13: {=IFERROR(INDEX(rng공휴일날짜,SMALL(IF(--((IF(달력!$AQ$2=12,달력!$AO$2+1,달력!$AO$2)=YEAR(rng공휴일날짜))*(IF(달력!$AQ$2=12,1,달력!$AQ$2+1)=MONTH(rng공휴일날짜))),MATCH(ROW(rng공휴일날짜),ROW(rng공휴일날짜)),""),ROWS($A$1:A9))),"")} | R13: {=IFERROR(INDEX(rng공휴일명,SMALL(IF(--((IF(달력!$AQ$2=12,달력!$AO$2+1,달력!$AO$2)=YEAR(rng공휴일날짜))*(IF(달력!$AQ$2=12,1,달력!$AQ$2+1)=MONTH(rng공휴일날짜))),MATCH(ROW(rng공휴일날짜),ROW(rng공휴일날짜)),""),ROWS($A$1:A9))),"")}
Q14: {=IFERROR(INDEX(rng공휴일날짜,SMALL(IF(--((IF(달력!$AQ$2=12,달력!$AO$2+1,달력!$AO$2)=YEAR(rng공휴일날짜))*(IF(달력!$AQ$2=12,1,달력!$AQ$2+1)=MONTH(rng공휴일날짜))),MATCH(ROW(rng공휴일날짜),ROW(rng공휴일날짜)),""),ROWS($A$1:A10))),"")} | R14: {=IFERROR(INDEX(rng공휴일명,SMALL(IF(--((IF(달력!$AQ$2=12,달력!$AO$2+1,달력!$AO$2)=YEAR(rng공휴일날짜))*(IF(달력!$AQ$2=12,1,달력!$AQ$2+1)=MONTH(rng공휴일날짜))),MATCH(ROW(rng공휴일날짜),ROW(rng공휴일날짜)),""),ROWS($A$1:A10))),"")}
Q15: {=IFERROR(INDEX(rng공휴일날짜,SMALL(IF(--((IF(달력!$AQ$2=12,달력!$AO$2+1,달력!$AO$2)=YEAR(rng공휴일날짜))*(IF(달력!$AQ$2=12,1,달력!$AQ$2+1)=MONTH(rng공휴일날짜))),MATCH(ROW(rng공휴일날짜),ROW(rng공휴일날짜)),""),ROWS($A$1:A11))),"")} | R15: {=IFERROR(INDEX(rng공휴일명,SMALL(IF(--((IF(달력!$AQ$2=12,달력!$AO$2+1,달력!$AO$2)=YEAR(rng공휴일날짜))*(IF(달력!$AQ$2=12,1,달력!$AQ$2+1)=MONTH(rng공휴일날짜))),MATCH(ROW(rng공휴일날짜),ROW(rng공휴일날짜)),""),ROWS($A$1:A11))),"")}
R16: {=IFERROR(INDEX(rng공휴일명,SMALL(IF(--((달력!$AO$2=YEAR(rng공휴일날짜))*(달력!$AQ$2=MONTH(rng공휴일날짜))),MATCH(ROW(rng공휴일날짜),ROW(rng공휴일날짜)),""),ROWS($A$1:A12))),"")}
R17: {=IFERROR(INDEX(rng공휴일명,SMALL(IF(--((달력!$AO$2=YEAR(rng공휴일날짜))*(달력!$AQ$2=MONTH(rng공휴일날짜))),MATCH(ROW(rng공휴일날짜),ROW(rng공휴일날짜)),""),ROWS($A$1:A13))),"")}
P18: {=IFERROR(INDEX(rng일정,SMALL(IF(--((IF(달력!$AQ$2=12,달력!$AO$2+1,달력!$AO$2)=YEAR(rng일정))*(IF(달력!$AQ$2=12,1,달력!$AQ$2+1)=MONTH(rng일정))),MATCH(ROW(rng일정),ROW(rng일정)),""),ROWS($A$1:A1))),"")} -> 46240 | Q18: {=IFERROR(INDEX(rng일정명,SMALL(IF(--((IF(달력!$AQ$2=12,달력!$AO$2+1,달력!$AO$2)=YEAR(rng일정))*(IF(달력!$AQ$2=12,1,달력!$AQ$2+1)=MONTH(rng일정))),MATCH(ROW(rng일정),ROW(rng일정)),""),ROWS($A$1:A1))),"")} -> ⏰ 신종코로나 긴급회의 | R18: {=IFERROR(INDEX(rng일정색상,SMALL(IF(--((IF(달력!$AQ$2=12,달력!$AO$2+1,달력!$AO$2)=YEAR(rng일정))*(IF(달력!$AQ$2=12,1,달력!$AQ$2+1)=MONTH(rng일정))),MATCH(ROW(rng일정),ROW(rng일정)),""),ROWS($A$1:A1))),"")} -> 초록 | T18: =IF(LEN(P18)>0,TEXT(P18,"mm월 dd일 (aaa)")&" :: "&Q18,"") -> 08월 06일 (목) :: ⏰ 신종코로나 긴급회의
P19: {=IFERROR(INDEX(rng일정,SMALL(IF(--((IF(달력!$AQ$2=12,달력!$AO$2+1,달력!$AO$2)=YEAR(rng일정))*(IF(달력!$AQ$2=12,1,달력!$AQ$2+1)=MONTH(rng일정))),MATCH(ROW(rng일정),ROW(rng일정)),""),ROWS($A$1:A2))),"")} | Q19: {=IFERROR(INDEX(rng일정명,SMALL(IF(--((IF(달력!$AQ$2=12,달력!$AO$2+1,달력!$AO$2)=YEAR(rng일정))*(IF(달력!$AQ$2=12,1,달력!$AQ$2+1)=MONTH(rng일정))),MATCH(ROW(rng일정),ROW(rng일정)),""),ROWS($A$1:A2))),"")} | R19: {=IFERROR(INDEX(rng일정색상,SMALL(IF(--((IF(달력!$AQ$2=12,달력!$AO$2+1,달력!$AO$2)=YEAR(rng일정))*(IF(달력!$AQ$2=12,1,달력!$AQ$2+1)=MONTH(rng일정))),MATCH(ROW(rng일정),ROW(rng일정)),""),ROWS($A$1:A2))),"")} | T19: =IF(LEN(P19)>0,TEXT(P19,"mm월 dd일 (aaa)")&" :: "&Q19,"")
P20: {=IFERROR(INDEX(rng일정,SMALL(IF(--((IF(달력!$AQ$2=12,달력!$AO$2+1,달력!$AO$2)=YEAR(rng일정))*(IF(달력!$AQ$2=12,1,달력!$AQ$2+1)=MONTH(rng일정))),MATCH(ROW(rng일정),ROW(rng일정)),""),ROWS($A$1:A3))),"")} | Q20: {=IFERROR(INDEX(rng일정명,SMALL(IF(--((IF(달력!$AQ$2=12,달력!$AO$2+1,달력!$AO$2)=YEAR(rng일정))*(IF(달력!$AQ$2=12,1,달력!$AQ$2+1)=MONTH(rng일정))),MATCH(ROW(rng일정),ROW(rng일정)),""),ROWS($A$1:A3))),"")} | R20: {=IFERROR(INDEX(rng일정색상,SMALL(IF(--((IF(달력!$AQ$2=12,달력!$AO$2+1,달력!$AO$2)=YEAR(rng일정))*(IF(달력!$AQ$2=12,1,달력!$AQ$2+1)=MONTH(rng일정))),MATCH(ROW(rng일정),ROW(rng일정)),""),ROWS($A$1:A3))),"")} | T20: =IF(LEN(P20)>0,TEXT(P20,"mm월 dd일 (aaa)")&" :: "&Q20,"")
P21: {=IFERROR(INDEX(rng일정,SMALL(IF(--((IF(달력!$AQ$2=12,달력!$AO$2+1,달력!$AO$2)=YEAR(rng일정))*(IF(달력!$AQ$2=12,1,달력!$AQ$2+1)=MONTH(rng일정))),MATCH(ROW(rng일정),ROW(rng일정)),""),ROWS($A$1:A4))),"")} | Q21: {=IFERROR(INDEX(rng일정명,SMALL(IF(--((IF(달력!$AQ$2=12,달력!$AO$2+1,달력!$AO$2)=YEAR(rng일정))*(IF(달력!$AQ$2=12,1,달력!$AQ$2+1)=MONTH(rng일정))),MATCH(ROW(rng일정),ROW(rng일정)),""),ROWS($A$1:A4))),"")} | R21: {=IFERROR(INDEX(rng일정색상,SMALL(IF(--((IF(달력!$AQ$2=12,달력!$AO$2+1,달력!$AO$2)=YEAR(rng일정))*(IF(달력!$AQ$2=12,1,달력!$AQ$2+1)=MONTH(rng일정))),MATCH(ROW(rng일정),ROW(rng일정)),""),ROWS($A$1:A4))),"")} | T21: =IF(LEN(P21)>0,TEXT(P21,"mm월 dd일 (aaa)")&" :: "&Q21,"")
P22: {=IFERROR(INDEX(rng일정,SMALL(IF(--((IF(달력!$AQ$2=12,달력!$AO$2+1,달력!$AO$2)=YEAR(rng일정))*(IF(달력!$AQ$2=12,1,달력!$AQ$2+1)=MONTH(rng일정))),MATCH(ROW(rng일정),ROW(rng일정)),""),ROWS($A$1:A5))),"")} | Q22: {=IFERROR(INDEX(rng일정명,SMALL(IF(--((IF(달력!$AQ$2=12,달력!$AO$2+1,달력!$AO$2)=YEAR(rng일정))*(IF(달력!$AQ$2=12,1,달력!$AQ$2+1)=MONTH(rng일정))),MATCH(ROW(rng일정),ROW(rng일정)),""),ROWS($A$1:A5))),"")} | R22: {=IFERROR(INDEX(rng일정색상,SMALL(IF(--((IF(달력!$AQ$2=12,달력!$AO$2+1,달력!$AO$2)=YEAR(rng일정))*(IF(달력!$AQ$2=12,1,달력!$AQ$2+1)=MONTH(rng일정))),MATCH(ROW(rng일정),ROW(rng일정)),""),ROWS($A$1:A5))),"")} | T22: =IF(LEN(P22)>0,TEXT(P22,"mm월 dd일 (aaa)")&" :: "&Q22,"")
P23: {=IFERROR(INDEX(rng일정,SMALL(IF(--((IF(달력!$AQ$2=12,달력!$AO$2+1,달력!$AO$2)=YEAR(rng일정))*(IF(달력!$AQ$2=12,1,달력!$AQ$2+1)=MONTH(rng일정))),MATCH(ROW(rng일정),ROW(rng일정)),""),ROWS($A$1:A6))),"")} | Q23: {=IFERROR(INDEX(rng일정명,SMALL(IF(--((IF(달력!$AQ$2=12,달력!$AO$2+1,달력!$AO$2)=YEAR(rng일정))*(IF(달력!$AQ$2=12,1,달력!$AQ$2+1)=MONTH(rng일정))),MATCH(ROW(rng일정),ROW(rng일정)),""),ROWS($A$1:A6))),"")} | R23: {=IFERROR(INDEX(rng일정색상,SMALL(IF(--((IF(달력!$AQ$2=12,달력!$AO$2+1,달력!$AO$2)=YEAR(rng일정))*(IF(달력!$AQ$2=12,1,달력!$AQ$2+1)=MONTH(rng일정))),MATCH(ROW(rng일정),ROW(rng일정)),""),ROWS($A$1:A6))),"")} | T23: =IF(LEN(P23)>0,TEXT(P23,"mm월 dd일 (aaa)")&" :: "&Q23,"")
P24: {=IFERROR(INDEX(rng일정,SMALL(IF(--((IF(달력!$AQ$2=12,달력!$AO$2+1,달력!$AO$2)=YEAR(rng일정))*(IF(달력!$AQ$2=12,1,달력!$AQ$2+1)=MONTH(rng일정))),MATCH(ROW(rng일정),ROW(rng일정)),""),ROWS($A$1:A7))),"")} | Q24: {=IFERROR(INDEX(rng일정명,SMALL(IF(--((IF(달력!$AQ$2=12,달력!$AO$2+1,달력!$AO$2)=YEAR(rng일정))*(IF(달력!$AQ$2=12,1,달력!$AQ$2+1)=MONTH(rng일정))),MATCH(ROW(rng일정),ROW(rng일정)),""),ROWS($A$1:A7))),"")} | R24: {=IFERROR(INDEX(rng일정색상,SMALL(IF(--((IF(달력!$AQ$2=12,달력!$AO$2+1,달력!$AO$2)=YEAR(rng일정))*(IF(달력!$AQ$2=12,1,달력!$AQ$2+1)=MONTH(rng일정))),MATCH(ROW(rng일정),ROW(rng일정)),""),ROWS($A$1:A7))),"")} | T24: =IF(LEN(P24)>0,TEXT(P24,"mm월 dd일 (aaa)")&" :: "&Q24,"")
P25: {=IFERROR(INDEX(rng일정,SMALL(IF(--((IF(달력!$AQ$2=12,달력!$AO$2+1,달력!$AO$2)=YEAR(rng일정))*(IF(달력!$AQ$2=12,1,달력!$AQ$2+1)=MONTH(rng일정))),MATCH(ROW(rng일정),ROW(rng일정)),""),ROWS($A$1:A8))),"")} | Q25: {=IFERROR(INDEX(rng일정명,SMALL(IF(--((IF(달력!$AQ$2=12,달력!$AO$2+1,달력!$AO$2)=YEAR(rng일정))*(IF(달력!$AQ$2=12,1,달력!$AQ$2+1)=MONTH(rng일정))),MATCH(ROW(rng일정),ROW(rng일정)),""),ROWS($A$1:A8))),"")} | R25: {=IFERROR(INDEX(rng일정색상,SMALL(IF(--((IF(달력!$AQ$2=12,달력!$AO$2+1,달력!$AO$2)=YEAR(rng일정))*(IF(달력!$AQ$2=12,1,달력!$AQ$2+1)=MONTH(rng일정))),MATCH(ROW(rng일정),ROW(rng일정)),""),ROWS($A$1:A8))),"")} | T25: =IF(LEN(P25)>0,TEXT(P25,"mm월 dd일 (aaa)")&" :: "&Q25,"")
P26: {=IFERROR(INDEX(rng일정,SMALL(IF(--((IF(달력!$AQ$2=12,달력!$AO$2+1,달력!$AO$2)=YEAR(rng일정))*(IF(달력!$AQ$2=12,1,달력!$AQ$2+1)=MONTH(rng일정))),MATCH(ROW(rng일정),ROW(rng일정)),""),ROWS($A$1:A9))),"")} | Q26: {=IFERROR(INDEX(rng일정명,SMALL(IF(--((IF(달력!$AQ$2=12,달력!$AO$2+1,달력!$AO$2)=YEAR(rng일정))*(IF(달력!$AQ$2=12,1,달력!$AQ$2+1)=MONTH(rng일정))),MATCH(ROW(rng일정),ROW(rng일정)),""),ROWS($A$1:A9))),"")} | R26: {=IFERROR(INDEX(rng일정색상,SMALL(IF(--((IF(달력!$AQ$2=12,달력!$AO$2+1,달력!$AO$2)=YEAR(rng일정))*(IF(달력!$AQ$2=12,1,달력!$AQ$2+1)=MONTH(rng일정))),MATCH(ROW(rng일정),ROW(rng일정)),""),ROWS($A$1:A9))),"")} | T26: =IF(LEN(P26)>0,TEXT(P26,"mm월 dd일 (aaa)")&" :: "&Q26,"")
P27: {=IFERROR(INDEX(rng일정,SMALL(IF(--((IF(달력!$AQ$2=12,달력!$AO$2+1,달력!$AO$2)=YEAR(rng일정))*(IF(달력!$AQ$2=12,1,달력!$AQ$2+1)=MONTH(rng일정))),MATCH(ROW(rng일정),ROW(rng일정)),""),ROWS($A$1:A10))),"")} | Q27: {=IFERROR(INDEX(rng일정명,SMALL(IF(--((IF(달력!$AQ$2=12,달력!$AO$2+1,달력!$AO$2)=YEAR(rng일정))*(IF(달력!$AQ$2=12,1,달력!$AQ$2+1)=MONTH(rng일정))),MATCH(ROW(rng일정),ROW(rng일정)),""),ROWS($A$1:A10))),"")} | R27: {=IFERROR(INDEX(rng일정색상,SMALL(IF(--((IF(달력!$AQ$2=12,달력!$AO$2+1,달력!$AO$2)=YEAR(rng일정))*(IF(달력!$AQ$2=12,1,달력!$AQ$2+1)=MONTH(rng일정))),MATCH(ROW(rng일정),ROW(rng일정)),""),ROWS($A$1:A10))),"")} | T27: =IF(LEN(P27)>0,TEXT(P27,"mm월 dd일 (aaa)")&" :: "&Q27,"")
P28: {=IFERROR(INDEX(rng일정,SMALL(IF(--((IF(달력!$AQ$2=12,달력!$AO$2+1,달력!$AO$2)=YEAR(rng일정))*(IF(달력!$AQ$2=12,1,달력!$AQ$2+1)=MONTH(rng일정))),MATCH(ROW(rng일정),ROW(rng일정)),""),ROWS($A$1:A11))),"")} | Q28: {=IFERROR(INDEX(rng일정명,SMALL(IF(--((IF(달력!$AQ$2=12,달력!$AO$2+1,달력!$AO$2)=YEAR(rng일정))*(IF(달력!$AQ$2=12,1,달력!$AQ$2+1)=MONTH(rng일정))),MATCH(ROW(rng일정),ROW(rng일정)),""),ROWS($A$1:A11))),"")} | R28: {=IFERROR(INDEX(rng일정색상,SMALL(IF(--((IF(달력!$AQ$2=12,달력!$AO$2+1,달력!$AO$2)=YEAR(rng일정))*(IF(달력!$AQ$2=12,1,달력!$AQ$2+1)=MONTH(rng일정))),MATCH(ROW(rng일정),ROW(rng일정)),""),ROWS($A$1:A11))),"")} | T28: =IF(LEN(P28)>0,TEXT(P28,"mm월 dd일 (aaa)")&" :: "&Q28,"")
