Workbook

Sheet 회사정보
B2: ■ 회사정보 | E2: ■ 현장 정보
B3: 구분 | C3: 기본정보 | E3: 현장명 | F3: 주소 | G3: 책임자 | H3: 전화번호
B4: 상호(법인명) | C4: (주)아쉬워요 | E4: 쏘나타 | F4: 강원도 춘천시 | G4: 노동일 | H4: 010-
B5: 성명(대표자) | C5: 아쉬워 | E5: 아코디언 | F5: 경기도 가평 | G5: 노동이 | H5: 010-
B6: 사업자등록번호 | C6: 000-00-0000 | E6: 심벌 | F6: 서울특별시 서울구 | G6: 노동삼 | H6: 010-
B7: 주민(법인)등록번호 | C7: 00000-00000
B8: 소재지(주소) | C8: 경기도 하남시
B9: 전화번호 | C9: 031-000-0000
B10: E-mail | C10: yyyy@naver.com

Sheet 일용근로자명부
A2: 성명
A5: 성명 | B5: 주민번호 | C5: 연락처 | D5: 주소 | E5: 현장 | F5: 직종 | G5: 일당 | H5: 시급 | I5: 경비등 | J5: 고용보험 | K5: 국민연금 | L5: 건강보험 | M5: 장기요양 | N5: 사업소득 | O5: 기타소득 | P5: 은행 | Q5: 계좌번호
A6: 김철수 | B6: 111111-1111111 | C6: 010-8888-8888 | D6: 서울특별시 강남구 역삼동 | E6: 쏘나타 | F6: 서비스 | G6: 150000 | J6: ○ | K6: ○ | L6: ○ | M6: ○ | P6: 농협 | Q6: 000-0000-0000-00
A7: 박문수 | B7: 220202-3333333 | C7: 010-9999-9999 | D7: 서울특별시 강남구 역삼동 | E7: 아코디언 | F7: 서비스 | G7: 120000 | N7: ○ | P7: 신한 | Q7: 111-111111-11
A8: 한문철 | B8: 1212121-341413 | C8: 010-1234-1234 | D8: 강원도 춘천시 춘천로 | E8: 심벌 | F8: 서비스 | G8: 110000 | J8: ○ | K8: ○ | L8: ○ | M8: ○ | P8: 국민 | Q8: 222-22-2222-2
A9: 이기자 | B9: 660606-1234567 | C9: 010-2345-2345 | D9: 강원도 춘천시 중앙로 | E9: 심벌 | F9: 서비스 | G9: 115000 | J9: ○ | K9: ○ | L9: ○ | M9: ○ | P9: 농협 | Q9: 010-0101-0101-00
A10: 업로드 | B10: 550505-1345789 | C10: 010-3456-3456 | D10: 강원도 원주시 원주동 | E10: 쏘나타 | F10: 서비스 | G10: 150000 | N10: ○ | P10: 신한 | Q10: 222-10110101-10
A11: 빙그레 | B11: 770707-1471541 | C11: 010-4567-4567 | D11: 경기도 수원시 수원동 | E11: 아코디언 | F11: 서비스 | G11: 130000 | J11: ○ | K11: ○ | L11: ○ | M11: ○ | P11: 국민 | Q11: 333-333-33-3333
A12: 홍길동 | B12: 123456-1111111 | C12: 010-0000-0000 | D12: 경기도 주유시 주유동 | E12: 심벌 | F12: 서비스 | G12: 140000 | N12: ○ | P12: 신협 | Q12: 1101-001-000-000
A13: 한걸음 | B13: 124674-1346724 | C13: 010-1111-1111 | D13: 서울특별시 강남구 역삼동 | E13: 쏘나타 | F13: 서비스 | G13: 125000 | J13: ○ | K13: ○ | L13: ○ | M13: ○ | P13: 우체국 | Q13: 01010-000-00003
A14: 지우개 | B14: 252425-3142151 | C14: 010-2222-2222 | D14: 서울특별시 강남구 역삼동 | E14: 아코디언 | F14: 서비스 | G14: 100000 | J14: ○ | K14: ○ | L14: ○ | M14: ○ | P14: 농협 | Q14: 333-33-3333333
A15: 색연필 | B15: 000101-3131313 | C15: 010-3334-3333 | D15: 강원도 춘천시 춘천로 | E15: 아코디언 | F15: 서비스 | G15: 100000 | J15: ○ | K15: ○ | L15: ○ | M15: ○ | P15: 신한 | Q15: 121-01-012345
A16: 이몽룡 | B16: 170210-3414515 | C16: 010-4444-4444 | D16: 강원도 춘천시 중앙로 | E16: 심벌 | F16: 서비스 | G16: 150000 | J16: ○ | K16: ○ | L16: ○ | M16: ○ | P16: 국민 | Q16: 321-32-333333
A17: 성춘향 | B17: 170303-4444444 | C17: 010-5555-5555 | D17: 강원도 원주시 원주동 | E17: 쏘나타 | F17: 서비스 | G17: 100000 | N17: ○ | P17: 농협 | Q17: 302-1234-123456789
A18: 마이클 | B18: 450405-1214124 | C18: 010-6666-6666 | D18: 경기도 수원시 수원동 | E18: 쏘나타 | F18: 서비스 | G18: 150000 | J18: ○ | K18: ○ | L18: ○ | M18: ○ | P18: 신한 | Q18: 110-01-131415
A19: 제이크 | B19: 050505-1050742 | C19: 010-7777-7777 | D19: 경기도 주유시 주유동 | E19: 심벌 | F19: 서비스 | G19: 150000 | J19: ○ | K19: ○ | L19: ○ | M19: ○ | P19: 국민 | Q19: 212-121-121212
P20: 신협 | Q20: 454-43-412486

Sheet 출근기록
B2: 현장명 | C2: 출근일자
B3: 2
A5: NO | B5: 성명 | C5: 출근시간 | D5: 퇴근시간 | E5: 근무시간 | F5: 일급 | G5: 경비등 | H5: 주민등록번호 | I5: 연락처 | J5: 주소 | K5: 직종 | L5: 시급 | M5: 고용보험 | N5: 국민연금 | O5: 건강보험 | P5: 장기요양 | Q5: 사업소득 | R5: 기타소득 | S5: 비고

Sheet 일용노무비지급명세서
B3: 상호명 : | C3: =회사정보!C4 -> (주)아쉬워요 | G3: 일용노무비지급명세서 | Y3: 기간 | AD3: 현장
B5: 직종 | C5: 성명 | D5: 주민등록번호 | E5: 연락처 | F5: 주소 | G5: 출력사항 | X5: 지급액 | AA5: 공제내역 | AF5: 차감지급액 A+B -C | AG5: 영수
W6: 근무시간 | X6: 급여 (과세) A | Y6: 경비등 (비과세) B | Z6: 총액 A+B | AA6: 소득세 | AB6: 고용보험 | AC6: 국민연금 | AD6: 사업소득 | AE6: 총공제액 C
AA7: 지방세 | AB7: 건강보험 | AC7: 장기요양 | AD7: 기타소득

Sheet 일용근로소득지급명세서
B1: 일용직 노무비 지급 명세서
B3: 회사명 | E3: =회사정보!C4 -> (주)아쉬워요
B4: 현장명
B5: 성명
B6: 생년월일
B7: 지급일
B10: 세전지급내역 | E10: 공제내역
B11: 임금항목 | D11: 지급금액(원) | E11: 공제항목 | F11: 공제금액(원)
B12: 과세항목 | C12: 세전지급액 | E12: 소득세
E13: 지방소득세
E14: 고용보험
C15: 계 | D15: =SUM(D12:D14) -> 0 | E15: 국민연금
B16: 비과세항목 | C16: 경비 | E16: 건강보험
E17: 장기요양보험료
E18: 사업소득
C19: 계 | D19: =SUM(D16:D18) -> 0 | E19: 기타소득
B20: 세전지급액 계 | D20: =D15+D19 -> 0 | E20: 공제액 계 | F20: =SUM(F12:F19) -> 0
B21: 실지급액 ( 세전지급액 - 공제액) | E21: =D20-F20 -> 0

Sheet 근로계약서
D1: 일 용 근 로 계 약 서
A3: ( 甲 ) 사 용 자 | B3: 상 호 | E3: =회사정보!C4 -> (주)아쉬워요 | K3: 성 명 | M3: =회사정보!C5 -> 아쉬워
B4: 주 소 | E4: =회사정보!C8 -> 경기도 하남시 | K4: 전 화 | M4: =회사정보!C10 -> yyyy@naver.com
A5: ( 乙 ) 근 로 자 | B5: 성 명 | K5: 주민등록번호
B6: 주 소 | K6: 핸드폰 번호
B7: 계 좌 번 호 | I7: 은행 : | J7: =[1]근로자명부!K4 -> 농협 | L7: 예금주 :
A8: 아래의 근로 조건을 성실히 이행할 것을 약정하고 근로계약을 체결한다.
A9: ― 아 래 ―
A10: 근 로 장 소 | I10: 공종 또는 직종
A11: 계약기간 | B11: 1. | C11: 본 계약은 일용직 근로계약으로, 甲과 乙사이의 근로관계는 1일 단위로 성립된다. 다만, 실무적 편의를
C12: 고려하여, 본 계약의 근로조건에 별도의 변경이 없는 경우, 甲과 乙이 상호 동의한 것으로 보아 계약은 자동으로 갱신된
C13: 것으로 간주한다. 이 경우 매일 새로운 근로계약이 체결된 것으로 본다.
B14: 2. | C14: 공사기간 중에라도 乙이 속한 공종 또는 작업구간의 종료, 천재지변, 날씨, 발주처 또는 원도급 측의 사정, 설계변경,
C15: 행정명령 등에 의하여 공사가 중단된 경우에는 근로관계는 종료된다.
A16: 임 금 | B16: 1. | C16: 甲은 乙의 근로형태 등 업무의 특성을 고려하여 乙에게 불이익이 없는 범위에서 아래 "2"와 같이 포괄
C17: 산정임금으로 산정된 일당 | F17: 122200 | H17: 을 출력 일수에 따라 1개월 단위로 매월 10 일 에 지급한다.
B18: 2. | C18: ① | D18: 기 본 급 | F18: 8 | G18: 시간 | H18: =K19*8 -> 0 | P18: 검토용 | S18: 시 급 액 : | T18: =O16/SUM(O17:O21) -> #DIV/0! | U18: 일 급 액 : | W18: =[1]근로자명부!P3 -> 0
C19: ② | D19: 유급주휴수당 | F19: 1.6 | G19: 시간 | H19: =K19*1.6 -> 0 | P19: 2026년 최저임금 | S19: 일 당 총 액 : | U19: =Q17+Q18+Q19+Q20+Q21 -> #VALUE!
C20: ③ | D20: 연장근로수당 | F20: 0.67 | G20: 시간 | H20: =K19*0.67 -> 0 | P20: 10320 | Q20: 원
C21: ④ | D21: 공휴일근로수당 | F21: 1.2 | G21: 시간 | H21: =K19*1.2 -> 0 | P21: *최저임금 미달시 오류메시지 표시
C22: ⑤ | D22: 연차수당 | F22: 0.37 | G22: 시간 | H22: =K19*0.37 -> 0
B23: 3. | C23: 매월 급여 지급시 근로소득세 및 고용보험료, 의료보험료, 국민연금 등의 원천징수 대상이 된 경우 공제 후
C24: 지급한다. 급여는 乙의 온라인 계좌 입금을 원칙으로 한다.
A25: 근 로 시 간 | B25: 1. | C25: 시업 시각 07:00, 종업시각 17:00 / 휴게시간 ( 2시간 )
B26: 2. | C26: 근로시간은 휴게시간을 제외하고 1일 8시간 1주 40시간으로, 1주일에 12시간의 범위 내에서 甲의 지시에
C27: 의한 연장근로를 수행함에 동의한다.
A28: 휴 게 시 간 | B28: 휴게시간 2시간 ( 11:30-13:00-점심시간, 09:00-09:15, 15:00-15:15)
A29: 휴 가 | B29: 1. | C29: 생리휴가 : 여성근로자가 생리휴가를 청구하면 무급으로 부여 한다.
B30: 2. | C30: 연차휴가 : 근로기준법 기준에 따라 연차 휴가 발생시 유급으로 부여 한다.
A31: 휴 일 | B31: 주휴일(전 주간 만근하였을 경우 1일의 유급 주휴일을 부여한다.)
A32: 채 용 결 격 사 유 | B32: 불법 체류자, 지명수배 중에 있는 자, 채용시 고혈압 및 척추질환 등 업무 수행에 곤란을 초래할 수 있는 자는
B33: 채용될 수 없으며, 위 사실이 추후 발견된 경우 본 근로계약은 해지 된다.
A34: 근로계약 해지사유 | B34: 1. | C34: 공정이 종료되었을 때 및 甲 또는 乙이 재 계약을 원하지 않을 때
B35: 2. | C35: 안전수칙 불이행/근무태만/근무지 무단이탈/무단조퇴 등을 한 경우
B36: 3. | C36: 정당한 업무지시 불이행 및 고의 . 중대한 과실로 사고나 손실을 야기 시킨 경우
B37: 4. | C37: 신체(고혈압, 디스크 포함) . 정신상 장애로 해당 업무를 수행할 수 없거나 질병 악화의 가능성이 있는 경우
B38: 5. | C38: 현장에 출력하여 업무수행능력이 부족하다고 판정된 경우
A39: 기 타 근 로 조 건 | B39: 1. | C39: 본 계약서 상에 명시 되지 않은 사항은 근로기준법에 따른다
B40: 2. | C40: 현장에 출력하여 업무수행능력이 부족하다고 판정된 경우 급여 책정을 다시 할 수 있다.
A41: 근로계약서 교부 | B41: 근로계약서를 정히 교부 받았음을 확인 합니다. 수령자 성명 : (인)
...
