Workbook
Name ㅇㄹ: '1호기 RowData'!E1048564:G1048568

Sheet 1호기 RowData
B4: 보고연결 | C4: 작업일 | D4: 설비명 | E4: 순번 | F4: 순번1 | H4: 품명 | I4: TYPE | J4: Lot No | K4: 투입 시간 | L4: 속도 | M4: 온도 | N4: 생산량 | O4: 잔업 | P4: 가동시간 | Q4: 이음매 | R4: L | S4: C | T4: R | U4: 측정 Range | V4: 전체 Range | W4: 색차평균 | X4: 그래프
B5: =C5&E5&F5 -> 4618111 | C5: 46181 | D5: 1 | E5: =IF(C5<>C4,1,IF(J5<>J4,E4+1,E4)) -> 1 | F5: =IF(J5=J4,F4+1,1) -> 1 | K5: 0.35416667 | L5: 4.3 | M5: 320 | N5: 210 | P5: =IFERROR((N5/L5)/60/24,"") -> 0.033914729 | R5: 67.8 | S5: 68.3 | T5: 68.6 | U5: =MAX(R5:T5)-MIN(R5:T5) -> 0.8 | V5: =MAX(R5:T9)-MIN(R5:T9) -> 1.2 | W5: =IFERROR(AVERAGE(R5:T9),"") -> 67.789333
B6: =C6&E6&F6 -> 4618112 | C6: 46181 | D6: 1 | E6: =IF(C6<>C5,1,IF(J6<>J5,E5+1,E5)) -> 1 | F6: =IF(J6=J5,F5+1,1) -> 2 | L6: 4.4 | R6: 67.5 | S6: 67.7 | T6: 68.14 | U6: =MAX(R6:T6)-MIN(R6:T6) -> 0.64
B7: =C7&E7&F7 -> 4618113 | C7: 46181 | D7: 1 | E7: =IF(C7<>C6,1,IF(J7<>J6,E6+1,E6)) -> 1 | F7: =IF(J7=J6,F6+1,1) -> 3 | L7: 4.8 | R7: 67.4 | S7: 67.5 | T7: 67.8 | U7: =MAX(R7:T7)-MIN(R7:T7) -> 0.4
B8: =C8&E8&F8 -> 4618114 | C8: 46181 | D8: 1 | E8: =IF(C8<>C7,1,IF(J8<>J7,E7+1,E7)) -> 1 | F8: =IF(J8=J7,F7+1,1) -> 4 | L8: 4.8 | R8: 67.6 | S8: 67.7 | T8: 68 | U8: =MAX(R8:T8)-MIN(R8:T8) -> 0.4
B9: =C9&E9&F9 -> 4618115 | C9: 46181 | D9: 1 | E9: =IF(C9<>C8,1,IF(J9<>J8,E8+1,E8)) -> 1 | F9: =IF(J9=J8,F8+1,1) -> 5 | L9: 4.8 | R9: 67.5 | S9: 67.7 | T9: 67.6 | U9: =MAX(R9:T9)-MIN(R9:T9) -> 0.2
B10: =C10&E10&F10 -> 4618116 | C10: 46181 | D10: 1 | E10: =IF(C10<>C9,1,IF(J10<>J9,E9+1,E9)) -> 1 | F10: =IF(J10=J9,F9+1,1) -> 6 | H10: 5행을 복사하여 아래로 반복해서 데이터를 쌓을 예정인데 그래프도 자동으로 반영을 하고 싶어요 일일이 변경해주고 있어요… | K10: 0.35416667 | L10: 4.3 | M10: 320 | N10: 210 | P10: =IFERROR((N10/L10)/60/24,"") -> 0.033914729 | R10: 67.4 | S10: 67.6 | T10: 67.5 | U10: =MAX(R10:T10)-MIN(R10:T10) -> 0.2 | V10: =MAX(R10:T14)-MIN(R10:T14) -> 0.8 | W10: =IFERROR(AVERAGE(R10:T14),"") -> 67.466667
B11: =C11&E11&F11 -> 4618117 | C11: 46181 | D11: 1 | E11: =IF(C11<>C10,1,IF(J11<>J10,E10+1,E10)) -> 1 | F11: =IF(J11=J10,F10+1,1) -> 7 | L11: 4.4 | R11: 67.2 | S11: 67.6 | T11: 67.5 | U11: =MAX(R11:T11)-MIN(R11:T11) -> 0.4
B12: =C12&E12&F12 -> 4618118 | C12: 46181 | D12: 1 | E12: =IF(C12<>C11,1,IF(J12<>J11,E11+1,E11)) -> 1 | F12: =IF(J12=J11,F11+1,1) -> 8 | L12: 4.8 | R12: 67 | S12: 67.6 | T12: 67.4 | U12: =MAX(R12:T12)-MIN(R12:T12) -> 0.6
B13: =C13&E13&F13 -> 4618119 | C13: 46181 | D13: 1 | E13: =IF(C13<>C12,1,IF(J13<>J12,E12+1,E12)) -> 1 | F13: =IF(J13=J12,F12+1,1) -> 9 | L13: 4.8 | R13: 67.3 | S13: 67.6 | T13: 67.5 | U13: =MAX(R13:T13)-MIN(R13:T13) -> 0.3
B14: =C14&E14&F14 -> 46181110 | C14: 46181 | D14: 1 | E14: =IF(C14<>C13,1,IF(J14<>J13,E13+1,E13)) -> 1 | F14: =IF(J14=J13,F13+1,1) -> 10 | L14: 4.8 | R14: 67.3 | S14: 67.8 | T14: 67.7 | U14: =MAX(R14:T14)-MIN(R14:T14) -> 0.5
B15: =C15&E15&F15 -> 46181111 | C15: 46181 | D15: 1 | E15: =IF(C15<>C14,1,IF(J15<>J14,E14+1,E14)) -> 1 | F15: =IF(J15=J14,F14+1,1) -> 11 | K15: 0.35416667 | L15: 4.3 | M15: 320 | N15: 210 | P15: =IFERROR((N15/L15)/60/24,"") -> 0.033914729 | R15: 67.4 | S15: 67.6 | T15: 67.5 | U15: =MAX(R15:T15)-MIN(R15:T15) -> 0.2 | V15: =MAX(R15:T19)-MIN(R15:T19) -> 0.8 | W15: =IFERROR(AVERAGE(R15:T19),"") -> 67.466667
B16: =C16&E16&F16 -> 46181112 | C16: 46181 | D16: 1 | E16: =IF(C16<>C15,1,IF(J16<>J15,E15+1,E15)) -> 1 | F16: =IF(J16=J15,F15+1,1) -> 12 | L16: 4.4 | R16: 67.2 | S16: 67.6 | T16: 67.5 | U16: =MAX(R16:T16)-MIN(R16:T16) -> 0.4
B17: =C17&E17&F17 -> 46181113 | C17: 46181 | D17: 1 | E17: =IF(C17<>C16,1,IF(J17<>J16,E16+1,E16)) -> 1 | F17: =IF(J17=J16,F16+1,1) -> 13 | L17: 4.8 | R17: 67 | S17: 67.6 | T17: 67.4 | U17: =MAX(R17:T17)-MIN(R17:T17) -> 0.6
B18: =C18&E18&F18 -> 46181114 | C18: 46181 | D18: 1 | E18: =IF(C18<>C17,1,IF(J18<>J17,E17+1,E17)) -> 1 | F18: =IF(J18=J17,F17+1,1) -> 14 | L18: 4.8 | R18: 67.3 | S18: 67.6 | T18: 67.5 | U18: =MAX(R18:T18)-MIN(R18:T18) -> 0.3
B19: =C19&E19&F19 -> 46181115 | C19: 46181 | D19: 1 | E19: =IF(C19<>C18,1,IF(J19<>J18,E18+1,E18)) -> 1 | F19: =IF(J19=J18,F18+1,1) -> 15 | L19: 4.8 | R19: 67.3 | S19: 67.8 | T19: 67.7 | U19: =MAX(R19:T19)-MIN(R19:T19) -> 0.5

Sheet 보고
B3: 생산 Line | C3: 1호기 | M3: 날짜 | N3: 2026년 | O3: 46181
A4: Rowdata 연결 | B4: 1 | C4: 실 측 ( 규격 : 66.5 ~ 71.0 ) | K4: 목표 | N4: 목표 대비 실적
C5: 속도 | D5: L | E5: C | F5: R | G5: 평균 | H5: Min | I5: Max | J5: Max-min | K5: 평균 | L5: Min | M5: Max | N5: 평균 | O5: Min | P5: Max
A6: 1 | B6: =VLOOKUP($O$3&B$4&$A6,'1호기 RowData'!$B:$W,MATCH("품명",'1호기 RowData'!$B$4:$W$4,0),0) -> 0 | C6: =VLOOKUP($O$3&B$4&$A6,'1호기 RowData'!$B:$W,MATCH(C$5,'1호기 RowData'!$B$4:$W$4,0),0) -> 4.3 | D6: =VLOOKUP($O$3&B$4&$A6,'1호기 RowData'!$B:$W,MATCH(D$5,'1호기 RowData'!$B$4:$W$4,0),0) -> 67.8 | E6: =VLOOKUP($O$3&B$4&$A6,'1호기 RowData'!$B:$W,MATCH(E$5,'1호기 RowData'!$B$4:$W$4,0),0) -> 68.3 | F6: =VLOOKUP($O$3&B$4&$A6,'1호기 RowData'!$B:$W,MATCH(F$5,'1호기 RowData'!$B$4:$W$4,0),0) -> 68.6 | G6: =AVERAGE(D6:F6) -> 68.233333 | H6: =MIN(D6:F6) -> 67.8 | I6: =MAX(D6:F6) -> 68.6 | J6: =I6-H6 -> 0.8 | K6: =AVERAGE(L6:M6) -> 67.8 | L6: 66.9 | M6: 68.7 | N6: =G6-K6 -> 0.43333333 | O6: =H6-L6 -> 0.9 | P6: =I6-M6 -> -0.1
A7: 2 | B7: =VLOOKUP($O$3&B$4&$A7,'1호기 RowData'!$B:$W,MATCH("이음매",'1호기 RowData'!$B$4:$W$4,0),0) -> 0 | C7: =VLOOKUP($O$3&B$4&$A7,'1호기 RowData'!$B:$W,MATCH(C$5,'1호기 RowData'!$B$4:$W$4,0),0) -> 4.4 | D7: =VLOOKUP($O$3&B$4&$A7,'1호기 RowData'!$B:$W,MATCH(D$5,'1호기 RowData'!$B$4:$W$4,0),0) -> 67.5 | E7: =VLOOKUP($O$3&B$4&$A7,'1호기 RowData'!$B:$W,MATCH(E$5,'1호기 RowData'!$B$4:$W$4,0),0) -> 67.7 | F7: =VLOOKUP($O$3&B$4&$A7,'1호기 RowData'!$B:$W,MATCH(F$5,'1호기 RowData'!$B$4:$W$4,0),0) -> 68.14 | G7: =AVERAGE(D7:F7) -> 67.78 | H7: =MIN(D7:F7) -> 67.5 | I7: =MAX(D7:F7) -> 68.14 | J7: =I7-H7 -> 0.64 | K7: =AVERAGE(L7:M7) -> 67.8 | L7: 66.9 | M7: 68.7 | N7: =G7-K7 -> -0.02 | O7: =H7-L7 -> 0.6 | P7: =I7-M7 -> -0.56
A8: 3 | B8: =VLOOKUP($O$3&B$4&$A8,'1호기 RowData'!$B:$W,MATCH("이음매",'1호기 RowData'!$B$4:$W$4,0),0) -> 0 | C8: =VLOOKUP($O$3&B$4&$A8,'1호기 RowData'!$B:$W,MATCH(C$5,'1호기 RowData'!$B$4:$W$4,0),0) -> 4.8 | D8: =VLOOKUP($O$3&B$4&$A8,'1호기 RowData'!$B:$W,MATCH(D$5,'1호기 RowData'!$B$4:$W$4,0),0) -> 67.4 | E8: =VLOOKUP($O$3&B$4&$A8,'1호기 RowData'!$B:$W,MATCH(E$5,'1호기 RowData'!$B$4:$W$4,0),0) -> 67.5 | F8: =VLOOKUP($O$3&B$4&$A8,'1호기 RowData'!$B:$W,MATCH(F$5,'1호기 RowData'!$B$4:$W$4,0),0) -> 67.8 | G8: =AVERAGE(D8:F8) -> 67.566667 | H8: =MIN(D8:F8) -> 67.4 | I8: =MAX(D8:F8) -> 67.8 | J8: =I8-H8 -> 0.4 | K8: =AVERAGE(L8:M8) -> 67.8 | L8: 66.9 | M8: 68.7 | N8: =G8-K8 -> -0.23333333 | O8: =H8-L8 -> 0.5 | P8: =I8-M8 -> -0.9
A9: 4 | B9: =VLOOKUP($O$3&B$4&$A9,'1호기 RowData'!$B:$W,MATCH("이음매",'1호기 RowData'!$B$4:$W$4,0),0) -> 0 | C9: =VLOOKUP($O$3&B$4&$A9,'1호기 RowData'!$B:$W,MATCH(C$5,'1호기 RowData'!$B$4:$W$4,0),0) -> 4.8 | D9: =VLOOKUP($O$3&B$4&$A9,'1호기 RowData'!$B:$W,MATCH(D$5,'1호기 RowData'!$B$4:$W$4,0),0) -> 67.6 | E9: =VLOOKUP($O$3&B$4&$A9,'1호기 RowData'!$B:$W,MATCH(E$5,'1호기 RowData'!$B$4:$W$4,0),0) -> 67.7 | F9: =VLOOKUP($O$3&B$4&$A9,'1호기 RowData'!$B:$W,MATCH(F$5,'1호기 RowData'!$B$4:$W$4,0),0) -> 68 | G9: =AVERAGE(D9:F9) -> 67.766667 | H9: =MIN(D9:F9) -> 67.6 | I9: =MAX(D9:F9) -> 68 | J9: =I9-H9 -> 0.4 | K9: =AVERAGE(L9:M9) -> 67.8 | L9: 66.9 | M9: 68.7 | N9: =G9-K9 -> -0.033333333 | O9: =H9-L9 -> 0.7 | P9: =I9-M9 -> -0.7
A10: 5 | B10: =VLOOKUP($O$3&B$4&$A10,'1호기 RowData'!$B:$W,MATCH("이음매",'1호기 RowData'!$B$4:$W$4,0),0) -> 0 | C10: =VLOOKUP($O$3&B$4&$A10,'1호기 RowData'!$B:$W,MATCH(C$5,'1호기 RowData'!$B$4:$W$4,0),0) -> 4.8 | D10: =VLOOKUP($O$3&B$4&$A10,'1호기 RowData'!$B:$W,MATCH(D$5,'1호기 RowData'!$B$4:$W$4,0),0) -> 67.5 | E10: =VLOOKUP($O$3&B$4&$A10,'1호기 RowData'!$B:$W,MATCH(E$5,'1호기 RowData'!$B$4:$W$4,0),0) -> 67.7 | F10: =VLOOKUP($O$3&B$4&$A10,'1호기 RowData'!$B:$W,MATCH(F$5,'1호기 RowData'!$B$4:$W$4,0),0) -> 67.6 | G10: =AVERAGE(D10:F10) -> 67.6 | H10: =MIN(D10:F10) -> 67.5 | I10: =MAX(D10:F10) -> 67.7 | J10: =I10-H10 -> 0.2 | K10: =AVERAGE(L10:M10) -> 67.8 | L10: 66.9 | M10: 68.7 | N10: =G10-K10 -> -0.2 | O10: =H10-L10 -> 0.6 | P10: =I10-M10 -> -1
B11: 평균 | D11: =AVERAGE(D6:D10) -> 67.56 | E11: =AVERAGE(E6:E10) -> 67.78 | F11: =AVERAGE(F6:F10) -> 68.028 | G11: =AVERAGE(D11:F11) -> 67.789333 | K11: 특이 사항 | L11: Lot No | N11: =VLOOKUP($O$3&B$4&$A6,'1호기 RowData'!$B:$W,MATCH(L$11,'1호기 RowData'!$B$4:$W$4,0),0) -> 0
B12: Min | D12: =MIN(D6:D10) -> 67.4 | E12: =MIN(E6:E10) -> 67.5 | F12: =MIN(F6:F10) -> 67.6 | H12: =MIN(D12:F12) -> 67.4 | L12: 투입 시간 | N12: =VLOOKUP($O$3&B$4&$A6,'1호기 RowData'!$B:$W,MATCH(L$12,'1호기 RowData'!$B$4:$W$4,0),0) -> 0.35416667
B13: Max | D13: =MAX(D6:D10) -> 67.8 | E13: =MAX(E6:E10) -> 68.3 | F13: =MAX(F6:F10) -> 68.6 | I13: =MAX(D13:F13) -> 68.6
B14: Max-Min | D14: =D13-D12 -> 0.4 | E14: =E13-E12 -> 0.8 | F14: =F13-F12 -> 1 | G14: =AVERAGE(D14:F14) -> 0.73333333 | H14: =MIN(D14:F14) -> 0.4 | J14: =I13-H12 -> 1.2
B15: 찐의 개수 | G15: 합 | H15: =SUM(D15:F15) -> 0
B17: 2 | C17: 실 측 ( 규격 : 66.5 ~ 71.0 ) | K17: 목표 | N17: 목표 대비 실적
C18: 속도 | D18: L | E18: C | F18: R | G18: 평균 | H18: Min | I18: Max | J18: Max-min | K18: 평균 | L18: Min | M18: Max | N18: 평균 | O18: Min | P18: Max
A19: 1 | B19: 08A | C19: 4 | D19: 67.3 | E19: 67.8 | F19: 67.9 | G19: =AVERAGE(D19:F19) -> 67.666667 | H19: =MIN(D19:F19) -> 67.3 | I19: =MAX(D19:F19) -> 67.9 | J19: =I19-H19 -> 0.6 | K19: =AVERAGE(L19:M19) -> 67.8 | L19: 66.9 | M19: 68.7 | N19: =G19-K19 -> -0.13333333 | O19: =H19-L19 -> 0.4 | P19: =I19-M19 -> -0.8
A20: 2 | D20: 67.2 | E20: 67.3 | F20: 67.6 | G20: =AVERAGE(D20:F20) -> 67.366667 | H20: =MIN(D20:F20) -> 67.2 | I20: =MAX(D20:F20) -> 67.6 | J20: =I20-H20 -> 0.4 | K20: =AVERAGE(L20:M20) -> 67.8 | L20: 66.9 | M20: 68.7 | N20: =G20-K20 -> -0.43333333 | O20: =H20-L20 -> 0.3 | P20: =I20-M20 -> -1.1
A21: 3 | D21: 67.4 | E21: 67.4 | F21: 67.8 | G21: =AVERAGE(D21:F21) -> 67.533333 | H21: =MIN(D21:F21) -> 67.4 | I21: =MAX(D21:F21) -> 67.8 | J21: =I21-H21 -> 0.4 | K21: =AVERAGE(L21:M21) -> 67.8 | L21: 66.9 | M21: 68.7 | N21: =G21-K21 -> -0.26666667 | O21: =H21-L21 -> 0.5 | P21: =I21-M21 -> -0.9
A22: 4 | D22: 67.5 | E22: 67.4 | F22: 67.6 | G22: =AVERAGE(D22:F22) -> 67.5 | H22: =MIN(D22:F22) -> 67.4 | I22: =MAX(D22:F22) -> 67.6 | J22: =I22-H22 -> 0.2 | K22: =AVERAGE(L22:M22) -> 67.8 | L22: 66.9 | M22: 68.7 | N22: =G22-K22 -> -0.3 | O22: =H22-L22 -> 0.5 | P22: =I22-M22 -> -1.1
A23: 5 | D23: 67.2 | E23: 67.3 | F23: 67.4 | G23: =AVERAGE(D23:F23) -> 67.3 | H23: =MIN(D23:F23) -> 67.2 | I23: =MAX(D23:F23) -> 67.4 | J23: =I23-H23 -> 0.2 | K23: =AVERAGE(L23:M23) -> 67.8 | L23: 66.9 | M23: 68.7 | N23: =G23-K23 -> -0.5 | O23: =H23-L23 -> 0.3 | P23: =I23-M23 -> -1.3
B24: 평균 | D24: =AVERAGE(D19:D23) -> 67.32 | E24: =AVERAGE(E19:E23) -> 67.44 | F24: =AVERAGE(F19:F23) -> 67.66 | G24: =AVERAGE(D24:F24) -> 67.473333 | K24: 특이 사항 | L24: Lot No : J6S-V4-43013L
B25: Min | D25: =MIN(D19:D23) -> 67.2 | E25: =MIN(E19:E23) -> 67.3 | F25: =MIN(F19:F23) -> 67.4 | H25: =MIN(D25:F25) -> 67.2 | L25: 투입 시간 : 08:55
B26: Max | D26: =MAX(D19:D23) -> 67.5 | E26: =MAX(E19:E23) -> 67.8 | F26: =MAX(F19:F23) -> 67.9 | I26: =MAX(D26:F26) -> 67.9
B27: Max-Min | D27: =D26-D25 -> 0.3 | E27: =E26-E25 -> 0.5 | F27: =F26-F25 -> 0.5 | G27: =AVERAGE(D27:F27) -> 0.43333333 | H27: =MIN(D27:F27) -> 0.3 | J27: =I26-H25 -> 0.7
B28: 찐의 개수 | G28: 합 | H28: =SUM(D28:F28) -> 0
F29: 2
B30: #3 | C30: 실 측 ( 규격 : 66.5 ~ 71.0 ) | K30: 목표 | N30: 목표 대비 실적
C31: 속도 | D31: L | E31: C | F31: R | G31: 평균 | H31: Min | I31: Max | J31: Max-min | K31: 평균 | L31: Min | M31: Max | N31: 평균 | O31: Min | P31: Max
A32: 1 | B32: 08A | C32: 4 | D32: 67 | E32: 67.5 | F32: 67.6 | G32: =AVERAGE(D32:F32) -> 67.366667 | H32: =MIN(D32:F32) -> 67 | I32: =MAX(D32:F32) -> 67.6 | J32: =I32-H32 -> 0.6 | K32: =AVERAGE(L32:M32) -> 67.8 | L32: 66.9 | M32: 68.7 | N32: =G32-K32 -> -0.43333333 | O32: =H32-L32 -> 0.1 | P32: =I32-M32 -> -1.1
A33: 2 | D33: 67.3 | E33: 67.4 | F33: 67.2 | G33: =AVERAGE(D33:F33) -> 67.3 | H33: =MIN(D33:F33) -> 67.2 | I33: =MAX(D33:F33) -> 67.4 | J33: =I33-H33 -> 0.2 | K33: =AVERAGE(L33:M33) -> 67.8 | L33: 66.9 | M33: 68.7 | N33: =G33-K33 -> -0.5 | O33: =H33-L33 -> 0.3 | P33: =I33-M33 -> -1.3
A34: 3 | D34: 67.3 | E34: 67.2 | F34: 67.4 | G34: =AVERAGE(D34:F34) -> 67.3 | H34: =MIN(D34:F34) -> 67.2 | I34: =MAX(D34:F34) -> 67.4 | J34: =I34-H34 -> 0.2 | K34: =AVERAGE(L34:M34) -> 67.8 | L34: 66.9 | M34: 68.7 | N34: =G34-K34 -> -0.5 | O34: =H34-L34 -> 0.3 | P34: =I34-M34 -> -1.3
A35: 4 | D35: 67.5 | E35: 67.5 | F35: 67.4 | G35: =AVERAGE(D35:F35) -> 67.466667 | H35: =MIN(D35:F35) -> 67.4 | I35: =MAX(D35:F35) -> 67.5 | J35: =I35-H35 -> 0.1 | K35: =AVERAGE(L35:M35) -> 67.8 | L35: 66.9 | M35: 68.7 | N35: =G35-K35 -> -0.33333333 | O35: =H35-L35 -> 0.5 | P35: =I35-M35 -> -1.2
A36: 5 | D36: 67.4 | E36: 67.5 | F36: 67.5 | G36: =AVERAGE(D36:F36) -> 67.466667 | H36: =MIN(D36:F36) -> 67.4 | I36: =MAX(D36:F36) -> 67.5 | J36: =I36-H36 -> 0.1 | K36: =AVERAGE(L36:M36) -> 67.8 | L36: 66.9 | M36: 68.7 | N36: =G36-K36 -> -0.33333333 | O36: =H36-L36 -> 0.5 | P36: =I36-M36 -> -1.2
B37: 평균 | D37: =AVERAGE(D32:D36) -> 67.3 | E37: =AVERAGE(E32:E36) -> 67.42 | F37: =AVERAGE(F32:F36) -> 67.42 | G37: =AVERAGE(D37:F37) -> 67.38 | K37: 특이 사항 | L37: Lot No : J6S-V4-43013R
B38: Min | D38: =MIN(D32:D36) -> 67 | E38: =MIN(E32:E36) -> 67.2 | F38: =MIN(F32:F36) -> 67.2 | H38: =MIN(D38:F38) -> 67 | L38: 투입 시간 : 09:48
B39: Max | D39: =MAX(D32:D36) -> 67.5 | E39: =MAX(E32:E36) -> 67.5 | F39: =MAX(F32:F36) -> 67.6 | I39: =MAX(D39:F39) -> 67.6
B40: Max-Min | D40: =D39-D38 -> 0.5 | E40: =E39-E38 -> 0.3 | F40: =F39-F38 -> 0.4 | G40: =AVERAGE(D40:F40) -> 0.4 | H40: =MIN(D40:F40) -> 0.3 | J40: =I39-H38 -> 0.6
B41: 찐의 개수 | G41: 합 | H41: =SUM(D41:F41) -> 0
F42: 7
B43: #4 | C43: 실 측 ( 규격 : 66.5 ~ 71.0 ) | K43: 목표 | N43: 목표 대비 실적
...

Sheet 목록
C13: 07A | D13: =IF(C13="07A","D/U",IF(C13="08A","S/G",IF(C13="09A","S/G",IF(C13="10A","S/G",IF(C13="11A","D/U",""))))) -> D/U
C14: 08A | D14: =IF(C14="07A","D/U",IF(C14="08A","S/G",IF(C14="09A","S/G",IF(C14="10A","S/G",IF(C14="11A","D/U",""))))) -> S/G
C15: 09A | D15: =IF(C15="07A","D/U",IF(C15="08A","S/G",IF(C15="09A","S/G",IF(C15="10A","S/G",IF(C15="11A","D/U",""))))) -> S/G
C16: 10A | D16: =IF(C16="07A","D/U",IF(C16="08A","S/G",IF(C16="09A","S/G",IF(C16="10A","S/G",IF(C16="11A","D/U",""))))) -> S/G
C17: 11A | D17: =IF(C17="07A","D/U",IF(C17="08A","S/G",IF(C17="09A","S/G",IF(C17="10A","S/G",IF(C17="11A","D/U",""))))) -> D/U
