Workbook
Name ㅇㄹ: '1호기 RowData'!E1048564:G1048568

Sheet 1호기 RowData
B4: 보고연결 | C4: 작업일 | D4: 설비명 | E4: 순번 | F4: 순번1 | H4: 품명 | I4: TYPE | J4: Lot No | K4: 투입 시간 | L4: 속도 | M4: 온도 | N4: 생산량 | O4: 잔업 | P4: 가동시간 | Q4: 이음매 | R4: L | S4: C | T4: R | U4: 측정 Range | V4: 전체 Range | W4: 색차평균 | X4: 그래프
B5: =C5&E5&F5 -> 4618111 | C5: 46181 | D5: 1 | E5: =IF(C5<>C4,1,IF(J5<>J4,E4+1,E4)) -> 1 | F5: =IF(J5=J4,F4+1,1) -> 1 | K5: 0.35416667 | L5: 4.3 | M5: 320 | N5: 210 | P5: =IFERROR((N5/L5)/60/24,"") -> 0.033914729 | R5: 67.8 | S5: 68.3 | T5: 68.6 | U5: =MAX(R5:T5)-MIN(R5:T5) -> 0.8 | V5: =MAX(R5:T9)-MIN(R5:T9) -> 1.2 | W5: =IFERROR(AVERAGE(R5:T9),"") -> 67.789333
B6: =C6&E6&F6 -> 4618112 | C6: 46181 | D6: 1 | E6: =IF(C6<>C5,1,IF(J6<>J5,E5+1,E5)) -> 1 | F6: =IF(J6=J5,F5+1,1) -> 2 | L6: 4.4 | R6: 67.5 | S6: 67.7 | T6: 68.14 | U6: =MAX(R6:T6)-MIN(R6:T6) -> 0.64
B7: =C7&E7&F7 -> 4618113 | C7: 46181 | D7: 1 | E7: =IF(C7<>C6,1,IF(J7<>J6,E6+1,E6)) -> 1 | F7: =IF(J7=J6,F6+1,1) -> 3 | L7: 4.8 | R7: 67.4 | S7: 67.5 | T7: 67.8 | U7: =MAX(R7:T7)-MIN(R7:T7) -> 0.4
B8: =C8&E8&F8 -> 4618114 | C8: 46181 | D8: 1 | E8: =IF(C8<>C7,1,IF(J8<>J7,E7+1,E7)) -> 1 | F8: =IF(J8=J7,F7+1,1) -> 4 | L8: 4.8 | R8: 67.6 | S8: 67.7 | T8: 68 | U8: =MAX(R8:T8)-MIN(R8:T8) -> 0.4
B9: =C9&E9&F9 -> 4618115 | C9: 46181 | D9: 1 | E9: =IF(C9<>C8,1,IF(J9<>J8,E8+1,E8)) -> 1 | F9: =IF(J9=J8,F8+1,1) -> 5 | L9: 4.8 | R9: 67.5 | S9: 67.7 | T9: 67.6 | U9: =MAX(R9:T9)-MIN(R9:T9) -> 0.2
B10: =C10&E10&F10 -> 4618116 | C10: 46181 | D10: 1 | E10: =IF(C10<>C9,1,IF(J10<>J9,E9+1,E9)) -> 1 | F10: =IF(J10=J9,F9+1,1) -> 6 | H10: 5행을 복사하여 아래로 반복해서 데이터를 쌓을 예정인데 그래프도 자동으로 반영을 하고 싶어요 일일이 변경해주고 있어요… | K10: 0.35416667 | L10: 4.3 | M10: 320 | N10: 210 | P10: =IFERROR((N10/L10)/60/24,"") -> 0.033914729 | R10: 67.4 | S10: 67.6 | T10: 67.5 | U10: =MAX(R10:T10)-MIN(R10:T10) -> 0.2 | V10: =MAX(R10:T14)-MIN(R10:T14) -> 0.8 | W10: =IFERROR(AVERAGE(R10:T14),"") -> 67.466667
B11: =C11&E11&F11 -> 4618117 | C11: 46181 | D11: 1 | E11: =IF(C11<>C10,1,IF(J11<>J10,E10+1,E10)) -> 1 | F11: =IF(J11=J10,F10+1,1) -> 7 | L11: 4.4 | R11: 67.2 | S11: 67.6 | T11: 67.5 | U11: =MAX(R11:T11)-MIN(R11:T11) -> 0.4
B12: =C12&E12&F12 -> 4618118 | C12: 46181 | D12: 1 | E12: =IF(C12<>C11,1,IF(J12<>J11,E11+1,E11)) -> 1 | F12: =IF(J12=J11,F11+1,1) -> 8 | L12: 4.8 | R12: 67 | S12: 67.6 | T12: 67.4 | U12: =MAX(R12:T12)-MIN(R12:T12) -> 0.6
B13: =C13&E13&F13 -> 4618119 | C13: 46181 | D13: 1 | E13: =IF(C13<>C12,1,IF(J13<>J12,E12+1,E12)) -> 1 | F13: =IF(J13=J12,F12+1,1) -> 9 | L13: 4.8 | R13: 67.3 | S13: 67.6 | T13: 67.5 | U13: =MAX(R13:T13)-MIN(R13:T13) -> 0.3
B14: =C14&E14&F14 -> 46181110 | C14: 46181 | D14: 1 | E14: =IF(C14<>C13,1,IF(J14<>J13,E13+1,E13)) -> 1 | F14: =IF(J14=J13,F13+1,1) -> 10 | L14: 4.8 | R14: 67.3 | S14: 67.8 | T14: 67.7 | U14: =MAX(R14:T14)-MIN(R14:T14) -> 0.5
B15: =C15&E15&F15 -> 46181111 | C15: 46181 | D15: 1 | E15: =IF(C15<>C14,1,IF(J15<>J14,E14+1,E14)) -> 1 | F15: =IF(J15=J14,F14+1,1) -> 11 | K15: 0.35416667 | L15: 4.3 | M15: 320 | N15: 210 | P15: =IFERROR((N15/L15)/60/24,"") -> 0.033914729 | R15: 67.4 | S15: 67.6 | T15: 67.5 | U15: =MAX(R15:T15)-MIN(R15:T15) -> 0.2 | V15: =MAX(R15:T19)-MIN(R15:T19) -> 0.8 | W15: =IFERROR(AVERAGE(R15:T19),"") -> 67.466667
B16: =C16&E16&F16 -> 46181112 | C16: 46181 | D16: 1 | E16: =IF(C16<>C15,1,IF(J16<>J15,E15+1,E15)) -> 1 | F16: =IF(J16=J15,F15+1,1) -> 12 | L16: 4.4 | R16: 67.2 | S16: 67.6 | T16: 67.5 | U16: =MAX(R16:T16)-MIN(R16:T16) -> 0.4
B17: =C17&E17&F17 -> 46181113 | C17: 46181 | D17: 1 | E17: =IF(C17<>C16,1,IF(J17<>J16,E16+1,E16)) -> 1 | F17: =IF(J17=J16,F16+1,1) -> 13 | L17: 4.8 | R17: 67 | S17: 67.6 | T17: 67.4 | U17: =MAX(R17:T17)-MIN(R17:T17) -> 0.6
B18: =C18&E18&F18 -> 46181114 | C18: 46181 | D18: 1 | E18: =IF(C18<>C17,1,IF(J18<>J17,E17+1,E17)) -> 1 | F18: =IF(J18=J17,F17+1,1) -> 14 | L18: 4.8 | R18: 67.3 | S18: 67.6 | T18: 67.5 | U18: =MAX(R18:T18)-MIN(R18:T18) -> 0.3
B19: =C19&E19&F19 -> 46181115 | C19: 46181 | D19: 1 | E19: =IF(C19<>C18,1,IF(J19<>J18,E18+1,E18)) -> 1 | F19: =IF(J19=J18,F18+1,1) -> 15 | L19: 4.8 | R19: 67.3 | S19: 67.8 | T19: 67.7 | U19: =MAX(R19:T19)-MIN(R19:T19) -> 0.5

Sheet 보고
B3: 생산 Line | C3: 1호기 | M3: 날짜 | N3: 2026년 | O3: 46181
A4: Rowdata 연결 | B4: 1 | C4: 실 측 ( 규격 : 66.5 ~ 71.0 ) | K4: 목표 | N4: 목표 대비 실적
C5: 속도 | D5: L | E5: C | F5: R | G5: 평균 | H5: Min | I5: Max | J5: Max-min | K5: 평균 | L5: Min | M5: Max | N5: 평균 | O5: Min | P5: Max
A6: 1 | B6: =VLOOKUP($O$3&B$4&$A6,'1호기 RowData'!$B:$W,MATCH("품명",'1호기 RowData'!$B$4:$W$4,0),0) -> 0 | C6: =VLOOKUP($O$3&B$4&$A6,'1호기 RowData'!$B:$W,MATCH(C$5,'1호기 RowData'!$B$4:$W$4,0),0) -> 4.3 | D6: =VLOOKUP($O$3&B$4&$A6,'1호기 RowData'!$B:$W,MATCH(D$5,'1호기 RowData'!$B$4:$W$4,0),0) -> 67.8 | E6: =VLOOKUP($O$3&B$4&$A6,'1호기 RowData'!$B:$W,MATCH(E$5,'1호기 RowData'!$B$4:$W$4,0),0) -> 68.3 | F6: =VLOOKUP($O$3&B$4&$A6,'1호기 RowData'!$B:$W,MATCH(F$5,'1호기 RowData'!$B$4:$W$4,0),0) -> 68.6 | G6: =AVERAGE(D6:F6) -> 68.233333 | H6: =MIN(D6:F6) -> 67.8 | I6: =MAX(D6:F6) -> 68.6 | J6: =I6-H6 -> 0.8 | K6: =AVERAGE(L6:M6) -> 67.8 | L6: 66.9 | M6: 68.7 | N6: =G6-K6 -> 0.43333333 | O6: =H6-L6 -> 0.9 | P6: =I6-M6 -> -0.1
A7: 2 | B7: =VLOOKUP($O$3&B$4&$A7,'1호기 RowData'!$B:$W,MATCH("이음매",'1호기 RowData'!$B$4:$W$4,0),0) -> 0 | C7: =VLOOKUP($O$3&B$4&$A7,'1호기 RowData'!$B:$W,MATCH(C$5,'1호기 RowData'!$B$4:$W$4,0),0) -> 4.4 | D7: =VLOOKUP($O$3&B$4&$A7,'1호기 RowData'!$B:$W,MATCH(D$5,'1호기 RowData'!$B$4:$W$4,0),0) -> 67.5 | E7: =VLOOKUP($O$3&B$4&$A7,'1호기 RowData'!$B:$W,MATCH(E$5,'1호기 RowData'!$B$4:$W$4,0),0) -> 67.7 | F7: =VLOOKUP($O$3&B$4&$A7,'1호기 RowData'!$B:$W,MATCH(F$5,'1호기 RowData'!$B$4:$W$4,0),0) -> 68.14 | G7: =AVERAGE(D7:F7) -> 67.78 | H7: =MIN(D7:F7) -> 67.5 | I7: =MAX(D7:F7) -> 68.14 | J7: =I7-H7 -> 0.64 | K7: =AVERAGE(L7:M7) -> 67.8 | L7: 66.9 | M7: 68.7 | N7: =G7-K7 -> -0.02 | O7: =H7-L7 -> 0.6 | P7: =I7-M7 -> -0.56
A8: 3 | B8: =VLOOKUP($O$3&B$4&$A8,'1호기 RowData'!$B:$W,MATCH("이음매",'1호기 RowData'!$B$4:$W$4,0),0) -> 0 | C8: =VLOOKUP($O$3&B$4&$A8,'1호기 RowData'!$B:$W,MATCH(C$5,'1호기 RowData'!$B$4:$W$4,0),0) -> 4.8 | D8: =VLOOKUP($O$3&B$4&$A8,'1호기 RowData'!$B:$W,MATCH(D$5,'1호기 RowData'!$B$4:$W$4,0),0) -> 67.4 | E8: =VLOOKUP($O$3&B$4&$A8,'1호기 RowData'!$B:$W,MATCH(E$5,'1호기 RowData'!$B$4:$W$4,0),0) -> 67.5 | F8: =VLOOKUP($O$3&B$4&$A8,'1호기 RowData'!$B:$W,MATCH(F$5,'1호기 RowData'!$B$4:$W$4,0),0) -> 67.8 | G8: =AVERAGE(D8:F8) -> 67.566667 | H8: =MIN(D8:F8) -> 67.4 | I8: =MAX(D8:F8) -> 67.8 | J8: =I8-H8 -> 0.4 | K8: =AVERAGE(L8:M8) -> 67.8 | L8: 66.9 | M8: 68.7 | N8: =G8-K8 -> -0.23333333 | O8: =H8-L8 -> 0.5 | P8: =I8-M8 -> -0.9
A9: 4 | B9: =VLOOKUP($O$3&B$4&$A9,'1호기 RowData'!$B:$W,MATCH("이음매",'1호기 RowData'!$B$4:$W$4,0),0) -> 0 | C9: =VLOOKUP($O$3&B$4&$A9,'1호기 RowData'!$B:$W,MATCH(C$5,'1호기 RowData'!$B$4:$W$4,0),0) -> 4.8 | D9: =VLOOKUP($O$3&B$4&$A9,'1호기 RowData'!$B:$W,MATCH(D$5,'1호기 RowData'!$B$4:$W$4,0),0) -> 67.6 | E9: =VLOOKUP($O$3&B$4&$A9,'1호기 RowData'!$B:$W,MATCH(E$5,'1호기 RowData'!$B$4:$W$4,0),0) -> 67.7 | F9: =VLOOKUP($O$3&B$4&$A9,'1호기 RowData'!$B:$W,MATCH(F$5,'1호기 RowData'!$B$4:$W$4,0),0) -> 68 | G9: =AVERAGE(D9:F9) -> 67.766667 | H9: =MIN(D9:F9) -> 67.6 | I9: =MAX(D9:F9) -> 68 | J9: =I9-H9 -> 0.4 | K9: =AVERAGE(L9:M9) -> 67.8 | L9: 66.9 | M9: 68.7 | N9: =G9-K9 -> -0.033333333 | O9: =H9-L9 -> 0.7 | P9: =I9-M9 -> -0.7
A10: 5 | B10: =VLOOKUP($O$3&B$4&$A10,'1호기 RowData'!$B:$W,MATCH("이음매",'1호기 RowData'!$B$4:$W$4,0),0) -> 0 | C10: =VLOOKUP($O$3&B$4&$A10,'1호기 RowData'!$B:$W,MATCH(C$5,'1호기 RowData'!$B$4:$W$4,0),0) -> 4.8 | D10: =VLOOKUP($O$3&B$4&$A10,'1호기 RowData'!$B:$W,MATCH(D$5,'1호기 RowData'!$B$4:$W$4,0),0) -> 67.5 | E10: =VLOOKUP($O$3&B$4&$A10,'1호기 RowData'!$B:$W,MATCH(E$5,'1호기 RowData'!$B$4:$W$4,0),0) -> 67.7 | F10: =VLOOKUP($O$3&B$4&$A10,'1호기 RowData'!$B:$W,MATCH(F$5,'1호기 RowData'!$B$4:$W$4,0),0) -> 67.6 | G10: =AVERAGE(D10:F10) -> 67.6 | H10: =MIN(D10:F10) -> 67.5 | I10: =MAX(D10:F10) -> 67.7 | J10: =I10-H10 -> 0.2 | K10: =AVERAGE(L10:M10) -> 67.8 | L10: 66.9 | M10: 68.7 | N10: =G10-K10 -> -0.2 | O10: =H10-L10 -> 0.6 | P10: =I10-M10 -> -1
B11: 평균 | D11: =AVERAGE(D6:D10) -> 67.56 | E11: =AVERAGE(E6:E10) -> 67.78 | F11: =AVERAGE(F6:F10) -> 68.028 | G11: =AVERAGE(D11:F11) -> 67.789333 | K11: 특이 사항 | L11: Lot No | N11: =VLOOKUP($O$3&B$4&$A6,'1호기 RowData'!$B:$W,MATCH(L$11,'1호기 RowData'!$B$4:$W$4,0),0) -> 0
B12: Min | D12: =MIN(D6:D10) -> 67.4 | E12: =MIN(E6:E10) -> 67.5 | F12: =MIN(F6:F10) -> 67.6 | H12: =MIN(D12:F12) -> 67.4 | L12: 투입 시간 | N12: =VLOOKUP($O$3&B$4&$A6,'1호기 RowData'!$B:$W,MATCH(L$12,'1호기 RowData'!$B$4:$W$4,0),0) -> 0.35416667
B13: Max | D13: =MAX(D6:D10) -> 67.8 | E13: =MAX(E6:E10) -> 68.3 | F13: =MAX(F6:F10) -> 68.6 | I13: =MAX(D13:F13) -> 68.6
B14: Max-Min | D14: =D13-D12 -> 0.4 | E14: =E13-E12 -> 0.8 | F14: =F13-F12 -> 1 | G14: =AVERAGE(D14:F14) -> 0.73333333 | H14: =MIN(D14:F14) -> 0.4 | J14: =I13-H12 -> 1.2
B15: 찐의 개수 | G15: 합 | H15: =SUM(D15:F15) -> 0
B17: 2 | C17: 실 측 ( 규격 : 66.5 ~ 71.0 ) | K17: 목표 | N17: 목표 대비 실적
C18: 속도 | D18: L | E18: C | F18: R | G18: 평균 | H18: Min | I18: Max | J18: Max-min | K18: 평균 | L18: Min | M18: Max | N18: 평균 | O18: Min | P18: Max
A19: 1 | B19: 08A | C19: 4 | D19: 67.3 | E19: 67.8 | F19: 67.9 | G19: =AVERAGE(D19:F19) -> 67.666667 | H19: =MIN(D19:F19) -> 67.3 | I19: =MAX(D19:F19) -> 67.9 | J19: =I19-H19 -> 0.6 | K19: =AVERAGE(L19:M19) -> 67.8 | L19: 66.9 | M19: 68.7 | N19: =G19-K19 -> -0.13333333 | O19: =H19-L19 -> 0.4 | P19: =I19-M19 -> -0.8
A20: 2 | D20: 67.2 | E20: 67.3 | F20: 67.6 | G20: =AVERAGE(D20:F20) -> 67.366667 | H20: =MIN(D20:F20) -> 67.2 | I20: =MAX(D20:F20) -> 67.6 | J20: =I20-H20 -> 0.4 | K20: =AVERAGE(L20:M20) -> 67.8 | L20: 66.9 | M20: 68.7 | N20: =G20-K20 -> -0.43333333 | O20: =H20-L20 -> 0.3 | P20: =I20-M20 -> -1.1
A21: 3 | D21: 67.4 | E21: 67.4 | F21: 67.8 | G21: =AVERAGE(D21:F21) -> 67.533333 | H21: =MIN(D21:F21) -> 67.4 | I21: =MAX(D21:F21) -> 67.8 | J21: =I21-H21 -> 0.4 | K21: =AVERAGE(L21:M21) -> 67.8 | L21: 66.9 | M21: 68.7 | N21: =G21-K21 -> -0.26666667 | O21: =H21-L21 -> 0.5 | P21: =I21-M21 -> -0.9
A22: 4 | D22: 67.5 | E22: 67.4 | F22: 67.6 | G22: =AVERAGE(D22:F22) -> 67.5 | H22: =MIN(D22:F22) -> 67.4 | I22: =MAX(D22:F22) -> 67.6 | J22: =I22-H22 -> 0.2 | K22: =AVERAGE(L22:M22) -> 67.8 | L22: 66.9 | M22: 68.7 | N22: =G22-K22 -> -0.3 | O22: =H22-L22 -> 0.5 | P22: =I22-M22 -> -1.1
A23: 5 | D23: 67.2 | E23: 67.3 | F23: 67.4 | G23: =AVERAGE(D23:F23) -> 67.3 | H23: =MIN(D23:F23) -> 67.2 | I23: =MAX(D23:F23) -> 67.4 | J23: =I23-H23 -> 0.2 | K23: =AVERAGE(L23:M23) -> 67.8 | L23: 66.9 | M23: 68.7 | N23: =G23-K23 -> -0.5 | O23: =H23-L23 -> 0.3 | P23: =I23-M23 -> -1.3
B24: 평균 | D24: =AVERAGE(D19:D23) -> 67.32 | E24: =AVERAGE(E19:E23) -> 67.44 | F24: =AVERAGE(F19:F23) -> 67.66 | G24: =AVERAGE(D24:F24) -> 67.473333 | K24: 특이 사항 | L24: Lot No : J6S-V4-43013L
B25: Min | D25: =MIN(D19:D23) -> 67.2 | E25: =MIN(E19:E23) -> 67.3 | F25: =MIN(F19:F23) -> 67.4 | H25: =MIN(D25:F25) -> 67.2 | L25: 투입 시간 : 08:55
B26: Max | D26: =MAX(D19:D23) -> 67.5 | E26: =MAX(E19:E23) -> 67.8 | F26: =MAX(F19:F23) -> 67.9 | I26: =MAX(D26:F26) -> 67.9
B27: Max-Min | D27: =D26-D25 -> 0.3 | E27: =E26-E25 -> 0.5 | F27: =F26-F25 -> 0.5 | G27: =AVERAGE(D27:F27) -> 0.43333333 | H27: =MIN(D27:F27) -> 0.3 | J27: =I26-H25 -> 0.7
B28: 찐의 개수 | G28: 합 | H28: =SUM(D28:F28) -> 0
F29: 2
B30: #3 | C30: 실 측 ( 규격 : 66.5 ~ 71.0 ) | K30: 목표 | N30: 목표 대비 실적
C31: 속도 | D31: L | E31: C | F31: R | G31: 평균 | H31: Min | I31: Max | J31: Max-min | K31: 평균 | L31: Min | M31: Max | N31: 평균 | O31: Min | P31: Max
A32: 1 | B32: 08A | C32: 4 | D32: 67 | E32: 67.5 | F32: 67.6 | G32: =AVERAGE(D32:F32) -> 67.366667 | H32: =MIN(D32:F32) -> 67 | I32: =MAX(D32:F32) -> 67.6 | J32: =I32-H32 -> 0.6 | K32: =AVERAGE(L32:M32) -> 67.8 | L32: 66.9 | M32: 68.7 | N32: =G32-K32 -> -0.43333333 | O32: =H32-L32 -> 0.1 | P32: =I32-M32 -> -1.1
A33: 2 | D33: 67.3 | E33: 67.4 | F33: 67.2 | G33: =AVERAGE(D33:F33) -> 67.3 | H33: =MIN(D33:F33) -> 67.2 | I33: =MAX(D33:F33) -> 67.4 | J33: =I33-H33 -> 0.2 | K33: =AVERAGE(L33:M33) -> 67.8 | L33: 66.9 | M33: 68.7 | N33: =G33-K33 -> -0.5 | O33: =H33-L33 -> 0.3 | P33: =I33-M33 -> -1.3
A34: 3 | D34: 67.3 | E34: 67.2 | F34: 67.4 | G34: =AVERAGE(D34:F34) -> 67.3 | H34: =MIN(D34:F34) -> 67.2 | I34: =MAX(D34:F34) -> 67.4 | J34: =I34-H34 -> 0.2 | K34: =AVERAGE(L34:M34) -> 67.8 | L34: 66.9 | M34: 68.7 | N34: =G34-K34 -> -0.5 | O34: =H34-L34 -> 0.3 | P34: =I34-M34 -> -1.3
A35: 4 | D35: 67.5 | E35: 67.5 | F35: 67.4 | G35: =AVERAGE(D35:F35) -> 67.466667 | H35: =MIN(D35:F35) -> 67.4 | I35: =MAX(D35:F35) -> 67.5 | J35: =I35-H35 -> 0.1 | K35: =AVERAGE(L35:M35) -> 67.8 | L35: 66.9 | M35: 68.7 | N35: =G35-K35 -> -0.33333333 | O35: =H35-L35 -> 0.5 | P35: =I35-M35 -> -1.2
A36: 5 | D36: 67.4 | E36: 67.5 | F36: 67.5 | G36: =AVERAGE(D36:F36) -> 67.466667 | H36: =MIN(D36:F36) -> 67.4 | I36: =MAX(D36:F36) -> 67.5 | J36: =I36-H36 -> 0.1 | K36: =AVERAGE(L36:M36) -> 67.8 | L36: 66.9 | M36: 68.7 | N36: =G36-K36 -> -0.33333333 | O36: =H36-L36 -> 0.5 | P36: =I36-M36 -> -1.2
B37: 평균 | D37: =AVERAGE(D32:D36) -> 67.3 | E37: =AVERAGE(E32:E36) -> 67.42 | F37: =AVERAGE(F32:F36) -> 67.42 | G37: =AVERAGE(D37:F37) -> 67.38 | K37: 특이 사항 | L37: Lot No : J6S-V4-43013R
B38: Min | D38: =MIN(D32:D36) -> 67 | E38: =MIN(E32:E36) -> 67.2 | F38: =MIN(F32:F36) -> 67.2 | H38: =MIN(D38:F38) -> 67 | L38: 투입 시간 : 09:48
B39: Max | D39: =MAX(D32:D36) -> 67.5 | E39: =MAX(E32:E36) -> 67.5 | F39: =MAX(F32:F36) -> 67.6 | I39: =MAX(D39:F39) -> 67.6
B40: Max-Min | D40: =D39-D38 -> 0.5 | E40: =E39-E38 -> 0.3 | F40: =F39-F38 -> 0.4 | G40: =AVERAGE(D40:F40) -> 0.4 | H40: =MIN(D40:F40) -> 0.3 | J40: =I39-H38 -> 0.6
B41: 찐의 개수 | G41: 합 | H41: =SUM(D41:F41) -> 0
F42: 7
B43: #4 | C43: 실 측 ( 규격 : 66.5 ~ 71.0 ) | K43: 목표 | N43: 목표 대비 실적
C44: 속도 | D44: L | E44: C | F44: R | G44: 평균 | H44: Min | I44: Max | J44: Max-min | K44: 평균 | L44: Min | M44: Max | N44: 평균 | O44: Min | P44: Max
A45: 1 | B45: 08A | C45: 4 | D45: 67.4 | E45: 67.6 | F45: 67.5 | G45: =AVERAGE(D45:F45) -> 67.5 | H45: =MIN(D45:F45) -> 67.4 | I45: =MAX(D45:F45) -> 67.6 | J45: =I45-H45 -> 0.2 | K45: =AVERAGE(L45:M45) -> 67.8 | L45: 66.9 | M45: 68.7 | N45: =G45-K45 -> -0.3 | O45: =H45-L45 -> 0.5 | P45: =I45-M45 -> -1.1
A46: 2 | D46: 67.2 | E46: 67.6 | F46: 67.5 | G46: =AVERAGE(D46:F46) -> 67.433333 | H46: =MIN(D46:F46) -> 67.2 | I46: =MAX(D46:F46) -> 67.6 | J46: =I46-H46 -> 0.4 | K46: =AVERAGE(L46:M46) -> 67.8 | L46: 66.9 | M46: 68.7 | N46: =G46-K46 -> -0.36666667 | O46: =H46-L46 -> 0.3 | P46: =I46-M46 -> -1.1
A47: 3 | D47: 67 | E47: 67.6 | F47: 67.4 | G47: =AVERAGE(D47:F47) -> 67.333333 | H47: =MIN(D47:F47) -> 67 | I47: =MAX(D47:F47) -> 67.6 | J47: =I47-H47 -> 0.6 | K47: =AVERAGE(L47:M47) -> 67.8 | L47: 66.9 | M47: 68.7 | N47: =G47-K47 -> -0.46666667 | O47: =H47-L47 -> 0.1 | P47: =I47-M47 -> -1.1
A48: 4 | D48: 67.3 | E48: 67.6 | F48: 67.5 | G48: =AVERAGE(D48:F48) -> 67.466667 | H48: =MIN(D48:F48) -> 67.3 | I48: =MAX(D48:F48) -> 67.6 | J48: =I48-H48 -> 0.3 | K48: =AVERAGE(L48:M48) -> 67.8 | L48: 66.9 | M48: 68.7 | N48: =G48-K48 -> -0.33333333 | O48: =H48-L48 -> 0.4 | P48: =I48-M48 -> -1.1
A49: 5 | D49: 67.3 | E49: 67.8 | F49: 67.7 | G49: =AVERAGE(D49:F49) -> 67.6 | H49: =MIN(D49:F49) -> 67.3 | I49: =MAX(D49:F49) -> 67.8 | J49: =I49-H49 -> 0.5 | K49: =AVERAGE(L49:M49) -> 67.8 | L49: 66.9 | M49: 68.7 | N49: =G49-K49 -> -0.2 | O49: =H49-L49 -> 0.4 | P49: =I49-M49 -> -0.9
B50: 평균 | D50: =AVERAGE(D45:D49) -> 67.24 | E50: =AVERAGE(E45:E49) -> 67.64 | F50: =AVERAGE(F45:F49) -> 67.52 | G50: =AVERAGE(D50:F50) -> 67.466667 | K50: 특이 사항 | L50: Lot No : J6S-V4-43013C
B51: Min | D51: =MIN(D45:D49) -> 67 | E51: =MIN(E45:E49) -> 67.6 | F51: =MIN(F45:F49) -> 67.4 | H51: =MIN(D51:F51) -> 67 | L51: 투입 시간 : 10:40
B52: Max | D52: =MAX(D45:D49) -> 67.4 | E52: =MAX(E45:E49) -> 67.8 | F52: =MAX(F45:F49) -> 67.7 | I52: =MAX(D52:F52) -> 67.8
B53: Max-Min | D53: =D52-D51 -> 0.4 | E53: 0 | F53: =F52-F51 -> 0.3 | G53: =AVERAGE(D53:F53) -> 0.23333333 | H53: =MIN(D53:F53) -> 0 | J53: =I52-H51 -> 0.8
B54: 찐의 개수 | G54: 합 | H54: =SUM(D54:F54) -> 0
B56: #5 | C56: 실 측 ( 규격 : 66.5 ~ 71.0 ) | K56: 목표 | N56: 목표 대비 실적
C57: 속도 | D57: L | E57: C | F57: R | G57: 평균 | H57: Min | I57: Max | J57: Max-min | K57: 평균 | L57: Min | M57: Max | N57: 평균 | O57: Min | P57: Max
A58: 1 | B58: 08A | C58: 4 | D58: 67 | E58: 67.2 | F58: 67.7 | G58: =AVERAGE(D58:F58) -> 67.3 | H58: =MIN(D58:F58) -> 67 | I58: =MAX(D58:F58) -> 67.7 | J58: =I58-H58 -> 0.7 | K58: =AVERAGE(L58:M58) -> 67.8 | L58: 66.9 | M58: 68.7 | N58: =G58-K58 -> -0.5 | O58: =H58-L58 -> 0.1 | P58: =I58-M58 -> -1
A59: 2 | D59: 67.1 | E59: 67.3 | F59: 67.6 | G59: =AVERAGE(D59:F59) -> 67.333333 | H59: =MIN(D59:F59) -> 67.1 | I59: =MAX(D59:F59) -> 67.6 | J59: =I59-H59 -> 0.5 | K59: =AVERAGE(L59:M59) -> 67.8 | L59: 66.9 | M59: 68.7 | N59: =G59-K59 -> -0.46666667 | O59: =H59-L59 -> 0.2 | P59: =I59-M59 -> -1.1
A60: 3 | D60: 67 | E60: 67.3 | F60: 67.6 | G60: =AVERAGE(D60:F60) -> 67.3 | H60: =MIN(D60:F60) -> 67 | I60: =MAX(D60:F60) -> 67.6 | J60: =I60-H60 -> 0.6 | K60: =AVERAGE(L60:M60) -> 67.8 | L60: 66.9 | M60: 68.7 | N60: =G60-K60 -> -0.5 | O60: =H60-L60 -> 0.1 | P60: =I60-M60 -> -1.1
A61: 4 | D61: 67.1 | E61: 67.4 | F61: 67.6 | G61: =AVERAGE(D61:F61) -> 67.366667 | H61: =MIN(D61:F61) -> 67.1 | I61: =MAX(D61:F61) -> 67.6 | J61: =I61-H61 -> 0.5 | K61: =AVERAGE(L61:M61) -> 67.8 | L61: 66.9 | M61: 68.7 | N61: =G61-K61 -> -0.43333333 | O61: =H61-L61 -> 0.2 | P61: =I61-M61 -> -1.1
A62: 5 | D62: 67 | E62: 67.4 | F62: 67.4 | G62: =AVERAGE(D62:F62) -> 67.266667 | H62: =MIN(D62:F62) -> 67 | I62: =MAX(D62:F62) -> 67.4 | J62: =I62-H62 -> 0.4 | K62: =AVERAGE(L62:M62) -> 67.8 | L62: 66.9 | M62: 68.7 | N62: =G62-K62 -> -0.53333333 | O62: =H62-L62 -> 0.1 | P62: =I62-M62 -> -1.3
B63: 평균 | D63: =AVERAGE(D58:D62) -> 67.04 | E63: =AVERAGE(E58:E62) -> 67.32 | F63: =AVERAGE(F58:F62) -> 67.58 | G63: =AVERAGE(D63:F63) -> 67.313333 | K63: 특이 사항 | L63: Lot No : J6S-V4-43009L
B64: Min | D64: =MIN(D58:D62) -> 67 | E64: =MIN(E58:E62) -> 67.2 | F64: =MIN(F58:F62) -> 67.4 | H64: =MIN(D64:F64) -> 67 | L64: 투입 시간 : 11:35
B65: Max | D65: =MAX(D58:D62) -> 67.1 | E65: =MAX(E58:E62) -> 67.4 | F65: =MAX(F58:F62) -> 67.7 | I65: =MAX(D65:F65) -> 67.7
B66: Max-Min | D66: =D65-D64 -> 0.1 | E66: =E65-E64 -> 0.2 | F66: =F65-F64 -> 0.3 | G66: =AVERAGE(D66:F66) -> 0.2 | H66: =MIN(D66:F66) -> 0.1 | J66: =I65-H64 -> 0.7
B67: 찐의 개수 | G67: 합 | H67: =SUM(D67:F67) -> 0
B69: #6 | C69: 실 측 ( 규격 : 66.5 ~ 71.0 ) | K69: 목표 | N69: 목표 대비 실적
C70: 속도 | D70: L | E70: C | F70: R | G70: 평균 | H70: Min | I70: Max | J70: Max-min | K70: 평균 | L70: Min | M70: Max | N70: 평균 | O70: Min | P70: Max
A71: 1 | B71: 08A | C71: 4 | D71: 67.3 | E71: 67.9 | F71: 67.8 | G71: =AVERAGE(D71:F71) -> 67.666667 | H71: =MIN(D71:F71) -> 67.3 | I71: =MAX(D71:F71) -> 67.9 | J71: =I71-H71 -> 0.6 | K71: =AVERAGE(L71:M71) -> 67.8 | L71: 66.9 | M71: 68.7 | N71: =G71-K71 -> -0.13333333 | O71: =H71-L71 -> 0.4 | P71: =I71-M71 -> -0.8
A72: 2 | D72: 67.2 | E72: 67.6 | F72: 67.5 | G72: =AVERAGE(D72:F72) -> 67.433333 | H72: =MIN(D72:F72) -> 67.2 | I72: =MAX(D72:F72) -> 67.6 | J72: =I72-H72 -> 0.4 | K72: =AVERAGE(L72:M72) -> 67.8 | L72: 66.9 | M72: 68.7 | N72: =G72-K72 -> -0.36666667 | O72: =H72-L72 -> 0.3 | P72: =I72-M72 -> -1.1
A73: 3 | D73: 67.2 | E73: 67.5 | F73: 67.7 | G73: =AVERAGE(D73:F73) -> 67.466667 | H73: =MIN(D73:F73) -> 67.2 | I73: =MAX(D73:F73) -> 67.7 | J73: =I73-H73 -> 0.5 | K73: =AVERAGE(L73:M73) -> 67.8 | L73: 66.9 | M73: 68.7 | N73: =G73-K73 -> -0.33333333 | O73: =H73-L73 -> 0.3 | P73: =I73-M73 -> -1
A74: 4 | D74: 67 | E74: 67.4 | F74: 67.2 | G74: =AVERAGE(D74:F74) -> 67.2 | H74: =MIN(D74:F74) -> 67 | I74: =MAX(D74:F74) -> 67.4 | J74: =I74-H74 -> 0.4 | K74: =AVERAGE(L74:M74) -> 67.8 | L74: 66.9 | M74: 68.7 | N74: =G74-K74 -> -0.6 | O74: =H74-L74 -> 0.1 | P74: =I74-M74 -> -1.3
A75: 5 | D75: 67.3 | E75: 67.6 | F75: 67.7 | G75: =AVERAGE(D75:F75) -> 67.533333 | H75: =MIN(D75:F75) -> 67.3 | I75: =MAX(D75:F75) -> 67.7 | J75: =I75-H75 -> 0.4 | K75: =AVERAGE(L75:M75) -> 67.8 | L75: 66.9 | M75: 68.7 | N75: =G75-K75 -> -0.26666667 | O75: =H75-L75 -> 0.4 | P75: =I75-M75 -> -1
B76: 평균 | D76: =AVERAGE(D71:D75) -> 67.2 | E76: =AVERAGE(E71:E75) -> 67.6 | F76: =AVERAGE(F71:F75) -> 67.58 | G76: =AVERAGE(D76:F76) -> 67.46 | K76: 특이 사항 | L76: Lot No : J6S-V4-43009C
B77: Min | D77: =MIN(D71:D75) -> 67 | E77: =MIN(E71:E75) -> 67.4 | F77: =MIN(F71:F75) -> 67.2 | H77: =MIN(D77:F77) -> 67 | L77: 투입 시간 : 13:32
B78: Max | D78: =MAX(D71:D75) -> 67.3 | E78: =MAX(E71:E75) -> 67.9 | F78: =MAX(F71:F75) -> 67.8 | I78: =MAX(D78:F78) -> 67.9
B79: Max-Min | D79: =D78-D77 -> 0.3 | E79: =E78-E77 -> 0.5 | F79: =F78-F77 -> 0.6 | G79: =AVERAGE(D79:F79) -> 0.46666667 | H79: =MIN(D79:F79) -> 0.3 | J79: =I78-H77 -> 0.9
B80: 찐의 개수 | G80: 합 | H80: =SUM(D80:F80) -> 0
B82: #7 | C82: 실 측 ( 규격 : 66.5 ~ 71.0 ) | K82: 목표 | N82: 목표 대비 실적
C83: 속도 | D83: L | E83: C | F83: R | G83: 평균 | H83: Min | I83: Max | J83: Max-min | K83: 평균 | L83: Min | M83: Max | N83: 평균 | O83: Min | P83: Max
A84: 1 | B84: 08A | C84: 4 | D84: 67 | E84: 67.7 | F84: 67.8 | G84: =AVERAGE(D84:F84) -> 67.5 | H84: =MIN(D84:F84) -> 67 | I84: =MAX(D84:F84) -> 67.8 | J84: =I84-H84 -> 0.8 | K84: =AVERAGE(L84:M84) -> 67.8 | L84: 66.9 | M84: 68.7 | N84: =G84-K84 -> -0.3 | O84: =H84-L84 -> 0.1 | P84: =I84-M84 -> -0.9
A85: 2 | D85: 67.3 | E85: 67.5 | F85: 67.7 | G85: =AVERAGE(D85:F85) -> 67.5 | H85: =MIN(D85:F85) -> 67.3 | I85: =MAX(D85:F85) -> 67.7 | J85: =I85-H85 -> 0.4 | K85: =AVERAGE(L85:M85) -> 67.8 | L85: 66.9 | M85: 68.7 | N85: =G85-K85 -> -0.3 | O85: =H85-L85 -> 0.4 | P85: =I85-M85 -> -1
A86: 3 | D86: 67.3 | E86: 67.4 | F86: 67.5 | G86: =AVERAGE(D86:F86) -> 67.4 | H86: =MIN(D86:F86) -> 67.3 | I86: =MAX(D86:F86) -> 67.5 | J86: =I86-H86 -> 0.2 | K86: =AVERAGE(L86:M86) -> 67.8 | L86: 66.9 | M86: 68.7 | N86: =G86-K86 -> -0.4 | O86: =H86-L86 -> 0.4 | P86: =I86-M86 -> -1.2
A87: 4 | D87: 67.2 | E87: 67.4 | F87: 67.4 | G87: =AVERAGE(D87:F87) -> 67.333333 | H87: =MIN(D87:F87) -> 67.2 | I87: =MAX(D87:F87) -> 67.4 | J87: =I87-H87 -> 0.2 | K87: =AVERAGE(L87:M87) -> 67.8 | L87: 66.9 | M87: 68.7 | N87: =G87-K87 -> -0.46666667 | O87: =H87-L87 -> 0.3 | P87: =I87-M87 -> -1.3
A88: 5 | D88: 67.1 | E88: 67.4 | F88: 67.2 | G88: =AVERAGE(D88:F88) -> 67.233333 | H88: =MIN(D88:F88) -> 67.1 | I88: =MAX(D88:F88) -> 67.4 | J88: =I88-H88 -> 0.3 | K88: =AVERAGE(L88:M88) -> 67.8 | L88: 66.9 | M88: 68.7 | N88: =G88-K88 -> -0.56666667 | O88: =H88-L88 -> 0.2 | P88: =I88-M88 -> -1.3
B89: 평균 | D89: =AVERAGE(D84:D88) -> 67.18 | E89: =AVERAGE(E84:E88) -> 67.48 | F89: =AVERAGE(F84:F88) -> 67.52 | G89: =AVERAGE(D89:F89) -> 67.393333 | K89: 특이 사항 | L89: Lot No : J6S-V4-43009R
B90: Min | D90: =MIN(D84:D88) -> 67 | E90: =MIN(E84:E88) -> 67.4 | F90: =MIN(F84:F88) -> 67.2 | H90: =MIN(D90:F90) -> 67 | L90: 투입 시간 : 14:26
B91: Max | D91: =MAX(D84:D88) -> 67.3 | E91: =MAX(E84:E88) -> 67.7 | F91: =MAX(F84:F88) -> 67.8 | I91: =MAX(D91:F91) -> 67.8
B92: Max-Min | D92: =D91-D90 -> 0.3 | E92: =E91-E90 -> 0.3 | F92: =F91-F90 -> 0.6 | G92: =AVERAGE(D92:F92) -> 0.4 | H92: =MIN(D92:F92) -> 0.3 | J92: =I91-H90 -> 0.8
B93: 찐의 개수 | G93: 합 | H93: =SUM(D93:F93) -> 0
B95: #8 | C95: 실 측 ( 규격 : 66.5 ~ 71.0 ) | K95: 목표 | N95: 목표 대비 실적
C96: 속도 | D96: L | E96: C | F96: R | G96: 평균 | H96: Min | I96: Max | J96: Max-min | K96: 평균 | L96: Min | M96: Max | N96: 평균 | O96: Min | P96: Max
A97: 1 | B97: 08A | C97: 4 | D97: 67.4 | E97: 67.4 | F97: 67.5 | G97: =AVERAGE(D97:F97) -> 67.433333 | H97: =MIN(D97:F97) -> 67.4 | I97: =MAX(D97:F97) -> 67.5 | J97: =I97-H97 -> 0.1 | K97: =AVERAGE(L97:M97) -> 67.8 | L97: 66.9 | M97: 68.7 | N97: =G97-K97 -> -0.36666667 | O97: =H97-L97 -> 0.5 | P97: =I97-M97 -> -1.2
A98: 2 | D98: 67.2 | E98: 67.5 | F98: 67.5 | G98: =AVERAGE(D98:F98) -> 67.4 | H98: =MIN(D98:F98) -> 67.2 | I98: =MAX(D98:F98) -> 67.5 | J98: =I98-H98 -> 0.3 | K98: =AVERAGE(L98:M98) -> 67.8 | L98: 66.9 | M98: 68.7 | N98: =G98-K98 -> -0.4 | O98: =H98-L98 -> 0.3 | P98: =I98-M98 -> -1.2
A99: 3 | D99: 67.2 | E99: 67.5 | F99: 67.4 | G99: =AVERAGE(D99:F99) -> 67.366667 | H99: =MIN(D99:F99) -> 67.2 | I99: =MAX(D99:F99) -> 67.5 | J99: =I99-H99 -> 0.3 | K99: =AVERAGE(L99:M99) -> 67.8 | L99: 66.9 | M99: 68.7 | N99: =G99-K99 -> -0.43333333 | O99: =H99-L99 -> 0.3 | P99: =I99-M99 -> -1.2
A100: 4 | D100: 67.2 | E100: 67.5 | F100: 67.6 | G100: =AVERAGE(D100:F100) -> 67.433333 | H100: =MIN(D100:F100) -> 67.2 | I100: =MAX(D100:F100) -> 67.6 | J100: =I100-H100 -> 0.4 | K100: =AVERAGE(L100:M100) -> 67.8 | L100: 66.9 | M100: 68.7 | N100: =G100-K100 -> -0.36666667 | O100: =H100-L100 -> 0.3 | P100: =I100-M100 -> -1.1
A101: 5 | D101: 67.3 | E101: 67.8 | F101: 67.6 | G101: =AVERAGE(D101:F101) -> 67.566667 | H101: =MIN(D101:F101) -> 67.3 | I101: =MAX(D101:F101) -> 67.8 | J101: =I101-H101 -> 0.5 | K101: =AVERAGE(L101:M101) -> 67.8 | L101: 66.9 | M101: 68.7 | N101: =G101-K101 -> -0.23333333 | O101: =H101-L101 -> 0.4 | P101: =I101-M101 -> -0.9
B102: 평균 | D102: =AVERAGE(D97:D101) -> 67.26 | E102: =AVERAGE(E97:E101) -> 67.54 | F102: =AVERAGE(F97:F101) -> 67.52 | G102: =AVERAGE(D102:F102) -> 67.44 | K102: 특이 사항 | L102: Lot No : J6S-V4-43010C
B103: Min | D103: =MIN(D97:D101) -> 67.2 | E103: =MIN(E97:E101) -> 67.4 | F103: =MIN(F97:F101) -> 67.4 | H103: =MIN(D103:F103) -> 67.2 | L103: 투입 시간 : 15:18
B104: Max | D104: =MAX(D97:D101) -> 67.4 | E104: =MAX(E97:E101) -> 67.8 | F104: =MAX(F97:F101) -> 67.6 | I104: =MAX(D104:F104) -> 67.8
B105: Max-Min | D105: =D104-D103 -> 0.2 | E105: =E104-E103 -> 0.4 | F105: =F104-F103 -> 0.2 | G105: =AVERAGE(D105:F105) -> 0.26666667 | H105: =MIN(D105:F105) -> 0.2 | J105: =I104-H103 -> 0.6
B106: 찐의 개수 | G106: 합 | H106: =SUM(D106:F106) -> 0
B108: #9 | C108: 실 측 ( 규격 : 66.5 ~ 71.0 ) | K108: 목표 | N108: 목표 대비 실적
...

Sheet 목록
C13: 07A | D13: =IF(C13="07A","D/U",IF(C13="08A","S/G",IF(C13="09A","S/G",IF(C13="10A","S/G",IF(C13="11A","D/U",""))))) -> D/U
C14: 08A | D14: =IF(C14="07A","D/U",IF(C14="08A","S/G",IF(C14="09A","S/G",IF(C14="10A","S/G",IF(C14="11A","D/U",""))))) -> S/G
C15: 09A | D15: =IF(C15="07A","D/U",IF(C15="08A","S/G",IF(C15="09A","S/G",IF(C15="10A","S/G",IF(C15="11A","D/U",""))))) -> S/G
C16: 10A | D16: =IF(C16="07A","D/U",IF(C16="08A","S/G",IF(C16="09A","S/G",IF(C16="10A","S/G",IF(C16="11A","D/U",""))))) -> S/G
C17: 11A | D17: =IF(C17="07A","D/U",IF(C17="08A","S/G",IF(C17="09A","S/G",IF(C17="10A","S/G",IF(C17="11A","D/U",""))))) -> D/U
