Workbook

Sheet 구매내역
B4: 구 분 | D4: 구매내역
D5: 일자 | E5: 업체명 | F5: 품 목 | G5: 금 액 (공급가액 /대가) | H5: 금 액 (천원)
B6: 선박관리 | C6: 입거 | D6: 45659 | E6: 홍길동 | F6: 수리비 | G6: 320000000 | H6: =ROUND(G6,-3) -> 320000000
B7: 선박관리 | C7: 입거 | D7: 45797 | E7: 강감찬 | F7: 수리비 2 | G7: 320000000 | H7: =ROUND(G7,-3) -> 320000000
B8: 선박관리 | C8: 입거 | D8: 45828 | E8: 흥선군 | F8: 수리비 3 | G8: 320000000 | H8: =ROUND(G8,-3) -> 320000000
B9: 선박관리 | C9: 입거 | D9: 46017 | E9: 조달청 | F9: 수리비 4 | G9: 320000000 | H9: =ROUND(G9,-3) -> 320000000
H10: =ROUND(G10,-3) -> 0
H11: =ROUND(G11,-3) -> 0
B12: 합 계 | G12: =SUM(G6:G11) -> 1280000000 | H12: =SUM(H6:H11) -> 1280000000

Sheet 세부내역
A1: 지출일자 | D1: 구분(분류) | E1: 주요내역 | G1: 투자액(단위:천원) | I1: 증명번호
A2: =IFERROR(INDEX(구매내역!$D:$D,MATCH(G2,구매내역!$H:$H,0)),"") -> 45659 | E2: =IFERROR(INDEX(구매내역!$E:$E,MATCH(G2,구매내역!$H:$H,0)),"") -> 홍길동 | F2: =IFERROR(INDEX(구매내역!$F:$F,MATCH(G2,구매내역!$H:$H,0)),"") -> 수리비 | G2: {=IFERROR(INDEX(_xlfn._xlws.SORT(_xlfn._xlws.FILTER(구매내역!$H$6:$H$11,(구매내역!$B$6:$B$11="선박관리")*(구매내역!$H$6:$H$11>=5000000)),1,-1),데이터목록등!F3),"")} -> 320000000
A3: =IFERROR(INDEX(구매내역!$D:$D,MATCH(G3,구매내역!$H:$H,0)),"") -> 45659 | E3: =IFERROR(INDEX(구매내역!$E:$E,MATCH(G3,구매내역!$H:$H,0)),"") -> 홍길동 | F3: =IFERROR(INDEX(구매내역!$F:$F,MATCH(G3,구매내역!$H:$H,0)),"") -> 수리비 | G3: {=IFERROR(INDEX(_xlfn._xlws.SORT(_xlfn._xlws.FILTER(구매내역!$H$6:$H$11,(구매내역!$B$6:$B$11="선박관리")*(구매내역!$H$6:$H$11>=5000000)),1,-1),데이터목록등!F4),"")} -> 320000000
A4: =IFERROR(INDEX(구매내역!$D:$D,MATCH(G4,구매내역!$H:$H,0)),"") -> 45659 | E4: =IFERROR(INDEX(구매내역!$E:$E,MATCH(G4,구매내역!$H:$H,0)),"") -> 홍길동 | F4: =IFERROR(INDEX(구매내역!$F:$F,MATCH(G4,구매내역!$H:$H,0)),"") -> 수리비 | G4: {=IFERROR(INDEX(_xlfn._xlws.SORT(_xlfn._xlws.FILTER(구매내역!$H$6:$H$11,(구매내역!$B$6:$B$11="선박관리")*(구매내역!$H$6:$H$11>=5000000)),1,-1),데이터목록등!F5),"")} -> 320000000
A5: =IFERROR(INDEX(구매내역!$D:$D,MATCH(G5,구매내역!$H:$H,0)),"") -> 45659 | E5: =IFERROR(INDEX(구매내역!$E:$E,MATCH(G5,구매내역!$H:$H,0)),"") -> 홍길동 | F5: =IFERROR(INDEX(구매내역!$F:$F,MATCH(G5,구매내역!$H:$H,0)),"") -> 수리비 | G5: {=IFERROR(INDEX(_xlfn._xlws.SORT(_xlfn._xlws.FILTER(구매내역!$H$6:$H$11,(구매내역!$B$6:$B$11="선박관리")*(구매내역!$H$6:$H$11>=5000000)),1,-1),데이터목록등!F6),"")} -> 320000000
A6: =IFERROR(INDEX(구매내역!$D:$D,MATCH(G6,구매내역!$H:$H,0)),"") | E6: =IFERROR(INDEX(구매내역!$E:$E,MATCH(G6,구매내역!$H:$H,0)),"") | F6: =IFERROR(INDEX(구매내역!$F:$F,MATCH(G6,구매내역!$H:$H,0)),"") | G6: {=IFERROR(INDEX(_xlfn._xlws.SORT(_xlfn._xlws.FILTER(구매내역!$H$6:$H$11,(구매내역!$B$6:$B$11="선박관리")*(구매내역!$H$6:$H$11>=5000000)),1,-1),데이터목록등!F7),"")}
A7: 소계 | G7: =SUM(G2:H6) -> 1280000000

Sheet 데이터목록등
B2: 항목 | D2: 항목 | F2: NO
B3: 선박관리 | D3: 입거 | F3: 1
B4: 인적자원 | D4: 항차 | F4: 2
B5: 안전품질 | F5: 3
B6: 해당없음 | F6: 4
F7: 5
F8: 6
F9: 7
F10: 8
F11: 9
F12: 10
F13: 11
F14: 12
F15: 13
F16: 14
F17: 15
F18: 16
... F22: 20
