Workbook

Sheet 오늘배치
A1: 오늘 날짜 | B1: 46126
F2: 선택 직원 누적 참조 | K2: Raw_Data 추가용 변환표
A3: 층 | B3: 포지션1 | C3: 포지션2 | D3: 포지션3 | F3: 직원명 | G3: 총배치 | H3: 가장 많은 층 | I3: 가장 많은 포지션 | K3: 날짜 | L3: 층 | M3: 포지션 | N3: 직원명
A4: 1층 | B4: 유다은 | C4: 서민재 | D4: 문예린 | F4: {=IF($B$1<>"",INDEX($B$4:$D$8,INT((ROWS(F$4:F4)-1)/3)+1,MOD(ROWS(F$4:F4)-1,3)+1),"")} -> 유다은 | G4: =IF(F4="","",COUNTIF(Raw_Data!$D:$D,F4)) -> 5 | H4: {=IF(F4="","",INDEX({"1층","2층","3층","4층","5층"},MATCH(MAX(COUNTIFS(Raw_Data!$D:$D,F4,Raw_Data!$B:$B,{"1층","2층","3층","4층","5층"})),COUNTIFS(Raw_Data!$D:$D,F4,Raw_Data!$B:$B,{"1층","2층","3층","4층","5층"}),0)))} -> 1층 | I4: {=IF(F4="","",INDEX({"1","2","3"},MATCH(MAX(COUNTIFS(Raw_Data!$D:$D,F4,Raw_Data!$C:$C,{"1","2","3"})),COUNTIFS(Raw_Data!$D:$D,F4,Raw_Data!$C:$C,{"1","2","3"}),0)))} -> 1 | K4: =IF(N4="","",$B$1) -> 46126 | L4: {=IF(N4="","",INDEX($A$4:$A$8,INT((ROWS(L$4:L4)-1)/3)+1))} -> 1층 | M4: =IF(N4="","",MOD(ROWS(M$4:M4)-1,3)+1) -> 1 | N4: {=IF($B$1<>"",INDEX($B$4:$D$8,INT((ROWS(N$4:N4)-1)/3)+1,MOD(ROWS(N$4:N4)-1,3)+1),"")} -> 유다은
A5: 2층 | F5: {=IF($B$1<>"",INDEX($B$4:$D$8,INT((ROWS(F$4:F5)-1)/3)+1,MOD(ROWS(F$4:F5)-1,3)+1),"")} -> 서민재 | G5: =IF(F5="","",COUNTIF(Raw_Data!$D:$D,F5)) -> 5 | H5: {=IF(F5="","",INDEX({"1층","2층","3층","4층","5층"},MATCH(MAX(COUNTIFS(Raw_Data!$D:$D,F5,Raw_Data!$B:$B,{"1층","2층","3층","4층","5층"})),COUNTIFS(Raw_Data!$D:$D,F5,Raw_Data!$B:$B,{"1층","2층","3층","4층","5층"}),0)))} -> 1층 | I5: {=IF(F5="","",INDEX({"1","2","3"},MATCH(MAX(COUNTIFS(Raw_Data!$D:$D,F5,Raw_Data!$C:$C,{"1","2","3"})),COUNTIFS(Raw_Data!$D:$D,F5,Raw_Data!$C:$C,{"1","2","3"}),0)))} -> 1 | K5: =IF(N5="","",$B$1) -> 46126 | L5: {=IF(N5="","",INDEX($A$4:$A$8,INT((ROWS(L$4:L5)-1)/3)+1))} -> 1층 | M5: =IF(N5="","",MOD(ROWS(M$4:M5)-1,3)+1) -> 2 | N5: {=IF($B$1<>"",INDEX($B$4:$D$8,INT((ROWS(N$4:N5)-1)/3)+1,MOD(ROWS(N$4:N5)-1,3)+1),"")} -> 서민재
A6: 3층 | F6: {=IF($B$1<>"",INDEX($B$4:$D$8,INT((ROWS(F$4:F6)-1)/3)+1,MOD(ROWS(F$4:F6)-1,3)+1),"")} -> 문예린 | G6: =IF(F6="","",COUNTIF(Raw_Data!$D:$D,F6)) -> 5 | H6: {=IF(F6="","",INDEX({"1층","2층","3층","4층","5층"},MATCH(MAX(COUNTIFS(Raw_Data!$D:$D,F6,Raw_Data!$B:$B,{"1층","2층","3층","4층","5층"})),COUNTIFS(Raw_Data!$D:$D,F6,Raw_Data!$B:$B,{"1층","2층","3층","4층","5층"}),0)))} -> 1층 | I6: {=IF(F6="","",INDEX({"1","2","3"},MATCH(MAX(COUNTIFS(Raw_Data!$D:$D,F6,Raw_Data!$C:$C,{"1","2","3"})),COUNTIFS(Raw_Data!$D:$D,F6,Raw_Data!$C:$C,{"1","2","3"}),0)))} -> 2 | K6: =IF(N6="","",$B$1) -> 46126 | L6: {=IF(N6="","",INDEX($A$4:$A$8,INT((ROWS(L$4:L6)-1)/3)+1))} -> 1층 | M6: =IF(N6="","",MOD(ROWS(M$4:M6)-1,3)+1) -> 3 | N6: {=IF($B$1<>"",INDEX($B$4:$D$8,INT((ROWS(N$4:N6)-1)/3)+1,MOD(ROWS(N$4:N6)-1,3)+1),"")} -> 문예린
A7: 4층 | F7: {=IF($B$1<>"",INDEX($B$4:$D$8,INT((ROWS(F$4:F7)-1)/3)+1,MOD(ROWS(F$4:F7)-1,3)+1),"")} -> 0 | G7: =IF(F7="","",COUNTIF(Raw_Data!$D:$D,F7)) -> 0 | H7: {=IF(F7="","",INDEX({"1층","2층","3층","4층","5층"},MATCH(MAX(COUNTIFS(Raw_Data!$D:$D,F7,Raw_Data!$B:$B,{"1층","2층","3층","4층","5층"})),COUNTIFS(Raw_Data!$D:$D,F7,Raw_Data!$B:$B,{"1층","2층","3층","4층","5층"}),0)))} -> 1층 | I7: {=IF(F7="","",INDEX({"1","2","3"},MATCH(MAX(COUNTIFS(Raw_Data!$D:$D,F7,Raw_Data!$C:$C,{"1","2","3"})),COUNTIFS(Raw_Data!$D:$D,F7,Raw_Data!$C:$C,{"1","2","3"}),0)))} -> 1 | K7: =IF(N7="","",$B$1) -> 46126 | L7: {=IF(N7="","",INDEX($A$4:$A$8,INT((ROWS(L$4:L7)-1)/3)+1))} -> 2층 | M7: =IF(N7="","",MOD(ROWS(M$4:M7)-1,3)+1) -> 1 | N7: {=IF($B$1<>"",INDEX($B$4:$D$8,INT((ROWS(N$4:N7)-1)/3)+1,MOD(ROWS(N$4:N7)-1,3)+1),"")} -> 0
A8: 5층 | F8: {=IF($B$1<>"",INDEX($B$4:$D$8,INT((ROWS(F$4:F8)-1)/3)+1,MOD(ROWS(F$4:F8)-1,3)+1),"")} -> 0 | G8: =IF(F8="","",COUNTIF(Raw_Data!$D:$D,F8)) -> 0 | H8: {=IF(F8="","",INDEX({"1층","2층","3층","4층","5층"},MATCH(MAX(COUNTIFS(Raw_Data!$D:$D,F8,Raw_Data!$B:$B,{"1층","2층","3층","4층","5층"})),COUNTIFS(Raw_Data!$D:$D,F8,Raw_Data!$B:$B,{"1층","2층","3층","4층","5층"}),0)))} -> 1층 | I8: {=IF(F8="","",INDEX({"1","2","3"},MATCH(MAX(COUNTIFS(Raw_Data!$D:$D,F8,Raw_Data!$C:$C,{"1","2","3"})),COUNTIFS(Raw_Data!$D:$D,F8,Raw_Data!$C:$C,{"1","2","3"}),0)))} -> 1 | K8: =IF(N8="","",$B$1) -> 46126 | L8: {=IF(N8="","",INDEX($A$4:$A$8,INT((ROWS(L$4:L8)-1)/3)+1))} -> 2층 | M8: =IF(N8="","",MOD(ROWS(M$4:M8)-1,3)+1) -> 2 | N8: {=IF($B$1<>"",INDEX($B$4:$D$8,INT((ROWS(N$4:N8)-1)/3)+1,MOD(ROWS(N$4:N8)-1,3)+1),"")} -> 0
F9: {=IF($B$1<>"",INDEX($B$4:$D$8,INT((ROWS(F$4:F9)-1)/3)+1,MOD(ROWS(F$4:F9)-1,3)+1),"")} -> 0 | G9: =IF(F9="","",COUNTIF(Raw_Data!$D:$D,F9)) -> 0 | H9: {=IF(F9="","",INDEX({"1층","2층","3층","4층","5층"},MATCH(MAX(COUNTIFS(Raw_Data!$D:$D,F9,Raw_Data!$B:$B,{"1층","2층","3층","4층","5층"})),COUNTIFS(Raw_Data!$D:$D,F9,Raw_Data!$B:$B,{"1층","2층","3층","4층","5층"}),0)))} -> 1층 | I9: {=IF(F9="","",INDEX({"1","2","3"},MATCH(MAX(COUNTIFS(Raw_Data!$D:$D,F9,Raw_Data!$C:$C,{"1","2","3"})),COUNTIFS(Raw_Data!$D:$D,F9,Raw_Data!$C:$C,{"1","2","3"}),0)))} -> 1 | K9: =IF(N9="","",$B$1) -> 46126 | L9: {=IF(N9="","",INDEX($A$4:$A$8,INT((ROWS(L$4:L9)-1)/3)+1))} -> 2층 | M9: =IF(N9="","",MOD(ROWS(M$4:M9)-1,3)+1) -> 3 | N9: {=IF($B$1<>"",INDEX($B$4:$D$8,INT((ROWS(N$4:N9)-1)/3)+1,MOD(ROWS(N$4:N9)-1,3)+1),"")} -> 0
F10: {=IF($B$1<>"",INDEX($B$4:$D$8,INT((ROWS(F$4:F10)-1)/3)+1,MOD(ROWS(F$4:F10)-1,3)+1),"")} -> 0 | G10: =IF(F10="","",COUNTIF(Raw_Data!$D:$D,F10)) -> 0 | H10: {=IF(F10="","",INDEX({"1층","2층","3층","4층","5층"},MATCH(MAX(COUNTIFS(Raw_Data!$D:$D,F10,Raw_Data!$B:$B,{"1층","2층","3층","4층","5층"})),COUNTIFS(Raw_Data!$D:$D,F10,Raw_Data!$B:$B,{"1층","2층","3층","4층","5층"}),0)))} -> 1층 | I10: {=IF(F10="","",INDEX({"1","2","3"},MATCH(MAX(COUNTIFS(Raw_Data!$D:$D,F10,Raw_Data!$C:$C,{"1","2","3"})),COUNTIFS(Raw_Data!$D:$D,F10,Raw_Data!$C:$C,{"1","2","3"}),0)))} -> 1 | K10: =IF(N10="","",$B$1) -> 46126 | L10: {=IF(N10="","",INDEX($A$4:$A$8,INT((ROWS(L$4:L10)-1)/3)+1))} -> 3층 | M10: =IF(N10="","",MOD(ROWS(M$4:M10)-1,3)+1) -> 1 | N10: {=IF($B$1<>"",INDEX($B$4:$D$8,INT((ROWS(N$4:N10)-1)/3)+1,MOD(ROWS(N$4:N10)-1,3)+1),"")} -> 0
F11: {=IF($B$1<>"",INDEX($B$4:$D$8,INT((ROWS(F$4:F11)-1)/3)+1,MOD(ROWS(F$4:F11)-1,3)+1),"")} -> 0 | G11: =IF(F11="","",COUNTIF(Raw_Data!$D:$D,F11)) -> 0 | H11: {=IF(F11="","",INDEX({"1층","2층","3층","4층","5층"},MATCH(MAX(COUNTIFS(Raw_Data!$D:$D,F11,Raw_Data!$B:$B,{"1층","2층","3층","4층","5층"})),COUNTIFS(Raw_Data!$D:$D,F11,Raw_Data!$B:$B,{"1층","2층","3층","4층","5층"}),0)))} -> 1층 | I11: {=IF(F11="","",INDEX({"1","2","3"},MATCH(MAX(COUNTIFS(Raw_Data!$D:$D,F11,Raw_Data!$C:$C,{"1","2","3"})),COUNTIFS(Raw_Data!$D:$D,F11,Raw_Data!$C:$C,{"1","2","3"}),0)))} -> 1 | K11: =IF(N11="","",$B$1) -> 46126 | L11: {=IF(N11="","",INDEX($A$4:$A$8,INT((ROWS(L$4:L11)-1)/3)+1))} -> 3층 | M11: =IF(N11="","",MOD(ROWS(M$4:M11)-1,3)+1) -> 2 | N11: {=IF($B$1<>"",INDEX($B$4:$D$8,INT((ROWS(N$4:N11)-1)/3)+1,MOD(ROWS(N$4:N11)-1,3)+1),"")} -> 0
F12: {=IF($B$1<>"",INDEX($B$4:$D$8,INT((ROWS(F$4:F12)-1)/3)+1,MOD(ROWS(F$4:F12)-1,3)+1),"")} -> 0 | G12: =IF(F12="","",COUNTIF(Raw_Data!$D:$D,F12)) -> 0 | H12: {=IF(F12="","",INDEX({"1층","2층","3층","4층","5층"},MATCH(MAX(COUNTIFS(Raw_Data!$D:$D,F12,Raw_Data!$B:$B,{"1층","2층","3층","4층","5층"})),COUNTIFS(Raw_Data!$D:$D,F12,Raw_Data!$B:$B,{"1층","2층","3층","4층","5층"}),0)))} -> 1층 | I12: {=IF(F12="","",INDEX({"1","2","3"},MATCH(MAX(COUNTIFS(Raw_Data!$D:$D,F12,Raw_Data!$C:$C,{"1","2","3"})),COUNTIFS(Raw_Data!$D:$D,F12,Raw_Data!$C:$C,{"1","2","3"}),0)))} -> 1 | K12: =IF(N12="","",$B$1) -> 46126 | L12: {=IF(N12="","",INDEX($A$4:$A$8,INT((ROWS(L$4:L12)-1)/3)+1))} -> 3층 | M12: =IF(N12="","",MOD(ROWS(M$4:M12)-1,3)+1) -> 3 | N12: {=IF($B$1<>"",INDEX($B$4:$D$8,INT((ROWS(N$4:N12)-1)/3)+1,MOD(ROWS(N$4:N12)-1,3)+1),"")} -> 0
F13: {=IF($B$1<>"",INDEX($B$4:$D$8,INT((ROWS(F$4:F13)-1)/3)+1,MOD(ROWS(F$4:F13)-1,3)+1),"")} -> 0 | G13: =IF(F13="","",COUNTIF(Raw_Data!$D:$D,F13)) -> 0 | H13: {=IF(F13="","",INDEX({"1층","2층","3층","4층","5층"},MATCH(MAX(COUNTIFS(Raw_Data!$D:$D,F13,Raw_Data!$B:$B,{"1층","2층","3층","4층","5층"})),COUNTIFS(Raw_Data!$D:$D,F13,Raw_Data!$B:$B,{"1층","2층","3층","4층","5층"}),0)))} -> 1층 | I13: {=IF(F13="","",INDEX({"1","2","3"},MATCH(MAX(COUNTIFS(Raw_Data!$D:$D,F13,Raw_Data!$C:$C,{"1","2","3"})),COUNTIFS(Raw_Data!$D:$D,F13,Raw_Data!$C:$C,{"1","2","3"}),0)))} -> 1 | K13: =IF(N13="","",$B$1) -> 46126 | L13: {=IF(N13="","",INDEX($A$4:$A$8,INT((ROWS(L$4:L13)-1)/3)+1))} -> 4층 | M13: =IF(N13="","",MOD(ROWS(M$4:M13)-1,3)+1) -> 1 | N13: {=IF($B$1<>"",INDEX($B$4:$D$8,INT((ROWS(N$4:N13)-1)/3)+1,MOD(ROWS(N$4:N13)-1,3)+1),"")} -> 0
F14: {=IF($B$1<>"",INDEX($B$4:$D$8,INT((ROWS(F$4:F14)-1)/3)+1,MOD(ROWS(F$4:F14)-1,3)+1),"")} -> 0 | G14: =IF(F14="","",COUNTIF(Raw_Data!$D:$D,F14)) -> 0 | H14: {=IF(F14="","",INDEX({"1층","2층","3층","4층","5층"},MATCH(MAX(COUNTIFS(Raw_Data!$D:$D,F14,Raw_Data!$B:$B,{"1층","2층","3층","4층","5층"})),COUNTIFS(Raw_Data!$D:$D,F14,Raw_Data!$B:$B,{"1층","2층","3층","4층","5층"}),0)))} -> 1층 | I14: {=IF(F14="","",INDEX({"1","2","3"},MATCH(MAX(COUNTIFS(Raw_Data!$D:$D,F14,Raw_Data!$C:$C,{"1","2","3"})),COUNTIFS(Raw_Data!$D:$D,F14,Raw_Data!$C:$C,{"1","2","3"}),0)))} -> 1 | K14: =IF(N14="","",$B$1) -> 46126 | L14: {=IF(N14="","",INDEX($A$4:$A$8,INT((ROWS(L$4:L14)-1)/3)+1))} -> 4층 | M14: =IF(N14="","",MOD(ROWS(M$4:M14)-1,3)+1) -> 2 | N14: {=IF($B$1<>"",INDEX($B$4:$D$8,INT((ROWS(N$4:N14)-1)/3)+1,MOD(ROWS(N$4:N14)-1,3)+1),"")} -> 0
F15: {=IF($B$1<>"",INDEX($B$4:$D$8,INT((ROWS(F$4:F15)-1)/3)+1,MOD(ROWS(F$4:F15)-1,3)+1),"")} -> 0 | G15: =IF(F15="","",COUNTIF(Raw_Data!$D:$D,F15)) -> 0 | H15: {=IF(F15="","",INDEX({"1층","2층","3층","4층","5층"},MATCH(MAX(COUNTIFS(Raw_Data!$D:$D,F15,Raw_Data!$B:$B,{"1층","2층","3층","4층","5층"})),COUNTIFS(Raw_Data!$D:$D,F15,Raw_Data!$B:$B,{"1층","2층","3층","4층","5층"}),0)))} -> 1층 | I15: {=IF(F15="","",INDEX({"1","2","3"},MATCH(MAX(COUNTIFS(Raw_Data!$D:$D,F15,Raw_Data!$C:$C,{"1","2","3"})),COUNTIFS(Raw_Data!$D:$D,F15,Raw_Data!$C:$C,{"1","2","3"}),0)))} -> 1 | K15: =IF(N15="","",$B$1) -> 46126 | L15: {=IF(N15="","",INDEX($A$4:$A$8,INT((ROWS(L$4:L15)-1)/3)+1))} -> 4층 | M15: =IF(N15="","",MOD(ROWS(M$4:M15)-1,3)+1) -> 3 | N15: {=IF($B$1<>"",INDEX($B$4:$D$8,INT((ROWS(N$4:N15)-1)/3)+1,MOD(ROWS(N$4:N15)-1,3)+1),"")} -> 0
F16: {=IF($B$1<>"",INDEX($B$4:$D$8,INT((ROWS(F$4:F16)-1)/3)+1,MOD(ROWS(F$4:F16)-1,3)+1),"")} -> 0 | G16: =IF(F16="","",COUNTIF(Raw_Data!$D:$D,F16)) -> 0 | H16: {=IF(F16="","",INDEX({"1층","2층","3층","4층","5층"},MATCH(MAX(COUNTIFS(Raw_Data!$D:$D,F16,Raw_Data!$B:$B,{"1층","2층","3층","4층","5층"})),COUNTIFS(Raw_Data!$D:$D,F16,Raw_Data!$B:$B,{"1층","2층","3층","4층","5층"}),0)))} -> 1층 | I16: {=IF(F16="","",INDEX({"1","2","3"},MATCH(MAX(COUNTIFS(Raw_Data!$D:$D,F16,Raw_Data!$C:$C,{"1","2","3"})),COUNTIFS(Raw_Data!$D:$D,F16,Raw_Data!$C:$C,{"1","2","3"}),0)))} -> 1 | K16: =IF(N16="","",$B$1) -> 46126 | L16: {=IF(N16="","",INDEX($A$4:$A$8,INT((ROWS(L$4:L16)-1)/3)+1))} -> 5층 | M16: =IF(N16="","",MOD(ROWS(M$4:M16)-1,3)+1) -> 1 | N16: {=IF($B$1<>"",INDEX($B$4:$D$8,INT((ROWS(N$4:N16)-1)/3)+1,MOD(ROWS(N$4:N16)-1,3)+1),"")} -> 0
F17: {=IF($B$1<>"",INDEX($B$4:$D$8,INT((ROWS(F$4:F17)-1)/3)+1,MOD(ROWS(F$4:F17)-1,3)+1),"")} -> 0 | G17: =IF(F17="","",COUNTIF(Raw_Data!$D:$D,F17)) -> 0 | H17: {=IF(F17="","",INDEX({"1층","2층","3층","4층","5층"},MATCH(MAX(COUNTIFS(Raw_Data!$D:$D,F17,Raw_Data!$B:$B,{"1층","2층","3층","4층","5층"})),COUNTIFS(Raw_Data!$D:$D,F17,Raw_Data!$B:$B,{"1층","2층","3층","4층","5층"}),0)))} -> 1층 | I17: {=IF(F17="","",INDEX({"1","2","3"},MATCH(MAX(COUNTIFS(Raw_Data!$D:$D,F17,Raw_Data!$C:$C,{"1","2","3"})),COUNTIFS(Raw_Data!$D:$D,F17,Raw_Data!$C:$C,{"1","2","3"}),0)))} -> 1 | K17: =IF(N17="","",$B$1) -> 46126 | L17: {=IF(N17="","",INDEX($A$4:$A$8,INT((ROWS(L$4:L17)-1)/3)+1))} -> 5층 | M17: =IF(N17="","",MOD(ROWS(M$4:M17)-1,3)+1) -> 2 | N17: {=IF($B$1<>"",INDEX($B$4:$D$8,INT((ROWS(N$4:N17)-1)/3)+1,MOD(ROWS(N$4:N17)-1,3)+1),"")} -> 0
D18: ` | F18: {=IF($B$1<>"",INDEX($B$4:$D$8,INT((ROWS(F$4:F18)-1)/3)+1,MOD(ROWS(F$4:F18)-1,3)+1),"")} -> 0 | G18: =IF(F18="","",COUNTIF(Raw_Data!$D:$D,F18)) -> 0 | H18: {=IF(F18="","",INDEX({"1층","2층","3층","4층","5층"},MATCH(MAX(COUNTIFS(Raw_Data!$D:$D,F18,Raw_Data!$B:$B,{"1층","2층","3층","4층","5층"})),COUNTIFS(Raw_Data!$D:$D,F18,Raw_Data!$B:$B,{"1층","2층","3층","4층","5층"}),0)))} -> 1층 | I18: {=IF(F18="","",INDEX({"1","2","3"},MATCH(MAX(COUNTIFS(Raw_Data!$D:$D,F18,Raw_Data!$C:$C,{"1","2","3"})),COUNTIFS(Raw_Data!$D:$D,F18,Raw_Data!$C:$C,{"1","2","3"}),0)))} -> 1 | K18: =IF(N18="","",$B$1) -> 46126 | L18: {=IF(N18="","",INDEX($A$4:$A$8,INT((ROWS(L$4:L18)-1)/3)+1))} -> 5층 | M18: =IF(N18="","",MOD(ROWS(M$4:M18)-1,3)+1) -> 3 | N18: {=IF($B$1<>"",INDEX($B$4:$D$8,INT((ROWS(N$4:N18)-1)/3)+1,MOD(ROWS(N$4:N18)-1,3)+1),"")} -> 0

Sheet Raw_Data
A1: 날짜 | B1: 층 | C1: 포지션 | D1: 직원명
A2: 46113 | B2: 1층 | C2: 1 | D2: 김민수
A3: 46113 | B3: 1층 | C3: 2 | D3: 이서준
A4: 46113 | B4: 1층 | C4: 3 | D4: 박지훈
A5: 46113 | B5: 2층 | C5: 1 | D5: 최은우
A6: 46113 | B6: 2층 | C6: 2 | D6: 정도윤
A7: 46113 | B7: 2층 | C7: 3 | D7: 강하준
A8: 46113 | B8: 3층 | C8: 1 | D8: 조예준
A9: 46113 | B9: 3층 | C9: 2 | D9: 윤시우
A10: 46113 | B10: 3층 | C10: 3 | D10: 장도현
A11: 46113 | B11: 4층 | C11: 1 | D11: 임지호
A12: 46113 | B12: 4층 | C12: 2 | D12: 한유진
A13: 46113 | B13: 4층 | C13: 3 | D13: 오서연
... A151: 46122 | B151: 5층 | C151: 3 | D151: 김민수
A152: 46125 | B152: 1층 | C152: 1 | D152: 김민수
A153: 46125 | B153: 1층 | C153: 2 | D153: 이서준
A154: 46125 | B154: 1층 | C154: 3 | D154: 박지훈
A155: 46125 | B155: 2층 | C155: 1 | D155: 최은우
A156: 46125 | B156: 2층 | C156: 2 | D156: 정도윤
A157: 46125 | B157: 2층 | C157: 3 | D157: 강하준
A158: 46125 | B158: 3층 | C158: 1 | D158: 조예준
A159: 46125 | B159: 3층 | C159: 2 | D159: 윤시우
A160: 46125 | B160: 3층 | C160: 3 | D160: 장도현
A161: 46125 | B161: 4층 | C161: 1 | D161: 임지호
A162: 46125 | B162: 4층 | C162: 2 | D162: 한유진
A163: 46125 | B163: 4층 | C163: 3 | D163: 오서연
... A166: 46125 | B166: 5층 | C166: 3 | D166: 송채원

Sheet 누적통계
A1: 직원명 | B1: 1층 | C1: 2층 | D1: 3층 | E1: 4층 | F1: 5층 | G1: 포지션1 | H1: 포지션2 | I1: 포지션3 | J1: 총배치 | K1: 층편중(최대-최소) | L1: 포지션편중(최대-최소)
A2: 김민수 | B2: =COUNTIFS(Raw_Data!$D:$D,$A2,Raw_Data!$B:$B,"1층") -> 2 | C2: =COUNTIFS(Raw_Data!$D:$D,$A2,Raw_Data!$B:$B,"2층") -> 1 | D2: =COUNTIFS(Raw_Data!$D:$D,$A2,Raw_Data!$B:$B,"3층") -> 1 | E2: =COUNTIFS(Raw_Data!$D:$D,$A2,Raw_Data!$B:$B,"4층") -> 1 | F2: =COUNTIFS(Raw_Data!$D:$D,$A2,Raw_Data!$B:$B,"5층") -> 2 | G2: =COUNTIFS(Raw_Data!$D:$D,$A2,Raw_Data!$C:$C,"1") -> 3 | H2: =COUNTIFS(Raw_Data!$D:$D,$A2,Raw_Data!$C:$C,"2") -> 2 | I2: =COUNTIFS(Raw_Data!$D:$D,$A2,Raw_Data!$C:$C,"3") -> 2 | J2: =SUM(B2:I2) -> 14 | K2: =MAX(B2:F2)-MIN(B2:F2) -> 1 | L2: =MAX(G2:I2)-MIN(G2:I2) -> 1
A3: 이서준 | B3: =COUNTIFS(Raw_Data!$D:$D,$A3,Raw_Data!$B:$B,"1층") -> 2 | C3: =COUNTIFS(Raw_Data!$D:$D,$A3,Raw_Data!$B:$B,"2층") -> 1 | D3: =COUNTIFS(Raw_Data!$D:$D,$A3,Raw_Data!$B:$B,"3층") -> 1 | E3: =COUNTIFS(Raw_Data!$D:$D,$A3,Raw_Data!$B:$B,"4층") -> 1 | F3: =COUNTIFS(Raw_Data!$D:$D,$A3,Raw_Data!$B:$B,"5층") -> 1 | G3: =COUNTIFS(Raw_Data!$D:$D,$A3,Raw_Data!$C:$C,"1") -> 1 | H3: =COUNTIFS(Raw_Data!$D:$D,$A3,Raw_Data!$C:$C,"2") -> 3 | I3: =COUNTIFS(Raw_Data!$D:$D,$A3,Raw_Data!$C:$C,"3") -> 2 | J3: =SUM(B3:I3) -> 12 | K3: =MAX(B3:F3)-MIN(B3:F3) -> 1 | L3: =MAX(G3:I3)-MIN(G3:I3) -> 2
A4: 박지훈 | B4: =COUNTIFS(Raw_Data!$D:$D,$A4,Raw_Data!$B:$B,"1층") -> 2 | C4: =COUNTIFS(Raw_Data!$D:$D,$A4,Raw_Data!$B:$B,"2층") -> 1 | D4: =COUNTIFS(Raw_Data!$D:$D,$A4,Raw_Data!$B:$B,"3층") -> 1 | E4: =COUNTIFS(Raw_Data!$D:$D,$A4,Raw_Data!$B:$B,"4층") -> 1 | F4: =COUNTIFS(Raw_Data!$D:$D,$A4,Raw_Data!$B:$B,"5층") -> 1 | G4: =COUNTIFS(Raw_Data!$D:$D,$A4,Raw_Data!$C:$C,"1") -> 2 | H4: =COUNTIFS(Raw_Data!$D:$D,$A4,Raw_Data!$C:$C,"2") -> 2 | I4: =COUNTIFS(Raw_Data!$D:$D,$A4,Raw_Data!$C:$C,"3") -> 2 | J4: =SUM(B4:I4) -> 12 | K4: =MAX(B4:F4)-MIN(B4:F4) -> 1 | L4: =MAX(G4:I4)-MIN(G4:I4) -> 0
A5: 최은우 | B5: =COUNTIFS(Raw_Data!$D:$D,$A5,Raw_Data!$B:$B,"1층") -> 1 | C5: =COUNTIFS(Raw_Data!$D:$D,$A5,Raw_Data!$B:$B,"2층") -> 2 | D5: =COUNTIFS(Raw_Data!$D:$D,$A5,Raw_Data!$B:$B,"3층") -> 1 | E5: =COUNTIFS(Raw_Data!$D:$D,$A5,Raw_Data!$B:$B,"4층") -> 1 | F5: =COUNTIFS(Raw_Data!$D:$D,$A5,Raw_Data!$B:$B,"5층") -> 1 | G5: =COUNTIFS(Raw_Data!$D:$D,$A5,Raw_Data!$C:$C,"1") -> 3 | H5: =COUNTIFS(Raw_Data!$D:$D,$A5,Raw_Data!$C:$C,"2") -> 2 | I5: =COUNTIFS(Raw_Data!$D:$D,$A5,Raw_Data!$C:$C,"3") -> 1 | J5: =SUM(B5:I5) -> 12 | K5: =MAX(B5:F5)-MIN(B5:F5) -> 1 | L5: =MAX(G5:I5)-MIN(G5:I5) -> 2
A6: 정도윤 | B6: =COUNTIFS(Raw_Data!$D:$D,$A6,Raw_Data!$B:$B,"1층") -> 1 | C6: =COUNTIFS(Raw_Data!$D:$D,$A6,Raw_Data!$B:$B,"2층") -> 2 | D6: =COUNTIFS(Raw_Data!$D:$D,$A6,Raw_Data!$B:$B,"3층") -> 1 | E6: =COUNTIFS(Raw_Data!$D:$D,$A6,Raw_Data!$B:$B,"4층") -> 1 | F6: =COUNTIFS(Raw_Data!$D:$D,$A6,Raw_Data!$B:$B,"5층") -> 1 | G6: =COUNTIFS(Raw_Data!$D:$D,$A6,Raw_Data!$C:$C,"1") -> 2 | H6: =COUNTIFS(Raw_Data!$D:$D,$A6,Raw_Data!$C:$C,"2") -> 2 | I6: =COUNTIFS(Raw_Data!$D:$D,$A6,Raw_Data!$C:$C,"3") -> 2 | J6: =SUM(B6:I6) -> 12 | K6: =MAX(B6:F6)-MIN(B6:F6) -> 1 | L6: =MAX(G6:I6)-MIN(G6:I6) -> 0
A7: 강하준 | B7: =COUNTIFS(Raw_Data!$D:$D,$A7,Raw_Data!$B:$B,"1층") -> 1 | C7: =COUNTIFS(Raw_Data!$D:$D,$A7,Raw_Data!$B:$B,"2층") -> 2 | D7: =COUNTIFS(Raw_Data!$D:$D,$A7,Raw_Data!$B:$B,"3층") -> 1 | E7: =COUNTIFS(Raw_Data!$D:$D,$A7,Raw_Data!$B:$B,"4층") -> 1 | F7: =COUNTIFS(Raw_Data!$D:$D,$A7,Raw_Data!$B:$B,"5층") -> 1 | G7: =COUNTIFS(Raw_Data!$D:$D,$A7,Raw_Data!$C:$C,"1") -> 1 | H7: =COUNTIFS(Raw_Data!$D:$D,$A7,Raw_Data!$C:$C,"2") -> 2 | I7: =COUNTIFS(Raw_Data!$D:$D,$A7,Raw_Data!$C:$C,"3") -> 3 | J7: =SUM(B7:I7) -> 12 | K7: =MAX(B7:F7)-MIN(B7:F7) -> 1 | L7: =MAX(G7:I7)-MIN(G7:I7) -> 2
A8: 조예준 | B8: =COUNTIFS(Raw_Data!$D:$D,$A8,Raw_Data!$B:$B,"1층") -> 1 | C8: =COUNTIFS(Raw_Data!$D:$D,$A8,Raw_Data!$B:$B,"2층") -> 1 | D8: =COUNTIFS(Raw_Data!$D:$D,$A8,Raw_Data!$B:$B,"3층") -> 2 | E8: =COUNTIFS(Raw_Data!$D:$D,$A8,Raw_Data!$B:$B,"4층") -> 1 | F8: =COUNTIFS(Raw_Data!$D:$D,$A8,Raw_Data!$B:$B,"5층") -> 1 | G8: =COUNTIFS(Raw_Data!$D:$D,$A8,Raw_Data!$C:$C,"1") -> 3 | H8: =COUNTIFS(Raw_Data!$D:$D,$A8,Raw_Data!$C:$C,"2") -> 1 | I8: =COUNTIFS(Raw_Data!$D:$D,$A8,Raw_Data!$C:$C,"3") -> 2 | J8: =SUM(B8:I8) -> 12 | K8: =MAX(B8:F8)-MIN(B8:F8) -> 1 | L8: =MAX(G8:I8)-MIN(G8:I8) -> 2
A9: 윤시우 | B9: =COUNTIFS(Raw_Data!$D:$D,$A9,Raw_Data!$B:$B,"1층") -> 1 | C9: =COUNTIFS(Raw_Data!$D:$D,$A9,Raw_Data!$B:$B,"2층") -> 1 | D9: =COUNTIFS(Raw_Data!$D:$D,$A9,Raw_Data!$B:$B,"3층") -> 2 | E9: =COUNTIFS(Raw_Data!$D:$D,$A9,Raw_Data!$B:$B,"4층") -> 1 | F9: =COUNTIFS(Raw_Data!$D:$D,$A9,Raw_Data!$B:$B,"5층") -> 1 | G9: =COUNTIFS(Raw_Data!$D:$D,$A9,Raw_Data!$C:$C,"1") -> 1 | H9: =COUNTIFS(Raw_Data!$D:$D,$A9,Raw_Data!$C:$C,"2") -> 3 | I9: =COUNTIFS(Raw_Data!$D:$D,$A9,Raw_Data!$C:$C,"3") -> 2 | J9: =SUM(B9:I9) -> 12 | K9: =MAX(B9:F9)-MIN(B9:F9) -> 1 | L9: =MAX(G9:I9)-MIN(G9:I9) -> 2
A10: 장도현 | B10: =COUNTIFS(Raw_Data!$D:$D,$A10,Raw_Data!$B:$B,"1층") -> 1 | C10: =COUNTIFS(Raw_Data!$D:$D,$A10,Raw_Data!$B:$B,"2층") -> 1 | D10: =COUNTIFS(Raw_Data!$D:$D,$A10,Raw_Data!$B:$B,"3층") -> 2 | E10: =COUNTIFS(Raw_Data!$D:$D,$A10,Raw_Data!$B:$B,"4층") -> 1 | F10: =COUNTIFS(Raw_Data!$D:$D,$A10,Raw_Data!$B:$B,"5층") -> 1 | G10: =COUNTIFS(Raw_Data!$D:$D,$A10,Raw_Data!$C:$C,"1") -> 2 | H10: =COUNTIFS(Raw_Data!$D:$D,$A10,Raw_Data!$C:$C,"2") -> 2 | I10: =COUNTIFS(Raw_Data!$D:$D,$A10,Raw_Data!$C:$C,"3") -> 2 | J10: =SUM(B10:I10) -> 12 | K10: =MAX(B10:F10)-MIN(B10:F10) -> 1 | L10: =MAX(G10:I10)-MIN(G10:I10) -> 0
A11: 임지호 | B11: =COUNTIFS(Raw_Data!$D:$D,$A11,Raw_Data!$B:$B,"1층") -> 1 | C11: =COUNTIFS(Raw_Data!$D:$D,$A11,Raw_Data!$B:$B,"2층") -> 1 | D11: =COUNTIFS(Raw_Data!$D:$D,$A11,Raw_Data!$B:$B,"3층") -> 1 | E11: =COUNTIFS(Raw_Data!$D:$D,$A11,Raw_Data!$B:$B,"4층") -> 3 | F11: =COUNTIFS(Raw_Data!$D:$D,$A11,Raw_Data!$B:$B,"5층") -> 0 | G11: =COUNTIFS(Raw_Data!$D:$D,$A11,Raw_Data!$C:$C,"1") -> 3 | H11: =COUNTIFS(Raw_Data!$D:$D,$A11,Raw_Data!$C:$C,"2") -> 1 | I11: =COUNTIFS(Raw_Data!$D:$D,$A11,Raw_Data!$C:$C,"3") -> 2 | J11: =SUM(B11:I11) -> 12 | K11: =MAX(B11:F11)-MIN(B11:F11) -> 3 | L11: =MAX(G11:I11)-MIN(G11:I11) -> 2
A12: 한유진 | B12: =COUNTIFS(Raw_Data!$D:$D,$A12,Raw_Data!$B:$B,"1층") -> 1 | C12: =COUNTIFS(Raw_Data!$D:$D,$A12,Raw_Data!$B:$B,"2층") -> 1 | D12: =COUNTIFS(Raw_Data!$D:$D,$A12,Raw_Data!$B:$B,"3층") -> 1 | E12: =COUNTIFS(Raw_Data!$D:$D,$A12,Raw_Data!$B:$B,"4층") -> 2 | F12: =COUNTIFS(Raw_Data!$D:$D,$A12,Raw_Data!$B:$B,"5층") -> 1 | G12: =COUNTIFS(Raw_Data!$D:$D,$A12,Raw_Data!$C:$C,"1") -> 2 | H12: =COUNTIFS(Raw_Data!$D:$D,$A12,Raw_Data!$C:$C,"2") -> 3 | I12: =COUNTIFS(Raw_Data!$D:$D,$A12,Raw_Data!$C:$C,"3") -> 1 | J12: =SUM(B12:I12) -> 12 | K12: =MAX(B12:F12)-MIN(B12:F12) -> 1 | L12: =MAX(G12:I12)-MIN(G12:I12) -> 2
A13: 오서연 | B13: =COUNTIFS(Raw_Data!$D:$D,$A13,Raw_Data!$B:$B,"1층") -> 1 | C13: =COUNTIFS(Raw_Data!$D:$D,$A13,Raw_Data!$B:$B,"2층") -> 1 | D13: =COUNTIFS(Raw_Data!$D:$D,$A13,Raw_Data!$B:$B,"3층") -> 1 | E13: =COUNTIFS(Raw_Data!$D:$D,$A13,Raw_Data!$B:$B,"4층") -> 2 | F13: =COUNTIFS(Raw_Data!$D:$D,$A13,Raw_Data!$B:$B,"5층") -> 1 | G13: =COUNTIFS(Raw_Data!$D:$D,$A13,Raw_Data!$C:$C,"1") -> 2 | H13: =COUNTIFS(Raw_Data!$D:$D,$A13,Raw_Data!$C:$C,"2") -> 1 | I13: =COUNTIFS(Raw_Data!$D:$D,$A13,Raw_Data!$C:$C,"3") -> 3 | J13: =SUM(B13:I13) -> 12 | K13: =MAX(B13:F13)-MIN(B13:F13) -> 1 | L13: =MAX(G13:I13)-MIN(G13:I13) -> 2
... A31: 도하영 | B31: =COUNTIFS(Raw_Data!$D:$D,$A31,Raw_Data!$B:$B,"1층") -> 2 | C31: =COUNTIFS(Raw_Data!$D:$D,$A31,Raw_Data!$B:$B,"2층") -> 1 | D31: =COUNTIFS(Raw_Data!$D:$D,$A31,Raw_Data!$B:$B,"3층") -> 0 | E31: =COUNTIFS(Raw_Data!$D:$D,$A31,Raw_Data!$B:$B,"4층") -> 1 | F31: =COUNTIFS(Raw_Data!$D:$D,$A31,Raw_Data!$B:$B,"5층") -> 1 | G31: =COUNTIFS(Raw_Data!$D:$D,$A31,Raw_Data!$C:$C,"1") -> 2 | H31: =COUNTIFS(Raw_Data!$D:$D,$A31,Raw_Data!$C:$C,"2") -> 1 | I31: =COUNTIFS(Raw_Data!$D:$D,$A31,Raw_Data!$C:$C,"3") -> 2 | J31: =SUM(B31:I31) -> 10 | K31: =MAX(B31:F31)-MIN(B31:F31) -> 2 | L31: =MAX(G31:I31)-MIN(G31:I31) -> 1
A33: 전체합계 | B33: =SUM(B2:B31) -> 33 | C33: =SUM(C2:C31) -> 33 | D33: =SUM(D2:D31) -> 33 | E33: =SUM(E2:E31) -> 33 | F33: =SUM(F2:F31) -> 33 | J33: =SUM(J2:J31) -> 330 | K33: =SUM(K2:K31) -> 26 | L33: =SUM(L2:L31) -> 36

Sheet 기본정보
A1: 직원명 | C1: 층목록 | D1: 포지션목록
A2: 김민수 | C2: 1층 | D2: 1
A3: 이서준 | C3: 2층 | D3: 2
A4: 박지훈 | C4: 3층 | D4: 3
A5: 최은우 | C5: 4층
A6: 정도윤 | C6: 5층
A7: 강하준
A8: 조예준
A9: 윤시우
A10: 장도현
A11: 임지호
A12: 한유진
A13: 오서연
A14: 신지아
A15: 권하린
A16: 송채원
A17: 홍지민
A18: 유다은
... A31: 도하영
