Workbook

Sheet Sheet1
E5: 판매내역 | L5: 스토어 | N5: 현금(한우리) | O5: 나이스페이(한우리) | P5: 네이버페이(한우리) | Q5: 스마트스토어 | R5: 쿠팡 | S5: 11번가 | T5: G마켓 | U5: 롯데온 | V5: SSG | W5: 홍크루몰 | X5: HMALL
A6: 판매일자 | B6: 고객명 | C6: 품목 | D6: 수량 | E6: 총판매액 | F6: 공급가 | G6: 부가세 | H6: 할인 | I6: 순매출 | J6: 운반비 | K6: 총결재액 | L6: 스토어명 | M6: 코드 | N6: 001 | O6: 002 | P6: 003 | Q6: 004 | R6: 005 | S6: 006 | T6: 007 | U6: 008 | V6: 009 | W6: 010 | X6: 011
A7: 45960 | B7: 이경미 | C7: 불고기전골2~3인 | D7: 1 | E7: 28000 | F7: =ROUNDDOWN(E7/1.1,0) -> 25454 | G7: =E7-F7 -> 2546 | H7: 3000 | I7: =E7-H7 -> 25000 | J7: 2000 | K7: =I7+J7 -> 27000 | L7: 나이스페이(한우리) | M7: =IF($L7="","",(INDEX(스토어!A$4:A$14,MATCH($L7,스토어!$B$4:$B$14,0)))) -> 002 | N7: {=INDEX(N$6:X$6,MATCH($K7,$M7,0))} -> #N/A | O7: #N/A | P7: #N/A | Q7: #N/A | R7: #N/A | S7: #N/A | T7: #N/A | U7: #N/A | V7: #N/A | W7: #N/A | X7: #N/A
A8: 45960 | B8: 이경미 | C8: 곱창전골2~3인 | D8: 1 | E8: 35100 | F8: =ROUNDDOWN(E8/1.1,0) -> 31909 | G8: =E8-F8 -> 3191 | I8: =E8-H8 -> 35100 | J8: 0 | K8: =I8+J8 -> 35100 | L8: 스마트스토어 | M8: =IF($L8="","",(INDEX(스토어!A$4:A$14,MATCH($L8,스토어!$B$4:$B$14,0)))) -> 004
A9: 45960 | B9: 이경미 | C9: 한우국수전골2~3인 | D9: 1 | E9: 36900 | F9: =ROUNDDOWN(E9/1.1,0) -> 33545 | G9: =E9-F9 -> 3355 | I9: =E9-H9 -> 36900 | J9: 0 | K9: =I9+J9 -> 36900 | L9: 현금(한우리) | M9: =IF($L9="","",(INDEX(스토어!A$4:A$14,MATCH($L9,스토어!$B$4:$B$14,0)))) -> 001
A10: 45960 | B10: 이경미 | C10: 무채물김치 250g | D10: 1 | E10: 0 | F10: =ROUNDDOWN(E10/1.1,0) -> 0 | G10: =E10-F10 -> 0 | I10: =E10-H10 -> 0 | J10: 0 | K10: =I10+J10 -> 0 | L10: 11번가 | M10: =IF($L10="","",(INDEX(스토어!A$4:A$14,MATCH($L10,스토어!$B$4:$B$14,0)))) -> 006
A11: 45960 | B11: 한영 | C11: 불고기전골2-3인 | D11: 1 | E11: 28000 | F11: =ROUNDDOWN(E11/1.1,0) -> 25454 | G11: =E11-F11 -> 2546 | I11: =E11-H11 -> 28000 | J11: 0 | K11: =I11+J11 -> 28000 | L11: G마켓 | M11: =IF($L11="","",(INDEX(스토어!A$4:A$14,MATCH($L11,스토어!$B$4:$B$14,0)))) -> 007
A12: 45960 | B12: 한영 | C12: 국수전골2~3인 | D12: 1 | E12: 35000 | F12: =ROUNDDOWN(E12/1.1,0) -> 31818 | G12: =E12-F12 -> 3182 | I12: =E12-H12 -> 35000 | J12: 0 | K12: =I12+J12 -> 35000 | L12: SSG | M12: =IF($L12="","",(INDEX(스토어!A$4:A$14,MATCH($L12,스토어!$B$4:$B$14,0)))) -> 009
A13: 45960 | B13: 한영 | C13: 무채물김치 250g | D13: 1 | E13: 0 | F13: =ROUNDDOWN(E13/1.1,0) -> 0 | G13: =E13-F13 -> 0 | I13: =E13-H13 -> 0 | J13: 0 | K13: =I13+J13 -> 0 | L13: 홍크루몰 | M13: =IF($L13="","",(INDEX(스토어!A$4:A$14,MATCH($L13,스토어!$B$4:$B$14,0)))) -> 010
A14: 45960 | B14: 이미애 | C14: 오이지무침 | D14: 2 | E14: 12000 | F14: =ROUNDDOWN(E14/1.1,0) -> 10909 | G14: =E14-F14 -> 1091 | I14: =E14-H14 -> 12000 | J14: 0 | K14: =I14+J14 -> 12000 | L14: HMALL | M14: =IF($L14="","",(INDEX(스토어!A$4:A$14,MATCH($L14,스토어!$B$4:$B$14,0)))) -> 011
A15: 45960 | B15: 이미애 | C15: 영양잡채(대) | D15: 1 | E15: 14000 | F15: =ROUNDDOWN(E15/1.1,0) -> 12727 | G15: =E15-F15 -> 1273 | I15: =E15-H15 -> 14000 | J15: 0 | K15: =I15+J15 -> 14000 | L15: 롯데온 | M15: =IF($L15="","",(INDEX(스토어!A$4:A$14,MATCH($L15,스토어!$B$4:$B$14,0)))) -> 008

Sheet Sheet2

Sheet 스토어
A3: 스토어코드 | B3: 스토어명
A4: 001 | B4: 현금(한우리)
A5: 002 | B5: 나이스페이(한우리)
A6: 003 | B6: 네이버페이(한우리)
A7: 004 | B7: 스마트스토어
A8: 005 | B8: 쿠팡
A9: 006 | B9: 11번가
A10: 007 | B10: G마켓
A11: 008 | B11: 롯데온
A12: 009 | B12: SSG
A13: 010 | B13: 홍크루몰
A14: 011 | B14: HMALL
