Workbook

Sheet Sheet1
A1: NO | B1: 구분 | C1: OFF | D1: 45839 | E1: 45840 | F1: 45841 | G1: 45842 | H1: 45843 | I1: 45844 | J1: 45845 | K1: 45846 | L1: 45847 | M1: 45848 | N1: 45849 | O1: 45850 | P1: 45851 | Q1: 45852 | R1: 45853 | S1: 45854 | T1: 45855 | U1: 45856 | V1: 45857 | W1: 45858 | X1: 45859 | Y1: 45860 | Z1: 45861 | AA1: 45862 | AB1: 45863 | AC1: 45864 | AD1: 45865 | AE1: 45866 | AF1: 45867 | AG1: 45868 | AH1: 45869
D2: =TEXT(D1,"aaa") -> 화 | E2: =TEXT(E1,"aaa") -> 수 | F2: =TEXT(F1,"aaa") -> 목 | G2: =TEXT(G1,"aaa") -> 금 | H2: =TEXT(H1,"aaa") -> 토 | I2: =TEXT(I1,"aaa") -> 일 | J2: =TEXT(J1,"aaa") -> 월 | K2: =TEXT(K1,"aaa") -> 화 | ... AH2: =TEXT(AH1,"aaa") -> 목
A3: 1 | B3: 이름1 | C3: =COUNTA(Sheet1!$D3:$AH3) -> 8 | H3: F | I3: F | O3: F | P3: F | V3: F | W3: F | AC3: F | AD3: F
A4: 2 | B4: 이름2 | C4: =COUNTA(Sheet1!$D4:$AH4) -> 8 | I4: F | O4: F | P4: F | S4: F | W4: F | X4: F | AC4: F | AD4: F
A5: 3 | B5: 이름3 | C5: =COUNTA(Sheet1!$D5:$AH5) -> 11 | D5: F | E5: F | F5: F | I5: F | M5: F | Q5: F | V5: F | W5: F | Z5: F | AD5: F | AE5: F
A6: 4 | B6: 이름4 | C6: =COUNTA(Sheet1!$D6:$AH6) -> 8 | H6: F | I6: F | M6: F | P6: F | V6: F | W6: F | AC6: F | AD6: F
A7: 5 | B7: 이름5 | C7: =COUNTA(Sheet1!$D7:$AH7) -> 5 | I7: F | P7: F | W7: F | AB7: F | AD7: F
A8: 6 | B8: 이름6 | C8: =COUNTA(Sheet1!$D8:$AH8) -> 4 | I8: F | P8: F | W8: F | AD8: F
A9: 7 | B9: 이름7 | C9: =COUNTA(Sheet1!$D9:$AH9) -> 7 | I9: F | N9: F | P9: F | V9: F | W9: F | X9: F | AD9: F
A10: 8 | B10: 이름8 | C10: =COUNTA(Sheet1!$D10:$AH10) -> 9 | F10: F | I10: F | M10: F | P10: F | T10: F | W10: F | AA10: F | AD10: F | AG10: F
A11: 9 | B11: 이름9 | C11: =COUNTA(Sheet1!$D11:$AH11) -> 8 | H11: F | I11: F | J11: F | P11: F | U11: F | W11: F | AB11: F | AD11: F
A12: 10 | B12: 이름10 | C12: =COUNTA(Sheet1!$D12:$AH12) -> 8 | G12: F | I12: F | O12: F | P12: F | Q12: F | W12: F | Z12: F | AD12: F
A13: 11 | B13: 이름11 | C13: =COUNTA(Sheet1!$D13:$AH13) -> 9 | H13: F | I13: F | O13: F | P13: F | Q13: F | V13: F | W13: F | AC13: F | AD13: F
A14: 12 | B14: 이름12 | C14: =COUNTA(Sheet1!$D14:$AH14) -> 8 | H14: F | I14: F | O14: F | P14: F | V14: F | W14: F | AC14: F | AD14: F

Sheet Sheet1 (2)
A1: 열1 | B1: 열2 | C1: 열3 | D1: 열4 | E1: 열5 | F1: 열6 | G1: 열7 | H1: 열8 | I1: 열9 | J1: 열10 | K1: 열11 | L1: 열12 | M1: 열13 | N1: 열14 | O1: 열15 | P1: 열16 | Q1: 열17 | R1: 열18 | S1: 열19 | T1: 열20 | U1: 열21 | V1: 열22 | W1: 열23 | X1: 열24 | Y1: 열25 | Z1: 열26 | AA1: 열27 | AB1: 열28 | AC1: 열29 | AD1: 열30 | AE1: 열31 | AF1: 열32 | AG1: 열33 | AH1: 열34
A2: NO | B2: 구분 | C2: OFF | D2: 45839 | E2: 45840 | F2: 45841 | G2: 45842 | H2: 45843 | I2: 45844 | J2: 45845 | K2: 45846 | L2: 45847 | M2: 45848 | N2: 45849 | O2: 45850 | P2: 45851 | Q2: 45852 | R2: 45853 | S2: 45854 | T2: 45855 | U2: 45856 | V2: 45857 | W2: 45858 | X2: 45859 | Y2: 45860 | Z2: 45861 | AA2: 45862 | AB2: 45863 | AC2: 45864 | AD2: 45865 | AE2: 45866 | AF2: 45867 | AG2: 45868 | AH2: 45869
D3: =TEXT(D2,"aaa") -> 화 | E3: =TEXT(E2,"aaa") -> 수 | F3: =TEXT(F2,"aaa") -> 목 | G3: =TEXT(G2,"aaa") -> 금 | H3: =TEXT(H2,"aaa") -> 토 | I3: =TEXT(I2,"aaa") -> 일 | J3: =TEXT(J2,"aaa") -> 월 | K3: =TEXT(K2,"aaa") -> 화 | ... AH3: =TEXT(AH2,"aaa") -> 목
A4: 1 | B4: 이름1 | C4: =COUNTA('Sheet1 (2)'!$D4:$AH4) -> 8 | H4: F | I4: F | O4: F | P4: F | V4: F | W4: F | AC4: F | AD4: F
A5: 2 | B5: 이름2 | C5: =COUNTA('Sheet1 (2)'!$D5:$AH5) -> 8 | I5: F | O5: F | P5: F | S5: F | W5: F | X5: F | AC5: F | AD5: F
A6: 3 | B6: 이름3 | C6: =COUNTA('Sheet1 (2)'!$D6:$AH6) -> 11 | D6: F | E6: F | F6: F | I6: F | M6: F | Q6: F | V6: F | W6: F | Z6: F | AD6: F | AE6: F
A7: 4 | B7: 이름4 | C7: =COUNTA('Sheet1 (2)'!$D7:$AH7) -> 8 | H7: F | I7: F | M7: F | P7: F | V7: F | W7: F | AC7: F | AD7: F
A8: 5 | B8: 이름5 | C8: =COUNTA('Sheet1 (2)'!$D8:$AH8) -> 5 | I8: F | P8: F | W8: F | AB8: F | AD8: F
A9: 6 | B9: 이름6 | C9: =COUNTA('Sheet1 (2)'!$D9:$AH9) -> 4 | I9: F | P9: F | W9: F | AD9: F
A10: 7 | B10: 이름7 | C10: =COUNTA('Sheet1 (2)'!$D10:$AH10) -> 7 | I10: F | N10: F | P10: F | V10: F | W10: F | X10: F | AD10: F
A11: 8 | B11: 이름8 | C11: =COUNTA('Sheet1 (2)'!$D11:$AH11) -> 9 | F11: F | I11: F | M11: F | P11: F | T11: F | W11: F | AA11: F | AD11: F | AG11: F
A12: 9 | B12: 이름9 | C12: =COUNTA('Sheet1 (2)'!$D12:$AH12) -> 8 | H12: F | I12: F | J12: F | P12: F | U12: F | W12: F | AB12: F | AD12: F
A13: 10 | B13: 이름10 | C13: =COUNTA('Sheet1 (2)'!$D13:$AH13) -> 8 | G13: F | I13: F | O13: F | P13: F | Q13: F | W13: F | Z13: F | AD13: F
A14: 11 | B14: 이름11 | C14: =COUNTA('Sheet1 (2)'!$D14:$AH14) -> 9 | H14: F | I14: F | O14: F | P14: F | Q14: F | V14: F | W14: F | AC14: F | AD14: F
A15: 12 | B15: 이름12 | C15: =COUNTA('Sheet1 (2)'!$D15:$AH15) -> 8 | H15: F | I15: F | O15: F | P15: F | V15: F | W15: F | AC15: F | AD15: F

Sheet 표2
A1: 날짜 | B1: 요일 | C1: 이름 | D1: OFF | H1: 년 | I1: 2025
A2: 45839 | B2: 화 | C2: 이름3 | D2: F | H2: 월 번호 | I2: 7월
A3: 45840 | B3: 수 | C3: 이름3 | D3: F
A4: 45841 | B4: 목 | C4: 이름3 | D4: F | J4: 요일
A5: 45841 | B5: 목 | C5: 이름8 | D5: F | H5: 주차 | I5: 값 | J5: 월 | K5: 화 | L5: 수 | M5: 목 | N5: 금
A6: 45842 | B6: 금 | C6: 이름10 | D6: F | H6: 27 | I6: 날 | K6: 1 | L6: 2 | M6: 3 | N6: 4
A7: 45843 | B7: 토 | C7: 이름1 | D7: F | I7: off이름 | K7: 이름3, | L7: 이름3, | M7: 이름3, 이름8, | N7: 이름10,
A8: 45843 | B8: 토 | C8: 이름4 | D8: F | H8: 28 | I8: 날 | J8: 7 | K8: 8 | L8: 9 | M8: 10 | N8: 11
A9: 45843 | B9: 토 | C9: 이름9 | D9: F | I9: off이름 | J9: 이름9, | M9: 이름3, 이름4, 이름8, | N9: 이름7,
A10: 45843 | B10: 토 | C10: 이름11 | D10: F | H10: 29 | I10: 날 | J10: 14 | K10: 15 | L10: 16 | M10: 17 | N10: 18
A11: 45843 | B11: 토 | C11: 이름12 | D11: F | I11: off이름 | J11: 이름3, 이름10, 이름11, | L11: 이름2, | M11: 이름8, | N11: 이름9,
A12: 45844 | B12: 일 | C12: 이름1 | D12: F | H12: 30 | I12: 날 | J12: 21 | K12: 22 | L12: 23 | M12: 24 | N12: 25
A13: 45844 | B13: 일 | C13: 이름2 | D13: F | I13: off이름 | J13: 이름2, 이름7, | L13: 이름3, 이름10, | M13: 이름8, | N13: 이름5, 이름9,
A14: 45844 | B14: 일 | C14: 이름3 | D14: F | H14: 31 | I14: 날 | J14: 28 | K14: 29 | L14: 30 | M14: 31
A15: 45844 | B15: 일 | C15: 이름4 | D15: F | I15: off이름 | J15: 이름3, | L15: 이름8,
A16: 45844 | B16: 일 | C16: 이름5 | D16: F
A17: 45844 | B17: 일 | C17: 이름6 | D17: F
A18: 45844 | B18: 일 | C18: 이름7 | D18: F
A19: 45844 | B19: 일 | C19: 이름8 | D19: F
A20: 45844 | B20: 일 | C20: 이름9 | D20: F
A21: 45844 | B21: 일 | C21: 이름10 | D21: F
A22: 45844 | B22: 일 | C22: 이름11 | D22: F
A23: 45844 | B23: 일 | C23: 이름12 | D23: F
A24: 45845 | B24: 월 | C24: 이름9 | D24: F
A25: 45848 | B25: 목 | C25: 이름3 | D25: F
A26: 45848 | B26: 목 | C26: 이름4 | D26: F
A27: 45848 | B27: 목 | C27: 이름8 | D27: F
... A94: 45868 | B94: 수 | C94: 이름8 | D94: F
