Workbook

Sheet Sheet1
A2: 구분 | B2: 성함 | C2: 중간/기말 | D2: 순위
A3: =B3&C3 -> 홍길동중간 | B3: 홍길동 | C3: 중간 | D3: 6.5
A4: =B4&C4 -> 홍길동기말 | B4: 홍길동 | C4: 기말 | D4: 2
A5: =B5&C5 -> 김미리중간 | B5: 김미리 | C5: 중간 | D5: 1
A6: =B6&C6 -> 김미리기말 | B6: 김미리 | C6: 기말 | D6: 2
A7: =B7&C7 -> 김동주중간 | B7: 김동주 | C7: 중간 | D7: 1
A8: =B8&C8 -> 김동주기말 | B8: 김동주 | C8: 기말 | D8: 2.3
A9: =B9&C9 -> 김미려중간 | B9: 김미려 | C9: 중간 | D9: 1
A10: =B10&C10 -> 김미려기말 | B10: 김미려 | C10: 기말 | D10: 2
A11: =B11&C11 -> 이수영중간 | B11: 이수영 | C11: 중간 | D11: 1
A12: =B12&C12 -> 이수영기말 | B12: 이수영 | C12: 기말 | D12: 1
A13: =B13&C13 -> 김한주중간 | B13: 김한주 | C13: 중간 | D13: 1
A14: =B14&C14 -> 김한성기말 | B14: 김한성 | C14: 기말 | D14: 2
A15: =B15&C15 -> 김라미중간 | B15: 김라미 | C15: 중간 | D15: 3
B21: A열을 숨겨놓으시면 더 깔끔합니다.
B22: 위에 (-)를 클릭하시면 숨겨집니다.

Sheet Sheet2
A2: 성함 | B2: 중간 | C2: 기말
A3: 홍길동 | B3: =IFERROR(VLOOKUP($A3&B$2,Sheet1!$A$3:$D$15,4,0),"") -> 6.5 | C3: =IFERROR(VLOOKUP($A3&C$2,Sheet1!$A$3:$D$15,4,0),"") -> 2
A4: 김미리 | B4: =IFERROR(VLOOKUP($A4&B$2,Sheet1!$A$3:$D$15,4,0),"") -> 1 | C4: =IFERROR(VLOOKUP($A4&C$2,Sheet1!$A$3:$D$15,4,0),"") -> 2
A5: 김동주 | B5: =IFERROR(VLOOKUP($A5&B$2,Sheet1!$A$3:$D$15,4,0),"") -> 1 | C5: =IFERROR(VLOOKUP($A5&C$2,Sheet1!$A$3:$D$15,4,0),"") -> 2.3
A6: 김미려 | B6: =IFERROR(VLOOKUP($A6&B$2,Sheet1!$A$3:$D$15,4,0),"") -> 1 | C6: =IFERROR(VLOOKUP($A6&C$2,Sheet1!$A$3:$D$15,4,0),"") -> 2
A7: 이수영 | B7: =IFERROR(VLOOKUP($A7&B$2,Sheet1!$A$3:$D$15,4,0),"") -> 1 | C7: =IFERROR(VLOOKUP($A7&C$2,Sheet1!$A$3:$D$15,4,0),"") -> 1
A8: 김한주 | B8: =IFERROR(VLOOKUP($A8&B$2,Sheet1!$A$3:$D$15,4,0),"") -> 1 | C8: =IFERROR(VLOOKUP($A8&C$2,Sheet1!$A$3:$D$15,4,0),"")
A9: 김한성 | B9: =IFERROR(VLOOKUP($A9&B$2,Sheet1!$A$3:$D$15,4,0),"") | C9: =IFERROR(VLOOKUP($A9&C$2,Sheet1!$A$3:$D$15,4,0),"") -> 2
A10: 김라미 | B10: =IFERROR(VLOOKUP($A10&B$2,Sheet1!$A$3:$D$15,4,0),"") -> 3 | C10: =IFERROR(VLOOKUP($A10&C$2,Sheet1!$A$3:$D$15,4,0),"")
A11: 이반석 | B11: =IFERROR(VLOOKUP($A11&B$2,Sheet1!$A$3:$D$15,4,0),"") | C11: =IFERROR(VLOOKUP($A11&C$2,Sheet1!$A$3:$D$15,4,0),"")
