Workbook

Sheet SI
E3: 기타
F4: 6월 | G4: 목표매출 | H4: TOTAL 수량 | I4: TOTAL 매출 | J4: 품목별 매출
J5: 8800280692290 | L5: 8800280692054 | N5: 8809714960011
J6: 듀오 | L6: 기획 | N6: 티슈
J7: 수량 | K7: 금액 | L7: 수량 | M7: 금액 | N7: 수량 | O7: 금액
E8: 일 | F8: 1 | J8: =SUMIFS(SI_RAW!$E:$E,SI_RAW!$A:$A,"2025",SI_RAW!$B:$B,SI!$F$4,SI_RAW!$C:$C,SI!$F8,SI_RAW!$D:$D,SI!$E$3,SI_RAW!$G:$G,SI!J$5,SI_RAW!$A:$A,"2025") -> 0 | K8: =SUMIFS(SI_RAW!$F:$F,SI_RAW!$A:$A,"2025",SI_RAW!$B:$B,SI!$F$4,SI_RAW!$C:$C,SI!$F8,SI_RAW!$D:$D,SI!$E$3,SI_RAW!$G:$G,SI!J$5,SI_RAW!$A:$A,"2025") -> 0 | L8: =SUMIFS(SI_RAW!$E:$E,SI_RAW!$A:$A,"2025",SI_RAW!$B:$B,SI!$F$4,SI_RAW!$C:$C,SI!$F8,SI_RAW!$D:$D,SI!$E$3,SI_RAW!$G:$G,SI!L$5,SI_RAW!$A:$A,"2025") -> 0 | M8: =SUMIFS(SI_RAW!$F:$F,SI_RAW!$A:$A,"2025",SI_RAW!$B:$B,SI!$F$4,SI_RAW!$C:$C,SI!$F8,SI_RAW!$D:$D,SI!$E$3,SI_RAW!$G:$G,SI!L$5,SI_RAW!$A:$A,"2025") -> 0 | N8: =SUMIFS(SI_RAW!$E:$E,SI_RAW!$A:$A,"2025",SI_RAW!$B:$B,SI!$F$4,SI_RAW!$C:$C,SI!$F8,SI_RAW!$D:$D,SI!$E$3,SI_RAW!$G:$G,SI!N$5,SI_RAW!$A:$A,"2025") -> 0 | O8: =SUMIFS(SI_RAW!$F:$F,SI_RAW!$A:$A,"2025",SI_RAW!$B:$B,SI!$F$4,SI_RAW!$C:$C,SI!$F8,SI_RAW!$D:$D,SI!$E$3,SI_RAW!$G:$G,SI!N$5,SI_RAW!$A:$A,"2025") -> 0
E9: 월 | F9: 2 | J9: =SUMIFS(SI_RAW!$E:$E,SI_RAW!$A:$A,"2025",SI_RAW!$B:$B,SI!$F$4,SI_RAW!$C:$C,SI!$F9,SI_RAW!$D:$D,SI!$E$3,SI_RAW!$G:$G,SI!J$5,SI_RAW!$A:$A,"2025") -> 0 | K9: =SUMIFS(SI_RAW!$F:$F,SI_RAW!$A:$A,"2025",SI_RAW!$B:$B,SI!$F$4,SI_RAW!$C:$C,SI!$F9,SI_RAW!$D:$D,SI!$E$3,SI_RAW!$G:$G,SI!J$5,SI_RAW!$A:$A,"2025") -> 0 | L9: =SUMIFS(SI_RAW!$E:$E,SI_RAW!$A:$A,"2025",SI_RAW!$B:$B,SI!$F$4,SI_RAW!$C:$C,SI!$F9,SI_RAW!$D:$D,SI!$E$3,SI_RAW!$G:$G,SI!L$5,SI_RAW!$A:$A,"2025") -> 0 | M9: =SUMIFS(SI_RAW!$F:$F,SI_RAW!$A:$A,"2025",SI_RAW!$B:$B,SI!$F$4,SI_RAW!$C:$C,SI!$F9,SI_RAW!$D:$D,SI!$E$3,SI_RAW!$G:$G,SI!L$5,SI_RAW!$A:$A,"2025") -> 0 | N9: =SUMIFS(SI_RAW!$E:$E,SI_RAW!$A:$A,"2025",SI_RAW!$B:$B,SI!$F$4,SI_RAW!$C:$C,SI!$F9,SI_RAW!$D:$D,SI!$E$3,SI_RAW!$G:$G,SI!N$5,SI_RAW!$A:$A,"2025") -> 0 | O9: =SUMIFS(SI_RAW!$F:$F,SI_RAW!$A:$A,"2025",SI_RAW!$B:$B,SI!$F$4,SI_RAW!$C:$C,SI!$F9,SI_RAW!$D:$D,SI!$E$3,SI_RAW!$G:$G,SI!N$5,SI_RAW!$A:$A,"2025") -> 0
E10: 화 | F10: 3 | J10: =SUMIFS(SI_RAW!$E:$E,SI_RAW!$A:$A,"2025",SI_RAW!$B:$B,SI!$F$4,SI_RAW!$C:$C,SI!$F10,SI_RAW!$D:$D,SI!$E$3,SI_RAW!$G:$G,SI!J$5,SI_RAW!$A:$A,"2025") -> 0 | K10: =SUMIFS(SI_RAW!$F:$F,SI_RAW!$A:$A,"2025",SI_RAW!$B:$B,SI!$F$4,SI_RAW!$C:$C,SI!$F10,SI_RAW!$D:$D,SI!$E$3,SI_RAW!$G:$G,SI!J$5,SI_RAW!$A:$A,"2025") -> 0 | L10: =SUMIFS(SI_RAW!$E:$E,SI_RAW!$A:$A,"2025",SI_RAW!$B:$B,SI!$F$4,SI_RAW!$C:$C,SI!$F10,SI_RAW!$D:$D,SI!$E$3,SI_RAW!$G:$G,SI!L$5,SI_RAW!$A:$A,"2025") -> 0 | M10: =SUMIFS(SI_RAW!$F:$F,SI_RAW!$A:$A,"2025",SI_RAW!$B:$B,SI!$F$4,SI_RAW!$C:$C,SI!$F10,SI_RAW!$D:$D,SI!$E$3,SI_RAW!$G:$G,SI!L$5,SI_RAW!$A:$A,"2025") -> 0 | N10: =SUMIFS(SI_RAW!$E:$E,SI_RAW!$A:$A,"2025",SI_RAW!$B:$B,SI!$F$4,SI_RAW!$C:$C,SI!$F10,SI_RAW!$D:$D,SI!$E$3,SI_RAW!$G:$G,SI!N$5,SI_RAW!$A:$A,"2025") -> 0 | O10: =SUMIFS(SI_RAW!$F:$F,SI_RAW!$A:$A,"2025",SI_RAW!$B:$B,SI!$F$4,SI_RAW!$C:$C,SI!$F10,SI_RAW!$D:$D,SI!$E$3,SI_RAW!$G:$G,SI!N$5,SI_RAW!$A:$A,"2025") -> 0
E11: 수 | F11: 4 | J11: =SUMIFS(SI_RAW!$E:$E,SI_RAW!$A:$A,"2025",SI_RAW!$B:$B,SI!$F$4,SI_RAW!$C:$C,SI!$F11,SI_RAW!$D:$D,SI!$E$3,SI_RAW!$G:$G,SI!J$5,SI_RAW!$A:$A,"2025") -> 0 | K11: =SUMIFS(SI_RAW!$F:$F,SI_RAW!$A:$A,"2025",SI_RAW!$B:$B,SI!$F$4,SI_RAW!$C:$C,SI!$F11,SI_RAW!$D:$D,SI!$E$3,SI_RAW!$G:$G,SI!J$5,SI_RAW!$A:$A,"2025") -> 0 | L11: =SUMIFS(SI_RAW!$E:$E,SI_RAW!$A:$A,"2025",SI_RAW!$B:$B,SI!$F$4,SI_RAW!$C:$C,SI!$F11,SI_RAW!$D:$D,SI!$E$3,SI_RAW!$G:$G,SI!L$5,SI_RAW!$A:$A,"2025") -> 0 | M11: =SUMIFS(SI_RAW!$F:$F,SI_RAW!$A:$A,"2025",SI_RAW!$B:$B,SI!$F$4,SI_RAW!$C:$C,SI!$F11,SI_RAW!$D:$D,SI!$E$3,SI_RAW!$G:$G,SI!L$5,SI_RAW!$A:$A,"2025") -> 0 | N11: =SUMIFS(SI_RAW!$E:$E,SI_RAW!$A:$A,"2025",SI_RAW!$B:$B,SI!$F$4,SI_RAW!$C:$C,SI!$F11,SI_RAW!$D:$D,SI!$E$3,SI_RAW!$G:$G,SI!N$5,SI_RAW!$A:$A,"2025") -> 0 | O11: =SUMIFS(SI_RAW!$F:$F,SI_RAW!$A:$A,"2025",SI_RAW!$B:$B,SI!$F$4,SI_RAW!$C:$C,SI!$F11,SI_RAW!$D:$D,SI!$E$3,SI_RAW!$G:$G,SI!N$5,SI_RAW!$A:$A,"2025") -> 0
E12: 목 | F12: 5 | J12: =SUMIFS(SI_RAW!$E:$E,SI_RAW!$A:$A,"2025",SI_RAW!$B:$B,SI!$F$4,SI_RAW!$C:$C,SI!$F12,SI_RAW!$D:$D,SI!$E$3,SI_RAW!$G:$G,SI!J$5,SI_RAW!$A:$A,"2025") -> 0 | K12: =SUMIFS(SI_RAW!$F:$F,SI_RAW!$A:$A,"2025",SI_RAW!$B:$B,SI!$F$4,SI_RAW!$C:$C,SI!$F12,SI_RAW!$D:$D,SI!$E$3,SI_RAW!$G:$G,SI!J$5,SI_RAW!$A:$A,"2025") -> 0 | L12: =SUMIFS(SI_RAW!$E:$E,SI_RAW!$A:$A,"2025",SI_RAW!$B:$B,SI!$F$4,SI_RAW!$C:$C,SI!$F12,SI_RAW!$D:$D,SI!$E$3,SI_RAW!$G:$G,SI!L$5,SI_RAW!$A:$A,"2025") -> 0 | M12: =SUMIFS(SI_RAW!$F:$F,SI_RAW!$A:$A,"2025",SI_RAW!$B:$B,SI!$F$4,SI_RAW!$C:$C,SI!$F12,SI_RAW!$D:$D,SI!$E$3,SI_RAW!$G:$G,SI!L$5,SI_RAW!$A:$A,"2025") -> 0 | N12: =SUMIFS(SI_RAW!$E:$E,SI_RAW!$A:$A,"2025",SI_RAW!$B:$B,SI!$F$4,SI_RAW!$C:$C,SI!$F12,SI_RAW!$D:$D,SI!$E$3,SI_RAW!$G:$G,SI!N$5,SI_RAW!$A:$A,"2025") -> 0 | O12: =SUMIFS(SI_RAW!$F:$F,SI_RAW!$A:$A,"2025",SI_RAW!$B:$B,SI!$F$4,SI_RAW!$C:$C,SI!$F12,SI_RAW!$D:$D,SI!$E$3,SI_RAW!$G:$G,SI!N$5,SI_RAW!$A:$A,"2025") -> 0
E13: 금 | F13: 6 | J13: =SUMIFS(SI_RAW!$E:$E,SI_RAW!$A:$A,"2025",SI_RAW!$B:$B,SI!$F$4,SI_RAW!$C:$C,SI!$F13,SI_RAW!$D:$D,SI!$E$3,SI_RAW!$G:$G,SI!J$5,SI_RAW!$A:$A,"2025") -> 0 | K13: =SUMIFS(SI_RAW!$F:$F,SI_RAW!$A:$A,"2025",SI_RAW!$B:$B,SI!$F$4,SI_RAW!$C:$C,SI!$F13,SI_RAW!$D:$D,SI!$E$3,SI_RAW!$G:$G,SI!J$5,SI_RAW!$A:$A,"2025") -> 0 | L13: =SUMIFS(SI_RAW!$E:$E,SI_RAW!$A:$A,"2025",SI_RAW!$B:$B,SI!$F$4,SI_RAW!$C:$C,SI!$F13,SI_RAW!$D:$D,SI!$E$3,SI_RAW!$G:$G,SI!L$5,SI_RAW!$A:$A,"2025") -> 0 | M13: =SUMIFS(SI_RAW!$F:$F,SI_RAW!$A:$A,"2025",SI_RAW!$B:$B,SI!$F$4,SI_RAW!$C:$C,SI!$F13,SI_RAW!$D:$D,SI!$E$3,SI_RAW!$G:$G,SI!L$5,SI_RAW!$A:$A,"2025") -> 0 | N13: =SUMIFS(SI_RAW!$E:$E,SI_RAW!$A:$A,"2025",SI_RAW!$B:$B,SI!$F$4,SI_RAW!$C:$C,SI!$F13,SI_RAW!$D:$D,SI!$E$3,SI_RAW!$G:$G,SI!N$5,SI_RAW!$A:$A,"2025") -> 0 | O13: =SUMIFS(SI_RAW!$F:$F,SI_RAW!$A:$A,"2025",SI_RAW!$B:$B,SI!$F$4,SI_RAW!$C:$C,SI!$F13,SI_RAW!$D:$D,SI!$E$3,SI_RAW!$G:$G,SI!N$5,SI_RAW!$A:$A,"2025") -> 0
E14: 토 | F14: 7 | J14: =SUMIFS(SI_RAW!$E:$E,SI_RAW!$A:$A,"2025",SI_RAW!$B:$B,SI!$F$4,SI_RAW!$C:$C,SI!$F14,SI_RAW!$D:$D,SI!$E$3,SI_RAW!$G:$G,SI!J$5,SI_RAW!$A:$A,"2025") -> 0 | K14: =SUMIFS(SI_RAW!$F:$F,SI_RAW!$A:$A,"2025",SI_RAW!$B:$B,SI!$F$4,SI_RAW!$C:$C,SI!$F14,SI_RAW!$D:$D,SI!$E$3,SI_RAW!$G:$G,SI!J$5,SI_RAW!$A:$A,"2025") -> 0 | L14: =SUMIFS(SI_RAW!$E:$E,SI_RAW!$A:$A,"2025",SI_RAW!$B:$B,SI!$F$4,SI_RAW!$C:$C,SI!$F14,SI_RAW!$D:$D,SI!$E$3,SI_RAW!$G:$G,SI!L$5,SI_RAW!$A:$A,"2025") -> 0 | M14: =SUMIFS(SI_RAW!$F:$F,SI_RAW!$A:$A,"2025",SI_RAW!$B:$B,SI!$F$4,SI_RAW!$C:$C,SI!$F14,SI_RAW!$D:$D,SI!$E$3,SI_RAW!$G:$G,SI!L$5,SI_RAW!$A:$A,"2025") -> 0 | N14: =SUMIFS(SI_RAW!$E:$E,SI_RAW!$A:$A,"2025",SI_RAW!$B:$B,SI!$F$4,SI_RAW!$C:$C,SI!$F14,SI_RAW!$D:$D,SI!$E$3,SI_RAW!$G:$G,SI!N$5,SI_RAW!$A:$A,"2025") -> 0 | O14: =SUMIFS(SI_RAW!$F:$F,SI_RAW!$A:$A,"2025",SI_RAW!$B:$B,SI!$F$4,SI_RAW!$C:$C,SI!$F14,SI_RAW!$D:$D,SI!$E$3,SI_RAW!$G:$G,SI!N$5,SI_RAW!$A:$A,"2025") -> 0
E15: 일 | F15: 8 | J15: =SUMIFS(SI_RAW!$E:$E,SI_RAW!$A:$A,"2025",SI_RAW!$B:$B,SI!$F$4,SI_RAW!$C:$C,SI!$F15,SI_RAW!$D:$D,SI!$E$3,SI_RAW!$G:$G,SI!J$5,SI_RAW!$A:$A,"2025") -> 0 | K15: =SUMIFS(SI_RAW!$F:$F,SI_RAW!$A:$A,"2025",SI_RAW!$B:$B,SI!$F$4,SI_RAW!$C:$C,SI!$F15,SI_RAW!$D:$D,SI!$E$3,SI_RAW!$G:$G,SI!J$5,SI_RAW!$A:$A,"2025") -> 0 | L15: =SUMIFS(SI_RAW!$E:$E,SI_RAW!$A:$A,"2025",SI_RAW!$B:$B,SI!$F$4,SI_RAW!$C:$C,SI!$F15,SI_RAW!$D:$D,SI!$E$3,SI_RAW!$G:$G,SI!L$5,SI_RAW!$A:$A,"2025") -> 0 | M15: =SUMIFS(SI_RAW!$F:$F,SI_RAW!$A:$A,"2025",SI_RAW!$B:$B,SI!$F$4,SI_RAW!$C:$C,SI!$F15,SI_RAW!$D:$D,SI!$E$3,SI_RAW!$G:$G,SI!L$5,SI_RAW!$A:$A,"2025") -> 0 | N15: =SUMIFS(SI_RAW!$E:$E,SI_RAW!$A:$A,"2025",SI_RAW!$B:$B,SI!$F$4,SI_RAW!$C:$C,SI!$F15,SI_RAW!$D:$D,SI!$E$3,SI_RAW!$G:$G,SI!N$5,SI_RAW!$A:$A,"2025") -> 0 | O15: =SUMIFS(SI_RAW!$F:$F,SI_RAW!$A:$A,"2025",SI_RAW!$B:$B,SI!$F$4,SI_RAW!$C:$C,SI!$F15,SI_RAW!$D:$D,SI!$E$3,SI_RAW!$G:$G,SI!N$5,SI_RAW!$A:$A,"2025") -> 0
E16: 월 | F16: 9 | J16: =SUMIFS(SI_RAW!$E:$E,SI_RAW!$A:$A,"2025",SI_RAW!$B:$B,SI!$F$4,SI_RAW!$C:$C,SI!$F16,SI_RAW!$D:$D,SI!$E$3,SI_RAW!$G:$G,SI!J$5,SI_RAW!$A:$A,"2025") -> 0 | K16: =SUMIFS(SI_RAW!$F:$F,SI_RAW!$A:$A,"2025",SI_RAW!$B:$B,SI!$F$4,SI_RAW!$C:$C,SI!$F16,SI_RAW!$D:$D,SI!$E$3,SI_RAW!$G:$G,SI!J$5,SI_RAW!$A:$A,"2025") -> 0 | L16: =SUMIFS(SI_RAW!$E:$E,SI_RAW!$A:$A,"2025",SI_RAW!$B:$B,SI!$F$4,SI_RAW!$C:$C,SI!$F16,SI_RAW!$D:$D,SI!$E$3,SI_RAW!$G:$G,SI!L$5,SI_RAW!$A:$A,"2025") -> 0 | M16: =SUMIFS(SI_RAW!$F:$F,SI_RAW!$A:$A,"2025",SI_RAW!$B:$B,SI!$F$4,SI_RAW!$C:$C,SI!$F16,SI_RAW!$D:$D,SI!$E$3,SI_RAW!$G:$G,SI!L$5,SI_RAW!$A:$A,"2025") -> 0 | N16: =SUMIFS(SI_RAW!$E:$E,SI_RAW!$A:$A,"2025",SI_RAW!$B:$B,SI!$F$4,SI_RAW!$C:$C,SI!$F16,SI_RAW!$D:$D,SI!$E$3,SI_RAW!$G:$G,SI!N$5,SI_RAW!$A:$A,"2025") -> 0 | O16: =SUMIFS(SI_RAW!$F:$F,SI_RAW!$A:$A,"2025",SI_RAW!$B:$B,SI!$F$4,SI_RAW!$C:$C,SI!$F16,SI_RAW!$D:$D,SI!$E$3,SI_RAW!$G:$G,SI!N$5,SI_RAW!$A:$A,"2025") -> 0
E17: 화 | F17: 10 | J17: =SUMIFS(SI_RAW!$E:$E,SI_RAW!$A:$A,"2025",SI_RAW!$B:$B,SI!$F$4,SI_RAW!$C:$C,SI!$F17,SI_RAW!$D:$D,SI!$E$3,SI_RAW!$G:$G,SI!J$5,SI_RAW!$A:$A,"2025") -> 0 | K17: =SUMIFS(SI_RAW!$F:$F,SI_RAW!$A:$A,"2025",SI_RAW!$B:$B,SI!$F$4,SI_RAW!$C:$C,SI!$F17,SI_RAW!$D:$D,SI!$E$3,SI_RAW!$G:$G,SI!J$5,SI_RAW!$A:$A,"2025") -> 0 | L17: =SUMIFS(SI_RAW!$E:$E,SI_RAW!$A:$A,"2025",SI_RAW!$B:$B,SI!$F$4,SI_RAW!$C:$C,SI!$F17,SI_RAW!$D:$D,SI!$E$3,SI_RAW!$G:$G,SI!L$5,SI_RAW!$A:$A,"2025") -> 0 | M17: =SUMIFS(SI_RAW!$F:$F,SI_RAW!$A:$A,"2025",SI_RAW!$B:$B,SI!$F$4,SI_RAW!$C:$C,SI!$F17,SI_RAW!$D:$D,SI!$E$3,SI_RAW!$G:$G,SI!L$5,SI_RAW!$A:$A,"2025") -> 0 | N17: =SUMIFS(SI_RAW!$E:$E,SI_RAW!$A:$A,"2025",SI_RAW!$B:$B,SI!$F$4,SI_RAW!$C:$C,SI!$F17,SI_RAW!$D:$D,SI!$E$3,SI_RAW!$G:$G,SI!N$5,SI_RAW!$A:$A,"2025") -> 0 | O17: =SUMIFS(SI_RAW!$F:$F,SI_RAW!$A:$A,"2025",SI_RAW!$B:$B,SI!$F$4,SI_RAW!$C:$C,SI!$F17,SI_RAW!$D:$D,SI!$E$3,SI_RAW!$G:$G,SI!N$5,SI_RAW!$A:$A,"2025") -> 0
E18: 수 | F18: 11 | J18: =SUMIFS(SI_RAW!$E:$E,SI_RAW!$A:$A,"2025",SI_RAW!$B:$B,SI!$F$4,SI_RAW!$C:$C,SI!$F18,SI_RAW!$D:$D,SI!$E$3,SI_RAW!$G:$G,SI!J$5,SI_RAW!$A:$A,"2025") -> 0 | K18: =SUMIFS(SI_RAW!$F:$F,SI_RAW!$A:$A,"2025",SI_RAW!$B:$B,SI!$F$4,SI_RAW!$C:$C,SI!$F18,SI_RAW!$D:$D,SI!$E$3,SI_RAW!$G:$G,SI!J$5,SI_RAW!$A:$A,"2025") -> 0 | L18: =SUMIFS(SI_RAW!$E:$E,SI_RAW!$A:$A,"2025",SI_RAW!$B:$B,SI!$F$4,SI_RAW!$C:$C,SI!$F18,SI_RAW!$D:$D,SI!$E$3,SI_RAW!$G:$G,SI!L$5,SI_RAW!$A:$A,"2025") -> 0 | M18: =SUMIFS(SI_RAW!$F:$F,SI_RAW!$A:$A,"2025",SI_RAW!$B:$B,SI!$F$4,SI_RAW!$C:$C,SI!$F18,SI_RAW!$D:$D,SI!$E$3,SI_RAW!$G:$G,SI!L$5,SI_RAW!$A:$A,"2025") -> 0 | N18: =SUMIFS(SI_RAW!$E:$E,SI_RAW!$A:$A,"2025",SI_RAW!$B:$B,SI!$F$4,SI_RAW!$C:$C,SI!$F18,SI_RAW!$D:$D,SI!$E$3,SI_RAW!$G:$G,SI!N$5,SI_RAW!$A:$A,"2025") -> 0 | O18: =SUMIFS(SI_RAW!$F:$F,SI_RAW!$A:$A,"2025",SI_RAW!$B:$B,SI!$F$4,SI_RAW!$C:$C,SI!$F18,SI_RAW!$D:$D,SI!$E$3,SI_RAW!$G:$G,SI!N$5,SI_RAW!$A:$A,"2025") -> 0
E19: 목 | F19: 12 | J19: =SUMIFS(SI_RAW!$E:$E,SI_RAW!$A:$A,"2025",SI_RAW!$B:$B,SI!$F$4,SI_RAW!$C:$C,SI!$F19,SI_RAW!$D:$D,SI!$E$3,SI_RAW!$G:$G,SI!J$5,SI_RAW!$A:$A,"2025") -> 0 | K19: =SUMIFS(SI_RAW!$F:$F,SI_RAW!$A:$A,"2025",SI_RAW!$B:$B,SI!$F$4,SI_RAW!$C:$C,SI!$F19,SI_RAW!$D:$D,SI!$E$3,SI_RAW!$G:$G,SI!J$5,SI_RAW!$A:$A,"2025") -> 0 | L19: =SUMIFS(SI_RAW!$E:$E,SI_RAW!$A:$A,"2025",SI_RAW!$B:$B,SI!$F$4,SI_RAW!$C:$C,SI!$F19,SI_RAW!$D:$D,SI!$E$3,SI_RAW!$G:$G,SI!L$5,SI_RAW!$A:$A,"2025") -> 0 | M19: =SUMIFS(SI_RAW!$F:$F,SI_RAW!$A:$A,"2025",SI_RAW!$B:$B,SI!$F$4,SI_RAW!$C:$C,SI!$F19,SI_RAW!$D:$D,SI!$E$3,SI_RAW!$G:$G,SI!L$5,SI_RAW!$A:$A,"2025") -> 0 | N19: =SUMIFS(SI_RAW!$E:$E,SI_RAW!$A:$A,"2025",SI_RAW!$B:$B,SI!$F$4,SI_RAW!$C:$C,SI!$F19,SI_RAW!$D:$D,SI!$E$3,SI_RAW!$G:$G,SI!N$5,SI_RAW!$A:$A,"2025") -> 0 | O19: =SUMIFS(SI_RAW!$F:$F,SI_RAW!$A:$A,"2025",SI_RAW!$B:$B,SI!$F$4,SI_RAW!$C:$C,SI!$F19,SI_RAW!$D:$D,SI!$E$3,SI_RAW!$G:$G,SI!N$5,SI_RAW!$A:$A,"2025") -> 0
... E36: 일 | F36: 29 | J36: =SUMIFS(SI_RAW!$E:$E,SI_RAW!$A:$A,"2025",SI_RAW!$B:$B,SI!$F$4,SI_RAW!$C:$C,SI!$F36,SI_RAW!$D:$D,SI!$E$3,SI_RAW!$G:$G,SI!J$5,SI_RAW!$A:$A,"2025") -> 0 | K36: =SUMIFS(SI_RAW!$F:$F,SI_RAW!$A:$A,"2025",SI_RAW!$B:$B,SI!$F$4,SI_RAW!$C:$C,SI!$F36,SI_RAW!$D:$D,SI!$E$3,SI_RAW!$G:$G,SI!J$5,SI_RAW!$A:$A,"2025") -> 0 | L36: =SUMIFS(SI_RAW!$E:$E,SI_RAW!$A:$A,"2025",SI_RAW!$B:$B,SI!$F$4,SI_RAW!$C:$C,SI!$F36,SI_RAW!$D:$D,SI!$E$3,SI_RAW!$G:$G,SI!L$5,SI_RAW!$A:$A,"2025") -> 0 | M36: =SUMIFS(SI_RAW!$F:$F,SI_RAW!$A:$A,"2025",SI_RAW!$B:$B,SI!$F$4,SI_RAW!$C:$C,SI!$F36,SI_RAW!$D:$D,SI!$E$3,SI_RAW!$G:$G,SI!L$5,SI_RAW!$A:$A,"2025") -> 0 | N36: =SUMIFS(SI_RAW!$E:$E,SI_RAW!$A:$A,"2025",SI_RAW!$B:$B,SI!$F$4,SI_RAW!$C:$C,SI!$F36,SI_RAW!$D:$D,SI!$E$3,SI_RAW!$G:$G,SI!N$5,SI_RAW!$A:$A,"2025") -> 0 | O36: =SUMIFS(SI_RAW!$F:$F,SI_RAW!$A:$A,"2025",SI_RAW!$B:$B,SI!$F$4,SI_RAW!$C:$C,SI!$F36,SI_RAW!$D:$D,SI!$E$3,SI_RAW!$G:$G,SI!N$5,SI_RAW!$A:$A,"2025") -> 0
E37: 월 | F37: 30 | J37: =SUMIFS(SI_RAW!$E:$E,SI_RAW!$A:$A,"2025",SI_RAW!$B:$B,SI!$F$4,SI_RAW!$C:$C,SI!$F37,SI_RAW!$D:$D,SI!$E$3,SI_RAW!$G:$G,SI!J$5,SI_RAW!$A:$A,"2025") -> 0
F38: 일 평균 | J38: =SUMIFS(SI_RAW!$E:$E,SI_RAW!$A:$A,"2025",SI_RAW!$B:$B,SI!#REF!,SI_RAW!$C:$C,SI!$F34,SI_RAW!$D:$D,SI!$E$3,SI_RAW!$G:$G,SI!#REF!,SI_RAW!$A:$A,"2025") -> 0
E39: =I39/G39 -> 0 | F39: 계 | G39: 10000000 | J39: =SUM(J8:J37) -> 0 | K39: =SUM(K8:K37) -> 0 | L39: =SUM(L8:L37) -> 0 | M39: =SUM(M8:M37) -> 0 | N39: =SUM(N8:N37) -> 0 | O39: =SUM(O8:O37) -> 0

Sheet SI_RAW
A1: 년 | B1: 월 | C1: 일 | D1: 브랜드 | E1: 수량 | F1: 금액 | G1: 코드-1 | H1: 코드-2 | I1: 코드-3 | J1: 금액-1 | K1: 금액-2 | L1: 금액-3 | M1: ? | N1: 순번 | O1: 발주일자 | P1: 입고예정일 | Q1: 입고전표 | R1: 배송유형 | S1: 센터 | T1: 상품코드 | U1: 상품명 | V1: 발주단위 | W1: 입력수량 (BOX) | X1: 발주수량 (EA) | Y1: BOX 입수 | Z1: CASE 입수 | AA1: 납품예정수량 | AB1: 납품수량 | AC1: 미납수량 | AD1: 원단가 | AE1: 원가금액 | AF1: 제조일자 | AG1: 유통기한 | AH1: 유통기한 관리여부 | AI1: 의료기기여부 | AJ1: 의료기기등급 | AK1: 의료기기 표준코드 | AL1: 센터 입고 가능일자 (해당일 이후 입고불가) | AM1: 예외수량 | AN1: 확인 | AO1: 예외여부 | AP1: 예외등록 | AQ1: 납품수량*원단가 | AR1: 납품수량*원단가 =원가금액 확인
A2: =YEAR(P2) -> 2025 | B2: =MONTH(P2) -> 6 | C2: =DAY(P2) -> 5 | D2: =VLOOKUP($G2,상품DB!$A:$I,9,FALSE) -> 기타 | E2: =AB2 -> 300 | F2: =AE2 -> 750000 | G2: =SUMIFS(상품DB!$A:$A,상품DB!$J:$J,VALUE(T2)) -> 8800280692290 | H2: 0 | I2: 0 | J2: =AE2 -> 750000 | K2: 0 | L2: 0 | M2: 0 | N2: 120 | O2: 45810 | P2: 45813 | R2: R1 | T2: 8800280692290 | U2: 듀오 | V2: 박스 | W2: 15 | X2: 300 | Y2: 20 | Z2: 1 | AA2: 300 | AB2: 300 | AC2: 0 | AD2: 2500 | AE2: =AD2*AB2 -> 750000 | AF2: 45631 | AG2: 46725 | AH2: Y | AI2: N | AK2: 46178 | AL2: Y | AQ2: =AD2*AB2 -> 750000 | AR2: =AQ2=AE2 -> TRUE
A3: =YEAR(P3) -> 2025 | B3: =MONTH(P3) -> 6 | C3: =DAY(P3) -> 5 | D3: =VLOOKUP($G3,상품DB!$A:$I,9,FALSE) -> 기타 | E3: =AB3 -> 180 | F3: =AE3 -> 450000 | G3: =SUMIFS(상품DB!$A:$A,상품DB!$J:$J,VALUE(T3)) -> 8800280692290 | H3: 0 | I3: 0 | J3: =AE3 -> 450000 | K3: 0 | L3: 0 | M3: 0 | N3: 154 | O3: 45810 | P3: 45813 | R3: R1 | T3: 8800280692290 | U3: 듀오 | V3: 박스 | W3: 9 | X3: 180 | Y3: 20 | Z3: 1 | AA3: 180 | AB3: 180 | AC3: 0 | AD3: 2500 | AE3: =AD3*AB3 -> 450000 | AF3: 45631 | AG3: 46725 | AH3: Y | AI3: N | AK3: 46178 | AL3: Y | AQ3: =AD3*AB3 -> 450000 | AR3: =AQ3=AE3 -> TRUE

Sheet 상품DB
A1: 바코드-1 | B1: 바코드-2 | C1: 바코드-3 | D1: 바코드-4 | E1: 비중1 | F1: 비중2 | G1: 비중3 | H1: 비중4 | I1: 브랜드 | J1: 채널상품번호 | K1: 상품명 | L1: 옵션 | M1: 옵션-2 | N1: 옵션-3
A2: 8800280692290 | B2: 8800280692290 | E2: 1 | I2: 기타 | J2: 8800280692290 | K2: 듀오
A3: 8800280692054 | B3: 8800280692054 | E3: 1 | I3: 기타 | J3: 8800280692054 | K3: 기획
A4: 8809714960011 | B4: 8809714960011 | E4: 1 | I4: 기타 | J4: 8809714960011 | K4: 티슈
