Workbook

Sheet Sheet1
C1: 근무시간 | D1: 추가근무 | E1: 야근 | F1: 지각
A2: 45809 | B2: ㄱㄱㄱ | C2: 3 | D2: 1 | E2: 4 | F2: 0
A3: 45809 | B3: ㄴㄴㄴ | C3: 3 | D3: 2 | E3: 3 | F3: 0
A4: 45809 | B4: ㄷㄷㄷ | C4: 3 | D4: 3 | E4: 2 | F4: 0
A5: 45809 | B5: ㄹㄹㄹ | C5: 3 | D5: 4 | E5: 1 | F5: 0
A6: 45810 | B6: ㄱㄱㄱ | C6: 3 | D6: 1 | E6: 4 | F6: 0
A7: 45810 | B7: ㄴㄴㄴ | C7: 3 | D7: 2 | E7: 3 | F7: 0
A8: 45810 | B8: ㄷㄷㄷ | C8: 3 | D8: 3 | E8: 2 | F8: 0
A9: 45810 | B9: ㄹㄹㄹ | C9: 3 | D9: 4 | E9: 1 | F9: 0
A10: 45811 | B10: ㄱㄱㄱ | C10: 3 | D10: 1 | E10: 4 | F10: 0
A11: 45811 | B11: ㄴㄴㄴ | C11: 3 | D11: 2 | E11: 3 | F11: 0
A12: 45811 | B12: ㄷㄷㄷ | C12: 3 | D12: 3 | E12: 2 | F12: 0
A13: 45811 | B13: ㄹㄹㄹ | C13: 3 | D13: 4 | E13: 1 | F13: 0
... A17: 45812 | B17: ㄹㄹㄹ | C17: 3 | D17: 4 | E17: 1 | F17: 0

Sheet Sheet2
B4: 이름 | C4: 근무시간 | D4: 45809 | E4: 45810 | F4: 45811 | G4: 45812 | H4: 45813 | I4: 45814 | J4: 45815
D5: 일 | E5: 월 | F5: 화 | G5: 수 | H5: 목 | I5: 금 | J5: 토
B6: {=IFERROR(INDEX(Sheet1!$B$2:$B$1000,MATCH(1,(Sheet1!$B$2:$B$1000<>"")*(COUNTIF($B$5:B5,Sheet1!$B$2:$B$1000)=0),0)),"")} -> ㄱㄱㄱ
C7: 근무시간 | D7: {=IFERROR( LOOKUP(1,0/(Sheet1!$A$2:$A$1000=D4)/(Sheet1!$B$2:$B$1000=$B6), INDEX(Sheet1!$C$2:$F$1000,,MATCH($C7,Sheet1!$C$1:$F$1,0))), "" )} -> 3 | E7: {=IFERROR( LOOKUP(1,0/(Sheet1!$A$2:$A$1000=E4)/(Sheet1!$B$2:$B$1000=$B6), INDEX(Sheet1!$C$2:$F$1000,,MATCH($C7,Sheet1!$C$1:$F$1,0))), "" )} -> 3 | F7: {=IFERROR( LOOKUP(1,0/(Sheet1!$A$2:$A$1000=F4)/(Sheet1!$B$2:$B$1000=$B6), INDEX(Sheet1!$C$2:$F$1000,,MATCH($C7,Sheet1!$C$1:$F$1,0))), "" )} -> 3 | G7: {=IFERROR( LOOKUP(1,0/(Sheet1!$A$2:$A$1000=G4)/(Sheet1!$B$2:$B$1000=$B6), INDEX(Sheet1!$C$2:$F$1000,,MATCH($C7,Sheet1!$C$1:$F$1,0))), "" )} -> 3 | H7: {=IFERROR( LOOKUP(1,0/(Sheet1!$A$2:$A$1000=H4)/(Sheet1!$B$2:$B$1000=$B6), INDEX(Sheet1!$C$2:$F$1000,,MATCH($C7,Sheet1!$C$1:$F$1,0))), "" )} | I7: {=IFERROR( LOOKUP(1,0/(Sheet1!$A$2:$A$1000=I4)/(Sheet1!$B$2:$B$1000=$B6), INDEX(Sheet1!$C$2:$F$1000,,MATCH($C7,Sheet1!$C$1:$F$1,0))), "" )} | J7: {=IFERROR( LOOKUP(1,0/(Sheet1!$A$2:$A$1000=J4)/(Sheet1!$B$2:$B$1000=$B6), INDEX(Sheet1!$C$2:$F$1000,,MATCH($C7,Sheet1!$C$1:$F$1,0))), "" )} | Q7: {=IFERROR( LOOKUP(1,0/(Sheet1!$A$2:$A$1000=J$4)/(Sheet1!$B$2:$B$1000=_xlfn.CONCAT($B6:H6)), INDEX(Sheet1!$C$2:$F$1000,,MATCH($C7,Sheet1!$C$1:$F$1,0))), "" )} | R7: {=IFERROR( LOOKUP(1,0/(Sheet1!$A$2:$A$1000=K$4)/(Sheet1!$B$2:$B$1000=_xlfn.CONCAT($B6:I6)), INDEX(Sheet1!$C$2:$F$1000,,MATCH($C7,Sheet1!$C$1:$F$1,0))), "" )}
C9: 추가근무 | D9: {=IFERROR( LOOKUP(1,0/(Sheet1!$A$2:$A$1000=D4)/(Sheet1!$B$2:$B$1000=$B6), INDEX(Sheet1!$C$2:$F$1000,,MATCH($C9,Sheet1!$C$1:$F$1,0))), "" )} -> 1 | E9: {=IFERROR( LOOKUP(1,0/(Sheet1!$A$2:$A$1000=E4)/(Sheet1!$B$2:$B$1000=$B6), INDEX(Sheet1!$C$2:$F$1000,,MATCH($C9,Sheet1!$C$1:$F$1,0))), "" )} -> 1 | F9: {=IFERROR( LOOKUP(1,0/(Sheet1!$A$2:$A$1000=F4)/(Sheet1!$B$2:$B$1000=$B6), INDEX(Sheet1!$C$2:$F$1000,,MATCH($C9,Sheet1!$C$1:$F$1,0))), "" )} -> 1 | G9: {=IFERROR( LOOKUP(1,0/(Sheet1!$A$2:$A$1000=G4)/(Sheet1!$B$2:$B$1000=$B6), INDEX(Sheet1!$C$2:$F$1000,,MATCH($C9,Sheet1!$C$1:$F$1,0))), "" )} -> 1 | H9: {=IFERROR( LOOKUP(1,0/(Sheet1!$A$2:$A$1000=H4)/(Sheet1!$B$2:$B$1000=$B6), INDEX(Sheet1!$C$2:$F$1000,,MATCH($C9,Sheet1!$C$1:$F$1,0))), "" )} | I9: {=IFERROR( LOOKUP(1,0/(Sheet1!$A$2:$A$1000=I4)/(Sheet1!$B$2:$B$1000=$B6), INDEX(Sheet1!$C$2:$F$1000,,MATCH($C9,Sheet1!$C$1:$F$1,0))), "" )} | J9: {=IFERROR( LOOKUP(1,0/(Sheet1!$A$2:$A$1000=J4)/(Sheet1!$B$2:$B$1000=$B6), INDEX(Sheet1!$C$2:$F$1000,,MATCH($C9,Sheet1!$C$1:$F$1,0))), "" )}
C11: 야근 | D11: {=IFERROR( LOOKUP(1,0/(Sheet1!$A$2:$A$1000=D4)/(Sheet1!$B$2:$B$1000=$B6), INDEX(Sheet1!$C$2:$F$1000,,MATCH($C11,Sheet1!$C$1:$F$1,0))), "" )} -> 4 | E11: {=IFERROR( LOOKUP(1,0/(Sheet1!$A$2:$A$1000=E4)/(Sheet1!$B$2:$B$1000=$B6), INDEX(Sheet1!$C$2:$F$1000,,MATCH($C11,Sheet1!$C$1:$F$1,0))), "" )} -> 4 | F11: {=IFERROR( LOOKUP(1,0/(Sheet1!$A$2:$A$1000=F4)/(Sheet1!$B$2:$B$1000=$B6), INDEX(Sheet1!$C$2:$F$1000,,MATCH($C11,Sheet1!$C$1:$F$1,0))), "" )} -> 4 | G11: {=IFERROR( LOOKUP(1,0/(Sheet1!$A$2:$A$1000=G4)/(Sheet1!$B$2:$B$1000=$B6), INDEX(Sheet1!$C$2:$F$1000,,MATCH($C11,Sheet1!$C$1:$F$1,0))), "" )} -> 4 | H11: {=IFERROR( LOOKUP(1,0/(Sheet1!$A$2:$A$1000=H4)/(Sheet1!$B$2:$B$1000=$B6), INDEX(Sheet1!$C$2:$F$1000,,MATCH($C11,Sheet1!$C$1:$F$1,0))), "" )} | I11: {=IFERROR( LOOKUP(1,0/(Sheet1!$A$2:$A$1000=I4)/(Sheet1!$B$2:$B$1000=$B6), INDEX(Sheet1!$C$2:$F$1000,,MATCH($C11,Sheet1!$C$1:$F$1,0))), "" )} | J11: {=IFERROR( LOOKUP(1,0/(Sheet1!$A$2:$A$1000=J4)/(Sheet1!$B$2:$B$1000=$B6), INDEX(Sheet1!$C$2:$F$1000,,MATCH($C11,Sheet1!$C$1:$F$1,0))), "" )}
C13: 지각 | D13: {=IFERROR( LOOKUP(1,0/(Sheet1!$A$2:$A$1000=D4)/(Sheet1!$B$2:$B$1000=$B6), INDEX(Sheet1!$C$2:$F$1000,,MATCH($C13,Sheet1!$C$1:$F$1,0))), "" )} -> 0 | E13: {=IFERROR( LOOKUP(1,0/(Sheet1!$A$2:$A$1000=E$4)/(Sheet1!$B$2:$B$1000=_xlfn.CONCAT($B$6:$B12)), INDEX(Sheet1!$C$2:$F$1000,,MATCH($C13,Sheet1!$C$1:$F$1,0))), "" )} -> 0 | F13: {=IFERROR( LOOKUP(1,0/(Sheet1!$A$2:$A$1000=F$4)/(Sheet1!$B$2:$B$1000=_xlfn.CONCAT($B$6:$B12)), INDEX(Sheet1!$C$2:$F$1000,,MATCH($C13,Sheet1!$C$1:$F$1,0))), "" )} -> 0 | G13: {=IFERROR( LOOKUP(1,0/(Sheet1!$A$2:$A$1000=G$4)/(Sheet1!$B$2:$B$1000=_xlfn.CONCAT($B$6:$B12)), INDEX(Sheet1!$C$2:$F$1000,,MATCH($C13,Sheet1!$C$1:$F$1,0))), "" )} -> 0 | H13: {=IFERROR( LOOKUP(1,0/(Sheet1!$A$2:$A$1000=H$4)/(Sheet1!$B$2:$B$1000=_xlfn.CONCAT($B$6:$B12)), INDEX(Sheet1!$C$2:$F$1000,,MATCH($C13,Sheet1!$C$1:$F$1,0))), "" )} | I13: {=IFERROR( LOOKUP(1,0/(Sheet1!$A$2:$A$1000=I$4)/(Sheet1!$B$2:$B$1000=_xlfn.CONCAT($B$6:$B12)), INDEX(Sheet1!$C$2:$F$1000,,MATCH($C13,Sheet1!$C$1:$F$1,0))), "" )} | J13: {=IFERROR( LOOKUP(1,0/(Sheet1!$A$2:$A$1000=J$4)/(Sheet1!$B$2:$B$1000=_xlfn.CONCAT($B$6:$B12)), INDEX(Sheet1!$C$2:$F$1000,,MATCH($C13,Sheet1!$C$1:$F$1,0))), "" )}
B14: 이름 | C14: 근무시간 | D14: 45809 | E14: 45810 | F14: 45811 | G14: 45812 | H14: 45813 | I14: 45814 | J14: 45815
D15: 일 | E15: 월 | F15: 화 | G15: 수 | H15: 목 | I15: 금 | J15: 토
B16: {=IFERROR(INDEX(Sheet1!$B$2:$B$1000,MATCH(1,(Sheet1!$B$2:$B$1000<>"")*(COUNTIF($B$5:B15,Sheet1!$B$2:$B$1000)=0),0)),"")} -> ㄴㄴㄴ
C17: 근무시간 | D17: {=IFERROR( LOOKUP(1,0/(Sheet1!$A$2:$A$1000=D14)/(Sheet1!$B$2:$B$1000=$B16), INDEX(Sheet1!$C$2:$F$1000,,MATCH($C17,Sheet1!$C$1:$F$1,0))), "" )} -> 3 | E17: {=IFERROR( LOOKUP(1,0/(Sheet1!$A$2:$A$1000=E14)/(Sheet1!$B$2:$B$1000=$B16), INDEX(Sheet1!$C$2:$F$1000,,MATCH($C17,Sheet1!$C$1:$F$1,0))), "" )} -> 3 | F17: {=IFERROR( LOOKUP(1,0/(Sheet1!$A$2:$A$1000=F14)/(Sheet1!$B$2:$B$1000=$B16), INDEX(Sheet1!$C$2:$F$1000,,MATCH($C17,Sheet1!$C$1:$F$1,0))), "" )} -> 3 | G17: {=IFERROR( LOOKUP(1,0/(Sheet1!$A$2:$A$1000=G14)/(Sheet1!$B$2:$B$1000=$B16), INDEX(Sheet1!$C$2:$F$1000,,MATCH($C17,Sheet1!$C$1:$F$1,0))), "" )} -> 3 | H17: {=IFERROR( LOOKUP(1,0/(Sheet1!$A$2:$A$1000=H14)/(Sheet1!$B$2:$B$1000=$B16), INDEX(Sheet1!$C$2:$F$1000,,MATCH($C17,Sheet1!$C$1:$F$1,0))), "" )} | I17: {=IFERROR( LOOKUP(1,0/(Sheet1!$A$2:$A$1000=I14)/(Sheet1!$B$2:$B$1000=$B16), INDEX(Sheet1!$C$2:$F$1000,,MATCH($C17,Sheet1!$C$1:$F$1,0))), "" )} | J17: {=IFERROR( LOOKUP(1,0/(Sheet1!$A$2:$A$1000=J14)/(Sheet1!$B$2:$B$1000=$B16), INDEX(Sheet1!$C$2:$F$1000,,MATCH($C17,Sheet1!$C$1:$F$1,0))), "" )}
C19: 추가근무 | D19: {=IFERROR( LOOKUP(1,0/(Sheet1!$A$2:$A$1000=D14)/(Sheet1!$B$2:$B$1000=$B16), INDEX(Sheet1!$C$2:$F$1000,,MATCH($C19,Sheet1!$C$1:$F$1,0))), "" )} -> 2 | E19: {=IFERROR( LOOKUP(1,0/(Sheet1!$A$2:$A$1000=E14)/(Sheet1!$B$2:$B$1000=$B16), INDEX(Sheet1!$C$2:$F$1000,,MATCH($C19,Sheet1!$C$1:$F$1,0))), "" )} -> 2 | F19: {=IFERROR( LOOKUP(1,0/(Sheet1!$A$2:$A$1000=F14)/(Sheet1!$B$2:$B$1000=$B16), INDEX(Sheet1!$C$2:$F$1000,,MATCH($C19,Sheet1!$C$1:$F$1,0))), "" )} -> 2 | G19: {=IFERROR( LOOKUP(1,0/(Sheet1!$A$2:$A$1000=G14)/(Sheet1!$B$2:$B$1000=$B16), INDEX(Sheet1!$C$2:$F$1000,,MATCH($C19,Sheet1!$C$1:$F$1,0))), "" )} -> 2 | H19: {=IFERROR( LOOKUP(1,0/(Sheet1!$A$2:$A$1000=H14)/(Sheet1!$B$2:$B$1000=$B16), INDEX(Sheet1!$C$2:$F$1000,,MATCH($C19,Sheet1!$C$1:$F$1,0))), "" )} | I19: {=IFERROR( LOOKUP(1,0/(Sheet1!$A$2:$A$1000=I14)/(Sheet1!$B$2:$B$1000=$B16), INDEX(Sheet1!$C$2:$F$1000,,MATCH($C19,Sheet1!$C$1:$F$1,0))), "" )} | J19: {=IFERROR( LOOKUP(1,0/(Sheet1!$A$2:$A$1000=J14)/(Sheet1!$B$2:$B$1000=$B16), INDEX(Sheet1!$C$2:$F$1000,,MATCH($C19,Sheet1!$C$1:$F$1,0))), "" )}
C21: 야근 | D21: {=IFERROR( LOOKUP(1,0/(Sheet1!$A$2:$A$1000=D14)/(Sheet1!$B$2:$B$1000=$B16), INDEX(Sheet1!$C$2:$F$1000,,MATCH($C21,Sheet1!$C$1:$F$1,0))), "" )} -> 3 | E21: {=IFERROR( LOOKUP(1,0/(Sheet1!$A$2:$A$1000=E14)/(Sheet1!$B$2:$B$1000=$B16), INDEX(Sheet1!$C$2:$F$1000,,MATCH($C21,Sheet1!$C$1:$F$1,0))), "" )} -> 3 | F21: {=IFERROR( LOOKUP(1,0/(Sheet1!$A$2:$A$1000=F14)/(Sheet1!$B$2:$B$1000=$B16), INDEX(Sheet1!$C$2:$F$1000,,MATCH($C21,Sheet1!$C$1:$F$1,0))), "" )} -> 3 | G21: {=IFERROR( LOOKUP(1,0/(Sheet1!$A$2:$A$1000=G14)/(Sheet1!$B$2:$B$1000=$B16), INDEX(Sheet1!$C$2:$F$1000,,MATCH($C21,Sheet1!$C$1:$F$1,0))), "" )} -> 3 | H21: {=IFERROR( LOOKUP(1,0/(Sheet1!$A$2:$A$1000=H14)/(Sheet1!$B$2:$B$1000=$B16), INDEX(Sheet1!$C$2:$F$1000,,MATCH($C21,Sheet1!$C$1:$F$1,0))), "" )} | I21: {=IFERROR( LOOKUP(1,0/(Sheet1!$A$2:$A$1000=I14)/(Sheet1!$B$2:$B$1000=$B16), INDEX(Sheet1!$C$2:$F$1000,,MATCH($C21,Sheet1!$C$1:$F$1,0))), "" )} | J21: {=IFERROR( LOOKUP(1,0/(Sheet1!$A$2:$A$1000=J14)/(Sheet1!$B$2:$B$1000=$B16), INDEX(Sheet1!$C$2:$F$1000,,MATCH($C21,Sheet1!$C$1:$F$1,0))), "" )}
C23: 지각 | D23: {=IFERROR( LOOKUP(1,0/(Sheet1!$A$2:$A$1000=D14)/(Sheet1!$B$2:$B$1000=$B16), INDEX(Sheet1!$C$2:$F$1000,,MATCH($C23,Sheet1!$C$1:$F$1,0))), "" )} -> 0 | E23: {=IFERROR( LOOKUP(1,0/(Sheet1!$A$2:$A$1000=E14)/(Sheet1!$B$2:$B$1000=$B16), INDEX(Sheet1!$C$2:$F$1000,,MATCH($C23,Sheet1!$C$1:$F$1,0))), "" )} -> 0 | F23: {=IFERROR( LOOKUP(1,0/(Sheet1!$A$2:$A$1000=F14)/(Sheet1!$B$2:$B$1000=$B16), INDEX(Sheet1!$C$2:$F$1000,,MATCH($C23,Sheet1!$C$1:$F$1,0))), "" )} -> 0 | G23: {=IFERROR( LOOKUP(1,0/(Sheet1!$A$2:$A$1000=G14)/(Sheet1!$B$2:$B$1000=$B16), INDEX(Sheet1!$C$2:$F$1000,,MATCH($C23,Sheet1!$C$1:$F$1,0))), "" )} -> 0 | H23: {=IFERROR( LOOKUP(1,0/(Sheet1!$A$2:$A$1000=H14)/(Sheet1!$B$2:$B$1000=$B16), INDEX(Sheet1!$C$2:$F$1000,,MATCH($C23,Sheet1!$C$1:$F$1,0))), "" )} | I23: {=IFERROR( LOOKUP(1,0/(Sheet1!$A$2:$A$1000=I14)/(Sheet1!$B$2:$B$1000=$B16), INDEX(Sheet1!$C$2:$F$1000,,MATCH($C23,Sheet1!$C$1:$F$1,0))), "" )} | J23: {=IFERROR( LOOKUP(1,0/(Sheet1!$A$2:$A$1000=J14)/(Sheet1!$B$2:$B$1000=$B16), INDEX(Sheet1!$C$2:$F$1000,,MATCH($C23,Sheet1!$C$1:$F$1,0))), "" )}
B24: 이름 | C24: 근무시간 | D24: 45809 | E24: 45810 | F24: 45811 | G24: 45812 | H24: 45813 | I24: 45814 | J24: 45815
D25: 일 | E25: 월 | F25: 화 | G25: 수 | H25: 목 | I25: 금 | J25: 토
B26: {=IFERROR(INDEX(Sheet1!$B$2:$B$1000,MATCH(1,(Sheet1!$B$2:$B$1000<>"")*(COUNTIF($B$5:B25,Sheet1!$B$2:$B$1000)=0),0)),"")} -> ㄷㄷㄷ
C27: 근무시간 | D27: {=IFERROR( LOOKUP(1,0/(Sheet1!$A$2:$A$1000=D24)/(Sheet1!$B$2:$B$1000=$B26), INDEX(Sheet1!$C$2:$F$1000,,MATCH($C27,Sheet1!$C$1:$F$1,0))), "" )} -> 3 | E27: {=IFERROR( LOOKUP(1,0/(Sheet1!$A$2:$A$1000=E24)/(Sheet1!$B$2:$B$1000=$B26), INDEX(Sheet1!$C$2:$F$1000,,MATCH($C27,Sheet1!$C$1:$F$1,0))), "" )} -> 3 | F27: {=IFERROR( LOOKUP(1,0/(Sheet1!$A$2:$A$1000=F24)/(Sheet1!$B$2:$B$1000=$B26), INDEX(Sheet1!$C$2:$F$1000,,MATCH($C27,Sheet1!$C$1:$F$1,0))), "" )} -> 3 | G27: {=IFERROR( LOOKUP(1,0/(Sheet1!$A$2:$A$1000=G24)/(Sheet1!$B$2:$B$1000=$B26), INDEX(Sheet1!$C$2:$F$1000,,MATCH($C27,Sheet1!$C$1:$F$1,0))), "" )} -> 3 | H27: {=IFERROR( LOOKUP(1,0/(Sheet1!$A$2:$A$1000=H24)/(Sheet1!$B$2:$B$1000=$B26), INDEX(Sheet1!$C$2:$F$1000,,MATCH($C27,Sheet1!$C$1:$F$1,0))), "" )} | I27: {=IFERROR( LOOKUP(1,0/(Sheet1!$A$2:$A$1000=I24)/(Sheet1!$B$2:$B$1000=$B26), INDEX(Sheet1!$C$2:$F$1000,,MATCH($C27,Sheet1!$C$1:$F$1,0))), "" )} | J27: {=IFERROR( LOOKUP(1,0/(Sheet1!$A$2:$A$1000=J24)/(Sheet1!$B$2:$B$1000=$B26), INDEX(Sheet1!$C$2:$F$1000,,MATCH($C27,Sheet1!$C$1:$F$1,0))), "" )}
C29: 추가근무 | D29: {=IFERROR( LOOKUP(1,0/(Sheet1!$A$2:$A$1000=D24)/(Sheet1!$B$2:$B$1000=$B26), INDEX(Sheet1!$C$2:$F$1000,,MATCH($C29,Sheet1!$C$1:$F$1,0))), "" )} -> 3 | E29: {=IFERROR( LOOKUP(1,0/(Sheet1!$A$2:$A$1000=E24)/(Sheet1!$B$2:$B$1000=$B26), INDEX(Sheet1!$C$2:$F$1000,,MATCH($C29,Sheet1!$C$1:$F$1,0))), "" )} -> 3 | F29: {=IFERROR( LOOKUP(1,0/(Sheet1!$A$2:$A$1000=F24)/(Sheet1!$B$2:$B$1000=$B26), INDEX(Sheet1!$C$2:$F$1000,,MATCH($C29,Sheet1!$C$1:$F$1,0))), "" )} -> 3 | G29: {=IFERROR( LOOKUP(1,0/(Sheet1!$A$2:$A$1000=G24)/(Sheet1!$B$2:$B$1000=$B26), INDEX(Sheet1!$C$2:$F$1000,,MATCH($C29,Sheet1!$C$1:$F$1,0))), "" )} -> 3 | H29: {=IFERROR( LOOKUP(1,0/(Sheet1!$A$2:$A$1000=H24)/(Sheet1!$B$2:$B$1000=$B26), INDEX(Sheet1!$C$2:$F$1000,,MATCH($C29,Sheet1!$C$1:$F$1,0))), "" )} | I29: {=IFERROR( LOOKUP(1,0/(Sheet1!$A$2:$A$1000=I24)/(Sheet1!$B$2:$B$1000=$B26), INDEX(Sheet1!$C$2:$F$1000,,MATCH($C29,Sheet1!$C$1:$F$1,0))), "" )} | J29: {=IFERROR( LOOKUP(1,0/(Sheet1!$A$2:$A$1000=J24)/(Sheet1!$B$2:$B$1000=$B26), INDEX(Sheet1!$C$2:$F$1000,,MATCH($C29,Sheet1!$C$1:$F$1,0))), "" )}
C31: 야근 | D31: {=IFERROR( LOOKUP(1,0/(Sheet1!$A$2:$A$1000=D24)/(Sheet1!$B$2:$B$1000=$B26), INDEX(Sheet1!$C$2:$F$1000,,MATCH($C31,Sheet1!$C$1:$F$1,0))), "" )} -> 2 | E31: {=IFERROR( LOOKUP(1,0/(Sheet1!$A$2:$A$1000=E24)/(Sheet1!$B$2:$B$1000=$B26), INDEX(Sheet1!$C$2:$F$1000,,MATCH($C31,Sheet1!$C$1:$F$1,0))), "" )} -> 2 | F31: {=IFERROR( LOOKUP(1,0/(Sheet1!$A$2:$A$1000=F24)/(Sheet1!$B$2:$B$1000=$B26), INDEX(Sheet1!$C$2:$F$1000,,MATCH($C31,Sheet1!$C$1:$F$1,0))), "" )} -> 2 | G31: {=IFERROR( LOOKUP(1,0/(Sheet1!$A$2:$A$1000=G24)/(Sheet1!$B$2:$B$1000=$B26), INDEX(Sheet1!$C$2:$F$1000,,MATCH($C31,Sheet1!$C$1:$F$1,0))), "" )} -> 2 | H31: {=IFERROR( LOOKUP(1,0/(Sheet1!$A$2:$A$1000=H24)/(Sheet1!$B$2:$B$1000=$B26), INDEX(Sheet1!$C$2:$F$1000,,MATCH($C31,Sheet1!$C$1:$F$1,0))), "" )} | I31: {=IFERROR( LOOKUP(1,0/(Sheet1!$A$2:$A$1000=I24)/(Sheet1!$B$2:$B$1000=$B26), INDEX(Sheet1!$C$2:$F$1000,,MATCH($C31,Sheet1!$C$1:$F$1,0))), "" )} | J31: {=IFERROR( LOOKUP(1,0/(Sheet1!$A$2:$A$1000=J24)/(Sheet1!$B$2:$B$1000=$B26), INDEX(Sheet1!$C$2:$F$1000,,MATCH($C31,Sheet1!$C$1:$F$1,0))), "" )}
C33: 지각 | D33: {=IFERROR( LOOKUP(1,0/(Sheet1!$A$2:$A$1000=D24)/(Sheet1!$B$2:$B$1000=$B26), INDEX(Sheet1!$C$2:$F$1000,,MATCH($C33,Sheet1!$C$1:$F$1,0))), "" )} -> 0 | E33: {=IFERROR( LOOKUP(1,0/(Sheet1!$A$2:$A$1000=E24)/(Sheet1!$B$2:$B$1000=$B26), INDEX(Sheet1!$C$2:$F$1000,,MATCH($C33,Sheet1!$C$1:$F$1,0))), "" )} -> 0 | F33: {=IFERROR( LOOKUP(1,0/(Sheet1!$A$2:$A$1000=F24)/(Sheet1!$B$2:$B$1000=$B26), INDEX(Sheet1!$C$2:$F$1000,,MATCH($C33,Sheet1!$C$1:$F$1,0))), "" )} -> 0 | G33: {=IFERROR( LOOKUP(1,0/(Sheet1!$A$2:$A$1000=G24)/(Sheet1!$B$2:$B$1000=$B26), INDEX(Sheet1!$C$2:$F$1000,,MATCH($C33,Sheet1!$C$1:$F$1,0))), "" )} -> 0 | H33: {=IFERROR( LOOKUP(1,0/(Sheet1!$A$2:$A$1000=H24)/(Sheet1!$B$2:$B$1000=$B26), INDEX(Sheet1!$C$2:$F$1000,,MATCH($C33,Sheet1!$C$1:$F$1,0))), "" )} | I33: {=IFERROR( LOOKUP(1,0/(Sheet1!$A$2:$A$1000=I24)/(Sheet1!$B$2:$B$1000=$B26), INDEX(Sheet1!$C$2:$F$1000,,MATCH($C33,Sheet1!$C$1:$F$1,0))), "" )} | J33: {=IFERROR( LOOKUP(1,0/(Sheet1!$A$2:$A$1000=J24)/(Sheet1!$B$2:$B$1000=$B26), INDEX(Sheet1!$C$2:$F$1000,,MATCH($C33,Sheet1!$C$1:$F$1,0))), "" )}
B34: 이름 | C34: 근무시간 | D34: 45809 | E34: 45810 | F34: 45811 | G34: 45812 | H34: 45813 | I34: 45814 | J34: 45815
D35: 일 | E35: 월 | F35: 화 | G35: 수 | H35: 목 | I35: 금 | J35: 토
B36: {=IFERROR(INDEX(Sheet1!$B$2:$B$1000,MATCH(1,(Sheet1!$B$2:$B$1000<>"")*(COUNTIF($B$5:B35,Sheet1!$B$2:$B$1000)=0),0)),"")} -> ㄹㄹㄹ
C37: 근무시간 | D37: {=IFERROR( LOOKUP(1,0/(Sheet1!$A$2:$A$1000=D34)/(Sheet1!$B$2:$B$1000=$B36), INDEX(Sheet1!$C$2:$F$1000,,MATCH($C37,Sheet1!$C$1:$F$1,0))), "" )} -> 3 | E37: {=IFERROR( LOOKUP(1,0/(Sheet1!$A$2:$A$1000=E34)/(Sheet1!$B$2:$B$1000=$B36), INDEX(Sheet1!$C$2:$F$1000,,MATCH($C37,Sheet1!$C$1:$F$1,0))), "" )} -> 3 | F37: {=IFERROR( LOOKUP(1,0/(Sheet1!$A$2:$A$1000=F34)/(Sheet1!$B$2:$B$1000=$B36), INDEX(Sheet1!$C$2:$F$1000,,MATCH($C37,Sheet1!$C$1:$F$1,0))), "" )} -> 3 | G37: {=IFERROR( LOOKUP(1,0/(Sheet1!$A$2:$A$1000=G34)/(Sheet1!$B$2:$B$1000=$B36), INDEX(Sheet1!$C$2:$F$1000,,MATCH($C37,Sheet1!$C$1:$F$1,0))), "" )} -> 3 | H37: {=IFERROR( LOOKUP(1,0/(Sheet1!$A$2:$A$1000=H34)/(Sheet1!$B$2:$B$1000=$B36), INDEX(Sheet1!$C$2:$F$1000,,MATCH($C37,Sheet1!$C$1:$F$1,0))), "" )} | I37: {=IFERROR( LOOKUP(1,0/(Sheet1!$A$2:$A$1000=I34)/(Sheet1!$B$2:$B$1000=$B36), INDEX(Sheet1!$C$2:$F$1000,,MATCH($C37,Sheet1!$C$1:$F$1,0))), "" )} | J37: {=IFERROR( LOOKUP(1,0/(Sheet1!$A$2:$A$1000=J34)/(Sheet1!$B$2:$B$1000=$B36), INDEX(Sheet1!$C$2:$F$1000,,MATCH($C37,Sheet1!$C$1:$F$1,0))), "" )}
C39: 추가근무 | D39: {=IFERROR( LOOKUP(1,0/(Sheet1!$A$2:$A$1000=D34)/(Sheet1!$B$2:$B$1000=$B36), INDEX(Sheet1!$C$2:$F$1000,,MATCH($C39,Sheet1!$C$1:$F$1,0))), "" )} -> 4 | E39: {=IFERROR( LOOKUP(1,0/(Sheet1!$A$2:$A$1000=E34)/(Sheet1!$B$2:$B$1000=$B36), INDEX(Sheet1!$C$2:$F$1000,,MATCH($C39,Sheet1!$C$1:$F$1,0))), "" )} -> 4 | F39: {=IFERROR( LOOKUP(1,0/(Sheet1!$A$2:$A$1000=F34)/(Sheet1!$B$2:$B$1000=$B36), INDEX(Sheet1!$C$2:$F$1000,,MATCH($C39,Sheet1!$C$1:$F$1,0))), "" )} -> 4 | G39: {=IFERROR( LOOKUP(1,0/(Sheet1!$A$2:$A$1000=G34)/(Sheet1!$B$2:$B$1000=$B36), INDEX(Sheet1!$C$2:$F$1000,,MATCH($C39,Sheet1!$C$1:$F$1,0))), "" )} -> 4 | H39: {=IFERROR( LOOKUP(1,0/(Sheet1!$A$2:$A$1000=H34)/(Sheet1!$B$2:$B$1000=$B36), INDEX(Sheet1!$C$2:$F$1000,,MATCH($C39,Sheet1!$C$1:$F$1,0))), "" )} | I39: {=IFERROR( LOOKUP(1,0/(Sheet1!$A$2:$A$1000=I34)/(Sheet1!$B$2:$B$1000=$B36), INDEX(Sheet1!$C$2:$F$1000,,MATCH($C39,Sheet1!$C$1:$F$1,0))), "" )} | J39: {=IFERROR( LOOKUP(1,0/(Sheet1!$A$2:$A$1000=J34)/(Sheet1!$B$2:$B$1000=$B36), INDEX(Sheet1!$C$2:$F$1000,,MATCH($C39,Sheet1!$C$1:$F$1,0))), "" )}
C41: 야근 | D41: {=IFERROR( LOOKUP(1,0/(Sheet1!$A$2:$A$1000=D34)/(Sheet1!$B$2:$B$1000=$B36), INDEX(Sheet1!$C$2:$F$1000,,MATCH($C41,Sheet1!$C$1:$F$1,0))), "" )} -> 1 | E41: {=IFERROR( LOOKUP(1,0/(Sheet1!$A$2:$A$1000=E34)/(Sheet1!$B$2:$B$1000=$B36), INDEX(Sheet1!$C$2:$F$1000,,MATCH($C41,Sheet1!$C$1:$F$1,0))), "" )} -> 1 | F41: {=IFERROR( LOOKUP(1,0/(Sheet1!$A$2:$A$1000=F34)/(Sheet1!$B$2:$B$1000=$B36), INDEX(Sheet1!$C$2:$F$1000,,MATCH($C41,Sheet1!$C$1:$F$1,0))), "" )} -> 1 | G41: {=IFERROR( LOOKUP(1,0/(Sheet1!$A$2:$A$1000=G34)/(Sheet1!$B$2:$B$1000=$B36), INDEX(Sheet1!$C$2:$F$1000,,MATCH($C41,Sheet1!$C$1:$F$1,0))), "" )} -> 1 | H41: {=IFERROR( LOOKUP(1,0/(Sheet1!$A$2:$A$1000=H34)/(Sheet1!$B$2:$B$1000=$B36), INDEX(Sheet1!$C$2:$F$1000,,MATCH($C41,Sheet1!$C$1:$F$1,0))), "" )} | I41: {=IFERROR( LOOKUP(1,0/(Sheet1!$A$2:$A$1000=I34)/(Sheet1!$B$2:$B$1000=$B36), INDEX(Sheet1!$C$2:$F$1000,,MATCH($C41,Sheet1!$C$1:$F$1,0))), "" )} | J41: {=IFERROR( LOOKUP(1,0/(Sheet1!$A$2:$A$1000=J34)/(Sheet1!$B$2:$B$1000=$B36), INDEX(Sheet1!$C$2:$F$1000,,MATCH($C41,Sheet1!$C$1:$F$1,0))), "" )}
C43: 지각 | D43: {=IFERROR( LOOKUP(1,0/(Sheet1!$A$2:$A$1000=D34)/(Sheet1!$B$2:$B$1000=$B36), INDEX(Sheet1!$C$2:$F$1000,,MATCH($C43,Sheet1!$C$1:$F$1,0))), "" )} -> 0 | E43: {=IFERROR( LOOKUP(1,0/(Sheet1!$A$2:$A$1000=E34)/(Sheet1!$B$2:$B$1000=$B36), INDEX(Sheet1!$C$2:$F$1000,,MATCH($C43,Sheet1!$C$1:$F$1,0))), "" )} -> 0 | F43: {=IFERROR( LOOKUP(1,0/(Sheet1!$A$2:$A$1000=F34)/(Sheet1!$B$2:$B$1000=$B36), INDEX(Sheet1!$C$2:$F$1000,,MATCH($C43,Sheet1!$C$1:$F$1,0))), "" )} -> 0 | G43: {=IFERROR( LOOKUP(1,0/(Sheet1!$A$2:$A$1000=G34)/(Sheet1!$B$2:$B$1000=$B36), INDEX(Sheet1!$C$2:$F$1000,,MATCH($C43,Sheet1!$C$1:$F$1,0))), "" )} -> 0 | H43: {=IFERROR( LOOKUP(1,0/(Sheet1!$A$2:$A$1000=H34)/(Sheet1!$B$2:$B$1000=$B36), INDEX(Sheet1!$C$2:$F$1000,,MATCH($C43,Sheet1!$C$1:$F$1,0))), "" )} | I43: {=IFERROR( LOOKUP(1,0/(Sheet1!$A$2:$A$1000=I34)/(Sheet1!$B$2:$B$1000=$B36), INDEX(Sheet1!$C$2:$F$1000,,MATCH($C43,Sheet1!$C$1:$F$1,0))), "" )} | J43: {=IFERROR( LOOKUP(1,0/(Sheet1!$A$2:$A$1000=J34)/(Sheet1!$B$2:$B$1000=$B36), INDEX(Sheet1!$C$2:$F$1000,,MATCH($C43,Sheet1!$C$1:$F$1,0))), "" )}
B44: 이름 | C44: 근무시간 | D44: 45809 | E44: 45810 | F44: 45811 | G44: 45812 | H44: 45813 | I44: 45814 | J44: 45815
D45: 일 | E45: 월 | F45: 화 | G45: 수 | H45: 목 | I45: 금 | J45: 토
B46: {=IFERROR(INDEX(Sheet1!$B$2:$B$1000,MATCH(1,(Sheet1!$B$2:$B$1000<>"")*(COUNTIF($B$5:B45,Sheet1!$B$2:$B$1000)=0),0)),"")}
C47: 근무시간 | D47: {=IFERROR( LOOKUP(1,0/(Sheet1!$A$2:$A$1000=D44)/(Sheet1!$B$2:$B$1000=$B46), INDEX(Sheet1!$C$2:$F$1000,,MATCH($C47,Sheet1!$C$1:$F$1,0))), "" )} | E47: {=IFERROR( LOOKUP(1,0/(Sheet1!$A$2:$A$1000=E44)/(Sheet1!$B$2:$B$1000=$B46), INDEX(Sheet1!$C$2:$F$1000,,MATCH($C47,Sheet1!$C$1:$F$1,0))), "" )} | F47: {=IFERROR( LOOKUP(1,0/(Sheet1!$A$2:$A$1000=F44)/(Sheet1!$B$2:$B$1000=$B46), INDEX(Sheet1!$C$2:$F$1000,,MATCH($C47,Sheet1!$C$1:$F$1,0))), "" )} | G47: {=IFERROR( LOOKUP(1,0/(Sheet1!$A$2:$A$1000=G44)/(Sheet1!$B$2:$B$1000=$B46), INDEX(Sheet1!$C$2:$F$1000,,MATCH($C47,Sheet1!$C$1:$F$1,0))), "" )} | H47: {=IFERROR( LOOKUP(1,0/(Sheet1!$A$2:$A$1000=H44)/(Sheet1!$B$2:$B$1000=$B46), INDEX(Sheet1!$C$2:$F$1000,,MATCH($C47,Sheet1!$C$1:$F$1,0))), "" )} | I47: {=IFERROR( LOOKUP(1,0/(Sheet1!$A$2:$A$1000=I44)/(Sheet1!$B$2:$B$1000=$B46), INDEX(Sheet1!$C$2:$F$1000,,MATCH($C47,Sheet1!$C$1:$F$1,0))), "" )} | J47: {=IFERROR( LOOKUP(1,0/(Sheet1!$A$2:$A$1000=J44)/(Sheet1!$B$2:$B$1000=$B46), INDEX(Sheet1!$C$2:$F$1000,,MATCH($C47,Sheet1!$C$1:$F$1,0))), "" )}
C49: 추가근무 | D49: {=IFERROR( LOOKUP(1,0/(Sheet1!$A$2:$A$1000=D44)/(Sheet1!$B$2:$B$1000=$B46), INDEX(Sheet1!$C$2:$F$1000,,MATCH($C49,Sheet1!$C$1:$F$1,0))), "" )} | E49: {=IFERROR( LOOKUP(1,0/(Sheet1!$A$2:$A$1000=E44)/(Sheet1!$B$2:$B$1000=$B46), INDEX(Sheet1!$C$2:$F$1000,,MATCH($C49,Sheet1!$C$1:$F$1,0))), "" )} | F49: {=IFERROR( LOOKUP(1,0/(Sheet1!$A$2:$A$1000=F44)/(Sheet1!$B$2:$B$1000=$B46), INDEX(Sheet1!$C$2:$F$1000,,MATCH($C49,Sheet1!$C$1:$F$1,0))), "" )} | G49: {=IFERROR( LOOKUP(1,0/(Sheet1!$A$2:$A$1000=G44)/(Sheet1!$B$2:$B$1000=$B46), INDEX(Sheet1!$C$2:$F$1000,,MATCH($C49,Sheet1!$C$1:$F$1,0))), "" )} | H49: {=IFERROR( LOOKUP(1,0/(Sheet1!$A$2:$A$1000=H44)/(Sheet1!$B$2:$B$1000=$B46), INDEX(Sheet1!$C$2:$F$1000,,MATCH($C49,Sheet1!$C$1:$F$1,0))), "" )} | I49: {=IFERROR( LOOKUP(1,0/(Sheet1!$A$2:$A$1000=I44)/(Sheet1!$B$2:$B$1000=$B46), INDEX(Sheet1!$C$2:$F$1000,,MATCH($C49,Sheet1!$C$1:$F$1,0))), "" )} | J49: {=IFERROR( LOOKUP(1,0/(Sheet1!$A$2:$A$1000=J44)/(Sheet1!$B$2:$B$1000=$B46), INDEX(Sheet1!$C$2:$F$1000,,MATCH($C49,Sheet1!$C$1:$F$1,0))), "" )}
C51: 야근 | D51: {=IFERROR( LOOKUP(1,0/(Sheet1!$A$2:$A$1000=D44)/(Sheet1!$B$2:$B$1000=$B46), INDEX(Sheet1!$C$2:$F$1000,,MATCH($C51,Sheet1!$C$1:$F$1,0))), "" )} | E51: {=IFERROR( LOOKUP(1,0/(Sheet1!$A$2:$A$1000=E44)/(Sheet1!$B$2:$B$1000=$B46), INDEX(Sheet1!$C$2:$F$1000,,MATCH($C51,Sheet1!$C$1:$F$1,0))), "" )} | F51: {=IFERROR( LOOKUP(1,0/(Sheet1!$A$2:$A$1000=F44)/(Sheet1!$B$2:$B$1000=$B46), INDEX(Sheet1!$C$2:$F$1000,,MATCH($C51,Sheet1!$C$1:$F$1,0))), "" )} | G51: {=IFERROR( LOOKUP(1,0/(Sheet1!$A$2:$A$1000=G44)/(Sheet1!$B$2:$B$1000=$B46), INDEX(Sheet1!$C$2:$F$1000,,MATCH($C51,Sheet1!$C$1:$F$1,0))), "" )} | H51: {=IFERROR( LOOKUP(1,0/(Sheet1!$A$2:$A$1000=H44)/(Sheet1!$B$2:$B$1000=$B46), INDEX(Sheet1!$C$2:$F$1000,,MATCH($C51,Sheet1!$C$1:$F$1,0))), "" )} | I51: {=IFERROR( LOOKUP(1,0/(Sheet1!$A$2:$A$1000=I44)/(Sheet1!$B$2:$B$1000=$B46), INDEX(Sheet1!$C$2:$F$1000,,MATCH($C51,Sheet1!$C$1:$F$1,0))), "" )} | J51: {=IFERROR( LOOKUP(1,0/(Sheet1!$A$2:$A$1000=J44)/(Sheet1!$B$2:$B$1000=$B46), INDEX(Sheet1!$C$2:$F$1000,,MATCH($C51,Sheet1!$C$1:$F$1,0))), "" )}
C53: 지각 | D53: {=IFERROR( LOOKUP(1,0/(Sheet1!$A$2:$A$1000=D44)/(Sheet1!$B$2:$B$1000=$B46), INDEX(Sheet1!$C$2:$F$1000,,MATCH($C53,Sheet1!$C$1:$F$1,0))), "" )} | E53: {=IFERROR( LOOKUP(1,0/(Sheet1!$A$2:$A$1000=E44)/(Sheet1!$B$2:$B$1000=$B46), INDEX(Sheet1!$C$2:$F$1000,,MATCH($C53,Sheet1!$C$1:$F$1,0))), "" )} | F53: {=IFERROR( LOOKUP(1,0/(Sheet1!$A$2:$A$1000=F44)/(Sheet1!$B$2:$B$1000=$B46), INDEX(Sheet1!$C$2:$F$1000,,MATCH($C53,Sheet1!$C$1:$F$1,0))), "" )} | G53: {=IFERROR( LOOKUP(1,0/(Sheet1!$A$2:$A$1000=G44)/(Sheet1!$B$2:$B$1000=$B46), INDEX(Sheet1!$C$2:$F$1000,,MATCH($C53,Sheet1!$C$1:$F$1,0))), "" )} | H53: {=IFERROR( LOOKUP(1,0/(Sheet1!$A$2:$A$1000=H44)/(Sheet1!$B$2:$B$1000=$B46), INDEX(Sheet1!$C$2:$F$1000,,MATCH($C53,Sheet1!$C$1:$F$1,0))), "" )} | I53: {=IFERROR( LOOKUP(1,0/(Sheet1!$A$2:$A$1000=I44)/(Sheet1!$B$2:$B$1000=$B46), INDEX(Sheet1!$C$2:$F$1000,,MATCH($C53,Sheet1!$C$1:$F$1,0))), "" )} | J53: {=IFERROR( LOOKUP(1,0/(Sheet1!$A$2:$A$1000=J44)/(Sheet1!$B$2:$B$1000=$B46), INDEX(Sheet1!$C$2:$F$1000,,MATCH($C53,Sheet1!$C$1:$F$1,0))), "" )}
B54: 이름 | C54: 근무시간 | D54: 45809 | E54: 45810 | F54: 45811 | G54: 45812 | H54: 45813 | I54: 45814 | J54: 45815
D55: 일 | E55: 월 | F55: 화 | G55: 수 | H55: 목 | I55: 금 | J55: 토
B56: {=IFERROR(INDEX(Sheet1!$B$2:$B$1000,MATCH(1,(Sheet1!$B$2:$B$1000<>"")*(COUNTIF($B$5:B55,Sheet1!$B$2:$B$1000)=0),0)),"")}
C57: 근무시간 | D57: {=IFERROR( LOOKUP(1,0/(Sheet1!$A$2:$A$1000=D54)/(Sheet1!$B$2:$B$1000=$B56), INDEX(Sheet1!$C$2:$F$1000,,MATCH($C57,Sheet1!$C$1:$F$1,0))), "" )} | E57: {=IFERROR( LOOKUP(1,0/(Sheet1!$A$2:$A$1000=E54)/(Sheet1!$B$2:$B$1000=$B56), INDEX(Sheet1!$C$2:$F$1000,,MATCH($C57,Sheet1!$C$1:$F$1,0))), "" )} | F57: {=IFERROR( LOOKUP(1,0/(Sheet1!$A$2:$A$1000=F54)/(Sheet1!$B$2:$B$1000=$B56), INDEX(Sheet1!$C$2:$F$1000,,MATCH($C57,Sheet1!$C$1:$F$1,0))), "" )} | G57: {=IFERROR( LOOKUP(1,0/(Sheet1!$A$2:$A$1000=G54)/(Sheet1!$B$2:$B$1000=$B56), INDEX(Sheet1!$C$2:$F$1000,,MATCH($C57,Sheet1!$C$1:$F$1,0))), "" )} | H57: {=IFERROR( LOOKUP(1,0/(Sheet1!$A$2:$A$1000=H54)/(Sheet1!$B$2:$B$1000=$B56), INDEX(Sheet1!$C$2:$F$1000,,MATCH($C57,Sheet1!$C$1:$F$1,0))), "" )} | I57: {=IFERROR( LOOKUP(1,0/(Sheet1!$A$2:$A$1000=I54)/(Sheet1!$B$2:$B$1000=$B56), INDEX(Sheet1!$C$2:$F$1000,,MATCH($C57,Sheet1!$C$1:$F$1,0))), "" )} | J57: {=IFERROR( LOOKUP(1,0/(Sheet1!$A$2:$A$1000=J54)/(Sheet1!$B$2:$B$1000=$B56), INDEX(Sheet1!$C$2:$F$1000,,MATCH($C57,Sheet1!$C$1:$F$1,0))), "" )}
C59: 추가근무 | D59: {=IFERROR( LOOKUP(1,0/(Sheet1!$A$2:$A$1000=D54)/(Sheet1!$B$2:$B$1000=$B56), INDEX(Sheet1!$C$2:$F$1000,,MATCH($C59,Sheet1!$C$1:$F$1,0))), "" )} | E59: {=IFERROR( LOOKUP(1,0/(Sheet1!$A$2:$A$1000=E54)/(Sheet1!$B$2:$B$1000=$B56), INDEX(Sheet1!$C$2:$F$1000,,MATCH($C59,Sheet1!$C$1:$F$1,0))), "" )} | F59: {=IFERROR( LOOKUP(1,0/(Sheet1!$A$2:$A$1000=F54)/(Sheet1!$B$2:$B$1000=$B56), INDEX(Sheet1!$C$2:$F$1000,,MATCH($C59,Sheet1!$C$1:$F$1,0))), "" )} | G59: {=IFERROR( LOOKUP(1,0/(Sheet1!$A$2:$A$1000=G54)/(Sheet1!$B$2:$B$1000=$B56), INDEX(Sheet1!$C$2:$F$1000,,MATCH($C59,Sheet1!$C$1:$F$1,0))), "" )} | H59: {=IFERROR( LOOKUP(1,0/(Sheet1!$A$2:$A$1000=H54)/(Sheet1!$B$2:$B$1000=$B56), INDEX(Sheet1!$C$2:$F$1000,,MATCH($C59,Sheet1!$C$1:$F$1,0))), "" )} | I59: {=IFERROR( LOOKUP(1,0/(Sheet1!$A$2:$A$1000=I54)/(Sheet1!$B$2:$B$1000=$B56), INDEX(Sheet1!$C$2:$F$1000,,MATCH($C59,Sheet1!$C$1:$F$1,0))), "" )} | J59: {=IFERROR( LOOKUP(1,0/(Sheet1!$A$2:$A$1000=J54)/(Sheet1!$B$2:$B$1000=$B56), INDEX(Sheet1!$C$2:$F$1000,,MATCH($C59,Sheet1!$C$1:$F$1,0))), "" )}
...
