Workbook

Sheet 학교지정과목
C2: =[1]Main!G4+1&"학년도 입학생 학교지정과목(입력)-현 중3, 예비1학년" -> 2025학년도 입학생 학교지정과목(입력)-현 중3, 예비1학년 | K2: =[1]Main!G4&"학년도 입학생 학교지정과목(입력)-1학년" -> 2024학년도 입학생 학교지정과목(입력)-1학년 | S2: =[1]Main!G4-1&"학년도 입학생 학교지정과목(입력)-2학년" -> 2023학년도 입학생 학교지정과목(입력)-2학년 | AA2: 학급수(일반계)
C4: 과목명 | D4: 교과(군) | E4: 구분 | F4: 운영단위 | G4: 운영학년 | H4: 운영학기 | I4: 담당교과 | K4: 과목명 | L4: 교과(군) | M4: 구분 | N4: 운영단위 | O4: 운영학년 | P4: 운영학기 | Q4: 담당교과 | S4: 과목명 | T4: 교과(군) | U4: 구분 | V4: 운영단위 | W4: 운영학년 | X4: 운영학기 | Y4: 담당교과 | AA4: 학년 | AB4: 1 | AC4: 2 | AD4: 3
A5: 국어 | C5: 국어 | D5: 국어 | E5: 공통 | F5: 8 | G5: 1 | H5: 전체 | I5: 국어 | K5: 국어 | L5: 국어 | M5: 공통 | N5: 8 | O5: 1 | P5: 전체 | Q5: 국어 | S5: 국어 | T5: 국어 | U5: 공통 | V5: 8 | W5: 1 | X5: 전체 | Y5: 국어 | AA5: 학급수 | AB5: 5 | AC5: 5 | AD5: 5
A6: 수학 | C6: 문학 | D6: 국어 | E6: 일반 | F6: 4 | G6: 2 | H6: 1 | I6: 국어 | K6: 문학 | L6: 국어 | M6: 일반 | N6: 4 | O6: 2 | P6: 1 | Q6: 국어 | S6: 문학 | T6: 국어 | U6: 일반 | V6: 4 | W6: 2 | X6: 1 | Y6: 국어
A7: 영어 | C7: 독서 | D7: 국어 | E7: 일반 | F7: 4 | G7: 2 | H7: 2 | I7: 국어 | K7: 독서 | L7: 국어 | M7: 일반 | N7: 4 | O7: 2 | P7: 2 | Q7: 국어 | S7: 독서 | T7: 국어 | U7: 일반 | V7: 4 | W7: 2 | X7: 2 | Y7: 국어 | AA7: *사용 방법* 1) 예비 고1, 고1, 고2의 학교 지정 과목을 입력해주세요. 운영학기는 1년 운영일 경우 '전체', 학기 운영일 경우 1, 2로만 입력하며, 1년 운영이면서 운영 단위가 다른 경우 전체Nn으로 입력하세요. (ex) 1학기 2단위, 2학기 3단위=전체23 2)학급 수를 입력하세요.
A8: 한국사 | C8: 수학 | D8: 수학 | E8: 공통 | F8: 8 | G8: 1 | H8: 전체 | I8: 수학 | K8: 수학 | L8: 수학 | M8: 공통 | N8: 8 | O8: 1 | P8: 전체 | Q8: 수학 | S8: 수학 | T8: 수학 | U8: 공통 | V8: 8 | W8: 1 | X8: 전체 | Y8: 수학
A9: 사회 | C9: 수학I | D9: 수학 | E9: 일반 | F9: 4 | G9: 2 | H9: 1 | I9: 수학 | K9: 수학I | L9: 수학 | M9: 일반 | N9: 4 | O9: 2 | P9: 1 | Q9: 수학 | S9: 수학I | T9: 수학 | U9: 일반 | V9: 4 | W9: 2 | X9: 1 | Y9: 수학
A10: 과학 | C10: 수학II | D10: 수학 | E10: 일반 | F10: 4 | G10: 2 | H10: 2 | I10: 수학 | K10: 수학II | L10: 수학 | M10: 일반 | N10: 4 | O10: 2 | P10: 2 | Q10: 수학 | S10: 수학II | T10: 수학 | U10: 일반 | V10: 4 | W10: 2 | X10: 2 | Y10: 수학
A11: 체육 | C11: 영어 | D11: 영어 | E11: 공통 | F11: 8 | G11: 1 | H11: 전체 | I11: 영어 | K11: 영어 | L11: 영어 | M11: 공통 | N11: 8 | O11: 1 | P11: 전체 | Q11: 영어 | S11: 영어 | T11: 영어 | U11: 공통 | V11: 8 | W11: 1 | X11: 전체 | Y11: 영어
A12: 예술 | C12: 영어I | D12: 영어 | E12: 일반 | F12: 4 | G12: 2 | H12: 1 | I12: 영어 | K12: 영어I | L12: 영어 | M12: 일반 | N12: 4 | O12: 2 | P12: 1 | Q12: 영어 | S12: 영어I | T12: 영어 | U12: 일반 | V12: 4 | W12: 2 | X12: 1 | Y12: 영어
A13: 생활교양 | C13: 영어II | D13: 영어 | E13: 일반 | F13: 4 | G13: 2 | H13: 2 | I13: 영어 | K13: 영어II | L13: 영어 | M13: 일반 | N13: 4 | O13: 2 | P13: 2 | Q13: 영어 | S13: 영어II | T13: 영어 | U13: 일반 | V13: 4 | W13: 2 | X13: 2 | Y13: 영어
C14: 한국사 | D14: 한국사 | E14: 공통 | F14: 6 | G14: 1 | H14: 전체 | I14: 역사 | K14: 한국사 | L14: 한국사 | M14: 공통 | N14: 6 | O14: 1 | P14: 전체 | Q14: 역사 | S14: 한국사 | T14: 한국사 | U14: 공통 | V14: 6 | W14: 1 | X14: 전체 | Y14: 역사
A15: 공통 | C15: 통합사회 | D15: 사회 | E15: 공통 | F15: 6 | G15: 1 | H15: 전체 | I15: 사회 | K15: 통합사회 | L15: 사회 | M15: 공통 | N15: 6 | O15: 1 | P15: 전체 | Q15: 사회 | S15: 통합사회 | T15: 사회 | U15: 공통 | V15: 6 | W15: 1 | X15: 전체 | Y15: 사회
A16: 일반 | C16: 통합과학 | D16: 과학 | E16: 공통 | F16: 6 | G16: 1 | H16: 전체 | I16: 과학 | K16: 통합과학 | L16: 과학 | M16: 공통 | N16: 6 | O16: 1 | P16: 전체 | Q16: 과학 | S16: 통합과학 | T16: 과학 | U16: 공통 | V16: 6 | W16: 1 | X16: 전체 | Y16: 과학
A17: 진로 | C17: 과학탐구실험 | D17: 과학 | E17: 공통 | F17: 2 | G17: 1 | H17: 전체 | I17: 과학 | K17: 과학탐구실험 | L17: 과학 | M17: 공통 | N17: 2 | O17: 1 | P17: 전체 | Q17: 과학 | S17: 과학탐구실험 | T17: 과학 | U17: 공통 | V17: 2 | W17: 1 | X17: 전체 | Y17: 과학
C18: 체육 | D18: 체육 | E18: 일반 | F18: 4 | G18: 1 | H18: 전체 | I18: 체육 | K18: 체육 | L18: 체육 | M18: 일반 | N18: 4 | O18: 1 | P18: 전체 | Q18: 체육 | S18: 체육 | T18: 체육 | U18: 일반 | V18: 4 | W18: 1 | X18: 전체 | Y18: 체육
C19: 운동과건강 | D19: 체육 | E19: 일반 | F19: 4 | G19: 2 | H19: 전체 | I19: 체육 | K19: 운동과건강 | L19: 체육 | M19: 일반 | N19: 4 | O19: 2 | P19: 전체 | Q19: 체육 | S19: 운동과건강 | T19: 체육 | U19: 일반 | V19: 4 | W19: 2 | X19: 전체 | Y19: 체육
C20: 스포츠생활 | D20: 체육 | E20: 진로 | F20: 2 | G20: 3 | H20: 전체 | I20: 체육 | K20: 스포츠생활 | L20: 체육 | M20: 진로 | N20: 2 | O20: 3 | P20: 전체 | Q20: 체육 | S20: 스포츠생활 | T20: 체육 | U20: 진로 | V20: 2 | W20: 3 | X20: 전체 | Y20: 체육
C21: 음악 | D21: 예술 | E21: 일반 | F21: 4 | G21: 1 | H21: 전체 | I21: 음악 | K21: 음악 | L21: 예술 | M21: 일반 | N21: 4 | O21: 1 | P21: 전체 | Q21: 음악 | S21: 음악 | T21: 예술 | U21: 일반 | V21: 4 | W21: 1 | X21: 전체 | Y21: 음악
C22: 미술 | D22: 예술 | E22: 일반 | F22: 4 | G22: 2 | H22: 전체 | I22: 미술 | K22: 미술 | L22: 예술 | M22: 일반 | N22: 4 | O22: 2 | P22: 전체 | Q22: 미술 | S22: 미술 | T22: 예술 | U22: 일반 | V22: 4 | W22: 2 | X22: 전체 | Y22: 미술
C23: 정보 | D23: 생활교양 | E23: 일반 | F23: 4 | G23: 1 | H23: 전체 | I23: 정보 | K23: 정보 | L23: 생활교양 | M23: 일반 | N23: 4 | O23: 1 | P23: 전체 | Q23: 정보 | S23: 기술가정 | T23: 생활교양 | U23: 일반 | V23: 4 | W23: 1 | X23: 전체 | Y23: 기술가정
C24: 진로와직업 | D24: 생활교양 | E24: 일반 | F24: 2 | G24: 1 | H24: 전체 | I24: 진로 | K24: 진로와직업 | L24: 생활교양 | M24: 일반 | N24: 2 | O24: 1 | P24: 전체 | Q24: 진로 | S24: 진로와직업 | T24: 생활교양 | U24: 일반 | V24: 2 | W24: 1 | X24: 전체 | Y24: 진로
C25: 보건 | D25: 생활교양 | E25: 일반 | F25: 2 | G25: 2 | H25: 전체 | I25: 보건 | K25: 보건 | L25: 생활교양 | M25: 일반 | N25: 2 | O25: 2 | P25: 전체 | Q25: 보건 | S25: 보건 | T25: 생활교양 | U25: 일반 | V25: 2 | W25: 2 | X25: 전체 | Y25: 보건
H36: 1학년 | I36: =SUMIF(G5:G35,1,F5:F35) -> 58 | P36: 1학년 | Q36: =SUMIF(O5:O35,1,N5:N35) -> 58 | X36: 1학년 | Y36: =SUMIF(W5:W35,1,V5:V35) -> 58
H37: 2학년 | I37: =SUMIF(G5:G35,2,F5:F35) -> 34 | P37: 2학년 | Q37: =SUMIF(O5:O35,2,N5:N35) -> 34 | X37: 2학년 | Y37: =SUMIF(W5:W35,2,V5:V35) -> 34
H38: 3학년 | I38: =SUMIF(G5:G35,3,F5:F35) -> 2 | P38: 3학년 | Q38: =SUMIF(O5:O35,3,N5:N35) -> 2 | X38: 3학년 | Y38: =SUMIF(W5:W35,3,V5:V35) -> 2

Sheet 현1학년 선택과목
B2: 학번 | C2: 이름 | D2: 2선택1 | E2: 2선택2 | F2: 2선택3 | G2: 2선택4 | H2: 2선택5 | I2: 2선택6 | J2: 3선택1 | K2: 3선택2 | L2: 3선택3 | M2: 3선택4 | N2: 3선택5 | O2: 3선택6 | P2: 3선택7 | Q2: 3선택8 | R2: 3선택9 | S2: 3선택10 | T2: 3선택11 | U2: 3선택12 | V2: 공동1 | W2: 공동2 | X2: 공동3 | Y2: 공동4 | Z2: 공동5 | AA2: 공동6
B3: 10101
B4: 10102
B5: 10103
B6: 10104
B7: 10105
B8: 10106
B9: 10107
B10: 10108
B11: 10109
B12: 10110
B13: 10111
B14: 10112
... B131: 10525

Sheet 현2학년 선택과목
B2: 학번 | C2: 이름 | D2: 2선택1 | E2: 2선택2 | F2: 2선택3 | G2: 2선택4 | H2: 2선택5 | I2: 2선택6 | J2: 3선택1 | K2: 3선택2 | L2: 3선택3 | M2: 3선택4 | N2: 3선택5 | O2: 3선택6 | P2: 3선택7 | Q2: 3선택8 | R2: 3선택9 | S2: 3선택10 | T2: 3선택11 | U2: 3선택12 | V2: 공동1 | W2: 공동2 | X2: 공동3 | Y2: 공동4 | Z2: 공동5 | AA2: 공동6
B3: 20101 | D3: 영어권문화 | E3: 세계지리 | F3: 세계사 | G3: 생명과학I | H3: 지구과학I | I3: 일본어I
B4: 20102 | D4: 수학과제탐구 | E4: 사회문화 | F4: 생활과윤리 | G4: 생명과학I | H4: 지구과학I | I4: 일본어I
B5: 20103 | D5: 수학과제탐구 | E5: 영어권문화 | F5: 세계사 | G5: 사회문화 | H5: 생명과학I | I5: 일본어I
B6: 20104 | D6: 수학과제탐구 | E6: 세계지리 | F6: 사회문화 | G6: 물리학I | H6: 지구과학I | I6: 일본어I
B7: 20105 | D7: 수학과제탐구 | E7: 사회문화 | F7: 생활과윤리 | G7: 화학I | H7: 생명과학I | I7: 일본어I
B8: 20106 | D8: 세계사 | E8: 사회문화 | F8: 생활과윤리 | G8: 생명과학I | H8: 현대문학감상 | I8: 일본어I
B9: 20107 | D9: 수학과제탐구 | E9: 사회문화 | F9: 생활과윤리 | G9: 생명과학I | H9: 현대문학감상 | I9: 일본어I
B10: 20108 | D10: 수학과제탐구 | E10: 영어권문화 | F10: 생활과윤리 | G10: 지구과학I | H10: 현대문학감상 | I10: 일본어I
B11: 20109 | D11: 세계지리 | E11: 사회문화 | F11: 생활과윤리 | G11: 생명과학I | H11: 지구과학I | I11: 일본어I
B12: 20110 | D12: 영어권문화 | E12: 세계지리 | F12: 생활과윤리 | G12: 지구과학I | H12: 현대문학감상 | I12: 일본어I
B13: 20111 | D13: 세계지리 | E13: 사회문화 | F13: 생활과윤리 | G13: 지구과학I | H13: 현대문학감상 | I13: 일본어I
B14: 20112 | D14: 영어권문화 | E14: 사회문화 | F14: 생활과윤리 | G14: 지구과학I | H14: 현대문학감상 | I14: 일본어I
... B25: 20123 | D25: 영어권문화 | E25: 세계사 | F25: 사회문화 | G25: 생명과학I | H25: 현대문학감상 | I25: 일본어I
B26: 20124
B27: 20201 | D27: 영어권문화 | E27: 사회문화 | F27: 생활과윤리 | G27: 생명과학I | H27: 현대문학감상 | I27: 일본어I
B28: 20202 | D28: 영어권문화 | E28: 생활과윤리 | F28: 물리학I | G28: 생명과학I | H28: 현대문학감상 | I28: 일본어I
B29: 20203 | D29: 수학과제탐구 | E29: 세계사 | F29: 사회문화 | G29: 지구과학I | H29: 현대문학감상 | I29: 일본어I
B30: 20204 | D30: 영어권문화 | E30: 세계지리 | F30: 생활과윤리 | G30: 지구과학I | H30: 현대문학감상 | I30: 일본어I
B31: 20205 | D31: 수학과제탐구 | E31: 세계지리 | F31: 사회문화 | G31: 생활과윤리 | H31: 생명과학I | I31: 일본어I
B32: 20206 | D32: 수학과제탐구 | E32: 영어권문화 | F32: 사회문화 | G32: 생활과윤리 | H32: 지구과학I | I32: 일본어I
B33: 20207 | D33: 세계사 | E33: 사회문화 | F33: 생활과윤리 | G33: 생명과학I | H33: 현대문학감상 | I33: 일본어I
B34: 20208 | D34: 수학과제탐구 | E34: 세계지리 | F34: 생활과윤리 | G34: 생명과학I | H34: 지구과학I | I34: 일본어I
B35: 20209 | D35: 세계지리 | E35: 세계사 | F35: 사회문화 | G35: 생명과학I | H35: 지구과학I | I35: 일본어I
B36: 20210 | D36: 세계사 | E36: 사회문화 | F36: 생활과윤리 | G36: 생명과학I | H36: 현대문학감상 | I36: 일본어I
B37: 20211 | D37: 영어권문화 | E37: 사회문화 | F37: 생활과윤리 | G37: 지구과학I | H37: 현대문학감상 | I37: 일본어I
B38: 20212 | D38: 세계사 | E38: 사회문화 | F38: 생활과윤리 | G38: 생명과학I | H38: 현대문학감상 | I38: 일본어I
... B97: 20424 | D97: 기하 | E97: 세계지리 | F97: 세계사 | G97: 사회문화 | H97: 생명과학I | I97: 일본어I
B98: 20501 | D98: {=IFERROR( INDEX(과목선택지!$A$6:$AL$6,1/LARGE(INDEX((OFFSET(과목선택지!$E$6:$AL$6,MATCH($B98, 과목선택지!$C$7:$C$61,0),0)<>0)*(ISNUMBER(OFFSET(과목선택지!$E$6:$AL$6,MATCH($B98, 과목선택지!$C$7:$C$61,0),0)))/(COLUMN(과목선택지!$E$6:$AL$6)),),COLUMN(A1))), "")} -> 언어와매체 | E98: {=IFERROR( INDEX(과목선택지!$A$6:$AL$6,1/LARGE(INDEX((OFFSET(과목선택지!$E$6:$AL$6,MATCH($B98, 과목선택지!$C$7:$C$61,0),0)<>0)*(ISNUMBER(OFFSET(과목선택지!$E$6:$AL$6,MATCH($B98, 과목선택지!$C$7:$C$61,0),0)))/(COLUMN(과목선택지!$E$6:$AL$6)),),COLUMN(B1))), "")} -> 화법과작문 | F98: {=IFERROR( INDEX(과목선택지!$A$6:$AL$6,1/LARGE(INDEX((OFFSET(과목선택지!$E$6:$AL$6,MATCH($B98, 과목선택지!$C$7:$C$61,0),0)<>0)*(ISNUMBER(OFFSET(과목선택지!$E$6:$AL$6,MATCH($B98, 과목선택지!$C$7:$C$61,0),0)))/(COLUMN(과목선택지!$E$6:$AL$6)),),COLUMN(C1))), "")} -> 확률과통계 | G98: {=IFERROR( INDEX(과목선택지!$A$6:$AL$6,1/LARGE(INDEX((OFFSET(과목선택지!$E$6:$AL$6,MATCH($B98, 과목선택지!$C$7:$C$61,0),0)<>0)*(ISNUMBER(OFFSET(과목선택지!$E$6:$AL$6,MATCH($B98, 과목선택지!$C$7:$C$61,0),0)))/(COLUMN(과목선택지!$E$6:$AL$6)),),COLUMN(D1))), "")} -> 영어독해와작문 | H98: {=IFERROR( INDEX(과목선택지!$A$6:$AL$6,1/LARGE(INDEX((OFFSET(과목선택지!$E$6:$AL$6,MATCH($B98, 과목선택지!$C$7:$C$61,0),0)<>0)*(ISNUMBER(OFFSET(과목선택지!$E$6:$AL$6,MATCH($B98, 과목선택지!$C$7:$C$61,0),0)))/(COLUMN(과목선택지!$E$6:$AL$6)),),COLUMN(E1))), "")} -> 영어회화 | I98: {=IFERROR( INDEX(과목선택지!$A$6:$AL$6,1/LARGE(INDEX((OFFSET(과목선택지!$E$6:$AL$6,MATCH($B98, 과목선택지!$C$7:$C$61,0),0)<>0)*(ISNUMBER(OFFSET(과목선택지!$E$6:$AL$6,MATCH($B98, 과목선택지!$C$7:$C$61,0),0)))/(COLUMN(과목선택지!$E$6:$AL$6)),),COLUMN(F1))), "")} -> 동아시아사 | J98: {=IFERROR( INDEX(과목선택지!$A$6:$AL$6,1/LARGE(INDEX((OFFSET(과목선택지!$E$6:$AL$6,MATCH($B98, 과목선택지!$C$7:$C$61,0),0)<>0)*(ISNUMBER(OFFSET(과목선택지!$E$6:$AL$6,MATCH($B98, 과목선택지!$C$7:$C$61,0),0)))/(COLUMN(과목선택지!$E$6:$AL$6)),),COLUMN(G1))), "")} -> 정치와법 | K98: {=IFERROR( INDEX(과목선택지!$A$6:$AL$6,1/LARGE(INDEX((OFFSET(과목선택지!$E$6:$AL$6,MATCH($B98, 과목선택지!$C$7:$C$61,0),0)<>0)*(ISNUMBER(OFFSET(과목선택지!$E$6:$AL$6,MATCH($B98, 과목선택지!$C$7:$C$61,0),0)))/(COLUMN(과목선택지!$E$6:$AL$6)),),COLUMN(H1))), "")} -> 윤리와사상 | ... AA98: {=IFERROR( INDEX(과목선택지!$A$6:$AL$6,1/LARGE(INDEX((OFFSET(과목선택지!$E$6:$AL$6,MATCH($B98, 과목선택지!$C$7:$C$61,0),0)<>0)*(ISNUMBER(OFFSET(과목선택지!$E$6:$AL$6,MATCH($B98, 과목선택지!$C$7:$C$61,0),0)))/(COLUMN(과목선택지!$E$6:$AL$6)),),COLUMN(X1))), "")}
B99: 20502
B100: 20503
B101: 20504
B102: 20505
B103: 20506
B104: 20507
B105: 20508
B106: 20509
B107: 20510
B108: 20511
B109: 20512
...

Sheet 과목선택지
B2: =D2*100+F2 -> 205 | C2: 학년 | D2: 2 | E2: 반 | F2: 5 | G2: ←학년과 반을 입력해주세요
C4: 학생이 선택한 과목에 '1'외의 숫자를 입력하면 체크박스로 바뀌고, 0을 입력하면 다시 공란으로 바뀝니다.
C5: 학생명단 | E5: 제1선택군 (택8) | T5: 제2선택군 (택1) | AA5: 제3선택군 (택1) | AD5: 제4선택군(택2)
C6: 학번 | D6: 이름 | E6: 언어와매체 | F6: 화법과작문 | G6: 확률과통계 | H6: 미적분 | I6: 영어독해와작문 | J6: 영어회화 | K6: 한국지리 | L6: 동아시아사 | M6: 정치와법 | N6: 윤리와사상 | O6: 물리학Ⅱ | P6: 화학Ⅱ | Q6: 생명과학Ⅱ | R6: 지구과학Ⅱ | S6: 선택수 | T6: 세계문제와 미래사회 | U6: 여행지리 | V6: 생활과 과학 | W6: 마케팅과 광고 | X6: 체육전공실기기초 | Y6: 미디어콘텐츠일반 | Z6: 선택수 | AA6: 음악감상과 비평 | AB6: 미술감상과 비평 | AC6: 선택수 | AD6: 교육학 | AE6: 심리학 | AF6: 실용경제 | AG6: 환경 | AH6: 논술 | AI6: 철학 | AJ6: 논리학 | AK6: 종교학 | AL6: 선택수
C7: {=IFERROR(INDEX(명렬표!$B$4:$B$248, SMALL(IF(ISNUMBER(SEARCH($B$2,명렬표!$D$4:$D$248)),MATCH(ROW(명렬표!$D$4:$D$248), ROW(명렬표!$D$4:$D$248)), ""), ROWS($B$1:B1)), COLUMNS($B$1:B1)),"")} -> 20501 | D7: =IFERROR(INDEX(명렬표!$C$4:$C$248,MATCH(과목선택지!C7,명렬표!$B$4:$B$248,0)),"") -> 0 | E7: 1 | F7: 1 | G7: 1 | H7: 0 | I7: 1 | J7: 1 | K7: 0 | L7: 1 | M7: 1 | N7: 1 | O7: 0 | P7: 0 | Q7: 0 | R7: 0 | S7: =_xlfn.CONCAT(14-COUNTIF(E7:R7,0),"과목 신청") -> 8과목 신청 | T7: 1 | U7: 0 | V7: 0 | W7: 0 | X7: 0 | Y7: 0 | Z7: =_xlfn.CONCAT(6-COUNTIF(T7:Y7,0),"과목 신청") -> 1과목 신청 | AA7: 1 | AB7: 0 | AC7: =_xlfn.CONCAT(2-COUNTIF(AA7:AB7,0),"과목 신청") -> 1과목 신청 | AD7: 1 | AE7: 1 | AF7: 2 | AG7: 3 | AH7: 4 | AI7: 0 | AJ7: 0 | AK7: 0 | AL7: =_xlfn.CONCAT(8-COUNTIF(AD7:AK7,0),"과목 신청") -> 5과목 신청
C8: {=IFERROR(INDEX(명렬표!$B$4:$B$248, SMALL(IF(ISNUMBER(SEARCH($B$2,명렬표!$D$4:$D$248)),MATCH(ROW(명렬표!$D$4:$D$248), ROW(명렬표!$D$4:$D$248)), ""), ROWS($B$1:B2)), COLUMNS($B$1:B2)),"")} -> 20502 | D8: =IFERROR(INDEX(명렬표!$C$4:$C$248,MATCH(과목선택지!C8,명렬표!$B$4:$B$248,0)),"") -> 0 | E8: 1 | F8: 1 | G8: 0 | H8: 1 | I8: 0 | J8: 0 | K8: 0 | L8: 0 | M8: 0 | N8: 0 | O8: 0 | P8: 0 | Q8: 0 | R8: 0 | S8: =_xlfn.CONCAT(14-COUNTIF(E8:R8,0),"과목 신청") -> 3과목 신청 | T8: 0 | U8: 0 | V8: 1 | W8: 1 | X8: 0 | Y8: 0 | Z8: =_xlfn.CONCAT(6-COUNTIF(T8:Y8,0),"과목 신청") -> 2과목 신청 | AA8: 0 | AB8: 0 | AC8: =_xlfn.CONCAT(2-COUNTIF(AA8:AB8,0),"과목 신청") -> 0과목 신청 | AD8: 0 | AE8: 1 | AF8: 0 | AG8: 0 | AH8: 0 | AI8: 0 | AJ8: 0 | AK8: 0 | AL8: =_xlfn.CONCAT(8-COUNTIF(AD8:AK8,0),"과목 신청") -> 1과목 신청
C9: {=IFERROR(INDEX(명렬표!$B$4:$B$248, SMALL(IF(ISNUMBER(SEARCH($B$2,명렬표!$D$4:$D$248)),MATCH(ROW(명렬표!$D$4:$D$248), ROW(명렬표!$D$4:$D$248)), ""), ROWS($B$1:B3)), COLUMNS($B$1:B3)),"")} -> 20503 | D9: =IFERROR(INDEX(명렬표!$C$4:$C$248,MATCH(과목선택지!C9,명렬표!$B$4:$B$248,0)),"") -> 0 | E9: 0 | F9: 0 | G9: 0 | H9: 0 | I9: 0 | J9: 0 | K9: 0 | L9: 0 | M9: 0 | N9: 0 | O9: 0 | P9: 0 | Q9: 0 | R9: 0 | S9: =_xlfn.CONCAT(14-COUNTIF(E9:R9,0),"과목 신청") -> 0과목 신청 | T9: 0 | U9: 1 | V9: 1 | W9: 0 | X9: 1 | Y9: 0 | Z9: =_xlfn.CONCAT(6-COUNTIF(T9:Y9,0),"과목 신청") -> 3과목 신청 | AA9: 0 | AB9: 0 | AC9: =_xlfn.CONCAT(2-COUNTIF(AA9:AB9,0),"과목 신청") -> 0과목 신청 | AD9: 0 | AE9: 0 | AF9: 0 | AG9: 0 | AH9: 0 | AI9: 0 | AJ9: 0 | AK9: 1 | AL9: =_xlfn.CONCAT(8-COUNTIF(AD9:AK9,0),"과목 신청") -> 1과목 신청
C10: {=IFERROR(INDEX(명렬표!$B$4:$B$248, SMALL(IF(ISNUMBER(SEARCH($B$2,명렬표!$D$4:$D$248)),MATCH(ROW(명렬표!$D$4:$D$248), ROW(명렬표!$D$4:$D$248)), ""), ROWS($B$1:B5)), COLUMNS($B$1:B5)),"")} -> 20505 | D10: =IFERROR(INDEX(명렬표!$C$4:$C$248,MATCH(과목선택지!C10,명렬표!$B$4:$B$248,0)),"") -> 0 | E10: 0 | F10: 0 | G10: 0 | H10: 0 | I10: 0 | J10: 0 | K10: 0 | L10: 0 | M10: 0 | N10: 0 | O10: 0 | P10: 0 | Q10: 0 | R10: 0 | S10: =_xlfn.CONCAT(14-COUNTIF(E10:R10,0),"과목 신청") -> 0과목 신청 | T10: 0 | U10: 0 | V10: 0 | W10: 0 | X10: 0 | Y10: 0 | Z10: =_xlfn.CONCAT(6-COUNTIF(T10:Y10,0),"과목 신청") -> 0과목 신청 | AA10: 0 | AB10: 0 | AC10: =_xlfn.CONCAT(2-COUNTIF(AA10:AB10,0),"과목 신청") -> 0과목 신청 | AD10: 0 | AE10: 0 | AF10: 0 | AG10: 0 | AH10: 0 | AI10: 0 | AJ10: 0 | AK10: 0 | AL10: =_xlfn.CONCAT(8-COUNTIF(AD10:AK10,0),"과목 신청") -> 0과목 신청
C11: {=IFERROR(INDEX(명렬표!$B$4:$B$248, SMALL(IF(ISNUMBER(SEARCH($B$2,명렬표!$D$4:$D$248)),MATCH(ROW(명렬표!$D$4:$D$248), ROW(명렬표!$D$4:$D$248)), ""), ROWS($B$1:B6)), COLUMNS($B$1:B6)),"")} -> 20506 | D11: =IFERROR(INDEX(명렬표!$C$4:$C$248,MATCH(과목선택지!C11,명렬표!$B$4:$B$248,0)),"") -> 0 | E11: 0 | F11: 0 | G11: 0 | H11: 0 | I11: 0 | J11: 0 | K11: 0 | L11: 0 | M11: 0 | N11: 0 | O11: 0 | P11: 0 | Q11: 0 | R11: 0 | S11: =_xlfn.CONCAT(14-COUNTIF(E11:R11,0),"과목 신청") -> 0과목 신청 | T11: 0 | U11: 0 | V11: 0 | W11: 0 | X11: 0 | Y11: 0 | Z11: =_xlfn.CONCAT(6-COUNTIF(T11:Y11,0),"과목 신청") -> 0과목 신청 | AA11: 0 | AB11: 0 | AC11: =_xlfn.CONCAT(2-COUNTIF(AA11:AB11,0),"과목 신청") -> 0과목 신청 | AD11: 0 | AE11: 0 | AF11: 0 | AG11: 0 | AH11: 0 | AI11: 0 | AJ11: 0 | AK11: 0 | AL11: =_xlfn.CONCAT(8-COUNTIF(AD11:AK11,0),"과목 신청") -> 0과목 신청
C12: {=IFERROR(INDEX(명렬표!$B$4:$B$248, SMALL(IF(ISNUMBER(SEARCH($B$2,명렬표!$D$4:$D$248)),MATCH(ROW(명렬표!$D$4:$D$248), ROW(명렬표!$D$4:$D$248)), ""), ROWS($B$1:B7)), COLUMNS($B$1:B7)),"")} -> 20507 | D12: =IFERROR(INDEX(명렬표!$C$4:$C$248,MATCH(과목선택지!C12,명렬표!$B$4:$B$248,0)),"") -> 0 | E12: 0 | F12: 0 | G12: 0 | H12: 0 | I12: 0 | J12: 0 | K12: 0 | L12: 0 | M12: 0 | N12: 0 | O12: 0 | P12: 0 | Q12: 0 | R12: 0 | S12: =_xlfn.CONCAT(14-COUNTIF(E12:R12,0),"과목 신청") -> 0과목 신청 | T12: 0 | U12: 0 | V12: 0 | W12: 0 | X12: 0 | Y12: 0 | Z12: =_xlfn.CONCAT(6-COUNTIF(T12:Y12,0),"과목 신청") -> 0과목 신청 | AA12: 0 | AB12: 0 | AC12: =_xlfn.CONCAT(2-COUNTIF(AA12:AB12,0),"과목 신청") -> 0과목 신청 | AD12: 0 | AE12: 0 | AF12: 0 | AG12: 0 | AH12: 0 | AI12: 0 | AJ12: 0 | AK12: 0 | AL12: =_xlfn.CONCAT(8-COUNTIF(AD12:AK12,0),"과목 신청") -> 0과목 신청
C13: {=IFERROR(INDEX(명렬표!$B$4:$B$248, SMALL(IF(ISNUMBER(SEARCH($B$2,명렬표!$D$4:$D$248)),MATCH(ROW(명렬표!$D$4:$D$248), ROW(명렬표!$D$4:$D$248)), ""), ROWS($B$1:B8)), COLUMNS($B$1:B8)),"")} -> 20508 | D13: =IFERROR(INDEX(명렬표!$C$4:$C$248,MATCH(과목선택지!C13,명렬표!$B$4:$B$248,0)),"") -> 0 | E13: 0 | F13: 0 | G13: 0 | H13: 0 | I13: 0 | J13: 0 | K13: 0 | L13: 0 | M13: 0 | N13: 0 | O13: 0 | P13: 0 | Q13: 0 | R13: 0 | S13: =_xlfn.CONCAT(14-COUNTIF(E13:R13,0),"과목 신청") -> 0과목 신청 | T13: 0 | U13: 0 | V13: 0 | W13: 0 | X13: 0 | Y13: 0 | Z13: =_xlfn.CONCAT(6-COUNTIF(T13:Y13,0),"과목 신청") -> 0과목 신청 | AA13: 0 | AB13: 0 | AC13: =_xlfn.CONCAT(2-COUNTIF(AA13:AB13,0),"과목 신청") -> 0과목 신청 | AD13: 0 | AE13: 0 | AF13: 0 | AG13: 0 | AH13: 0 | AI13: 0 | AJ13: 0 | AK13: 0 | AL13: =_xlfn.CONCAT(8-COUNTIF(AD13:AK13,0),"과목 신청") -> 0과목 신청
C14: {=IFERROR(INDEX(명렬표!$B$4:$B$248, SMALL(IF(ISNUMBER(SEARCH($B$2,명렬표!$D$4:$D$248)),MATCH(ROW(명렬표!$D$4:$D$248), ROW(명렬표!$D$4:$D$248)), ""), ROWS($B$1:B9)), COLUMNS($B$1:B9)),"")} -> 20509 | D14: =IFERROR(INDEX(명렬표!$C$4:$C$248,MATCH(과목선택지!C14,명렬표!$B$4:$B$248,0)),"") -> 0 | E14: 0 | F14: 0 | G14: 0 | H14: 0 | I14: 0 | J14: 0 | K14: 0 | L14: 0 | M14: 0 | N14: 0 | O14: 0 | P14: 0 | Q14: 0 | R14: 0 | S14: =_xlfn.CONCAT(14-COUNTIF(E14:R14,0),"과목 신청") -> 0과목 신청 | T14: 0 | U14: 0 | V14: 0 | W14: 0 | X14: 0 | Y14: 0 | Z14: =_xlfn.CONCAT(6-COUNTIF(T14:Y14,0),"과목 신청") -> 0과목 신청 | AA14: 0 | AB14: 0 | AC14: =_xlfn.CONCAT(2-COUNTIF(AA14:AB14,0),"과목 신청") -> 0과목 신청 | AD14: 0 | AE14: 0 | AF14: 0 | AG14: 0 | AH14: 0 | AI14: 0 | AJ14: 0 | AK14: 0 | AL14: =_xlfn.CONCAT(8-COUNTIF(AD14:AK14,0),"과목 신청") -> 0과목 신청
C15: {=IFERROR(INDEX(명렬표!$B$4:$B$248, SMALL(IF(ISNUMBER(SEARCH($B$2,명렬표!$D$4:$D$248)),MATCH(ROW(명렬표!$D$4:$D$248), ROW(명렬표!$D$4:$D$248)), ""), ROWS($B$1:B10)), COLUMNS($B$1:B10)),"")} -> 20510 | D15: =IFERROR(INDEX(명렬표!$C$4:$C$248,MATCH(과목선택지!C15,명렬표!$B$4:$B$248,0)),"") -> 0 | E15: 0 | F15: 0 | G15: 0 | H15: 0 | I15: 0 | J15: 0 | K15: 0 | L15: 0 | M15: 0 | N15: 0 | O15: 0 | P15: 0 | Q15: 0 | R15: 0 | S15: =_xlfn.CONCAT(14-COUNTIF(E15:R15,0),"과목 신청") -> 0과목 신청 | T15: 0 | U15: 0 | V15: 0 | W15: 0 | X15: 0 | Y15: 0 | Z15: =_xlfn.CONCAT(6-COUNTIF(T15:Y15,0),"과목 신청") -> 0과목 신청 | AA15: 0 | AB15: 0 | AC15: =_xlfn.CONCAT(2-COUNTIF(AA15:AB15,0),"과목 신청") -> 0과목 신청 | AD15: 0 | AE15: 0 | AF15: 0 | AG15: 0 | AH15: 0 | AI15: 0 | AJ15: 0 | AK15: 0 | AL15: =_xlfn.CONCAT(8-COUNTIF(AD15:AK15,0),"과목 신청") -> 0과목 신청
C16: {=IFERROR(INDEX(명렬표!$B$4:$B$248, SMALL(IF(ISNUMBER(SEARCH($B$2,명렬표!$D$4:$D$248)),MATCH(ROW(명렬표!$D$4:$D$248), ROW(명렬표!$D$4:$D$248)), ""), ROWS($B$1:B11)), COLUMNS($B$1:B11)),"")} -> 20511 | D16: =IFERROR(INDEX(명렬표!$C$4:$C$248,MATCH(과목선택지!C16,명렬표!$B$4:$B$248,0)),"") -> 0 | E16: 0 | F16: 0 | G16: 0 | H16: 0 | I16: 0 | J16: 0 | K16: 0 | L16: 0 | M16: 0 | N16: 0 | O16: 0 | P16: 0 | Q16: 0 | R16: 0 | S16: =_xlfn.CONCAT(14-COUNTIF(E16:R16,0),"과목 신청") -> 0과목 신청 | T16: 0 | U16: 0 | V16: 0 | W16: 0 | X16: 0 | Y16: 0 | Z16: =_xlfn.CONCAT(6-COUNTIF(T16:Y16,0),"과목 신청") -> 0과목 신청 | AA16: 0 | AB16: 0 | AC16: =_xlfn.CONCAT(2-COUNTIF(AA16:AB16,0),"과목 신청") -> 0과목 신청 | AD16: 0 | AE16: 0 | AF16: 0 | AG16: 0 | AH16: 0 | AI16: 0 | AJ16: 0 | AK16: 0 | AL16: =_xlfn.CONCAT(8-COUNTIF(AD16:AK16,0),"과목 신청") -> 0과목 신청
C17: {=IFERROR(INDEX(명렬표!$B$4:$B$248, SMALL(IF(ISNUMBER(SEARCH($B$2,명렬표!$D$4:$D$248)),MATCH(ROW(명렬표!$D$4:$D$248), ROW(명렬표!$D$4:$D$248)), ""), ROWS($B$1:B12)), COLUMNS($B$1:B12)),"")} -> 20512 | D17: =IFERROR(INDEX(명렬표!$C$4:$C$248,MATCH(과목선택지!C17,명렬표!$B$4:$B$248,0)),"") -> 0 | E17: 0 | F17: 0 | G17: 0 | H17: 0 | I17: 0 | J17: 0 | K17: 0 | L17: 0 | M17: 0 | N17: 0 | O17: 0 | P17: 0 | Q17: 0 | R17: 0 | S17: =_xlfn.CONCAT(14-COUNTIF(E17:R17,0),"과목 신청") -> 0과목 신청 | T17: 0 | U17: 0 | V17: 0 | W17: 0 | X17: 0 | Y17: 0 | Z17: =_xlfn.CONCAT(6-COUNTIF(T17:Y17,0),"과목 신청") -> 0과목 신청 | AA17: 0 | AB17: 0 | AC17: =_xlfn.CONCAT(2-COUNTIF(AA17:AB17,0),"과목 신청") -> 0과목 신청 | AD17: 0 | AE17: 0 | AF17: 0 | AG17: 0 | AH17: 0 | AI17: 0 | AJ17: 0 | AK17: 0 | AL17: =_xlfn.CONCAT(8-COUNTIF(AD17:AK17,0),"과목 신청") -> 0과목 신청
C18: {=IFERROR(INDEX(명렬표!$B$4:$B$248, SMALL(IF(ISNUMBER(SEARCH($B$2,명렬표!$D$4:$D$248)),MATCH(ROW(명렬표!$D$4:$D$248), ROW(명렬표!$D$4:$D$248)), ""), ROWS($B$1:B13)), COLUMNS($B$1:B13)),"")} -> 20513 | D18: =IFERROR(INDEX(명렬표!$C$4:$C$248,MATCH(과목선택지!C18,명렬표!$B$4:$B$248,0)),"") -> 0 | E18: 0 | F18: 0 | G18: 0 | H18: 0 | I18: 0 | J18: 0 | K18: 0 | L18: 0 | M18: 0 | N18: 0 | O18: 0 | P18: 0 | Q18: 0 | R18: 0 | S18: =_xlfn.CONCAT(14-COUNTIF(E18:R18,0),"과목 신청") -> 0과목 신청 | T18: 0 | U18: 0 | V18: 0 | W18: 0 | X18: 0 | Y18: 0 | Z18: =_xlfn.CONCAT(6-COUNTIF(T18:Y18,0),"과목 신청") -> 0과목 신청 | AA18: 0 | AB18: 0 | AC18: =_xlfn.CONCAT(2-COUNTIF(AA18:AB18,0),"과목 신청") -> 0과목 신청 | AD18: 0 | AE18: 0 | AF18: 0 | AG18: 0 | AH18: 0 | AI18: 0 | AJ18: 0 | AK18: 0 | AL18: =_xlfn.CONCAT(8-COUNTIF(AD18:AK18,0),"과목 신청") -> 0과목 신청
C19: {=IFERROR(INDEX(명렬표!$B$4:$B$248, SMALL(IF(ISNUMBER(SEARCH($B$2,명렬표!$D$4:$D$248)),MATCH(ROW(명렬표!$D$4:$D$248), ROW(명렬표!$D$4:$D$248)), ""), ROWS($B$1:B14)), COLUMNS($B$1:B14)),"")} -> 20514 | D19: =IFERROR(INDEX(명렬표!$C$4:$C$248,MATCH(과목선택지!C19,명렬표!$B$4:$B$248,0)),"") -> 0 | E19: 0 | F19: 0 | G19: 0 | H19: 0 | I19: 0 | J19: 0 | K19: 0 | L19: 0 | M19: 0 | N19: 0 | O19: 0 | P19: 0 | Q19: 0 | R19: 0 | S19: =_xlfn.CONCAT(14-COUNTIF(E19:R19,0),"과목 신청") -> 0과목 신청 | T19: 0 | U19: 0 | V19: 0 | W19: 0 | X19: 0 | Y19: 0 | Z19: =_xlfn.CONCAT(6-COUNTIF(T19:Y19,0),"과목 신청") -> 0과목 신청 | AA19: 0 | AB19: 0 | AC19: =_xlfn.CONCAT(2-COUNTIF(AA19:AB19,0),"과목 신청") -> 0과목 신청 | AD19: 0 | AE19: 0 | AF19: 0 | AG19: 0 | AH19: 0 | AI19: 0 | AJ19: 0 | AK19: 0 | AL19: =_xlfn.CONCAT(8-COUNTIF(AD19:AK19,0),"과목 신청") -> 0과목 신청
C20: {=IFERROR(INDEX(명렬표!$B$4:$B$248, SMALL(IF(ISNUMBER(SEARCH($B$2,명렬표!$D$4:$D$248)),MATCH(ROW(명렬표!$D$4:$D$248), ROW(명렬표!$D$4:$D$248)), ""), ROWS($B$1:B15)), COLUMNS($B$1:B15)),"")} -> 20515 | D20: =IFERROR(INDEX(명렬표!$C$4:$C$248,MATCH(과목선택지!C20,명렬표!$B$4:$B$248,0)),"") -> 0 | E20: 0 | F20: 0 | G20: 0 | H20: 0 | I20: 0 | J20: 0 | K20: 0 | L20: 0 | M20: 0 | N20: 0 | O20: 0 | P20: 0 | Q20: 0 | R20: 0 | S20: =_xlfn.CONCAT(14-COUNTIF(E20:R20,0),"과목 신청") -> 0과목 신청 | T20: 0 | U20: 0 | V20: 0 | W20: 0 | X20: 0 | Y20: 0 | Z20: =_xlfn.CONCAT(6-COUNTIF(T20:Y20,0),"과목 신청") -> 0과목 신청 | AA20: 0 | AB20: 0 | AC20: =_xlfn.CONCAT(2-COUNTIF(AA20:AB20,0),"과목 신청") -> 0과목 신청 | AD20: 0 | AE20: 0 | AF20: 0 | AG20: 0 | AH20: 0 | AI20: 0 | AJ20: 0 | AK20: 0 | AL20: =_xlfn.CONCAT(8-COUNTIF(AD20:AK20,0),"과목 신청") -> 0과목 신청
C21: {=IFERROR(INDEX(명렬표!$B$4:$B$248, SMALL(IF(ISNUMBER(SEARCH($B$2,명렬표!$D$4:$D$248)),MATCH(ROW(명렬표!$D$4:$D$248), ROW(명렬표!$D$4:$D$248)), ""), ROWS($B$1:B16)), COLUMNS($B$1:B16)),"")} -> 20516 | D21: =IFERROR(INDEX(명렬표!$C$4:$C$248,MATCH(과목선택지!C21,명렬표!$B$4:$B$248,0)),"") -> 0 | E21: 0 | F21: 0 | G21: 0 | H21: 0 | I21: 0 | J21: 0 | K21: 0 | L21: 0 | M21: 0 | N21: 0 | O21: 0 | P21: 0 | Q21: 0 | R21: 0 | S21: =_xlfn.CONCAT(14-COUNTIF(E21:R21,0),"과목 신청") -> 0과목 신청 | T21: 0 | U21: 0 | V21: 0 | W21: 0 | X21: 0 | Y21: 0 | Z21: =_xlfn.CONCAT(6-COUNTIF(T21:Y21,0),"과목 신청") -> 0과목 신청 | AA21: 0 | AB21: 0 | AC21: =_xlfn.CONCAT(2-COUNTIF(AA21:AB21,0),"과목 신청") -> 0과목 신청 | AD21: 0 | AE21: 0 | AF21: 0 | AG21: 0 | AH21: 0 | AI21: 0 | AJ21: 0 | AK21: 0 | AL21: =_xlfn.CONCAT(8-COUNTIF(AD21:AK21,0),"과목 신청") -> 0과목 신청
... C36: {=IFERROR(INDEX(명렬표!$B$4:$B$248, SMALL(IF(ISNUMBER(SEARCH($B$2,명렬표!$D$4:$D$248)),MATCH(ROW(명렬표!$D$4:$D$248), ROW(명렬표!$D$4:$D$248)), ""), ROWS($B$1:B31)), COLUMNS($B$1:B31)),"")} | D36: =IFERROR(INDEX(명렬표!$C$4:$C$248,MATCH(과목선택지!C36,명렬표!$B$4:$B$248,0)),"") | E36: 0 | F36: 0 | G36: 0 | H36: 0 | I36: 0 | J36: 0 | K36: 0 | L36: 0 | M36: 0 | N36: 0 | O36: 0 | P36: 0 | Q36: 0 | R36: 0 | S36: =_xlfn.CONCAT(14-COUNTIF(E36:R36,0),"과목 신청") -> 0과목 신청 | T36: 0 | U36: 0 | V36: 0 | W36: 0 | X36: 0 | Y36: 0 | Z36: =_xlfn.CONCAT(6-COUNTIF(T36:Y36,0),"과목 신청") -> 0과목 신청 | AA36: 0 | AB36: 0 | AC36: =_xlfn.CONCAT(2-COUNTIF(AA36:AB36,0),"과목 신청") -> 0과목 신청 | AD36: 0 | AE36: 0 | AF36: 0 | AG36: 0 | AH36: 0 | AI36: 0 | AJ36: 0 | AK36: 0 | AL36: =_xlfn.CONCAT(8-COUNTIF(AD36:AK36,0),"과목 신청") -> 0과목 신청

Sheet 교과DATA
C1: 과목명 | D1: 분류 | E1: 교과(군) | F1: 구분 | G1: 운영단위 | H1: 운영학년 | I1: 운영학기 | J1: 담당교과
C2: 현대문학감상 | D2: 학생선택 | E2: 국어 | F2: 진로 | G2: 4 | H2: 2 | I2: 전체 | J2: 국어
C3: 기하 | D3: 학생선택 | E3: 수학 | F3: 진로 | G3: 4 | H3: 2 | I3: 전체 | J3: 수학
C4: 수학과제탐구 | D4: 학생선택 | E4: 수학 | F4: 진로 | G4: 4 | H4: 2 | I4: 전체 | J4: 수학
C5: 영어권문화 | D5: 학생선택 | E5: 영어 | F5: 진로 | G5: 4 | H5: 2 | I5: 전체 | J5: 영어
C6: 세계지리 | D6: 학생선택 | E6: 사회 | F6: 일반 | G6: 4 | H6: 2 | I6: 전체 | J6: 사회
C7: 세계사 | D7: 학생선택 | E7: 사회 | F7: 일반 | G7: 4 | H7: 2 | I7: 전체 | J7: 사회
C8: 사회문화 | D8: 학생선택 | E8: 사회 | F8: 일반 | G8: 4 | H8: 2 | I8: 전체 | J8: 사회
C9: 생활과윤리 | D9: 학생선택 | E9: 사회 | F9: 일반 | G9: 4 | H9: 2 | I9: 전체 | J9: 사회
C10: 물리학I | D10: 학생선택 | E10: 과학 | F10: 일반 | G10: 4 | H10: 2 | I10: 전체 | J10: 물리
C11: 화학I | D11: 학생선택 | E11: 과학 | F11: 일반 | G11: 4 | H11: 2 | I11: 전체 | J11: 화학
C12: 생명과학I | D12: 학생선택 | E12: 과학 | F12: 일반 | G12: 4 | H12: 2 | I12: 전체 | J12: 생명과학
C13: 지구과학I | D13: 학생선택 | E13: 과학 | F13: 일반 | G13: 4 | H13: 2 | I13: 전체 | J13: 지구과학
... C47: 국어 | D47: 학교지정 | E47: 국어 | F47: 공통 | G47: 8 | H47: 1 | I47: 전체 | J47: 국어
C48: 문학 | D48: 학교지정 | E48: 국어 | F48: 일반 | G48: 4 | H48: 2 | I48: 1 | J48: 국어
C49: 독서 | D49: 학교지정 | E49: 국어 | F49: 일반 | G49: 4 | H49: 2 | I49: 2 | J49: 국어
C50: 수학 | D50: 학교지정 | E50: 수학 | F50: 공통 | G50: 8 | H50: 1 | I50: 전체 | J50: 수학
C51: 수학I | D51: 학교지정 | E51: 수학 | F51: 일반 | G51: 4 | H51: 2 | I51: 1 | J51: 수학
C52: 수학II | D52: 학교지정 | E52: 수학 | F52: 일반 | G52: 4 | H52: 2 | I52: 2 | J52: 수학
C53: 영어 | D53: 학교지정 | E53: 영어 | F53: 공통 | G53: 8 | H53: 1 | I53: 전체 | J53: 영어
C54: 영어I | D54: 학교지정 | E54: 영어 | F54: 일반 | G54: 4 | H54: 2 | I54: 1 | J54: 영어
C55: 영어II | D55: 학교지정 | E55: 영어 | F55: 일반 | G55: 4 | H55: 2 | I55: 2 | J55: 영어
C56: 한국사 | D56: 학교지정 | E56: 한국사 | F56: 공통 | G56: 6 | H56: 1 | I56: 전체 | J56: 역사
C57: 통합사회 | D57: 학교지정 | E57: 사회 | F57: 공통 | G57: 6 | H57: 1 | I57: 전체 | J57: 사회
C58: 통합과학 | D58: 학교지정 | E58: 과학 | F58: 공통 | G58: 6 | H58: 1 | I58: 전체 | J58: 과학
C59: 과학탐구실험 | D59: 학교지정 | E59: 과학 | F59: 공통 | G59: 2 | H59: 1 | I59: 전체 | J59: 과학
C60: 체육 | D60: 학교지정 | E60: 체육 | F60: 일반 | G60: 4 | H60: 1 | I60: 전체 | J60: 체육
C61: 운동과건강 | D61: 학교지정 | E61: 체육 | F61: 일반 | G61: 4 | H61: 2 | I61: 전체 | J61: 체육
C62: 스포츠생활 | D62: 학교지정 | E62: 체육 | F62: 진로 | G62: 2 | H62: 3 | I62: 전체 | J62: 체육
C63: 음악 | D63: 학교지정 | E63: 예술 | F63: 일반 | G63: 4 | H63: 1 | I63: 전체 | J63: 음악
C64: 미술 | D64: 학교지정 | E64: 예술 | F64: 일반 | G64: 4 | H64: 2 | I64: 전체 | J64: 미술
C65: 정보 | D65: 학교지정 | E65: 생활교양 | F65: 일반 | G65: 4 | H65: 1 | I65: 전체 | J65: 정보
C66: 진로와직업 | D66: 학교지정 | E66: 생활교양 | F66: 일반 | G66: 2 | H66: 1 | I66: 전체 | J66: 진로
C67: 보건 | D67: 학교지정 | E67: 생활교양 | F67: 일반 | G67: 2 | H67: 2 | I67: 전체 | J67: 보건

Sheet 명렬표
B2: 명렬표 | F2: 2학년
B3: 학번 | C3: 이름 | D3: 학년+반 | F3: 학번 | G3: 이름 | H3: 비고
B4: 10101 | D4: 101 | F4: 20101
B5: 10102 | D5: 101 | F5: 20102
B6: 10103 | D6: 101 | F6: 20103
B7: 10104 | D7: 101 | F7: 20104
B8: 10105 | D8: 101 | F8: 20105
B9: 10106 | D9: 101 | F9: 20106
B10: 10107 | D10: 101 | F10: 20107
B11: 10108 | D11: 101 | F11: 20108
B12: 10109 | D12: 101 | F12: 20109
B13: 10110 | D13: 101 | F13: 20110
B14: 10111 | D14: 101 | F14: 20111
B15: 10113 | D15: 101 | F15: 20112
... B122: 10518 | D122: 105 | F122: 20524
B123: 10519 | D123: 105
B124: 10520 | D124: 105
B125: 10521 | D125: 105
B126: 10522 | D126: 105
B127: 10523 | D127: 105
B128: 10524 | D128: 105
B129: 10525 | D129: 105
B130: 20101 | D130: 201
B131: 20102 | D131: 201
B132: 20103 | D132: 201
B133: 20104 | D133: 201
B134: 20105 | D134: 201
... B248: 20524 | D248: 205

Sheet 개인별 교육과정 분석표
B2: 학년 | C2: 2 | D2: 반 | E2: 5 | F2: 번호 | G2: 7 | H2: =$C$2*10000+$E$2*100+$G$2 -> 20507 | I2: =INDEX(명렬표!$C$4:$C$248,MATCH('개인별 교육과정 분석표'!$H$2,명렬표!$B$4:$B$248,0)) -> 0
B4: 개인별 과목 이수 현황 | K4: 교과군별 이수학점 현황
B6: 분류 | C6: 학년 | D6: 과목명 | E6: 구분 | F6: 교과군 | G6: 학점 | H6: 학기 | K6: 교과군 | L6: 국어 | P6: 교과군 | Q6: 수학 | U6: 교과군 | V6: 영어 | Z6: 교과군 | AA6: 한국사
B7: 학교지정 | C7: =IFERROR(INDEX(교과DATA!$H$2:$H$67,MATCH(표1[[#This Row],[과목명]],교과DATA!$C$2:$C$67,0)),"") -> 1 | D7: {=IF(ISBLANK($I$2),"",IFERROR(INDEX(학교지정과목!$K$5:$K$25, SMALL(IF(ISNUMBER(SEARCH(1,학교지정과목!$O$5:$O$25)),MATCH(ROW(학교지정과목!$O$5:$O$25), ROW(학교지정과목!$O$5:$O$25)), ""), ROWS($A$1:A1)), COLUMNS($A$1:A1)),""))} -> 국어 | E7: =IFERROR(INDEX(교과DATA!$F$2:$F$67,MATCH(표1[[#This Row],[과목명]],교과DATA!$C$2:$C$67,0)),"") -> 공통 | F7: =IFERROR(INDEX(교과DATA!$E$2:$E$67,MATCH(표1[[#This Row],[과목명]],교과DATA!$C$2:$C$67,0)),"") -> 국어 | G7: =IFERROR(INDEX(교과DATA!$G$2:$G$67,MATCH(표1[[#This Row],[과목명]],교과DATA!$C$2:$C$67,0)),"") -> 8 | H7: =IFERROR(INDEX(교과DATA!$I$2:$I$67,MATCH(표1[[#This Row],[과목명]],교과DATA!$C$2:$C$67,0)),"") -> 전체 | K7: 과목명 | L7: 구분 | M7: 학년 | N7: 학점 | P7: 과목명 | Q7: 구분 | R7: 학년 | S7: 학점 | U7: 과목명 | V7: 구분 | W7: 학년 | X7: 학점 | Z7: 과목명 | AA7: 구분 | AB7: 학년 | AC7: 학점
B8: 학교지정 | C8: =IFERROR(INDEX(교과DATA!$H$2:$H$67,MATCH(표1[[#This Row],[과목명]],교과DATA!$C$2:$C$67,0)),"") -> 1 | D8: {=IF(ISBLANK($I$2),"",IFERROR(INDEX(학교지정과목!$K$5:$K$25, SMALL(IF(ISNUMBER(SEARCH(1,학교지정과목!$O$5:$O$25)),MATCH(ROW(학교지정과목!$O$5:$O$25), ROW(학교지정과목!$O$5:$O$25)), ""), ROWS($A$1:A2)), COLUMNS($A$1:A2)),""))} -> 수학 | E8: =IFERROR(INDEX(교과DATA!$F$2:$F$67,MATCH(표1[[#This Row],[과목명]],교과DATA!$C$2:$C$67,0)),"") -> 공통 | F8: =IFERROR(INDEX(교과DATA!$E$2:$E$67,MATCH(표1[[#This Row],[과목명]],교과DATA!$C$2:$C$67,0)),"") -> 수학 | G8: =IFERROR(INDEX(교과DATA!$G$2:$G$67,MATCH(표1[[#This Row],[과목명]],교과DATA!$C$2:$C$67,0)),"") -> 8 | H8: =IFERROR(INDEX(교과DATA!$I$2:$I$67,MATCH(표1[[#This Row],[과목명]],교과DATA!$C$2:$C$67,0)),"") -> 전체 | K8: {=IFERROR(INDEX(표1[과목명], SMALL(IF(ISNUMBER(SEARCH($L$6,표1[교과군])),MATCH(ROW(표1[교과군]), ROW(표1[교과군])), ""), ROWS($A$1:A1)), COLUMNS($A$1:A1)),"")} -> 국어 | L8: =IFERROR(INDEX(표1[구분],MATCH(K8,표1[과목명],0)),"") -> 공통 | M8: =IFERROR(INDEX(표1[학년],MATCH(K8,표1[과목명],0)),"") -> 1 | N8: =IFERROR(INDEX(표1[학점],MATCH(K8,표1[과목명],0)),"") -> 8 | P8: {=IFERROR(INDEX(표1[과목명], SMALL(IF(ISNUMBER(SEARCH($Q$6,표1[교과군])),MATCH(ROW(표1[교과군]), ROW(표1[교과군])), ""), ROWS($A$1:A1)), COLUMNS($A$1:A1)),"")} -> 수학 | Q8: =IFERROR(INDEX(표1[구분],MATCH(P8,표1[과목명],0)),"") -> 공통 | R8: =IFERROR(INDEX(표1[학년],MATCH(P8,표1[과목명],0)),"") -> 1 | S8: =IFERROR(INDEX(표1[학점],MATCH(P8,표1[과목명],0)),"") -> 8 | U8: {=IFERROR(INDEX(표1[과목명], SMALL(IF(ISNUMBER(SEARCH($V$6,표1[교과군])),MATCH(ROW(표1[교과군]), ROW(표1[교과군])), ""), ROWS($A$1:A1)), COLUMNS($A$1:A1)),"")} -> 영어 | V8: =IFERROR(INDEX(표1[구분],MATCH(U8,표1[과목명],0)),"") -> 공통 | W8: =IFERROR(INDEX(표1[학년],MATCH(U8,표1[과목명],0)),"") -> 1 | X8: =IFERROR(INDEX(표1[학점],MATCH(U8,표1[과목명],0)),"") -> 8 | Z8: {=IFERROR(INDEX(표1[과목명], SMALL(IF(ISNUMBER(SEARCH($AA$6,표1[교과군])),MATCH(ROW(표1[교과군]), ROW(표1[교과군])), ""), ROWS($A$1:A1)), COLUMNS($A$1:A1)),"")} -> 한국사 | AA8: =IFERROR(INDEX(표1[구분],MATCH(Z8,표1[과목명],0)),"") -> 공통 | AB8: =IFERROR(INDEX(표1[학년],MATCH(Z8,표1[과목명],0)),"") -> 1 | AC8: =IFERROR(INDEX(표1[학점],MATCH(Z8,표1[과목명],0)),"") -> 6
B9: 학교지정 | C9: =IFERROR(INDEX(교과DATA!$H$2:$H$67,MATCH(표1[[#This Row],[과목명]],교과DATA!$C$2:$C$67,0)),"") -> 1 | D9: {=IF(ISBLANK($I$2),"",IFERROR(INDEX(학교지정과목!$K$5:$K$25, SMALL(IF(ISNUMBER(SEARCH(1,학교지정과목!$O$5:$O$25)),MATCH(ROW(학교지정과목!$O$5:$O$25), ROW(학교지정과목!$O$5:$O$25)), ""), ROWS($A$1:A3)), COLUMNS($A$1:A3)),""))} -> 영어 | E9: =IFERROR(INDEX(교과DATA!$F$2:$F$67,MATCH(표1[[#This Row],[과목명]],교과DATA!$C$2:$C$67,0)),"") -> 공통 | F9: =IFERROR(INDEX(교과DATA!$E$2:$E$67,MATCH(표1[[#This Row],[과목명]],교과DATA!$C$2:$C$67,0)),"") -> 영어 | G9: =IFERROR(INDEX(교과DATA!$G$2:$G$67,MATCH(표1[[#This Row],[과목명]],교과DATA!$C$2:$C$67,0)),"") -> 8 | H9: =IFERROR(INDEX(교과DATA!$I$2:$I$67,MATCH(표1[[#This Row],[과목명]],교과DATA!$C$2:$C$67,0)),"") -> 전체 | K9: {=IFERROR(INDEX(표1[과목명], SMALL(IF(ISNUMBER(SEARCH($L$6,표1[교과군])),MATCH(ROW(표1[교과군]), ROW(표1[교과군])), ""), ROWS($A$1:A2)), COLUMNS($A$1:A2)),"")} -> 문학 | L9: =IFERROR(INDEX(표1[구분],MATCH(K9,표1[과목명],0)),"") -> 일반 | M9: =IFERROR(INDEX(표1[학년],MATCH(K9,표1[과목명],0)),"") -> 2 | N9: =IFERROR(INDEX(표1[학점],MATCH(K9,표1[과목명],0)),"") -> 4 | P9: {=IFERROR(INDEX(표1[과목명], SMALL(IF(ISNUMBER(SEARCH($Q$6,표1[교과군])),MATCH(ROW(표1[교과군]), ROW(표1[교과군])), ""), ROWS($A$1:A2)), COLUMNS($A$1:A2)),"")} -> 수학I | Q9: =IFERROR(INDEX(표1[구분],MATCH(P9,표1[과목명],0)),"") -> 일반 | R9: =IFERROR(INDEX(표1[학년],MATCH(P9,표1[과목명],0)),"") -> 2 | S9: =IFERROR(INDEX(표1[학점],MATCH(P9,표1[과목명],0)),"") -> 4 | U9: {=IFERROR(INDEX(표1[과목명], SMALL(IF(ISNUMBER(SEARCH($V$6,표1[교과군])),MATCH(ROW(표1[교과군]), ROW(표1[교과군])), ""), ROWS($A$1:A2)), COLUMNS($A$1:A2)),"")} -> 영어I | V9: =IFERROR(INDEX(표1[구분],MATCH(U9,표1[과목명],0)),"") -> 일반 | W9: =IFERROR(INDEX(표1[학년],MATCH(U9,표1[과목명],0)),"") -> 2 | X9: =IFERROR(INDEX(표1[학점],MATCH(U9,표1[과목명],0)),"") -> 4 | Z9: 필수이수학점 | AA9: 6 | AB9: 이수학점 | AC9: =SUM($AC$8) -> 6
B10: 학교지정 | C10: =IFERROR(INDEX(교과DATA!$H$2:$H$67,MATCH(표1[[#This Row],[과목명]],교과DATA!$C$2:$C$67,0)),"") -> 1 | D10: {=IF(ISBLANK($I$2),"",IFERROR(INDEX(학교지정과목!$K$5:$K$25, SMALL(IF(ISNUMBER(SEARCH(1,학교지정과목!$O$5:$O$25)),MATCH(ROW(학교지정과목!$O$5:$O$25), ROW(학교지정과목!$O$5:$O$25)), ""), ROWS($A$1:A4)), COLUMNS($A$1:A4)),""))} -> 한국사 | E10: =IFERROR(INDEX(교과DATA!$F$2:$F$67,MATCH(표1[[#This Row],[과목명]],교과DATA!$C$2:$C$67,0)),"") -> 공통 | F10: =IFERROR(INDEX(교과DATA!$E$2:$E$67,MATCH(표1[[#This Row],[과목명]],교과DATA!$C$2:$C$67,0)),"") -> 한국사 | G10: =IFERROR(INDEX(교과DATA!$G$2:$G$67,MATCH(표1[[#This Row],[과목명]],교과DATA!$C$2:$C$67,0)),"") -> 6 | H10: =IFERROR(INDEX(교과DATA!$I$2:$I$67,MATCH(표1[[#This Row],[과목명]],교과DATA!$C$2:$C$67,0)),"") -> 전체 | K10: {=IFERROR(INDEX(표1[과목명], SMALL(IF(ISNUMBER(SEARCH($L$6,표1[교과군])),MATCH(ROW(표1[교과군]), ROW(표1[교과군])), ""), ROWS($A$1:A3)), COLUMNS($A$1:A3)),"")} -> 독서 | L10: =IFERROR(INDEX(표1[구분],MATCH(K10,표1[과목명],0)),"") -> 일반 | M10: =IFERROR(INDEX(표1[학년],MATCH(K10,표1[과목명],0)),"") -> 2 | N10: =IFERROR(INDEX(표1[학점],MATCH(K10,표1[과목명],0)),"") -> 4 | P10: {=IFERROR(INDEX(표1[과목명], SMALL(IF(ISNUMBER(SEARCH($Q$6,표1[교과군])),MATCH(ROW(표1[교과군]), ROW(표1[교과군])), ""), ROWS($A$1:A3)), COLUMNS($A$1:A3)),"")} -> 수학II | Q10: =IFERROR(INDEX(표1[구분],MATCH(P10,표1[과목명],0)),"") -> 일반 | R10: =IFERROR(INDEX(표1[학년],MATCH(P10,표1[과목명],0)),"") -> 2 | S10: =IFERROR(INDEX(표1[학점],MATCH(P10,표1[과목명],0)),"") -> 4 | U10: {=IFERROR(INDEX(표1[과목명], SMALL(IF(ISNUMBER(SEARCH($V$6,표1[교과군])),MATCH(ROW(표1[교과군]), ROW(표1[교과군])), ""), ROWS($A$1:A3)), COLUMNS($A$1:A3)),"")} -> 영어II | V10: =IFERROR(INDEX(표1[구분],MATCH(U10,표1[과목명],0)),"") -> 일반 | W10: =IFERROR(INDEX(표1[학년],MATCH(U10,표1[과목명],0)),"") -> 2 | X10: =IFERROR(INDEX(표1[학점],MATCH(U10,표1[과목명],0)),"") -> 4
B11: 학교지정 | C11: =IFERROR(INDEX(교과DATA!$H$2:$H$67,MATCH(표1[[#This Row],[과목명]],교과DATA!$C$2:$C$67,0)),"") -> 1 | D11: {=IF(ISBLANK($I$2),"",IFERROR(INDEX(학교지정과목!$K$5:$K$25, SMALL(IF(ISNUMBER(SEARCH(1,학교지정과목!$O$5:$O$25)),MATCH(ROW(학교지정과목!$O$5:$O$25), ROW(학교지정과목!$O$5:$O$25)), ""), ROWS($A$1:A5)), COLUMNS($A$1:A5)),""))} -> 통합사회 | E11: =IFERROR(INDEX(교과DATA!$F$2:$F$67,MATCH(표1[[#This Row],[과목명]],교과DATA!$C$2:$C$67,0)),"") -> 공통 | F11: =IFERROR(INDEX(교과DATA!$E$2:$E$67,MATCH(표1[[#This Row],[과목명]],교과DATA!$C$2:$C$67,0)),"") -> 사회 | G11: =IFERROR(INDEX(교과DATA!$G$2:$G$67,MATCH(표1[[#This Row],[과목명]],교과DATA!$C$2:$C$67,0)),"") -> 6 | H11: =IFERROR(INDEX(교과DATA!$I$2:$I$67,MATCH(표1[[#This Row],[과목명]],교과DATA!$C$2:$C$67,0)),"") -> 전체 | K11: {=IFERROR(INDEX(표1[과목명], SMALL(IF(ISNUMBER(SEARCH($L$6,표1[교과군])),MATCH(ROW(표1[교과군]), ROW(표1[교과군])), ""), ROWS($A$1:A4)), COLUMNS($A$1:A4)),"")} | L11: =IFERROR(INDEX(표1[구분],MATCH(K11,표1[과목명],0)),"") | M11: =IFERROR(INDEX(표1[학년],MATCH(K11,표1[과목명],0)),"") | N11: =IFERROR(INDEX(표1[학점],MATCH(K11,표1[과목명],0)),"") | P11: {=IFERROR(INDEX(표1[과목명], SMALL(IF(ISNUMBER(SEARCH($Q$6,표1[교과군])),MATCH(ROW(표1[교과군]), ROW(표1[교과군])), ""), ROWS($A$1:A4)), COLUMNS($A$1:A4)),"")} | Q11: =IFERROR(INDEX(표1[구분],MATCH(P11,표1[과목명],0)),"") | R11: =IFERROR(INDEX(표1[학년],MATCH(P11,표1[과목명],0)),"") | S11: =IFERROR(INDEX(표1[학점],MATCH(P11,표1[과목명],0)),"") | U11: {=IFERROR(INDEX(표1[과목명], SMALL(IF(ISNUMBER(SEARCH($V$6,표1[교과군])),MATCH(ROW(표1[교과군]), ROW(표1[교과군])), ""), ROWS($A$1:A4)), COLUMNS($A$1:A4)),"")} | V11: =IFERROR(INDEX(표1[구분],MATCH(U11,표1[과목명],0)),"") | W11: =IFERROR(INDEX(표1[학년],MATCH(U11,표1[과목명],0)),"") | X11: =IFERROR(INDEX(표1[학점],MATCH(U11,표1[과목명],0)),"") | Z11: 교과군 | AA11: 생활교양
B12: 학교지정 | C12: =IFERROR(INDEX(교과DATA!$H$2:$H$67,MATCH(표1[[#This Row],[과목명]],교과DATA!$C$2:$C$67,0)),"") -> 1 | D12: {=IF(ISBLANK($I$2),"",IFERROR(INDEX(학교지정과목!$K$5:$K$25, SMALL(IF(ISNUMBER(SEARCH(1,학교지정과목!$O$5:$O$25)),MATCH(ROW(학교지정과목!$O$5:$O$25), ROW(학교지정과목!$O$5:$O$25)), ""), ROWS($A$1:A6)), COLUMNS($A$1:A6)),""))} -> 통합과학 | E12: =IFERROR(INDEX(교과DATA!$F$2:$F$67,MATCH(표1[[#This Row],[과목명]],교과DATA!$C$2:$C$67,0)),"") -> 공통 | F12: =IFERROR(INDEX(교과DATA!$E$2:$E$67,MATCH(표1[[#This Row],[과목명]],교과DATA!$C$2:$C$67,0)),"") -> 과학 | G12: =IFERROR(INDEX(교과DATA!$G$2:$G$67,MATCH(표1[[#This Row],[과목명]],교과DATA!$C$2:$C$67,0)),"") -> 6 | H12: =IFERROR(INDEX(교과DATA!$I$2:$I$67,MATCH(표1[[#This Row],[과목명]],교과DATA!$C$2:$C$67,0)),"") -> 전체 | K12: {=IFERROR(INDEX(표1[과목명], SMALL(IF(ISNUMBER(SEARCH($L$6,표1[교과군])),MATCH(ROW(표1[교과군]), ROW(표1[교과군])), ""), ROWS($A$1:A5)), COLUMNS($A$1:A5)),"")} | L12: =IFERROR(INDEX(표1[구분],MATCH(K12,표1[과목명],0)),"") | M12: =IFERROR(INDEX(표1[학년],MATCH(K12,표1[과목명],0)),"") | N12: =IFERROR(INDEX(표1[학점],MATCH(K12,표1[과목명],0)),"") | P12: {=IFERROR(INDEX(표1[과목명], SMALL(IF(ISNUMBER(SEARCH($Q$6,표1[교과군])),MATCH(ROW(표1[교과군]), ROW(표1[교과군])), ""), ROWS($A$1:A5)), COLUMNS($A$1:A5)),"")} | Q12: =IFERROR(INDEX(표1[구분],MATCH(P12,표1[과목명],0)),"") | R12: =IFERROR(INDEX(표1[학년],MATCH(P12,표1[과목명],0)),"") | S12: =IFERROR(INDEX(표1[학점],MATCH(P12,표1[과목명],0)),"") | U12: {=IFERROR(INDEX(표1[과목명], SMALL(IF(ISNUMBER(SEARCH($V$6,표1[교과군])),MATCH(ROW(표1[교과군]), ROW(표1[교과군])), ""), ROWS($A$1:A5)), COLUMNS($A$1:A5)),"")} | V12: =IFERROR(INDEX(표1[구분],MATCH(U12,표1[과목명],0)),"") | W12: =IFERROR(INDEX(표1[학년],MATCH(U12,표1[과목명],0)),"") | X12: =IFERROR(INDEX(표1[학점],MATCH(U12,표1[과목명],0)),"") | Z12: 과목명 | AA12: 구분 | AB12: 학년 | AC12: 학점
B13: 학교지정 | C13: =IFERROR(INDEX(교과DATA!$H$2:$H$67,MATCH(표1[[#This Row],[과목명]],교과DATA!$C$2:$C$67,0)),"") -> 1 | D13: {=IF(ISBLANK($I$2),"",IFERROR(INDEX(학교지정과목!$K$5:$K$25, SMALL(IF(ISNUMBER(SEARCH(1,학교지정과목!$O$5:$O$25)),MATCH(ROW(학교지정과목!$O$5:$O$25), ROW(학교지정과목!$O$5:$O$25)), ""), ROWS($A$1:A7)), COLUMNS($A$1:A7)),""))} -> 과학탐구실험 | E13: =IFERROR(INDEX(교과DATA!$F$2:$F$67,MATCH(표1[[#This Row],[과목명]],교과DATA!$C$2:$C$67,0)),"") -> 공통 | F13: =IFERROR(INDEX(교과DATA!$E$2:$E$67,MATCH(표1[[#This Row],[과목명]],교과DATA!$C$2:$C$67,0)),"") -> 과학 | G13: =IFERROR(INDEX(교과DATA!$G$2:$G$67,MATCH(표1[[#This Row],[과목명]],교과DATA!$C$2:$C$67,0)),"") -> 2 | H13: =IFERROR(INDEX(교과DATA!$I$2:$I$67,MATCH(표1[[#This Row],[과목명]],교과DATA!$C$2:$C$67,0)),"") -> 전체 | K13: {=IFERROR(INDEX(표1[과목명], SMALL(IF(ISNUMBER(SEARCH($L$6,표1[교과군])),MATCH(ROW(표1[교과군]), ROW(표1[교과군])), ""), ROWS($A$1:A6)), COLUMNS($A$1:A6)),"")} | L13: =IFERROR(INDEX(표1[구분],MATCH(K13,표1[과목명],0)),"") | M13: =IFERROR(INDEX(표1[학년],MATCH(K13,표1[과목명],0)),"") | N13: =IFERROR(INDEX(표1[학점],MATCH(K13,표1[과목명],0)),"") | P13: {=IFERROR(INDEX(표1[과목명], SMALL(IF(ISNUMBER(SEARCH($Q$6,표1[교과군])),MATCH(ROW(표1[교과군]), ROW(표1[교과군])), ""), ROWS($A$1:A6)), COLUMNS($A$1:A6)),"")} | Q13: =IFERROR(INDEX(표1[구분],MATCH(P13,표1[과목명],0)),"") | R13: =IFERROR(INDEX(표1[학년],MATCH(P13,표1[과목명],0)),"") | S13: =IFERROR(INDEX(표1[학점],MATCH(P13,표1[과목명],0)),"") | U13: {=IFERROR(INDEX(표1[과목명], SMALL(IF(ISNUMBER(SEARCH($V$6,표1[교과군])),MATCH(ROW(표1[교과군]), ROW(표1[교과군])), ""), ROWS($A$1:A6)), COLUMNS($A$1:A6)),"")} | V13: =IFERROR(INDEX(표1[구분],MATCH(U13,표1[과목명],0)),"") | W13: =IFERROR(INDEX(표1[학년],MATCH(U13,표1[과목명],0)),"") | X13: =IFERROR(INDEX(표1[학점],MATCH(U13,표1[과목명],0)),"") | Z13: {=IFERROR(INDEX(표1[과목명], SMALL(IF(ISNUMBER(SEARCH($AA$11,표1[교과군])),MATCH(ROW(표1[교과군]), ROW(표1[교과군])), ""), ROWS($A$1:A1)), COLUMNS($A$1:A1)),"")} -> 정보 | AA13: =IFERROR(INDEX(표1[구분],MATCH(Z13,표1[과목명],0)),"") -> 일반 | AB13: =IFERROR(INDEX(표1[학년],MATCH(Z13,표1[과목명],0)),"") -> 1 | AC13: =IFERROR(INDEX(표1[학점],MATCH(Z13,표1[과목명],0)),"") -> 4
B14: 학교지정 | C14: =IFERROR(INDEX(교과DATA!$H$2:$H$67,MATCH(표1[[#This Row],[과목명]],교과DATA!$C$2:$C$67,0)),"") -> 1 | D14: {=IF(ISBLANK($I$2),"",IFERROR(INDEX(학교지정과목!$K$5:$K$25, SMALL(IF(ISNUMBER(SEARCH(1,학교지정과목!$O$5:$O$25)),MATCH(ROW(학교지정과목!$O$5:$O$25), ROW(학교지정과목!$O$5:$O$25)), ""), ROWS($A$1:A8)), COLUMNS($A$1:A8)),""))} -> 체육 | E14: =IFERROR(INDEX(교과DATA!$F$2:$F$67,MATCH(표1[[#This Row],[과목명]],교과DATA!$C$2:$C$67,0)),"") -> 일반 | F14: =IFERROR(INDEX(교과DATA!$E$2:$E$67,MATCH(표1[[#This Row],[과목명]],교과DATA!$C$2:$C$67,0)),"") -> 체육 | G14: =IFERROR(INDEX(교과DATA!$G$2:$G$67,MATCH(표1[[#This Row],[과목명]],교과DATA!$C$2:$C$67,0)),"") -> 4 | H14: =IFERROR(INDEX(교과DATA!$I$2:$I$67,MATCH(표1[[#This Row],[과목명]],교과DATA!$C$2:$C$67,0)),"") -> 전체 | K14: {=IFERROR(INDEX(표1[과목명], SMALL(IF(ISNUMBER(SEARCH($L$6,표1[교과군])),MATCH(ROW(표1[교과군]), ROW(표1[교과군])), ""), ROWS($A$1:A7)), COLUMNS($A$1:A7)),"")} | L14: =IFERROR(INDEX(표1[구분],MATCH(K14,표1[과목명],0)),"") | M14: =IFERROR(INDEX(표1[학년],MATCH(K14,표1[과목명],0)),"") | N14: =IFERROR(INDEX(표1[학점],MATCH(K14,표1[과목명],0)),"") | P14: {=IFERROR(INDEX(표1[과목명], SMALL(IF(ISNUMBER(SEARCH($Q$6,표1[교과군])),MATCH(ROW(표1[교과군]), ROW(표1[교과군])), ""), ROWS($A$1:A7)), COLUMNS($A$1:A7)),"")} | Q14: =IFERROR(INDEX(표1[구분],MATCH(P14,표1[과목명],0)),"") | R14: =IFERROR(INDEX(표1[학년],MATCH(P14,표1[과목명],0)),"") | S14: =IFERROR(INDEX(표1[학점],MATCH(P14,표1[과목명],0)),"") | U14: {=IFERROR(INDEX(표1[과목명], SMALL(IF(ISNUMBER(SEARCH($V$6,표1[교과군])),MATCH(ROW(표1[교과군]), ROW(표1[교과군])), ""), ROWS($A$1:A7)), COLUMNS($A$1:A7)),"")} | V14: =IFERROR(INDEX(표1[구분],MATCH(U14,표1[과목명],0)),"") | W14: =IFERROR(INDEX(표1[학년],MATCH(U14,표1[과목명],0)),"") | X14: =IFERROR(INDEX(표1[학점],MATCH(U14,표1[과목명],0)),"") | Z14: {=IFERROR(INDEX(표1[과목명], SMALL(IF(ISNUMBER(SEARCH($AA$11,표1[교과군])),MATCH(ROW(표1[교과군]), ROW(표1[교과군])), ""), ROWS($A$1:A2)), COLUMNS($A$1:A2)),"")} -> 진로와직업 | AA14: =IFERROR(INDEX(표1[구분],MATCH(Z14,표1[과목명],0)),"") -> 일반 | AB14: =IFERROR(INDEX(표1[학년],MATCH(Z14,표1[과목명],0)),"") -> 1 | AC14: =IFERROR(INDEX(표1[학점],MATCH(Z14,표1[과목명],0)),"") -> 2
B15: 학교지정 | C15: =IFERROR(INDEX(교과DATA!$H$2:$H$67,MATCH(표1[[#This Row],[과목명]],교과DATA!$C$2:$C$67,0)),"") -> 1 | D15: {=IF(ISBLANK($I$2),"",IFERROR(INDEX(학교지정과목!$K$5:$K$25, SMALL(IF(ISNUMBER(SEARCH(1,학교지정과목!$O$5:$O$25)),MATCH(ROW(학교지정과목!$O$5:$O$25), ROW(학교지정과목!$O$5:$O$25)), ""), ROWS($A$1:A9)), COLUMNS($A$1:A9)),""))} -> 음악 | E15: =IFERROR(INDEX(교과DATA!$F$2:$F$67,MATCH(표1[[#This Row],[과목명]],교과DATA!$C$2:$C$67,0)),"") -> 일반 | F15: =IFERROR(INDEX(교과DATA!$E$2:$E$67,MATCH(표1[[#This Row],[과목명]],교과DATA!$C$2:$C$67,0)),"") -> 예술 | G15: =IFERROR(INDEX(교과DATA!$G$2:$G$67,MATCH(표1[[#This Row],[과목명]],교과DATA!$C$2:$C$67,0)),"") -> 4 | H15: =IFERROR(INDEX(교과DATA!$I$2:$I$67,MATCH(표1[[#This Row],[과목명]],교과DATA!$C$2:$C$67,0)),"") -> 전체 | K15: {=IFERROR(INDEX(표1[과목명], SMALL(IF(ISNUMBER(SEARCH($L$6,표1[교과군])),MATCH(ROW(표1[교과군]), ROW(표1[교과군])), ""), ROWS($A$1:A8)), COLUMNS($A$1:A8)),"")} | L15: =IFERROR(INDEX(표1[구분],MATCH(K15,표1[과목명],0)),"") | M15: =IFERROR(INDEX(표1[학년],MATCH(K15,표1[과목명],0)),"") | N15: =IFERROR(INDEX(표1[학점],MATCH(K15,표1[과목명],0)),"") | P15: {=IFERROR(INDEX(표1[과목명], SMALL(IF(ISNUMBER(SEARCH($Q$6,표1[교과군])),MATCH(ROW(표1[교과군]), ROW(표1[교과군])), ""), ROWS($A$1:A8)), COLUMNS($A$1:A8)),"")} | Q15: =IFERROR(INDEX(표1[구분],MATCH(P15,표1[과목명],0)),"") | R15: =IFERROR(INDEX(표1[학년],MATCH(P15,표1[과목명],0)),"") | S15: =IFERROR(INDEX(표1[학점],MATCH(P15,표1[과목명],0)),"") | U15: {=IFERROR(INDEX(표1[과목명], SMALL(IF(ISNUMBER(SEARCH($V$6,표1[교과군])),MATCH(ROW(표1[교과군]), ROW(표1[교과군])), ""), ROWS($A$1:A8)), COLUMNS($A$1:A8)),"")} | V15: =IFERROR(INDEX(표1[구분],MATCH(U15,표1[과목명],0)),"") | W15: =IFERROR(INDEX(표1[학년],MATCH(U15,표1[과목명],0)),"") | X15: =IFERROR(INDEX(표1[학점],MATCH(U15,표1[과목명],0)),"") | Z15: {=IFERROR(INDEX(표1[과목명], SMALL(IF(ISNUMBER(SEARCH($AA$11,표1[교과군])),MATCH(ROW(표1[교과군]), ROW(표1[교과군])), ""), ROWS($A$1:A3)), COLUMNS($A$1:A3)),"")} -> 보건 | AA15: =IFERROR(INDEX(표1[구분],MATCH(Z15,표1[과목명],0)),"") -> 일반 | AB15: =IFERROR(INDEX(표1[학년],MATCH(Z15,표1[과목명],0)),"") -> 2 | AC15: =IFERROR(INDEX(표1[학점],MATCH(Z15,표1[과목명],0)),"") -> 2
B16: 학교지정 | C16: =IFERROR(INDEX(교과DATA!$H$2:$H$67,MATCH(표1[[#This Row],[과목명]],교과DATA!$C$2:$C$67,0)),"") -> 1 | D16: {=IF(ISBLANK($I$2),"",IFERROR(INDEX(학교지정과목!$K$5:$K$25, SMALL(IF(ISNUMBER(SEARCH(1,학교지정과목!$O$5:$O$25)),MATCH(ROW(학교지정과목!$O$5:$O$25), ROW(학교지정과목!$O$5:$O$25)), ""), ROWS($A$1:A10)), COLUMNS($A$1:A10)),""))} -> 정보 | E16: =IFERROR(INDEX(교과DATA!$F$2:$F$67,MATCH(표1[[#This Row],[과목명]],교과DATA!$C$2:$C$67,0)),"") -> 일반 | F16: =IFERROR(INDEX(교과DATA!$E$2:$E$67,MATCH(표1[[#This Row],[과목명]],교과DATA!$C$2:$C$67,0)),"") -> 생활교양 | G16: =IFERROR(INDEX(교과DATA!$G$2:$G$67,MATCH(표1[[#This Row],[과목명]],교과DATA!$C$2:$C$67,0)),"") -> 4 | H16: =IFERROR(INDEX(교과DATA!$I$2:$I$67,MATCH(표1[[#This Row],[과목명]],교과DATA!$C$2:$C$67,0)),"") -> 전체 | K16: {=IFERROR(INDEX(표1[과목명], SMALL(IF(ISNUMBER(SEARCH($L$6,표1[교과군])),MATCH(ROW(표1[교과군]), ROW(표1[교과군])), ""), ROWS($A$1:A9)), COLUMNS($A$1:A9)),"")} | L16: =IFERROR(INDEX(표1[구분],MATCH(K16,표1[과목명],0)),"") | M16: =IFERROR(INDEX(표1[학년],MATCH(K16,표1[과목명],0)),"") | N16: =IFERROR(INDEX(표1[학점],MATCH(K16,표1[과목명],0)),"") | P16: {=IFERROR(INDEX(표1[과목명], SMALL(IF(ISNUMBER(SEARCH($Q$6,표1[교과군])),MATCH(ROW(표1[교과군]), ROW(표1[교과군])), ""), ROWS($A$1:A9)), COLUMNS($A$1:A9)),"")} | Q16: =IFERROR(INDEX(표1[구분],MATCH(P16,표1[과목명],0)),"") | R16: =IFERROR(INDEX(표1[학년],MATCH(P16,표1[과목명],0)),"") | S16: =IFERROR(INDEX(표1[학점],MATCH(P16,표1[과목명],0)),"") | U16: {=IFERROR(INDEX(표1[과목명], SMALL(IF(ISNUMBER(SEARCH($V$6,표1[교과군])),MATCH(ROW(표1[교과군]), ROW(표1[교과군])), ""), ROWS($A$1:A9)), COLUMNS($A$1:A9)),"")} | V16: =IFERROR(INDEX(표1[구분],MATCH(U16,표1[과목명],0)),"") | W16: =IFERROR(INDEX(표1[학년],MATCH(U16,표1[과목명],0)),"") | X16: =IFERROR(INDEX(표1[학점],MATCH(U16,표1[과목명],0)),"") | Z16: {=IFERROR(INDEX(표1[과목명], SMALL(IF(ISNUMBER(SEARCH($AA$11,표1[교과군])),MATCH(ROW(표1[교과군]), ROW(표1[교과군])), ""), ROWS($A$1:A4)), COLUMNS($A$1:A4)),"")} | AA16: =IFERROR(INDEX(표1[구분],MATCH(Z16,표1[과목명],0)),"") | AB16: =IFERROR(INDEX(표1[학년],MATCH(Z16,표1[과목명],0)),"") | AC16: =IFERROR(INDEX(표1[학점],MATCH(Z16,표1[과목명],0)),"")
B17: 학교지정 | C17: =IFERROR(INDEX(교과DATA!$H$2:$H$67,MATCH(표1[[#This Row],[과목명]],교과DATA!$C$2:$C$67,0)),"") -> 1 | D17: {=IF(ISBLANK($I$2),"",IFERROR(INDEX(학교지정과목!$K$5:$K$25, SMALL(IF(ISNUMBER(SEARCH(1,학교지정과목!$O$5:$O$25)),MATCH(ROW(학교지정과목!$O$5:$O$25), ROW(학교지정과목!$O$5:$O$25)), ""), ROWS($A$1:A11)), COLUMNS($A$1:A11)),""))} -> 진로와직업 | E17: =IFERROR(INDEX(교과DATA!$F$2:$F$67,MATCH(표1[[#This Row],[과목명]],교과DATA!$C$2:$C$67,0)),"") -> 일반 | F17: =IFERROR(INDEX(교과DATA!$E$2:$E$67,MATCH(표1[[#This Row],[과목명]],교과DATA!$C$2:$C$67,0)),"") -> 생활교양 | G17: =IFERROR(INDEX(교과DATA!$G$2:$G$67,MATCH(표1[[#This Row],[과목명]],교과DATA!$C$2:$C$67,0)),"") -> 2 | H17: =IFERROR(INDEX(교과DATA!$I$2:$I$67,MATCH(표1[[#This Row],[과목명]],교과DATA!$C$2:$C$67,0)),"") -> 전체 | K17: {=IFERROR(INDEX(표1[과목명], SMALL(IF(ISNUMBER(SEARCH($L$6,표1[교과군])),MATCH(ROW(표1[교과군]), ROW(표1[교과군])), ""), ROWS($A$1:A10)), COLUMNS($A$1:A10)),"")} | L17: =IFERROR(INDEX(표1[구분],MATCH(K17,표1[과목명],0)),"") | M17: =IFERROR(INDEX(표1[학년],MATCH(K17,표1[과목명],0)),"") | N17: =IFERROR(INDEX(표1[학점],MATCH(K17,표1[과목명],0)),"") | P17: {=IFERROR(INDEX(표1[과목명], SMALL(IF(ISNUMBER(SEARCH($Q$6,표1[교과군])),MATCH(ROW(표1[교과군]), ROW(표1[교과군])), ""), ROWS($A$1:A10)), COLUMNS($A$1:A10)),"")} | Q17: =IFERROR(INDEX(표1[구분],MATCH(P17,표1[과목명],0)),"") | R17: =IFERROR(INDEX(표1[학년],MATCH(P17,표1[과목명],0)),"") | S17: =IFERROR(INDEX(표1[학점],MATCH(P17,표1[과목명],0)),"") | U17: {=IFERROR(INDEX(표1[과목명], SMALL(IF(ISNUMBER(SEARCH($V$6,표1[교과군])),MATCH(ROW(표1[교과군]), ROW(표1[교과군])), ""), ROWS($A$1:A10)), COLUMNS($A$1:A10)),"")} | V17: =IFERROR(INDEX(표1[구분],MATCH(U17,표1[과목명],0)),"") | W17: =IFERROR(INDEX(표1[학년],MATCH(U17,표1[과목명],0)),"") | X17: =IFERROR(INDEX(표1[학점],MATCH(U17,표1[과목명],0)),"") | Z17: {=IFERROR(INDEX(표1[과목명], SMALL(IF(ISNUMBER(SEARCH($AA$11,표1[교과군])),MATCH(ROW(표1[교과군]), ROW(표1[교과군])), ""), ROWS($A$1:A5)), COLUMNS($A$1:A5)),"")} | AA17: =IFERROR(INDEX(표1[구분],MATCH(Z17,표1[과목명],0)),"") | AB17: =IFERROR(INDEX(표1[학년],MATCH(Z17,표1[과목명],0)),"") | AC17: =IFERROR(INDEX(표1[학점],MATCH(Z17,표1[과목명],0)),"")
B18: 학교지정 | C18: =IFERROR(INDEX(교과DATA!$H$2:$H$67,MATCH(표1[[#This Row],[과목명]],교과DATA!$C$2:$C$67,0)),"") -> 2 | D18: {=IF(ISBLANK($I$2),"",IFERROR(INDEX(학교지정과목!$K$5:$K$25, SMALL(IF(ISNUMBER(SEARCH(2,학교지정과목!$O$5:$O$25)),MATCH(ROW(학교지정과목!$O$5:$O$25), ROW(학교지정과목!$O$5:$O$25)), ""), ROWS($A$1:A1)), COLUMNS($A$1:A1)),""))} -> 문학 | E18: =IFERROR(INDEX(교과DATA!$F$2:$F$67,MATCH(표1[[#This Row],[과목명]],교과DATA!$C$2:$C$67,0)),"") -> 일반 | F18: =IFERROR(INDEX(교과DATA!$E$2:$E$67,MATCH(표1[[#This Row],[과목명]],교과DATA!$C$2:$C$67,0)),"") -> 국어 | G18: =IFERROR(INDEX(교과DATA!$G$2:$G$67,MATCH(표1[[#This Row],[과목명]],교과DATA!$C$2:$C$67,0)),"") -> 4 | H18: =IFERROR(INDEX(교과DATA!$I$2:$I$67,MATCH(표1[[#This Row],[과목명]],교과DATA!$C$2:$C$67,0)),"") -> 1 | Z18: {=IFERROR(INDEX(표1[과목명], SMALL(IF(ISNUMBER(SEARCH($AA$11,표1[교과군])),MATCH(ROW(표1[교과군]), ROW(표1[교과군])), ""), ROWS($A$1:A6)), COLUMNS($A$1:A6)),"")} | AA18: =IFERROR(INDEX(표1[구분],MATCH(Z18,표1[과목명],0)),"") | AB18: =IFERROR(INDEX(표1[학년],MATCH(Z18,표1[과목명],0)),"") | AC18: =IFERROR(INDEX(표1[학점],MATCH(Z18,표1[과목명],0)),"")
B19: 학교지정 | C19: =IFERROR(INDEX(교과DATA!$H$2:$H$67,MATCH(표1[[#This Row],[과목명]],교과DATA!$C$2:$C$67,0)),"") -> 2 | D19: {=IF(ISBLANK($I$2),"",IFERROR(INDEX(학교지정과목!$K$5:$K$25, SMALL(IF(ISNUMBER(SEARCH(2,학교지정과목!$O$5:$O$25)),MATCH(ROW(학교지정과목!$O$5:$O$25), ROW(학교지정과목!$O$5:$O$25)), ""), ROWS($A$1:A2)), COLUMNS($A$1:A2)),""))} -> 독서 | E19: =IFERROR(INDEX(교과DATA!$F$2:$F$67,MATCH(표1[[#This Row],[과목명]],교과DATA!$C$2:$C$67,0)),"") -> 일반 | F19: =IFERROR(INDEX(교과DATA!$E$2:$E$67,MATCH(표1[[#This Row],[과목명]],교과DATA!$C$2:$C$67,0)),"") -> 국어 | G19: =IFERROR(INDEX(교과DATA!$G$2:$G$67,MATCH(표1[[#This Row],[과목명]],교과DATA!$C$2:$C$67,0)),"") -> 4 | H19: =IFERROR(INDEX(교과DATA!$I$2:$I$67,MATCH(표1[[#This Row],[과목명]],교과DATA!$C$2:$C$67,0)),"") -> 2 | K19: 필수이수학점 | L19: 10 | M19: 이수학점 | N19: =SUM($N$8:$N$18) -> 16 | P19: 필수이수학점 | Q19: 10 | R19: 이수학점 | S19: =SUM($S$8:$S$18) -> 16 | U19: 필수이수학점 | V19: 10 | W19: 이수학점 | X19: =SUM($X$8:$X$18) -> 16 | Z19: 필수이수학점 | AA19: 16 | AB19: 이수학점 | AC19: =SUM($AC$13:$AC$18) -> 8
B20: 학교지정 | C20: =IFERROR(INDEX(교과DATA!$H$2:$H$67,MATCH(표1[[#This Row],[과목명]],교과DATA!$C$2:$C$67,0)),"") -> 2 | D20: {=IF(ISBLANK($I$2),"",IFERROR(INDEX(학교지정과목!$K$5:$K$25, SMALL(IF(ISNUMBER(SEARCH(2,학교지정과목!$O$5:$O$25)),MATCH(ROW(학교지정과목!$O$5:$O$25), ROW(학교지정과목!$O$5:$O$25)), ""), ROWS($A$1:A3)), COLUMNS($A$1:A3)),""))} -> 수학I | E20: =IFERROR(INDEX(교과DATA!$F$2:$F$67,MATCH(표1[[#This Row],[과목명]],교과DATA!$C$2:$C$67,0)),"") -> 일반 | F20: =IFERROR(INDEX(교과DATA!$E$2:$E$67,MATCH(표1[[#This Row],[과목명]],교과DATA!$C$2:$C$67,0)),"") -> 수학 | G20: =IFERROR(INDEX(교과DATA!$G$2:$G$67,MATCH(표1[[#This Row],[과목명]],교과DATA!$C$2:$C$67,0)),"") -> 4 | H20: =IFERROR(INDEX(교과DATA!$I$2:$I$67,MATCH(표1[[#This Row],[과목명]],교과DATA!$C$2:$C$67,0)),"") -> 1
B21: 학교지정 | C21: =IFERROR(INDEX(교과DATA!$H$2:$H$67,MATCH(표1[[#This Row],[과목명]],교과DATA!$C$2:$C$67,0)),"") -> 2 | D21: {=IF(ISBLANK($I$2),"",IFERROR(INDEX(학교지정과목!$K$5:$K$25, SMALL(IF(ISNUMBER(SEARCH(2,학교지정과목!$O$5:$O$25)),MATCH(ROW(학교지정과목!$O$5:$O$25), ROW(학교지정과목!$O$5:$O$25)), ""), ROWS($A$1:A4)), COLUMNS($A$1:A4)),""))} -> 수학II | E21: =IFERROR(INDEX(교과DATA!$F$2:$F$67,MATCH(표1[[#This Row],[과목명]],교과DATA!$C$2:$C$67,0)),"") -> 일반 | F21: =IFERROR(INDEX(교과DATA!$E$2:$E$67,MATCH(표1[[#This Row],[과목명]],교과DATA!$C$2:$C$67,0)),"") -> 수학 | G21: =IFERROR(INDEX(교과DATA!$G$2:$G$67,MATCH(표1[[#This Row],[과목명]],교과DATA!$C$2:$C$67,0)),"") -> 4 | H21: =IFERROR(INDEX(교과DATA!$I$2:$I$67,MATCH(표1[[#This Row],[과목명]],교과DATA!$C$2:$C$67,0)),"") -> 2 | K21: 교과군 | L21: 사회 | P21: 교과군 | Q21: 과학 | U21: 교과군 | V21: 예술 | Z21: 교과군 | AA21: 체육
B22: 학교지정 | C22: =IFERROR(INDEX(교과DATA!$H$2:$H$67,MATCH(표1[[#This Row],[과목명]],교과DATA!$C$2:$C$67,0)),"") -> 2 | D22: {=IF(ISBLANK($I$2),"",IFERROR(INDEX(학교지정과목!$K$5:$K$25, SMALL(IF(ISNUMBER(SEARCH(2,학교지정과목!$O$5:$O$25)),MATCH(ROW(학교지정과목!$O$5:$O$25), ROW(학교지정과목!$O$5:$O$25)), ""), ROWS($A$1:A5)), COLUMNS($A$1:A5)),""))} -> 영어I | E22: =IFERROR(INDEX(교과DATA!$F$2:$F$67,MATCH(표1[[#This Row],[과목명]],교과DATA!$C$2:$C$67,0)),"") -> 일반 | F22: =IFERROR(INDEX(교과DATA!$E$2:$E$67,MATCH(표1[[#This Row],[과목명]],교과DATA!$C$2:$C$67,0)),"") -> 영어 | G22: =IFERROR(INDEX(교과DATA!$G$2:$G$67,MATCH(표1[[#This Row],[과목명]],교과DATA!$C$2:$C$67,0)),"") -> 4 | H22: =IFERROR(INDEX(교과DATA!$I$2:$I$67,MATCH(표1[[#This Row],[과목명]],교과DATA!$C$2:$C$67,0)),"") -> 1 | K22: 과목명 | L22: 구분 | M22: 학년 | N22: 학점 | P22: 과목명 | Q22: 구분 | R22: 학년 | S22: 학점 | U22: 과목명 | V22: 구분 | W22: 학년 | X22: 학점 | Z22: 과목명 | AA22: 구분 | AB22: 학년 | AC22: 학점
B23: 학교지정 | C23: =IFERROR(INDEX(교과DATA!$H$2:$H$67,MATCH(표1[[#This Row],[과목명]],교과DATA!$C$2:$C$67,0)),"") -> 2 | D23: {=IF(ISBLANK($I$2),"",IFERROR(INDEX(학교지정과목!$K$5:$K$25, SMALL(IF(ISNUMBER(SEARCH(2,학교지정과목!$O$5:$O$25)),MATCH(ROW(학교지정과목!$O$5:$O$25), ROW(학교지정과목!$O$5:$O$25)), ""), ROWS($A$1:A6)), COLUMNS($A$1:A6)),""))} -> 영어II | E23: =IFERROR(INDEX(교과DATA!$F$2:$F$67,MATCH(표1[[#This Row],[과목명]],교과DATA!$C$2:$C$67,0)),"") -> 일반 | F23: =IFERROR(INDEX(교과DATA!$E$2:$E$67,MATCH(표1[[#This Row],[과목명]],교과DATA!$C$2:$C$67,0)),"") -> 영어 | G23: =IFERROR(INDEX(교과DATA!$G$2:$G$67,MATCH(표1[[#This Row],[과목명]],교과DATA!$C$2:$C$67,0)),"") -> 4 | H23: =IFERROR(INDEX(교과DATA!$I$2:$I$67,MATCH(표1[[#This Row],[과목명]],교과DATA!$C$2:$C$67,0)),"") -> 2 | K23: {=IFERROR(INDEX(표1[과목명], SMALL(IF(ISNUMBER(SEARCH($L$21,표1[교과군])),MATCH(ROW(표1[교과군]), ROW(표1[교과군])), ""), ROWS($A$1:A1)), COLUMNS($A$1:A1)),"")} -> 통합사회 | L23: =IFERROR(INDEX(표1[구분],MATCH(K23,표1[과목명],0)),"") -> 공통 | M23: =IFERROR(INDEX(표1[학년],MATCH(K23,표1[과목명],0)),"") -> 1 | N23: =IFERROR(INDEX(표1[학점],MATCH(K23,표1[과목명],0)),"") -> 6 | P23: {=IFERROR(INDEX(표1[과목명], SMALL(IF(ISNUMBER(SEARCH($Q$21,표1[교과군])),MATCH(ROW(표1[교과군]), ROW(표1[교과군])), ""), ROWS($A$1:A1)), COLUMNS($A$1:A1)),"")} -> 통합과학 | Q23: =IFERROR(INDEX(표1[구분],MATCH(P23,표1[과목명],0)),"") -> 공통 | R23: =IFERROR(INDEX(표1[학년],MATCH(P23,표1[과목명],0)),"") -> 1 | S23: =IFERROR(INDEX(표1[학점],MATCH(P23,표1[과목명],0)),"") -> 6 | U23: {=IFERROR(INDEX(표1[과목명], SMALL(IF(ISNUMBER(SEARCH($V$21,표1[교과군])),MATCH(ROW(표1[교과군]), ROW(표1[교과군])), ""), ROWS($A$1:A1)), COLUMNS($A$1:A1)),"")} -> 음악 | V23: =IFERROR(INDEX(표1[구분],MATCH(U23,표1[과목명],0)),"") -> 일반 | W23: =IFERROR(INDEX(표1[학년],MATCH(U23,표1[과목명],0)),"") -> 1 | X23: =IFERROR(INDEX(표1[학점],MATCH(U23,표1[과목명],0)),"") -> 4 | Z23: {=IFERROR(INDEX(표1[과목명], SMALL(IF(ISNUMBER(SEARCH($AA$21,표1[교과군])),MATCH(ROW(표1[교과군]), ROW(표1[교과군])), ""), ROWS($A$1:A1)), COLUMNS($A$1:A1)),"")} -> 체육 | AA23: =IFERROR(INDEX(표1[구분],MATCH(Z23,표1[과목명],0)),"") -> 일반 | AB23: =IFERROR(INDEX(표1[학년],MATCH(Z23,표1[과목명],0)),"") -> 1 | AC23: =IFERROR(INDEX(표1[학점],MATCH(Z23,표1[과목명],0)),"") -> 4
B24: 학교지정 | C24: =IFERROR(INDEX(교과DATA!$H$2:$H$67,MATCH(표1[[#This Row],[과목명]],교과DATA!$C$2:$C$67,0)),"") -> 2 | D24: {=IF(ISBLANK($I$2),"",IFERROR(INDEX(학교지정과목!$K$5:$K$25, SMALL(IF(ISNUMBER(SEARCH(2,학교지정과목!$O$5:$O$25)),MATCH(ROW(학교지정과목!$O$5:$O$25), ROW(학교지정과목!$O$5:$O$25)), ""), ROWS($A$1:A7)), COLUMNS($A$1:A7)),""))} -> 운동과건강 | E24: =IFERROR(INDEX(교과DATA!$F$2:$F$67,MATCH(표1[[#This Row],[과목명]],교과DATA!$C$2:$C$67,0)),"") -> 일반 | F24: =IFERROR(INDEX(교과DATA!$E$2:$E$67,MATCH(표1[[#This Row],[과목명]],교과DATA!$C$2:$C$67,0)),"") -> 체육 | G24: =IFERROR(INDEX(교과DATA!$G$2:$G$67,MATCH(표1[[#This Row],[과목명]],교과DATA!$C$2:$C$67,0)),"") -> 4 | H24: =IFERROR(INDEX(교과DATA!$I$2:$I$67,MATCH(표1[[#This Row],[과목명]],교과DATA!$C$2:$C$67,0)),"") -> 전체 | K24: {=IFERROR(INDEX(표1[과목명], SMALL(IF(ISNUMBER(SEARCH($L$21,표1[교과군])),MATCH(ROW(표1[교과군]), ROW(표1[교과군])), ""), ROWS($A$1:A2)), COLUMNS($A$1:A2)),"")} | L24: =IFERROR(INDEX(표1[구분],MATCH(K24,표1[과목명],0)),"") | M24: =IFERROR(INDEX(표1[학년],MATCH(K24,표1[과목명],0)),"") | N24: =IFERROR(INDEX(표1[학점],MATCH(K24,표1[과목명],0)),"") | P24: {=IFERROR(INDEX(표1[과목명], SMALL(IF(ISNUMBER(SEARCH($Q$21,표1[교과군])),MATCH(ROW(표1[교과군]), ROW(표1[교과군])), ""), ROWS($A$1:A2)), COLUMNS($A$1:A2)),"")} -> 과학탐구실험 | Q24: =IFERROR(INDEX(표1[구분],MATCH(P24,표1[과목명],0)),"") -> 공통 | R24: =IFERROR(INDEX(표1[학년],MATCH(P24,표1[과목명],0)),"") -> 1 | S24: =IFERROR(INDEX(표1[학점],MATCH(P24,표1[과목명],0)),"") -> 2 | U24: {=IFERROR(INDEX(표1[과목명], SMALL(IF(ISNUMBER(SEARCH($V$21,표1[교과군])),MATCH(ROW(표1[교과군]), ROW(표1[교과군])), ""), ROWS($A$1:A2)), COLUMNS($A$1:A2)),"")} -> 미술 | V24: =IFERROR(INDEX(표1[구분],MATCH(U24,표1[과목명],0)),"") -> 일반 | W24: =IFERROR(INDEX(표1[학년],MATCH(U24,표1[과목명],0)),"") -> 2 | X24: =IFERROR(INDEX(표1[학점],MATCH(U24,표1[과목명],0)),"") -> 4 | Z24: {=IFERROR(INDEX(표1[과목명], SMALL(IF(ISNUMBER(SEARCH($AA$21,표1[교과군])),MATCH(ROW(표1[교과군]), ROW(표1[교과군])), ""), ROWS($A$1:A2)), COLUMNS($A$1:A2)),"")} -> 운동과건강 | AA24: =IFERROR(INDEX(표1[구분],MATCH(Z24,표1[과목명],0)),"") -> 일반 | AB24: =IFERROR(INDEX(표1[학년],MATCH(Z24,표1[과목명],0)),"") -> 2 | AC24: =IFERROR(INDEX(표1[학점],MATCH(Z24,표1[과목명],0)),"") -> 4
B25: 학교지정 | C25: =IFERROR(INDEX(교과DATA!$H$2:$H$67,MATCH(표1[[#This Row],[과목명]],교과DATA!$C$2:$C$67,0)),"") -> 2 | D25: {=IF(ISBLANK($I$2),"",IFERROR(INDEX(학교지정과목!$K$5:$K$25, SMALL(IF(ISNUMBER(SEARCH(2,학교지정과목!$O$5:$O$25)),MATCH(ROW(학교지정과목!$O$5:$O$25), ROW(학교지정과목!$O$5:$O$25)), ""), ROWS($A$1:A8)), COLUMNS($A$1:A8)),""))} -> 미술 | E25: =IFERROR(INDEX(교과DATA!$F$2:$F$67,MATCH(표1[[#This Row],[과목명]],교과DATA!$C$2:$C$67,0)),"") -> 일반 | F25: =IFERROR(INDEX(교과DATA!$E$2:$E$67,MATCH(표1[[#This Row],[과목명]],교과DATA!$C$2:$C$67,0)),"") -> 예술 | G25: =IFERROR(INDEX(교과DATA!$G$2:$G$67,MATCH(표1[[#This Row],[과목명]],교과DATA!$C$2:$C$67,0)),"") -> 4 | H25: =IFERROR(INDEX(교과DATA!$I$2:$I$67,MATCH(표1[[#This Row],[과목명]],교과DATA!$C$2:$C$67,0)),"") -> 전체 | K25: {=IFERROR(INDEX(표1[과목명], SMALL(IF(ISNUMBER(SEARCH($L$21,표1[교과군])),MATCH(ROW(표1[교과군]), ROW(표1[교과군])), ""), ROWS($A$1:A3)), COLUMNS($A$1:A3)),"")} | L25: =IFERROR(INDEX(표1[구분],MATCH(K25,표1[과목명],0)),"") | M25: =IFERROR(INDEX(표1[학년],MATCH(K25,표1[과목명],0)),"") | N25: =IFERROR(INDEX(표1[학점],MATCH(K25,표1[과목명],0)),"") | P25: {=IFERROR(INDEX(표1[과목명], SMALL(IF(ISNUMBER(SEARCH($Q$21,표1[교과군])),MATCH(ROW(표1[교과군]), ROW(표1[교과군])), ""), ROWS($A$1:A3)), COLUMNS($A$1:A3)),"")} | Q25: =IFERROR(INDEX(표1[구분],MATCH(P25,표1[과목명],0)),"") | R25: =IFERROR(INDEX(표1[학년],MATCH(P25,표1[과목명],0)),"") | S25: =IFERROR(INDEX(표1[학점],MATCH(P25,표1[과목명],0)),"") | U25: {=IFERROR(INDEX(표1[과목명], SMALL(IF(ISNUMBER(SEARCH($V$21,표1[교과군])),MATCH(ROW(표1[교과군]), ROW(표1[교과군])), ""), ROWS($A$1:A3)), COLUMNS($A$1:A3)),"")} | V25: =IFERROR(INDEX(표1[구분],MATCH(U25,표1[과목명],0)),"") | W25: =IFERROR(INDEX(표1[학년],MATCH(U25,표1[과목명],0)),"") | X25: =IFERROR(INDEX(표1[학점],MATCH(U25,표1[과목명],0)),"") | Z25: {=IFERROR(INDEX(표1[과목명], SMALL(IF(ISNUMBER(SEARCH($AA$21,표1[교과군])),MATCH(ROW(표1[교과군]), ROW(표1[교과군])), ""), ROWS($A$1:A3)), COLUMNS($A$1:A3)),"")} | AA25: =IFERROR(INDEX(표1[구분],MATCH(Z25,표1[과목명],0)),"") | AB25: =IFERROR(INDEX(표1[학년],MATCH(Z25,표1[과목명],0)),"") | AC25: =IFERROR(INDEX(표1[학점],MATCH(Z25,표1[과목명],0)),"")
