Workbook

Sheet 판매입력
A1: 일자 | B1: 순번 | C1: 거래처코드 | D1: 거래처명 | E1: 담당자 | F1: 출하창고 | G1: 거래유형 | H1: 통화 | I1: 환율 | J1: 품목코드 | K1: 품목명 | L1: 수량 | N1: 단가(vat포함) | O1: 외화금액 | R1: 적요 | S1: 관리항목 | T1: 생산전표생성 | U1: 추가수량 | V1: 규격
A2: 20200326 | B2: 1 | C2: B00038 | E2: 00037 | F2: 100 | J2: T1803 | L2: 3 | R2: 13604165
A3: 20200326 | B3: 1 | C3: B00038 | E3: 00037 | F3: 100 | J3: T1825 | L3: 3
A4: 20200326 | B4: 2 | C4: B00038 | E4: 00037 | F4: 100 | J4: 041388004112 | L4: 20 | R4: 14006015
A5: 20200326 | B5: 2 | C5: B00038 | E5: 00037 | F5: 100 | J5: 041388004464 | L5: 4
A6: 20200326 | B6: 3 | C6: B00038 | E6: 00037 | F6: 100 | J6: 041388002620 | L6: 12 | R6: 14006073
A7: 20200326 | B7: 4 | C7: B00038 | E7: 00037 | F7: 100 | J7: T84022 | L7: 150 | R7: 14017633
A8: 20200326 | B8: 4 | C8: B00038 | E8: 00037 | F8: 100 | J8: T84035 | L8: 8
A9: 20200326 | B9: 4 | C9: B00038 | E9: 00037 | F9: 100 | J9: T1803 | L9: 252
A10: 20200326 | B10: 4 | C10: B00038 | E10: 00037 | F10: 100 | J10: T84011 | L10: 380
A11: 20200326 | B11: 4 | C11: B00038 | E11: 00037 | F11: 100 | J11: T24112 | L11: 480
A12: 20200326 | B12: 5 | C12: B00038 | E12: 00037 | F12: 100 | J12: E21702 | L12: 4 | R12: 14018338
A13: 20200326 | B13: 5 | C13: B00038 | E13: 00037 | F13: 100 | J13: 041388210209 | L13: 207
A14: 20200326 | B14: 6 | C14: B00038 | E14: 00037 | F14: 100 | J14: L82510 | L14: 4 | R14: 14018399
A15: 20200326 | B15: 6 | C15: B00038 | E15: 00037 | F15: 100 | J15: L82462 | L15: 4
A16: 20200326 | B16: 6 | C16: B00038 | E16: 00037 | F16: 100 | J16: L82468 | L16: 12
A17: 20200326 | B17: 6 | C17: B00038 | E17: 00037 | F17: 100 | J17: L82464 | L17: 8
A18: 20200326 | B18: 6 | C18: B00038 | E18: 00037 | F18: 100 | J18: E21662 | L18: 25
A19: 20200326 | B19: 6 | C19: B00038 | E19: 00037 | F19: 100 | J19: F83703 | L19: 2
A20: 20200326 | B20: 6 | C20: B00038 | E20: 00037 | F20: 100 | J20: E21702 | L20: 12
A21: 20200326 | B21: 6 | C21: B00038 | E21: 00037 | F21: 100 | J21: E21622 | L21: 8
A22: 20200326 | B22: 6 | C22: B00038 | E22: 00037 | F22: 100 | J22: E21626 | L22: 8
A23: 20200326 | B23: 6 | C23: B00038 | E23: 00037 | F23: 100 | J23: 041388003597 | L23: 25
A24: 20200326 | B24: 6 | C24: B00038 | E24: 00037 | F24: 100 | J24: 041388002620 | L24: 14
A25: 20200326 | B25: 6 | C25: B00038 | E25: 00037 | F25: 100 | J25: 041388069555 | L25: 125
A26: 20200326 | B26: 6 | C26: B00038 | E26: 00037 | F26: 100 | J26: 041388069654 | L26: 14
A27: 20200326 | B27: 7 | C27: B00038 | E27: 00037 | F27: 100 | J27: SET0933201705 | L27: 12 | R27: 14055347
A28: 20200326 | B28: 7 | C28: B00038 | E28: 00037 | F28: 100 | J28: SET0933201711 | L28: 12
A29: 20200326 | B29: 7 | C29: B00038 | E29: 00037 | F29: 100 | J29: SET0933274577 | L29: 12
A30: 20200326 | B30: 7 | C30: B00038 | E30: 00037 | F30: 100 | J30: T1823 | L30: 36
A31: 20200326 | B31: 7 | C31: B00038 | E31: 00037 | F31: 100 | J31: T84007 | L31: 12
A32: 20200326 | B32: 7 | C32: B00038 | E32: 00037 | F32: 100 | J32: T84061 | L32: 36
A33: 20200326 | B33: 8 | C33: B00038 | E33: 00037 | F33: 100 | J33: SET0933274577 | L33: 15 | R33: 14167603
A34: 20200326 | B34: 9 | C34: B00038 | E34: 00037 | F34: 100 | J34: SET0933274577 | L34: 8 | R34: 14167620
A35: 20200326 | B35: 10 | C35: B00038 | E35: 00037 | F35: 100 | J35: SET0933274577 | L35: 12 | R35: 14167651
A36: 20200326 | B36: 11 | C36: B00038 | E36: 00037 | F36: 100 | J36: 041388069555 | L36: 110 | R36: 14172962
A37: 20200326 | B37: 12 | C37: B00038 | E37: 00037 | F37: 100 | J37: T84022 | L37: 46 | R37: 14173107
A38: 20200326 | B38: 12 | C38: B00038 | E38: 00037 | F38: 100 | J38: T1731 | L38: 72
A39: 20200326 | B39: 12 | C39: B00038 | E39: 00037 | F39: 100 | J39: T1803 | L39: 78
A40: 20200326 | B40: 12 | C40: B00038 | E40: 00037 | F40: 100 | J40: T84011 | L40: 136
A41: 20200326 | B41: 12 | C41: B00038 | E41: 00037 | F41: 100 | J41: T1825 | L41: 63
A42: 20200326 | B42: 12 | C42: B00038 | E42: 00037 | F42: 100 | J42: T1711 | L42: 387
A43: 20200326 | B43: 12 | C43: B00038 | E43: 00037 | F43: 100 | J43: T1815 | L43: 150
A44: 20200326 | B44: 12 | C44: B00038 | E44: 00037 | F44: 100 | J44: T24112 | L44: 284
A45: 20200326 | B45: 12 | C45: B00038 | E45: 00037 | F45: 100 | J45: T24111 | L45: 24
A46: 20200326 | B46: 13 | C46: B00038 | E46: 00037 | F46: 100 | J46: 041388069555 | L46: 300 | R46: 14173847
A47: 20200326 | B47: 14 | C47: B00038 | E47: 00037 | F47: 100 | J47: 041388069555 | L47: 174 | R47: 14173990
A48: 20200326 | B48: 15 | C48: B00038 | E48: 00037 | F48: 100 | J48: 041388004112 | L48: 6 | R48: 14174122
A49: 20200326 | B49: 15 | C49: B00038 | E49: 00037 | F49: 100 | J49: 041388004464 | L49: 32
A50: 20200326 | B50: 16 | C50: B00038 | E50: 00037 | F50: 100 | J50: T84022 | L50: 10 | R50: 14174314
A51: 20200326 | B51: 16 | C51: B00038 | E51: 00037 | F51: 100 | J51: T1803 | L51: 90
A52: 20200326 | B52: 16 | C52: B00038 | E52: 00037 | F52: 100 | J52: T84011 | L52: 96
A53: 20200326 | B53: 16 | C53: B00038 | E53: 00037 | F53: 100 | J53: T1825 | L53: 36
A54: 20200326 | B54: 16 | C54: B00038 | E54: 00037 | F54: 100 | J54: T1711 | L54: 117
A55: 20200326 | B55: 16 | C55: B00038 | E55: 00037 | F55: 100 | J55: T1815 | L55: 81
A56: 20200326 | B56: 16 | C56: B00038 | E56: 00037 | F56: 100 | J56: T24112 | L56: 80
A57: 20200326 | B57: 17 | C57: B00038 | E57: 00037 | F57: 100 | J57: T1711 | L57: 216 | R57: 14174776
A58: 20200326 | B58: 18 | C58: B00038 | E58: 00037 | F58: 100 | J58: 041388004112 | L58: 19 | R58: 14175072
A59: 20200326 | B59: 18 | C59: B00038 | E59: 00037 | F59: 100 | J59: 041388004464 | L59: 2
A60: 20200326 | B60: 19 | C60: B00038 | E60: 00037 | F60: 100 | J60: T84022 | L60: 3 | R60: 14175230
A61: 20200326 | B61: 19 | C61: B00038 | E61: 00037 | F61: 100 | J61: T24112 | L61: 40
A62: 20200326 | B62: 20 | C62: B00038 | E62: 00037 | F62: 100 | J62: 041388004112 | L62: 12 | R62: 14175383
A63: 20200326 | B63: 20 | C63: B00038 | E63: 00037 | F63: 100 | J63: 041388004464 | L63: 16
A64: 20200326 | B64: 21 | C64: B00038 | E64: 00037 | F64: 100 | J64: 041388069555 | L64: 488 | R64: 14175531
A65: 20200326 | B65: 22 | C65: B00038 | E65: 00037 | F65: 100 | J65: SET0933274577 | L65: 36 | R65: 14271223
A66: 20200326 | B66: 23 | C66: B00038 | E66: 00037 | F66: 100 | J66: T1803 | L66: 36 | R66: 14317559
A67: 20200326 | B67: 23 | C67: B00038 | E67: 00037 | F67: 100 | J67: T84011 | L67: 36
A68: 20200326 | B68: 24 | C68: B00038 | E68: 00037 | F68: 100 | J68: T84011 | L68: 32 | R68: 14317929
A69: 20200326 | B69: 24 | C69: B00038 | E69: 00037 | F69: 100 | J69: T1711 | L69: 153
A70: 20200326 | B70: 25 | C70: B00038 | E70: 00037 | F70: 100 | J70: 041388069555 | L70: 2700 | R70: 14318114
A71: 20200326 | B71: 26 | C71: B00038 | E71: 00037 | F71: 100 | J71: T84011 | L71: 44 | R71: 14318257
A72: 20200326 | B72: 26 | C72: B00038 | E72: 00037 | F72: 100 | J72: T1711 | L72: 72
A73: 20200326 | B73: 26 | C73: B00038 | E73: 00037 | F73: 100 | J73: T24112 | L73: 60
A74: 20200326 | B74: 27 | C74: B00038 | E74: 00037 | F74: 100 | J74: 041388001715 | L74: 90 | R74: 14318561
A75: 20200326 | B75: 28 | C75: B00038 | E75: 00037 | F75: 100 | J75: 041388001715 | L75: 90 | R75: 14318634
A76: 20200326 | B76: 29 | C76: B00038 | E76: 00037 | F76: 100 | J76: 041388001715 | L76: 90 | R76: 14318718
A77: 20200326 | B77: 30 | C77: B00038 | E77: 00037 | F77: 100 | J77: 041388001715 | L77: 180 | R77: 14318783
A78: 20200326 | B78: 31 | C78: B00038 | E78: 00037 | F78: 100 | J78: T1803 | L78: 54 | R78: 14318874
A79: 20200326 | B79: 31 | C79: B00038 | E79: 00037 | F79: 100 | J79: T84011 | L79: 156
A80: 20200326 | B80: 31 | C80: B00038 | E80: 00037 | F80: 100 | J80: T1825 | L80: 9
A81: 20200326 | B81: 31 | C81: B00038 | E81: 00037 | F81: 100 | J81: T1711 | L81: 162
A82: 20200326 | B82: 31 | C82: B00038 | E82: 00037 | F82: 100 | J82: T24112 | L82: 192
A83: 20200326 | B83: 32 | C83: B00038 | E83: 00037 | F83: 100 | J83: 041388069555 | L83: 2700 | R83: 14328134
A84: 20200326 | B84: 33 | C84: B00038 | E84: 00037 | F84: 100 | J84: 041388069654 | L84: 48 | R84: 14343454
A85: 20200326 | B85: 34 | C85: B00038 | E85: 00037 | F85: 100 | J85: 041388004112 | L85: 30 | R85: 14368069
A86: 20200326 | B86: 34 | C86: B00038 | E86: 00037 | F86: 100 | J86: 041388004464 | L86: 30
A87: 20200326 | B87: 35 | C87: B00038 | E87: 00037 | F87: 100 | J87: 041388004112 | L87: 26 | R87: 14368164
A88: 20200326 | B88: 35 | C88: B00038 | E88: 00037 | F88: 100 | J88: 041388004464 | L88: 8
A89: 20200326 | B89: 36 | C89: B00038 | E89: 00037 | F89: 100 | J89: 041388004112 | L89: 39 | R89: 14368239
A90: 20200326 | B90: 36 | C90: B00038 | E90: 00037 | F90: 100 | J90: 041388004464 | L90: 34
A91: 20200326 | B91: 37 | C91: B00038 | E91: 00037 | F91: 100 | J91: SET0933201705 | L91: 36 | R91: 14407716
A92: 20200326 | B92: 38 | C92: B00038 | E92: 00037 | F92: 100 | J92: T84022 | L92: 18 | R92: 14552559
A93: 20200326 | B93: 38 | C93: B00038 | E93: 00037 | F93: 100 | J93: T84011 | L93: 20
A94: 20200326 | B94: 38 | C94: B00038 | E94: 00037 | F94: 100 | J94: T1711 | L94: 63
A95: 20200326 | B95: 38 | C95: B00038 | E95: 00037 | F95: 100 | J95: T1815 | L95: 9
A96: 20200326 | B96: 38 | C96: B00038 | E96: 00037 | F96: 100 | J96: T24112 | L96: 68
A97: 20200326 | B97: 39 | C97: B00038 | E97: 00037 | F97: 100 | J97: T84022 | L97: 29 | R97: 14553434
A98: 20200326 | B98: 39 | C98: B00038 | E98: 00037 | F98: 100 | J98: T1803 | L98: 27
A99: 20200326 | B99: 39 | C99: B00038 | E99: 00037 | F99: 100 | J99: T84011 | L99: 96
A100: 20200326 | B100: 39 | C100: B00038 | E100: 00037 | F100: 100 | J100: T1825 | L100: 27
...

Sheet Sheet1
B3: 행 레이블 | C3: 합계 : 수량 | D3: 평균 : 공급가액 | E3: 평균 : 세액 | F3: 품목코드 | G3: 공급액 | H3: 세액 | I3: LOT
A4: 13604165 | B4: elf 블랜딩 아이 브러쉬 3개입 | C4: 1 | D4: 2550 | E4: 255 | F4: =VLOOKUP(B4,[1]상품리스트!$A:$C,3,0) -> 1100001835324 | G4: =+D4*C4 -> 2550 | H4: =+E4*C4 -> 255 | I4: =VLOOKUP(F4,[2]Sheet1!$D$5:$E$82,2,0) -> #N/A
B5: elf 스머지 브러쉬, 단일 색상 | C5: 1 | D5: 2782 | E5: 278 | F5: =VLOOKUP(B5,[1]상품리스트!$A:$C,3,0) -> #N/A
A6: 14006015 | B6: 오더이터 스프레이 113g | C6: 20 | D6: 6109 | E6: 611 | F6: =VLOOKUP(B6,[1]상품리스트!$A:$C,3,0) -> 041388004112
B7: 오더이터 파우더 170g | C7: 4 | D7: 6109 | E7: 611 | F7: =VLOOKUP(B7,[1]상품리스트!$A:$C,3,0) -> 041388004464
A8: 14006073 | B8: 블리스텍스 인텐시브 모이스처 체리 립밤 6ml | C8: 12 | D8: 3818 | E8: 382 | F8: =VLOOKUP(B8,[1]상품리스트!$A:$C,3,0) -> 041388002620
A9: 14017633 | B9: e.l.f., Angled Blush Brush | C9: 150 | D9: 2782 | E9: 278 | F9: =VLOOKUP(B9,[1]상품리스트!$A:$C,3,0) -> #N/A
B10: e.l.f., Contouring Brush | C10: 8 | D10: 4173 | E10: 417 | F10: =VLOOKUP(B10,[1]상품리스트!$A:$C,3,0) -> #N/A
B11: elf 블랜딩 아이 브러쉬 3개입 | C11: 84 | D11: 2550 | E11: 255 | F11: =VLOOKUP(B11,[1]상품리스트!$A:$C,3,0) -> 1100001835324
B12: elf 블러쉬 브러쉬 2개 | C12: 190 | D12: 4455 | E12: 445 | F12: =VLOOKUP(B12,[1]상품리스트!$A:$C,3,0) -> 1100001835393
B13: elf 토탈 페이스 브러쉬, 단일 색상 2개 | C13: 240 | D13: 3153 | E13: 315 | F13: =VLOOKUP(B13,[1]상품리스트!$A:$C,3,0) -> 1100001835348
A14: 14018338 | B14: elf 엑스퍼트 리퀴드 라이너 제트 블랙 4.5ml | C14: 4 | D14: 1909 | E14: 191 | F14: =VLOOKUP(B14,[1]상품리스트!$A:$C,3,0) -> 609332217027
B15: 블리스텍스 립 릴리프 크림 립밤 6g 3개입 | C15: 69 | D15: 5345 | E15: 535 | F15: =VLOOKUP(B15,[1]상품리스트!$A:$C,3,0) -> R003942780005
A16: 14018399 | B16: elf 립 엑스폴리에이터 브라운 슈가 4.4g | C16: 4 | D16: 2864 | E16: 286 | F16: =VLOOKUP(B16,[1]상품리스트!$A:$C,3,0) -> L82510
B17: elf 매트 립 컬러 내추럴 1.4g | C17: 4 | D17: 2864 | E17: 286 | F17: =VLOOKUP(B17,[1]상품리스트!$A:$C,3,0) -> L82462
B18: elf 매트 립 컬러 와인 1.4g | C18: 12 | D18: 2864 | E18: 286 | F18: =VLOOKUP(B18,[1]상품리스트!$A:$C,3,0) -> L82468
B19: elf 매트 립 컬러 프랄린 1.4g | C19: 8 | D19: 2864 | E19: 286 | F19: =VLOOKUP(B19,[1]상품리스트!$A:$C,3,0) -> L82464
B20: elf 볼류마이징 & 디파이닝 마스카라 제트 블랙 5.5ml | C20: 25 | D20: 1908 | E20: 191 | F20: =VLOOKUP(B20,[1]상품리스트!$A:$C,3,0) -> E21662
B21: elf 브론저 골든 브론저 15g | C21: 2 | D21: 3818 | E21: 382 | F21: =VLOOKUP(B21,[1]상품리스트!$A:$C,3,0) -> 609332837034
B22: elf 엑스퍼트 리퀴드 라이너 제트 블랙 4.5ml | C22: 12 | D22: 1909 | E22: 191 | F22: =VLOOKUP(B22,[1]상품리스트!$A:$C,3,0) -> 609332217027
B23: elf 플로리스 아이섀도우 골든 가디스 4g | C23: 8 | D23: 1909 | E23: 191 | F23: =VLOOKUP(B23,[1]상품리스트!$A:$C,3,0) -> 609332216228
B24: elf 플로리스 아이섀도우 스모키 4g | C24: 8 | D24: 1909 | E24: 191 | F24: =VLOOKUP(B24,[1]상품리스트!$A:$C,3,0) -> 609332216266
B25: 블리스텍스 립 바이브런스 립밤 3.69g | C25: 25 | D25: 3500 | E25: 350 | F25: =VLOOKUP(B25,[1]상품리스트!$A:$C,3,0) -> 041388003597
B26: 블리스텍스 인텐시브 모이스처 체리 립밤 6ml | C26: 14 | D26: 3818 | E26: 382 | F26: =VLOOKUP(B26,[1]상품리스트!$A:$C,3,0) -> 041388002620
B27: 스트라이덱스 센시티브 패드 55매 | C27: 125 | D27: 5791 | E27: 579 | F27: =VLOOKUP(B27,[1]상품리스트!$A:$C,3,0) -> 041388008134
B28: 스트라이덱스 센시티브 패드 90매 | C28: 14 | D28: 8209 | E28: 821 | F28: =VLOOKUP(B28,[1]상품리스트!$A:$C,3,0) -> 041388008226
A29: 14055347 | B29: elf 머스트해브 브러쉬 세트 | C29: 12 | D29: 7309 | E29: 731 | F29: =VLOOKUP(B29,[1]상품리스트!$A:$C,3,0) -> SET0933201705
B30: elf 메이아이엘프유 브러쉬 키트 | C30: 12 | D30: 6491 | E30: 649 | F30: =VLOOKUP(B30,[1]상품리스트!$A:$C,3,0) -> SET0933201711
B31: elf 베스트 아이템 브러쉬 세트 | C31: 12 | D31: 8618 | E31: 862 | F31: =VLOOKUP(B31,[1]상품리스트!$A:$C,3,0) -> SET0933274577
B32: elf 아이크리즈 브러쉬 3개입 | C32: 12 | D32: 4800 | E32: 480 | F32: =VLOOKUP(B32,[1]상품리스트!$A:$C,3,0) -> R004247720005
B33: elf 컨실러 브러쉬 (검정) 3개입 | C33: 12 | D33: 10582 | E33: 1058 | F33: =VLOOKUP(B33,[1]상품리스트!$A:$C,3,0) -> 609332840072
B34: elf 토탈 페이스 스펀지 3개입 | C34: 12 | D34: 14727 | E34: 1473 | F34: =VLOOKUP(B34,[1]상품리스트!$A:$C,3,0) -> 609332840614
A35: 14167603 | B35: elf 베스트 아이템 브러쉬 세트 | C35: 15 | D35: 8618 | E35: 862 | F35: =VLOOKUP(B35,[1]상품리스트!$A:$C,3,0) -> SET0933274577
A36: 14167620 | B36: elf 베스트 아이템 브러쉬 세트 | C36: 8 | D36: 8618 | E36: 862 | F36: =VLOOKUP(B36,[1]상품리스트!$A:$C,3,0) -> SET0933274577
A37: 14167651 | B37: elf 베스트 아이템 브러쉬 세트 | C37: 12 | D37: 8618 | E37: 862 | F37: =VLOOKUP(B37,[1]상품리스트!$A:$C,3,0) -> SET0933274577
A38: 14172962 | B38: 스트라이덱스 센시티브 패드 55매 | C38: 110 | D38: 5791 | E38: 579 | F38: =VLOOKUP(B38,[1]상품리스트!$A:$C,3,0) -> 041388008134
A39: 14173107 | B39: e.l.f., Angled Blush Brush | C39: 46 | D39: 2782 | E39: 278 | F39: =VLOOKUP(B39,[1]상품리스트!$A:$C,3,0) -> #N/A
B40: elf 듀얼 펜슬 샤프너 3개 | C40: 24 | D40: 2473 | E40: 247 | F40: =VLOOKUP(B40,[1]상품리스트!$A:$C,3,0) -> 1100001835614
B41: elf 블랜딩 아이 브러쉬 3개입 | C41: 26 | D41: 2550 | E41: 255 | F41: =VLOOKUP(B41,[1]상품리스트!$A:$C,3,0) -> 1100001835324
B42: elf 블러쉬 브러쉬 2개 | C42: 68 | D42: 4455 | E42: 445 | F42: =VLOOKUP(B42,[1]상품리스트!$A:$C,3,0) -> 1100001835393
B43: elf 스머지 브러쉬, 단일 색상 | C43: 21 | D43: 2782 | E43: 278 | F43: =VLOOKUP(B43,[1]상품리스트!$A:$C,3,0) -> #N/A
B44: elf 슬랜트 족집게, 실버3개 | C44: 129 | D44: 2627 | E44: 263 | F44: =VLOOKUP(B44,[1]상품리스트!$A:$C,3,0) -> 1100001835546
B45: elf 아이섀도우 브러쉬, 화이트 3개 | C45: 50 | D45: 2473 | E45: 247 | F45: =VLOOKUP(B45,[1]상품리스트!$A:$C,3,0) -> 1100001835485
B46: elf 토탈 페이스 브러쉬, 단일 색상 2개 | C46: 142 | D46: 3153 | E46: 315 | F46: =VLOOKUP(B46,[1]상품리스트!$A:$C,3,0) -> 1100001835348
B47: elf 파운데이션 브러쉬, 단일 색상 | C47: 12 | D47: 3060 | E47: 306 | F47: =VLOOKUP(B47,[1]상품리스트!$A:$C,3,0) -> #N/A
A48: 14173847 | B48: 스트라이덱스 센시티브 패드 55매 | C48: 300 | D48: 5791 | E48: 579 | F48: =VLOOKUP(B48,[1]상품리스트!$A:$C,3,0) -> 041388008134
A49: 14173990 | B49: 스트라이덱스 센시티브 패드 55매 | C49: 174 | D49: 5791 | E49: 579 | F49: =VLOOKUP(B49,[1]상품리스트!$A:$C,3,0) -> 041388008134
A50: 14174122 | B50: 오더이터 스프레이 113g | C50: 6 | D50: 6109 | E50: 611 | F50: =VLOOKUP(B50,[1]상품리스트!$A:$C,3,0) -> 041388004112
B51: 오더이터 파우더 170g | C51: 32 | D51: 6109 | E51: 611 | F51: =VLOOKUP(B51,[1]상품리스트!$A:$C,3,0) -> 041388004464
A52: 14174314 | B52: e.l.f., Angled Blush Brush | C52: 10 | D52: 2782 | E52: 278 | F52: =VLOOKUP(B52,[1]상품리스트!$A:$C,3,0) -> #N/A
B53: elf 블랜딩 아이 브러쉬 3개입 | C53: 30 | D53: 2550 | E53: 255 | F53: =VLOOKUP(B53,[1]상품리스트!$A:$C,3,0) -> 1100001835324
B54: elf 블러쉬 브러쉬 2개 | C54: 48 | D54: 4455 | E54: 445 | F54: =VLOOKUP(B54,[1]상품리스트!$A:$C,3,0) -> 1100001835393
B55: elf 스머지 브러쉬, 단일 색상 | C55: 12 | D55: 2782 | E55: 278 | F55: =VLOOKUP(B55,[1]상품리스트!$A:$C,3,0) -> #N/A
B56: elf 슬랜트 족집게, 실버3개 | C56: 39 | D56: 2627 | E56: 263 | F56: =VLOOKUP(B56,[1]상품리스트!$A:$C,3,0) -> 1100001835546
B57: elf 아이섀도우 브러쉬, 화이트 3개 | C57: 27 | D57: 2473 | E57: 247 | F57: =VLOOKUP(B57,[1]상품리스트!$A:$C,3,0) -> 1100001835485
B58: elf 토탈 페이스 브러쉬, 단일 색상 2개 | C58: 40 | D58: 3153 | E58: 315 | F58: =VLOOKUP(B58,[1]상품리스트!$A:$C,3,0) -> 1100001835348
A59: 14174776 | B59: elf 슬랜트 족집게, 실버3개 | C59: 72 | D59: 2627 | E59: 263 | F59: =VLOOKUP(B59,[1]상품리스트!$A:$C,3,0) -> 1100001835546
A60: 14175072 | B60: 오더이터 스프레이 113g | C60: 19 | D60: 6109 | E60: 611 | F60: =VLOOKUP(B60,[1]상품리스트!$A:$C,3,0) -> 041388004112
B61: 오더이터 파우더 170g | C61: 2 | D61: 6109 | E61: 611 | F61: =VLOOKUP(B61,[1]상품리스트!$A:$C,3,0) -> 041388004464
A62: 14175230 | B62: e.l.f., Angled Blush Brush | C62: 3 | D62: 2782 | E62: 278 | F62: =VLOOKUP(B62,[1]상품리스트!$A:$C,3,0) -> #N/A
B63: elf 토탈 페이스 브러쉬, 단일 색상 2개 | C63: 20 | D63: 3153 | E63: 315 | F63: =VLOOKUP(B63,[1]상품리스트!$A:$C,3,0) -> 1100001835348
A64: 14175383 | B64: 오더이터 스프레이 113g | C64: 12 | D64: 6109 | E64: 611 | F64: =VLOOKUP(B64,[1]상품리스트!$A:$C,3,0) -> 041388004112
B65: 오더이터 파우더 170g | C65: 16 | D65: 6109 | E65: 611 | F65: =VLOOKUP(B65,[1]상품리스트!$A:$C,3,0) -> 041388004464
A66: 14175531 | B66: 스트라이덱스 센시티브 패드 55매 | C66: 488 | D66: 5791 | E66: 579 | F66: =VLOOKUP(B66,[1]상품리스트!$A:$C,3,0) -> 041388008134
A67: 14271223 | B67: elf 베스트 아이템 브러쉬 세트 | C67: 36 | D67: 8618 | E67: 862 | F67: =VLOOKUP(B67,[1]상품리스트!$A:$C,3,0) -> SET0933274577
A68: 14317559 | B68: elf 블랜딩 아이 브러쉬 3개입 | C68: 12 | D68: 3000 | E68: 300 | F68: =VLOOKUP(B68,[1]상품리스트!$A:$C,3,0) -> 1100001835324
B69: elf 블러쉬 브러쉬 2개 | C69: 18 | D69: 5355 | E69: 536 | F69: =VLOOKUP(B69,[1]상품리스트!$A:$C,3,0) -> 1100001835393
A70: 14317929 | B70: elf 블러쉬 브러쉬 2개 | C70: 16 | D70: 5355 | E70: 536 | F70: =VLOOKUP(B70,[1]상품리스트!$A:$C,3,0) -> 1100001835393
B71: elf 슬랜트 족집게, 실버3개 | C71: 51 | D71: 3077 | E71: 308 | F71: =VLOOKUP(B71,[1]상품리스트!$A:$C,3,0) -> 1100001835546
A72: 14318114 | B72: 스트라이덱스 센시티브 패드 55매 | C72: 2700 | D72: 5791 | E72: 579 | F72: =VLOOKUP(B72,[1]상품리스트!$A:$C,3,0) -> 041388008134
A73: 14318257 | B73: elf 블러쉬 브러쉬 2개 | C73: 22 | D73: 5355 | E73: 536 | F73: =VLOOKUP(B73,[1]상품리스트!$A:$C,3,0) -> 1100001835393
B74: elf 슬랜트 족집게, 실버3개 | C74: 24 | D74: 3077 | E74: 308 | F74: =VLOOKUP(B74,[1]상품리스트!$A:$C,3,0) -> 1100001835546
B75: elf 토탈 페이스 브러쉬, 단일 색상 2개 | C75: 30 | D75: 3753 | E75: 375 | F75: =VLOOKUP(B75,[1]상품리스트!$A:$C,3,0) -> 1100001835348
A76: 14318561 | B76: 블리스텍스 립메덱스 7g 3개입 | C76: 30 | D76: 5345 | E76: 535 | F76: =VLOOKUP(B76,[1]상품리스트!$A:$C,3,0) -> R003942780003
A77: 14318634 | B77: 블리스텍스 립메덱스 7g 3개입 | C77: 30 | D77: 5345 | E77: 535 | F77: =VLOOKUP(B77,[1]상품리스트!$A:$C,3,0) -> R003942780003
A78: 14318718 | B78: 블리스텍스 립메덱스 7g 3개입 | C78: 30 | D78: 5345 | E78: 535 | F78: =VLOOKUP(B78,[1]상품리스트!$A:$C,3,0) -> R003942780003
A79: 14318783 | B79: 블리스텍스 립메덱스 7g 3개입 | C79: 60 | D79: 5345 | E79: 535 | F79: =VLOOKUP(B79,[1]상품리스트!$A:$C,3,0) -> R003942780003
A80: 14318874 | B80: elf 블랜딩 아이 브러쉬 3개입 | C80: 18 | D80: 3000 | E80: 300 | F80: =VLOOKUP(B80,[1]상품리스트!$A:$C,3,0) -> 1100001835324
B81: elf 블러쉬 브러쉬 2개 | C81: 78 | D81: 5355 | E81: 536 | F81: =VLOOKUP(B81,[1]상품리스트!$A:$C,3,0) -> 1100001835393
B82: elf 스머지 브러쉬, 단일 색상 | C82: 3 | D82: 3232 | E82: 323 | F82: =VLOOKUP(B82,[1]상품리스트!$A:$C,3,0) -> #N/A
B83: elf 슬랜트 족집게, 실버3개 | C83: 54 | D83: 3077 | E83: 308 | F83: =VLOOKUP(B83,[1]상품리스트!$A:$C,3,0) -> 1100001835546
B84: elf 토탈 페이스 브러쉬, 단일 색상 2개 | C84: 96 | D84: 3753 | E84: 375 | F84: =VLOOKUP(B84,[1]상품리스트!$A:$C,3,0) -> 1100001835348
A85: 14328134 | B85: 스트라이덱스 센시티브 패드 55매 | C85: 2700 | D85: 5791 | E85: 579 | F85: =VLOOKUP(B85,[1]상품리스트!$A:$C,3,0) -> 041388008134
A86: 14343454 | B86: 스트라이덱스 센시티브 패드 90매 | C86: 48 | D86: 8209 | E86: 821 | F86: =VLOOKUP(B86,[1]상품리스트!$A:$C,3,0) -> 041388008226
A87: 14368069 | B87: 오더이터 스프레이 113g | C87: 30 | D87: 6109 | E87: 611 | F87: =VLOOKUP(B87,[1]상품리스트!$A:$C,3,0) -> 041388004112
B88: 오더이터 파우더 170g | C88: 30 | D88: 6109 | E88: 611 | F88: =VLOOKUP(B88,[1]상품리스트!$A:$C,3,0) -> 041388004464
A89: 14368164 | B89: 오더이터 스프레이 113g | C89: 26 | D89: 6109 | E89: 611 | F89: =VLOOKUP(B89,[1]상품리스트!$A:$C,3,0) -> 041388004112
B90: 오더이터 파우더 170g | C90: 8 | D90: 6109 | E90: 611 | F90: =VLOOKUP(B90,[1]상품리스트!$A:$C,3,0) -> 041388004464
A91: 14368239 | B91: 오더이터 스프레이 113g | C91: 39 | D91: 6109 | E91: 611 | F91: =VLOOKUP(B91,[1]상품리스트!$A:$C,3,0) -> 041388004112
B92: 오더이터 파우더 170g | C92: 34 | D92: 6109 | E92: 611 | F92: =VLOOKUP(B92,[1]상품리스트!$A:$C,3,0) -> 041388004464
A93: 14407716 | B93: elf 머스트해브 브러쉬 세트 | C93: 36 | D93: 7309 | E93: 731 | F93: =VLOOKUP(B93,[1]상품리스트!$A:$C,3,0) -> SET0933201705
A94: 14552559 | B94: e.l.f., Angled Blush Brush | C94: 18 | D94: 3382 | E94: 338 | F94: =VLOOKUP(B94,[1]상품리스트!$A:$C,3,0) -> #N/A
B95: elf 블러쉬 브러쉬 2개 | C95: 10 | D95: 5355 | E95: 536 | F95: =VLOOKUP(B95,[1]상품리스트!$A:$C,3,0) -> 1100001835393
B96: elf 슬랜트 족집게, 실버3개 | C96: 21 | D96: 3077 | E96: 308 | F96: =VLOOKUP(B96,[1]상품리스트!$A:$C,3,0) -> 1100001835546
B97: elf 아이섀도우 브러쉬, 화이트 3개 | C97: 3 | D97: 2923 | E97: 292 | F97: =VLOOKUP(B97,[1]상품리스트!$A:$C,3,0) -> 1100001835485
B98: elf 토탈 페이스 브러쉬, 단일 색상 2개 | C98: 34 | D98: 3753 | E98: 375 | F98: =VLOOKUP(B98,[1]상품리스트!$A:$C,3,0) -> 1100001835348
A99: 14553434 | B99: e.l.f., Angled Blush Brush | C99: 29 | D99: 3382 | E99: 338 | F99: =VLOOKUP(B99,[1]상품리스트!$A:$C,3,0) -> #N/A
B100: elf 블랜딩 아이 브러쉬 3개입 | C100: 9 | D100: 3000 | E100: 300 | F100: =VLOOKUP(B100,[1]상품리스트!$A:$C,3,0) -> 1100001835324
B101: elf 블러쉬 브러쉬 2개 | C101: 48 | D101: 5355 | E101: 536 | F101: =VLOOKUP(B101,[1]상품리스트!$A:$C,3,0) -> 1100001835393
B102: elf 스머지 브러쉬, 단일 색상 | C102: 9 | D102: 3232 | E102: 323 | F102: =VLOOKUP(B102,[1]상품리스트!$A:$C,3,0) -> #N/A
...

Sheet data
A1: 구분 | B1: 번호 | C1: SKU번호 | D1: SKU명 | E1: 입고/반출시각 | F1: 물류센터 | G1: 세금타입 | H1: 수량 | I1: 단가 | J1: 공급가액 | K1: 세액 | L1: 총단가 | M1: 총공급가액 | N1: 총세액 | O1: 계산서번호 | P1: 지급일
A2: 발주 | B2: 13604165 | C2: 2370046 | D2: elf 블랜딩 아이 브러쉬 3개입 | E2: 2020/03/09 21:51:41 | F2: 동탄1 | G2: 과세 | H2: 1 | I2: 2805 | J2: 2550 | K2: 255 | L2: 2805 | M2: 2550 | N2: 255 | O2: 3374907 | P2: 2020/04/28 00:00:00
A3: 발주 | B3: 13604165 | C3: 2370061 | D3: elf 스머지 브러쉬, 단일 색상 | E3: 2020/03/11 08:31:26 | F3: 동탄1 | G3: 과세 | H3: 1 | I3: 3060 | J3: 2782 | K3: 278 | L3: 3060 | M3: 2782 | N3: 278 | O3: 3381671 | P3: 2020/05/04 00:00:00
A4: 발주 | B4: 14006015 | C4: 7618021 | D4: 오더이터 스프레이 113g | E4: 2020/03/02 09:22:37 | F4: 인천4 | G4: 과세 | H4: 20 | I4: 6720 | J4: 6109 | K4: 611 | L4: 134400 | M4: 122180 | N4: 12220 | O4: 3348871 | P4: 2020/04/21 00:00:00
A5: 발주 | B5: 14006015 | C5: 7618022 | D5: 오더이터 파우더 170g | E5: 2020/03/02 09:22:37 | F5: 인천4 | G5: 과세 | H5: 4 | I5: 6720 | J5: 6109 | K5: 611 | L5: 26880 | M5: 24436 | N5: 2444 | O5: 3348871 | P5: 2020/04/21 00:00:00
A6: 발주 | B6: 14006073 | C6: 7619034 | D6: 블리스텍스 인텐시브 모이스처 체리 립밤 6ml | E6: 2020/03/02 22:27:45 | F6: 인천4 | G6: 과세 | H6: 12 | I6: 4200 | J6: 3818 | K6: 382 | L6: 50400 | M6: 45816 | N6: 4584 | O6: 3348871 | P6: 2020/04/21 00:00:00
A7: 발주 | B7: 14017633 | C7: 1968303 | D7: e.l.f., Angled Blush Brush | E7: 2020/03/02 10:28:34 | F7: 덕평1 | G7: 과세 | H7: 72 | I7: 3060 | J7: 2782 | K7: 278 | L7: 220320 | M7: 200304 | N7: 20016 | O7: 3348871 | P7: 2020/04/21 00:00:00
A8: 발주 | B8: 14017633 | C8: 1968303 | D8: e.l.f., Angled Blush Brush | E8: 2020/03/02 11:36:10 | F8: 덕평1 | G8: 과세 | H8: 72 | I8: 3060 | J8: 2782 | K8: 278 | L8: 220320 | M8: 200304 | N8: 20016 | O8: 3348871 | P8: 2020/04/21 00:00:00
A9: 발주 | B9: 14017633 | C9: 1968303 | D9: e.l.f., Angled Blush Brush | E9: 2020/03/02 12:00:08 | F9: 덕평1 | G9: 과세 | H9: 6 | I9: 3060 | J9: 2782 | K9: 278 | L9: 18360 | M9: 16692 | N9: 1668 | O9: 3348871 | P9: 2020/04/21 00:00:00
A10: 발주 | B10: 14017633 | C10: 1968312 | D10: e.l.f., Contouring Brush | E10: 2020/03/02 11:52:30 | F10: 덕평1 | G10: 과세 | H10: 8 | I10: 4590 | J10: 4173 | K10: 417 | L10: 36720 | M10: 33384 | N10: 3336 | O10: 3348871 | P10: 2020/04/21 00:00:00
A11: 발주 | B11: 14017633 | C11: 2370046 | D11: elf 블랜딩 아이 브러쉬 3개입 | E11: 2020/03/02 12:00:08 | F11: 덕평1 | G11: 과세 | H11: 84 | I11: 2805 | J11: 2550 | K11: 255 | L11: 235620 | M11: 214200 | N11: 21420 | O11: 3348871 | P11: 2020/04/21 00:00:00
A12: 발주 | B12: 14017633 | C12: 2370048 | D12: elf 토탈 페이스 브러쉬, 단일 색상 2개 | E12: 2020/03/02 19:11:43 | F12: 덕평1 | G12: 과세 | H12: 80 | I12: 3468 | J12: 3153 | K12: 315 | L12: 277440 | M12: 252240 | N12: 25200 | O12: 3348871 | P12: 2020/04/21 00:00:00
A13: 발주 | B13: 14017633 | C13: 2370048 | D13: elf 토탈 페이스 브러쉬, 단일 색상 2개 | E13: 2020/03/02 19:14:40 | F13: 덕평1 | G13: 과세 | H13: 80 | I13: 3468 | J13: 3153 | K13: 315 | L13: 277440 | M13: 252240 | N13: 25200 | O13: 3348871 | P13: 2020/04/21 00:00:00
... A229: 발주 | B229: 14591541 | C229: 7616176 | D229: 스트라이덱스 센시티브 패드 90매 | E229: 2020/03/20 18:56:59 | F229: 동탄1 | G229: 과세 | H229: 799 | I229: 8400 | J229: 7636 | K229: 764 | L229: 6711600 | M229: 6101164 | N229: 610436 | O229: 3409622 | P229: 2020/05/11 00:00:00
