Workbook

Sheet 판매입력
A1: 일자 | B1: 순번 | C1: 거래처코드 | D1: 거래처명 | E1: 담당자 | F1: 출하창고 | G1: 거래유형 | H1: 통화 | I1: 환율 | J1: 품목코드 | K1: 품목명 | L1: 수량 | N1: 단가(vat포함) | O1: 외화금액 | R1: 적요 | S1: 관리항목 | T1: 생산전표생성 | U1: 추가수량 | V1: 규격
A2: 20200326 | B2: 1 | C2: B00038 | E2: 00037 | F2: 100 | J2: T1803 | L2: 3 | R2: 13604165
A3: 20200326 | B3: 1 | C3: B00038 | E3: 00037 | F3: 100 | J3: T1825 | L3: 3
A4: 20200326 | B4: 2 | C4: B00038 | E4: 00037 | F4: 100 | J4: 041388004112 | L4: 20 | R4: 14006015
A5: 20200326 | B5: 2 | C5: B00038 | E5: 00037 | F5: 100 | J5: 041388004464 | L5: 4
A6: 20200326 | B6: 3 | C6: B00038 | E6: 00037 | F6: 100 | J6: 041388002620 | L6: 12 | R6: 14006073
A7: 20200326 | B7: 4 | C7: B00038 | E7: 00037 | F7: 100 | J7: T84022 | L7: 150 | R7: 14017633
A8: 20200326 | B8: 4 | C8: B00038 | E8: 00037 | F8: 100 | J8: T84035 | L8: 8
A9: 20200326 | B9: 4 | C9: B00038 | E9: 00037 | F9: 100 | J9: T1803 | L9: 252
A10: 20200326 | B10: 4 | C10: B00038 | E10: 00037 | F10: 100 | J10: T84011 | L10: 380
A11: 20200326 | B11: 4 | C11: B00038 | E11: 00037 | F11: 100 | J11: T24112 | L11: 480
A12: 20200326 | B12: 5 | C12: B00038 | E12: 00037 | F12: 100 | J12: E21702 | L12: 4 | R12: 14018338
A13: 20200326 | B13: 5 | C13: B00038 | E13: 00037 | F13: 100 | J13: 041388210209 | L13: 207
A14: 20200326 | B14: 6 | C14: B00038 | E14: 00037 | F14: 100 | J14: L82510 | L14: 4 | R14: 14018399
A15: 20200326 | B15: 6 | C15: B00038 | E15: 00037 | F15: 100 | J15: L82462 | L15: 4
A16: 20200326 | B16: 6 | C16: B00038 | E16: 00037 | F16: 100 | J16: L82468 | L16: 12
A17: 20200326 | B17: 6 | C17: B00038 | E17: 00037 | F17: 100 | J17: L82464 | L17: 8
A18: 20200326 | B18: 6 | C18: B00038 | E18: 00037 | F18: 100 | J18: E21662 | L18: 25
A19: 20200326 | B19: 6 | C19: B00038 | E19: 00037 | F19: 100 | J19: F83703 | L19: 2
A20: 20200326 | B20: 6 | C20: B00038 | E20: 00037 | F20: 100 | J20: E21702 | L20: 12
A21: 20200326 | B21: 6 | C21: B00038 | E21: 00037 | F21: 100 | J21: E21622 | L21: 8
A22: 20200326 | B22: 6 | C22: B00038 | E22: 00037 | F22: 100 | J22: E21626 | L22: 8
A23: 20200326 | B23: 6 | C23: B00038 | E23: 00037 | F23: 100 | J23: 041388003597 | L23: 25
A24: 20200326 | B24: 6 | C24: B00038 | E24: 00037 | F24: 100 | J24: 041388002620 | L24: 14
A25: 20200326 | B25: 6 | C25: B00038 | E25: 00037 | F25: 100 | J25: 041388069555 | L25: 125
A26: 20200326 | B26: 6 | C26: B00038 | E26: 00037 | F26: 100 | J26: 041388069654 | L26: 14
A27: 20200326 | B27: 7 | C27: B00038 | E27: 00037 | F27: 100 | J27: SET0933201705 | L27: 12 | R27: 14055347
A28: 20200326 | B28: 7 | C28: B00038 | E28: 00037 | F28: 100 | J28: SET0933201711 | L28: 12
A29: 20200326 | B29: 7 | C29: B00038 | E29: 00037 | F29: 100 | J29: SET0933274577 | L29: 12
A30: 20200326 | B30: 7 | C30: B00038 | E30: 00037 | F30: 100 | J30: T1823 | L30: 36
A31: 20200326 | B31: 7 | C31: B00038 | E31: 00037 | F31: 100 | J31: T84007 | L31: 12
A32: 20200326 | B32: 7 | C32: B00038 | E32: 00037 | F32: 100 | J32: T84061 | L32: 36
A33: 20200326 | B33: 8 | C33: B00038 | E33: 00037 | F33: 100 | J33: SET0933274577 | L33: 15 | R33: 14167603
A34: 20200326 | B34: 9 | C34: B00038 | E34: 00037 | F34: 100 | J34: SET0933274577 | L34: 8 | R34: 14167620
A35: 20200326 | B35: 10 | C35: B00038 | E35: 00037 | F35: 100 | J35: SET0933274577 | L35: 12 | R35: 14167651
A36: 20200326 | B36: 11 | C36: B00038 | E36: 00037 | F36: 100 | J36: 041388069555 | L36: 110 | R36: 14172962
A37: 20200326 | B37: 12 | C37: B00038 | E37: 00037 | F37: 100 | J37: T84022 | L37: 46 | R37: 14173107
A38: 20200326 | B38: 12 | C38: B00038 | E38: 00037 | F38: 100 | J38: T1731 | L38: 72
A39: 20200326 | B39: 12 | C39: B00038 | E39: 00037 | F39: 100 | J39: T1803 | L39: 78
A40: 20200326 | B40: 12 | C40: B00038 | E40: 00037 | F40: 100 | J40: T84011 | L40: 136
...

Sheet Sheet1
B3: 행 레이블 | C3: 합계 : 수량 | D3: 평균 : 공급가액 | E3: 평균 : 세액 | F3: 품목코드 | G3: 공급액 | H3: 세액 | I3: LOT
A4: 13604165 | B4: elf 블랜딩 아이 브러쉬 3개입 | C4: 1 | D4: 2550 | E4: 255 | F4: =VLOOKUP(B4,[1]상품리스트!$A:$C,3,0) -> 1100001835324 | G4: =+D4*C4 -> 2550 | H4: =+E4*C4 -> 255 | I4: =VLOOKUP(F4,[2]Sheet1!$D$5:$E$82,2,0) -> #N/A
B5: elf 스머지 브러쉬, 단일 색상 | C5: 1 | D5: 2782 | E5: 278 | F5: =VLOOKUP(B5,[1]상품리스트!$A:$C,3,0) -> #N/A
A6: 14006015 | B6: 오더이터 스프레이 113g | C6: 20 | D6: 6109 | E6: 611 | F6: =VLOOKUP(B6,[1]상품리스트!$A:$C,3,0) -> 041388004112
B7: 오더이터 파우더 170g | C7: 4 | D7: 6109 | E7: 611 | F7: =VLOOKUP(B7,[1]상품리스트!$A:$C,3,0) -> 041388004464
A8: 14006073 | B8: 블리스텍스 인텐시브 모이스처 체리 립밤 6ml | C8: 12 | D8: 3818 | E8: 382 | F8: =VLOOKUP(B8,[1]상품리스트!$A:$C,3,0) -> 041388002620
A9: 14017633 | B9: e.l.f., Angled Blush Brush | C9: 150 | D9: 2782 | E9: 278 | F9: =VLOOKUP(B9,[1]상품리스트!$A:$C,3,0) -> #N/A
B10: e.l.f., Contouring Brush | C10: 8 | D10: 4173 | E10: 417 | F10: =VLOOKUP(B10,[1]상품리스트!$A:$C,3,0) -> #N/A
B11: elf 블랜딩 아이 브러쉬 3개입 | C11: 84 | D11: 2550 | E11: 255 | F11: =VLOOKUP(B11,[1]상품리스트!$A:$C,3,0) -> 1100001835324
B12: elf 블러쉬 브러쉬 2개 | C12: 190 | D12: 4455 | E12: 445 | F12: =VLOOKUP(B12,[1]상품리스트!$A:$C,3,0) -> 1100001835393
B13: elf 토탈 페이스 브러쉬, 단일 색상 2개 | C13: 240 | D13: 3153 | E13: 315 | F13: =VLOOKUP(B13,[1]상품리스트!$A:$C,3,0) -> 1100001835348
A14: 14018338 | B14: elf 엑스퍼트 리퀴드 라이너 제트 블랙 4.5ml | C14: 4 | D14: 1909 | E14: 191 | F14: =VLOOKUP(B14,[1]상품리스트!$A:$C,3,0) -> 609332217027
B15: 블리스텍스 립 릴리프 크림 립밤 6g 3개입 | C15: 69 | D15: 5345 | E15: 535 | F15: =VLOOKUP(B15,[1]상품리스트!$A:$C,3,0) -> R003942780005
A16: 14018399 | B16: elf 립 엑스폴리에이터 브라운 슈가 4.4g | C16: 4 | D16: 2864 | E16: 286 | F16: =VLOOKUP(B16,[1]상품리스트!$A:$C,3,0) -> L82510
B17: elf 매트 립 컬러 내추럴 1.4g | C17: 4 | D17: 2864 | E17: 286 | F17: =VLOOKUP(B17,[1]상품리스트!$A:$C,3,0) -> L82462
B18: elf 매트 립 컬러 와인 1.4g | C18: 12 | D18: 2864 | E18: 286 | F18: =VLOOKUP(B18,[1]상품리스트!$A:$C,3,0) -> L82468
B19: elf 매트 립 컬러 프랄린 1.4g | C19: 8 | D19: 2864 | E19: 286 | F19: =VLOOKUP(B19,[1]상품리스트!$A:$C,3,0) -> L82464
B20: elf 볼류마이징 & 디파이닝 마스카라 제트 블랙 5.5ml | C20: 25 | D20: 1908 | E20: 191 | F20: =VLOOKUP(B20,[1]상품리스트!$A:$C,3,0) -> E21662
B21: elf 브론저 골든 브론저 15g | C21: 2 | D21: 3818 | E21: 382 | F21: =VLOOKUP(B21,[1]상품리스트!$A:$C,3,0) -> 609332837034
B22: elf 엑스퍼트 리퀴드 라이너 제트 블랙 4.5ml | C22: 12 | D22: 1909 | E22: 191 | F22: =VLOOKUP(B22,[1]상품리스트!$A:$C,3,0) -> 609332217027
B23: elf 플로리스 아이섀도우 골든 가디스 4g | C23: 8 | D23: 1909 | E23: 191 | F23: =VLOOKUP(B23,[1]상품리스트!$A:$C,3,0) -> 609332216228
B24: elf 플로리스 아이섀도우 스모키 4g | C24: 8 | D24: 1909 | E24: 191 | F24: =VLOOKUP(B24,[1]상품리스트!$A:$C,3,0) -> 609332216266
B25: 블리스텍스 립 바이브런스 립밤 3.69g | C25: 25 | D25: 3500 | E25: 350 | F25: =VLOOKUP(B25,[1]상품리스트!$A:$C,3,0) -> 041388003597
B26: 블리스텍스 인텐시브 모이스처 체리 립밤 6ml | C26: 14 | D26: 3818 | E26: 382 | F26: =VLOOKUP(B26,[1]상품리스트!$A:$C,3,0) -> 041388002620
B27: 스트라이덱스 센시티브 패드 55매 | C27: 125 | D27: 5791 | E27: 579 | F27: =VLOOKUP(B27,[1]상품리스트!$A:$C,3,0) -> 041388008134
B28: 스트라이덱스 센시티브 패드 90매 | C28: 14 | D28: 8209 | E28: 821 | F28: =VLOOKUP(B28,[1]상품리스트!$A:$C,3,0) -> 041388008226
A29: 14055347 | B29: elf 머스트해브 브러쉬 세트 | C29: 12 | D29: 7309 | E29: 731 | F29: =VLOOKUP(B29,[1]상품리스트!$A:$C,3,0) -> SET0933201705
B30: elf 메이아이엘프유 브러쉬 키트 | C30: 12 | D30: 6491 | E30: 649 | F30: =VLOOKUP(B30,[1]상품리스트!$A:$C,3,0) -> SET0933201711
B31: elf 베스트 아이템 브러쉬 세트 | C31: 12 | D31: 8618 | E31: 862 | F31: =VLOOKUP(B31,[1]상품리스트!$A:$C,3,0) -> SET0933274577
B32: elf 아이크리즈 브러쉬 3개입 | C32: 12 | D32: 4800 | E32: 480 | F32: =VLOOKUP(B32,[1]상품리스트!$A:$C,3,0) -> R004247720005
B33: elf 컨실러 브러쉬 (검정) 3개입 | C33: 12 | D33: 10582 | E33: 1058 | F33: =VLOOKUP(B33,[1]상품리스트!$A:$C,3,0) -> 609332840072
B34: elf 토탈 페이스 스펀지 3개입 | C34: 12 | D34: 14727 | E34: 1473 | F34: =VLOOKUP(B34,[1]상품리스트!$A:$C,3,0) -> 609332840614
A35: 14167603 | B35: elf 베스트 아이템 브러쉬 세트 | C35: 15 | D35: 8618 | E35: 862 | F35: =VLOOKUP(B35,[1]상품리스트!$A:$C,3,0) -> SET0933274577
A36: 14167620 | B36: elf 베스트 아이템 브러쉬 세트 | C36: 8 | D36: 8618 | E36: 862 | F36: =VLOOKUP(B36,[1]상품리스트!$A:$C,3,0) -> SET0933274577
A37: 14167651 | B37: elf 베스트 아이템 브러쉬 세트 | C37: 12 | D37: 8618 | E37: 862 | F37: =VLOOKUP(B37,[1]상품리스트!$A:$C,3,0) -> SET0933274577
A38: 14172962 | B38: 스트라이덱스 센시티브 패드 55매 | C38: 110 | D38: 5791 | E38: 579 | F38: =VLOOKUP(B38,[1]상품리스트!$A:$C,3,0) -> 041388008134
A39: 14173107 | B39: e.l.f., Angled Blush Brush | C39: 46 | D39: 2782 | E39: 278 | F39: =VLOOKUP(B39,[1]상품리스트!$A:$C,3,0) -> #N/A
B40: elf 듀얼 펜슬 샤프너 3개 | C40: 24 | D40: 2473 | E40: 247 | F40: =VLOOKUP(B40,[1]상품리스트!$A:$C,3,0) -> 1100001835614
B41: elf 블랜딩 아이 브러쉬 3개입 | C41: 26 | D41: 2550 | E41: 255 | F41: =VLOOKUP(B41,[1]상품리스트!$A:$C,3,0) -> 1100001835324
B42: elf 블러쉬 브러쉬 2개 | C42: 68 | D42: 4455 | E42: 445 | F42: =VLOOKUP(B42,[1]상품리스트!$A:$C,3,0) -> 1100001835393
...

Sheet data
A1: 구분 | B1: 번호 | C1: SKU번호 | D1: SKU명 | E1: 입고/반출시각 | F1: 물류센터 | G1: 세금타입 | H1: 수량 | I1: 단가 | J1: 공급가액 | K1: 세액 | L1: 총단가 | M1: 총공급가액 | N1: 총세액 | O1: 계산서번호 | P1: 지급일
A2: 발주 | B2: 13604165 | C2: 2370046 | D2: elf 블랜딩 아이 브러쉬 3개입 | E2: 2020/03/09 21:51:41 | F2: 동탄1 | G2: 과세 | H2: 1 | I2: 2805 | J2: 2550 | K2: 255 | L2: 2805 | M2: 2550 | N2: 255 | O2: 3374907 | P2: 2020/04/28 00:00:00
A3: 발주 | B3: 13604165 | C3: 2370061 | D3: elf 스머지 브러쉬, 단일 색상 | E3: 2020/03/11 08:31:26 | F3: 동탄1 | G3: 과세 | H3: 1 | I3: 3060 | J3: 2782 | K3: 278 | L3: 3060 | M3: 2782 | N3: 278 | O3: 3381671 | P3: 2020/05/04 00:00:00
A4: 발주 | B4: 14006015 | C4: 7618021 | D4: 오더이터 스프레이 113g | E4: 2020/03/02 09:22:37 | F4: 인천4 | G4: 과세 | H4: 20 | I4: 6720 | J4: 6109 | K4: 611 | L4: 134400 | M4: 122180 | N4: 12220 | O4: 3348871 | P4: 2020/04/21 00:00:00
A5: 발주 | B5: 14006015 | C5: 7618022 | D5: 오더이터 파우더 170g | E5: 2020/03/02 09:22:37 | F5: 인천4 | G5: 과세 | H5: 4 | I5: 6720 | J5: 6109 | K5: 611 | L5: 26880 | M5: 24436 | N5: 2444 | O5: 3348871 | P5: 2020/04/21 00:00:00
A6: 발주 | B6: 14006073 | C6: 7619034 | D6: 블리스텍스 인텐시브 모이스처 체리 립밤 6ml | E6: 2020/03/02 22:27:45 | F6: 인천4 | G6: 과세 | H6: 12 | I6: 4200 | J6: 3818 | K6: 382 | L6: 50400 | M6: 45816 | N6: 4584 | O6: 3348871 | P6: 2020/04/21 00:00:00
A7: 발주 | B7: 14017633 | C7: 1968303 | D7: e.l.f., Angled Blush Brush | E7: 2020/03/02 10:28:34 | F7: 덕평1 | G7: 과세 | H7: 72 | I7: 3060 | J7: 2782 | K7: 278 | L7: 220320 | M7: 200304 | N7: 20016 | O7: 3348871 | P7: 2020/04/21 00:00:00
A8: 발주 | B8: 14017633 | C8: 1968303 | D8: e.l.f., Angled Blush Brush | E8: 2020/03/02 11:36:10 | F8: 덕평1 | G8: 과세 | H8: 72 | I8: 3060 | J8: 2782 | K8: 278 | L8: 220320 | M8: 200304 | N8: 20016 | O8: 3348871 | P8: 2020/04/21 00:00:00
A9: 발주 | B9: 14017633 | C9: 1968303 | D9: e.l.f., Angled Blush Brush | E9: 2020/03/02 12:00:08 | F9: 덕평1 | G9: 과세 | H9: 6 | I9: 3060 | J9: 2782 | K9: 278 | L9: 18360 | M9: 16692 | N9: 1668 | O9: 3348871 | P9: 2020/04/21 00:00:00
A10: 발주 | B10: 14017633 | C10: 1968312 | D10: e.l.f., Contouring Brush | E10: 2020/03/02 11:52:30 | F10: 덕평1 | G10: 과세 | H10: 8 | I10: 4590 | J10: 4173 | K10: 417 | L10: 36720 | M10: 33384 | N10: 3336 | O10: 3348871 | P10: 2020/04/21 00:00:00
A11: 발주 | B11: 14017633 | C11: 2370046 | D11: elf 블랜딩 아이 브러쉬 3개입 | E11: 2020/03/02 12:00:08 | F11: 덕평1 | G11: 과세 | H11: 84 | I11: 2805 | J11: 2550 | K11: 255 | L11: 235620 | M11: 214200 | N11: 21420 | O11: 3348871 | P11: 2020/04/21 00:00:00
A12: 발주 | B12: 14017633 | C12: 2370048 | D12: elf 토탈 페이스 브러쉬, 단일 색상 2개 | E12: 2020/03/02 19:11:43 | F12: 덕평1 | G12: 과세 | H12: 80 | I12: 3468 | J12: 3153 | K12: 315 | L12: 277440 | M12: 252240 | N12: 25200 | O12: 3348871 | P12: 2020/04/21 00:00:00
A13: 발주 | B13: 14017633 | C13: 2370048 | D13: elf 토탈 페이스 브러쉬, 단일 색상 2개 | E13: 2020/03/02 19:14:40 | F13: 덕평1 | G13: 과세 | H13: 80 | I13: 3468 | J13: 3153 | K13: 315 | L13: 277440 | M13: 252240 | N13: 25200 | O13: 3348871 | P13: 2020/04/21 00:00:00
... A229: 발주 | B229: 14591541 | C229: 7616176 | D229: 스트라이덱스 센시티브 패드 90매 | E229: 2020/03/20 18:56:59 | F229: 동탄1 | G229: 과세 | H229: 799 | I229: 8400 | J229: 7636 | K229: 764 | L229: 6711600 | M229: 6101164 | N229: 610436 | O229: 3409622 | P229: 2020/05/11 00:00:00
