Workbook

Sheet Raw Data
A1: 년 | B1: 접수 월 | C1: 파트구분 | D1: 제품명 | E1: 내용
A2: 2023 | B2: 1 | C2: ichroma | D2: Vitamin D | E2: 사람 | J2: AFIAS | K2: HbA1c | L2: 47
A3: 2023 | B3: 1 | C3: ichroma | D3: Calprotectin | E3: 사람 | J3: AFIAS | K3: TSH | L3: 31
A4: 2023 | B4: 1 | C4: ichroma | D4: 미확인 | E4: 사람 | J4: AFIAS | K4: Free T4 | L4: 27
A5: 2023 | B5: 1 | C5: AFIAS | D5: 미확인 | E5: 사람 | J5: AFIAS | K5: Tn-I Plus | L5: 24
A6: 2023 | B6: 1 | C6: AFIAS | D6: D-Dimer | E6: 사람 | J6: AFIAS | K6: T3 | L6: 22
A7: 2023 | B7: 1 | C7: AFIAS | D7: D-Dimer | E7: 사람 | J7: AFIAS | K7: NT-proBNP | L7: 21
A8: 2023 | B8: 1 | C8: AFIAS | D8: D-Dimer | E8: 사람 | J8: AFIAS | K8: CRP | L8: 19
A9: 2023 | B9: 1 | C9: ichroma | D9: IL-6 | E9: 사람 | J9: AFIAS | K9: D-Dimer | L9: 18
A10: 2023 | B10: 1 | C10: ichroma | D10: β-HCG | E10: 사람 | J10: AFIAS | K10: Vitamin D | L10: 16
A11: 2023 | B11: 1 | C11: ichroma | D11: β-HCG | E11: 사람 | J11: AFIAS | K11: Total β-HCG | L11: 11
A12: 2023 | B12: 1 | C12: ichroma | D12: Progesterone | E12: 사람 | J12: AFIAS | K12: IGRA-TB | L12: 8
A13: 2023 | B13: 1 | C13: ichroma | D13: Testosterone | E13: 사람 | J13: AFIAS | K13: Cardiac Triple | L13: 8
... A158: 2023 | B158: 3 | C158: AFIAS | D158: PSA Plus | E158: 사람 | J158: 분주/건조 | K158: D-Dimer | L158: 0
A159: 2023 | B159: 3 | C159: AFIAS | D159: Vitamin D | E159: 사람
A160: 2023 | B160: 3 | C160: ichroma | D160: HbA1c | E160: 사람
A161: 2023 | B161: 3 | C161: AFIAS | D161: NT-proBNP | E161: 사람
A162: 2023 | B162: 3 | C162: ichroma | D162: D-Dimer | E162: 사람
A163: 2023 | B163: 3 | C163: AFIAS | D163: TSH | E163: 사람
A164: 2023 | B164: 3 | C164: AFIAS | D164: TSH | E164: 사람
A165: 2023 | B165: 3 | C165: ichroma | D165: TSH | E165: 사람
A166: 2023 | B166: 4 | C166: ichroma | D166: PSA | E166: 사람
A167: 2023 | B167: 4 | C167: ichroma | D167: Anti-CCP Plus | E167: 사람
A168: 2023 | B168: 4 | C168: ichroma | D168: Calprotectin | E168: 사람
A169: 2023 | B169: 4 | C169: ichroma | D169: D-Dimer | E169: 사람
A170: 2023 | B170: 4 | C170: ichroma | D170: Vitamin D | E170: 사람
... A1704: 2022 | B1704: 9 | C1704: ichroma | D1704: Vitamin D | E1704: 사람

Sheet 파트별 아이템별 차트
A2: NO | B2: 구분 | C2: 년도 | D2: 아이템명 | E2: 1 | F2: 2 | G2: 3 | H2: 4 | I2: 5 | J2: 6 | K2: 7 | L2: 8 | M2: 9 | N2: 10 | O2: 11 | P2: 12 | Q2: 합계
A3: 14 | B3: =_xlfn.XLOOKUP($A3,'BACK DATA'!$A:$A,'BACK DATA'!$B:$B) -> ichroma | C3: 2022 | D3: =_xlfn.XLOOKUP($A3,'BACK DATA'!$A:$A,'BACK DATA'!$C:$C) -> Microalbumin | E3: =COUNTIFS('Raw Data'!$C:$C,'파트별 아이템별 차트'!$B3,'Raw Data'!$D:$D,'파트별 아이템별 차트'!$D3,'Raw Data'!$A:$A,'파트별 아이템별 차트'!$C3,'Raw Data'!$B:$B,'파트별 아이템별 차트'!E$2) -> 0 | F3: =COUNTIFS('Raw Data'!$C:$C,'파트별 아이템별 차트'!$B3,'Raw Data'!$D:$D,'파트별 아이템별 차트'!$D3,'Raw Data'!$A:$A,'파트별 아이템별 차트'!$C3,'Raw Data'!$B:$B,'파트별 아이템별 차트'!F$2) -> 0 | G3: =COUNTIFS('Raw Data'!$C:$C,'파트별 아이템별 차트'!$B3,'Raw Data'!$D:$D,'파트별 아이템별 차트'!$D3,'Raw Data'!$A:$A,'파트별 아이템별 차트'!$C3,'Raw Data'!$B:$B,'파트별 아이템별 차트'!G$2) -> 0 | H3: =COUNTIFS('Raw Data'!$C:$C,'파트별 아이템별 차트'!$B3,'Raw Data'!$D:$D,'파트별 아이템별 차트'!$D3,'Raw Data'!$A:$A,'파트별 아이템별 차트'!$C3,'Raw Data'!$B:$B,'파트별 아이템별 차트'!H$2) -> 0 | I3: =COUNTIFS('Raw Data'!$C:$C,'파트별 아이템별 차트'!$B3,'Raw Data'!$D:$D,'파트별 아이템별 차트'!$D3,'Raw Data'!$A:$A,'파트별 아이템별 차트'!$C3,'Raw Data'!$B:$B,'파트별 아이템별 차트'!I$2) -> 0 | J3: =COUNTIFS('Raw Data'!$C:$C,'파트별 아이템별 차트'!$B3,'Raw Data'!$D:$D,'파트별 아이템별 차트'!$D3,'Raw Data'!$A:$A,'파트별 아이템별 차트'!$C3,'Raw Data'!$B:$B,'파트별 아이템별 차트'!J$2) -> 1 | K3: =COUNTIFS('Raw Data'!$C:$C,'파트별 아이템별 차트'!$B3,'Raw Data'!$D:$D,'파트별 아이템별 차트'!$D3,'Raw Data'!$A:$A,'파트별 아이템별 차트'!$C3,'Raw Data'!$B:$B,'파트별 아이템별 차트'!K$2) -> 0 | L3: =COUNTIFS('Raw Data'!$C:$C,'파트별 아이템별 차트'!$B3,'Raw Data'!$D:$D,'파트별 아이템별 차트'!$D3,'Raw Data'!$A:$A,'파트별 아이템별 차트'!$C3,'Raw Data'!$B:$B,'파트별 아이템별 차트'!L$2) -> 0 | ... P3: =COUNTIFS('Raw Data'!$C:$C,'파트별 아이템별 차트'!$B3,'Raw Data'!$D:$D,'파트별 아이템별 차트'!$D3,'Raw Data'!$A:$A,'파트별 아이템별 차트'!$C3,'Raw Data'!$B:$B,'파트별 아이템별 차트'!P$2) -> 0 | Q3: =SUM(E3:P3) -> 1
A4: =A3 -> 14 | B4: =_xlfn.XLOOKUP($A4,'BACK DATA'!$A:$A,'BACK DATA'!$B:$B) -> ichroma | C4: 2023 | D4: =_xlfn.XLOOKUP($A4,'BACK DATA'!$A:$A,'BACK DATA'!$C:$C) -> Microalbumin | E4: =COUNTIFS('Raw Data'!$C:$C,'파트별 아이템별 차트'!$B4,'Raw Data'!$D:$D,'파트별 아이템별 차트'!$D4,'Raw Data'!$A:$A,'파트별 아이템별 차트'!$C4,'Raw Data'!$B:$B,'파트별 아이템별 차트'!E$2) -> 0 | F4: =COUNTIFS('Raw Data'!$C:$C,'파트별 아이템별 차트'!$B4,'Raw Data'!$D:$D,'파트별 아이템별 차트'!$D4,'Raw Data'!$A:$A,'파트별 아이템별 차트'!$C4,'Raw Data'!$B:$B,'파트별 아이템별 차트'!F$2) -> 1 | G4: =COUNTIFS('Raw Data'!$C:$C,'파트별 아이템별 차트'!$B4,'Raw Data'!$D:$D,'파트별 아이템별 차트'!$D4,'Raw Data'!$A:$A,'파트별 아이템별 차트'!$C4,'Raw Data'!$B:$B,'파트별 아이템별 차트'!G$2) -> 0 | H4: =COUNTIFS('Raw Data'!$C:$C,'파트별 아이템별 차트'!$B4,'Raw Data'!$D:$D,'파트별 아이템별 차트'!$D4,'Raw Data'!$A:$A,'파트별 아이템별 차트'!$C4,'Raw Data'!$B:$B,'파트별 아이템별 차트'!H$2) -> 0 | I4: =COUNTIFS('Raw Data'!$C:$C,'파트별 아이템별 차트'!$B4,'Raw Data'!$D:$D,'파트별 아이템별 차트'!$D4,'Raw Data'!$A:$A,'파트별 아이템별 차트'!$C4,'Raw Data'!$B:$B,'파트별 아이템별 차트'!I$2) -> 1 | J4: =COUNTIFS('Raw Data'!$C:$C,'파트별 아이템별 차트'!$B4,'Raw Data'!$D:$D,'파트별 아이템별 차트'!$D4,'Raw Data'!$A:$A,'파트별 아이템별 차트'!$C4,'Raw Data'!$B:$B,'파트별 아이템별 차트'!J$2) -> 0 | K4: =COUNTIFS('Raw Data'!$C:$C,'파트별 아이템별 차트'!$B4,'Raw Data'!$D:$D,'파트별 아이템별 차트'!$D4,'Raw Data'!$A:$A,'파트별 아이템별 차트'!$C4,'Raw Data'!$B:$B,'파트별 아이템별 차트'!K$2) -> 0 | L4: =COUNTIFS('Raw Data'!$C:$C,'파트별 아이템별 차트'!$B4,'Raw Data'!$D:$D,'파트별 아이템별 차트'!$D4,'Raw Data'!$A:$A,'파트별 아이템별 차트'!$C4,'Raw Data'!$B:$B,'파트별 아이템별 차트'!L$2) -> 3 | ... P4: =COUNTIFS('Raw Data'!$C:$C,'파트별 아이템별 차트'!$B4,'Raw Data'!$D:$D,'파트별 아이템별 차트'!$D4,'Raw Data'!$A:$A,'파트별 아이템별 차트'!$C4,'Raw Data'!$B:$B,'파트별 아이템별 차트'!P$2) -> 1 | Q4: =SUM(E4:P4) -> 13
A5: =A1+1 -> 1 | B5: =_xlfn.XLOOKUP($A5,'BACK DATA'!$A:$A,'BACK DATA'!$B:$B) -> ichroma | C5: 2022 | D5: =_xlfn.XLOOKUP($A5,'BACK DATA'!$A:$A,'BACK DATA'!$C:$C) -> HbA1c | E5: =COUNTIFS('Raw Data'!$C:$C,'파트별 아이템별 차트'!$B5,'Raw Data'!$D:$D,'파트별 아이템별 차트'!$D5,'Raw Data'!$A:$A,'파트별 아이템별 차트'!$C5,'Raw Data'!$B:$B,'파트별 아이템별 차트'!E$2) -> 7 | F5: =COUNTIFS('Raw Data'!$C:$C,'파트별 아이템별 차트'!$B5,'Raw Data'!$D:$D,'파트별 아이템별 차트'!$D5,'Raw Data'!$A:$A,'파트별 아이템별 차트'!$C5,'Raw Data'!$B:$B,'파트별 아이템별 차트'!F$2) -> 3 | G5: =COUNTIFS('Raw Data'!$C:$C,'파트별 아이템별 차트'!$B5,'Raw Data'!$D:$D,'파트별 아이템별 차트'!$D5,'Raw Data'!$A:$A,'파트별 아이템별 차트'!$C5,'Raw Data'!$B:$B,'파트별 아이템별 차트'!G$2) -> 3 | H5: =COUNTIFS('Raw Data'!$C:$C,'파트별 아이템별 차트'!$B5,'Raw Data'!$D:$D,'파트별 아이템별 차트'!$D5,'Raw Data'!$A:$A,'파트별 아이템별 차트'!$C5,'Raw Data'!$B:$B,'파트별 아이템별 차트'!H$2) -> 2 | I5: =COUNTIFS('Raw Data'!$C:$C,'파트별 아이템별 차트'!$B5,'Raw Data'!$D:$D,'파트별 아이템별 차트'!$D5,'Raw Data'!$A:$A,'파트별 아이템별 차트'!$C5,'Raw Data'!$B:$B,'파트별 아이템별 차트'!I$2) -> 5 | J5: =COUNTIFS('Raw Data'!$C:$C,'파트별 아이템별 차트'!$B5,'Raw Data'!$D:$D,'파트별 아이템별 차트'!$D5,'Raw Data'!$A:$A,'파트별 아이템별 차트'!$C5,'Raw Data'!$B:$B,'파트별 아이템별 차트'!J$2) -> 6 | K5: =COUNTIFS('Raw Data'!$C:$C,'파트별 아이템별 차트'!$B5,'Raw Data'!$D:$D,'파트별 아이템별 차트'!$D5,'Raw Data'!$A:$A,'파트별 아이템별 차트'!$C5,'Raw Data'!$B:$B,'파트별 아이템별 차트'!K$2) -> 9 | L5: =COUNTIFS('Raw Data'!$C:$C,'파트별 아이템별 차트'!$B5,'Raw Data'!$D:$D,'파트별 아이템별 차트'!$D5,'Raw Data'!$A:$A,'파트별 아이템별 차트'!$C5,'Raw Data'!$B:$B,'파트별 아이템별 차트'!L$2) -> 3 | ... P5: =COUNTIFS('Raw Data'!$C:$C,'파트별 아이템별 차트'!$B5,'Raw Data'!$D:$D,'파트별 아이템별 차트'!$D5,'Raw Data'!$A:$A,'파트별 아이템별 차트'!$C5,'Raw Data'!$B:$B,'파트별 아이템별 차트'!P$2) -> 7 | Q5: =SUM(E5:P5) -> 72
A6: =A5 -> 1 | B6: =_xlfn.XLOOKUP($A6,'BACK DATA'!$A:$A,'BACK DATA'!$B:$B) -> ichroma | C6: 2023 | D6: =_xlfn.XLOOKUP($A6,'BACK DATA'!$A:$A,'BACK DATA'!$C:$C) -> HbA1c | E6: =COUNTIFS('Raw Data'!$C:$C,'파트별 아이템별 차트'!$B6,'Raw Data'!$D:$D,'파트별 아이템별 차트'!$D6,'Raw Data'!$A:$A,'파트별 아이템별 차트'!$C6,'Raw Data'!$B:$B,'파트별 아이템별 차트'!E$2) -> 8 | F6: =COUNTIFS('Raw Data'!$C:$C,'파트별 아이템별 차트'!$B6,'Raw Data'!$D:$D,'파트별 아이템별 차트'!$D6,'Raw Data'!$A:$A,'파트별 아이템별 차트'!$C6,'Raw Data'!$B:$B,'파트별 아이템별 차트'!F$2) -> 9 | G6: =COUNTIFS('Raw Data'!$C:$C,'파트별 아이템별 차트'!$B6,'Raw Data'!$D:$D,'파트별 아이템별 차트'!$D6,'Raw Data'!$A:$A,'파트별 아이템별 차트'!$C6,'Raw Data'!$B:$B,'파트별 아이템별 차트'!G$2) -> 7 | H6: =COUNTIFS('Raw Data'!$C:$C,'파트별 아이템별 차트'!$B6,'Raw Data'!$D:$D,'파트별 아이템별 차트'!$D6,'Raw Data'!$A:$A,'파트별 아이템별 차트'!$C6,'Raw Data'!$B:$B,'파트별 아이템별 차트'!H$2) -> 2 | I6: =COUNTIFS('Raw Data'!$C:$C,'파트별 아이템별 차트'!$B6,'Raw Data'!$D:$D,'파트별 아이템별 차트'!$D6,'Raw Data'!$A:$A,'파트별 아이템별 차트'!$C6,'Raw Data'!$B:$B,'파트별 아이템별 차트'!I$2) -> 8 | J6: =COUNTIFS('Raw Data'!$C:$C,'파트별 아이템별 차트'!$B6,'Raw Data'!$D:$D,'파트별 아이템별 차트'!$D6,'Raw Data'!$A:$A,'파트별 아이템별 차트'!$C6,'Raw Data'!$B:$B,'파트별 아이템별 차트'!J$2) -> 5 | K6: =COUNTIFS('Raw Data'!$C:$C,'파트별 아이템별 차트'!$B6,'Raw Data'!$D:$D,'파트별 아이템별 차트'!$D6,'Raw Data'!$A:$A,'파트별 아이템별 차트'!$C6,'Raw Data'!$B:$B,'파트별 아이템별 차트'!K$2) -> 3 | L6: =COUNTIFS('Raw Data'!$C:$C,'파트별 아이템별 차트'!$B6,'Raw Data'!$D:$D,'파트별 아이템별 차트'!$D6,'Raw Data'!$A:$A,'파트별 아이템별 차트'!$C6,'Raw Data'!$B:$B,'파트별 아이템별 차트'!L$2) -> 4 | ... P6: =COUNTIFS('Raw Data'!$C:$C,'파트별 아이템별 차트'!$B6,'Raw Data'!$D:$D,'파트별 아이템별 차트'!$D6,'Raw Data'!$A:$A,'파트별 아이템별 차트'!$C6,'Raw Data'!$B:$B,'파트별 아이템별 차트'!P$2) -> 4 | Q6: =SUM(E6:P6) -> 91
A7: =A5+1 -> 2 | B7: =_xlfn.XLOOKUP($A7,'BACK DATA'!$A:$A,'BACK DATA'!$B:$B) -> ichroma | C7: 2022 | D7: =_xlfn.XLOOKUP($A7,'BACK DATA'!$A:$A,'BACK DATA'!$C:$C) -> T3 | E7: =COUNTIFS('Raw Data'!$C:$C,'파트별 아이템별 차트'!$B7,'Raw Data'!$D:$D,'파트별 아이템별 차트'!$D7,'Raw Data'!$A:$A,'파트별 아이템별 차트'!$C7,'Raw Data'!$B:$B,'파트별 아이템별 차트'!E$2) -> 4 | F7: =COUNTIFS('Raw Data'!$C:$C,'파트별 아이템별 차트'!$B7,'Raw Data'!$D:$D,'파트별 아이템별 차트'!$D7,'Raw Data'!$A:$A,'파트별 아이템별 차트'!$C7,'Raw Data'!$B:$B,'파트별 아이템별 차트'!F$2) -> 1 | G7: =COUNTIFS('Raw Data'!$C:$C,'파트별 아이템별 차트'!$B7,'Raw Data'!$D:$D,'파트별 아이템별 차트'!$D7,'Raw Data'!$A:$A,'파트별 아이템별 차트'!$C7,'Raw Data'!$B:$B,'파트별 아이템별 차트'!G$2) -> 1 | H7: =COUNTIFS('Raw Data'!$C:$C,'파트별 아이템별 차트'!$B7,'Raw Data'!$D:$D,'파트별 아이템별 차트'!$D7,'Raw Data'!$A:$A,'파트별 아이템별 차트'!$C7,'Raw Data'!$B:$B,'파트별 아이템별 차트'!H$2) -> 2 | I7: =COUNTIFS('Raw Data'!$C:$C,'파트별 아이템별 차트'!$B7,'Raw Data'!$D:$D,'파트별 아이템별 차트'!$D7,'Raw Data'!$A:$A,'파트별 아이템별 차트'!$C7,'Raw Data'!$B:$B,'파트별 아이템별 차트'!I$2) -> 3 | J7: =COUNTIFS('Raw Data'!$C:$C,'파트별 아이템별 차트'!$B7,'Raw Data'!$D:$D,'파트별 아이템별 차트'!$D7,'Raw Data'!$A:$A,'파트별 아이템별 차트'!$C7,'Raw Data'!$B:$B,'파트별 아이템별 차트'!J$2) -> 3 | K7: =COUNTIFS('Raw Data'!$C:$C,'파트별 아이템별 차트'!$B7,'Raw Data'!$D:$D,'파트별 아이템별 차트'!$D7,'Raw Data'!$A:$A,'파트별 아이템별 차트'!$C7,'Raw Data'!$B:$B,'파트별 아이템별 차트'!K$2) -> 3 | L7: =COUNTIFS('Raw Data'!$C:$C,'파트별 아이템별 차트'!$B7,'Raw Data'!$D:$D,'파트별 아이템별 차트'!$D7,'Raw Data'!$A:$A,'파트별 아이템별 차트'!$C7,'Raw Data'!$B:$B,'파트별 아이템별 차트'!L$2) -> 0 | ... P7: =COUNTIFS('Raw Data'!$C:$C,'파트별 아이템별 차트'!$B7,'Raw Data'!$D:$D,'파트별 아이템별 차트'!$D7,'Raw Data'!$A:$A,'파트별 아이템별 차트'!$C7,'Raw Data'!$B:$B,'파트별 아이템별 차트'!P$2) -> 0 | Q7: =SUM(E7:P7) -> 23
A8: =A7 -> 2 | B8: =_xlfn.XLOOKUP($A8,'BACK DATA'!$A:$A,'BACK DATA'!$B:$B) -> ichroma | C8: 2023 | D8: =_xlfn.XLOOKUP($A8,'BACK DATA'!$A:$A,'BACK DATA'!$C:$C) -> T3 | E8: =COUNTIFS('Raw Data'!$C:$C,'파트별 아이템별 차트'!$B8,'Raw Data'!$D:$D,'파트별 아이템별 차트'!$D8,'Raw Data'!$A:$A,'파트별 아이템별 차트'!$C8,'Raw Data'!$B:$B,'파트별 아이템별 차트'!E$2) -> 0 | F8: =COUNTIFS('Raw Data'!$C:$C,'파트별 아이템별 차트'!$B8,'Raw Data'!$D:$D,'파트별 아이템별 차트'!$D8,'Raw Data'!$A:$A,'파트별 아이템별 차트'!$C8,'Raw Data'!$B:$B,'파트별 아이템별 차트'!F$2) -> 1 | G8: =COUNTIFS('Raw Data'!$C:$C,'파트별 아이템별 차트'!$B8,'Raw Data'!$D:$D,'파트별 아이템별 차트'!$D8,'Raw Data'!$A:$A,'파트별 아이템별 차트'!$C8,'Raw Data'!$B:$B,'파트별 아이템별 차트'!G$2) -> 2 | H8: =COUNTIFS('Raw Data'!$C:$C,'파트별 아이템별 차트'!$B8,'Raw Data'!$D:$D,'파트별 아이템별 차트'!$D8,'Raw Data'!$A:$A,'파트별 아이템별 차트'!$C8,'Raw Data'!$B:$B,'파트별 아이템별 차트'!H$2) -> 2 | I8: =COUNTIFS('Raw Data'!$C:$C,'파트별 아이템별 차트'!$B8,'Raw Data'!$D:$D,'파트별 아이템별 차트'!$D8,'Raw Data'!$A:$A,'파트별 아이템별 차트'!$C8,'Raw Data'!$B:$B,'파트별 아이템별 차트'!I$2) -> 4 | J8: =COUNTIFS('Raw Data'!$C:$C,'파트별 아이템별 차트'!$B8,'Raw Data'!$D:$D,'파트별 아이템별 차트'!$D8,'Raw Data'!$A:$A,'파트별 아이템별 차트'!$C8,'Raw Data'!$B:$B,'파트별 아이템별 차트'!J$2) -> 2 | K8: =COUNTIFS('Raw Data'!$C:$C,'파트별 아이템별 차트'!$B8,'Raw Data'!$D:$D,'파트별 아이템별 차트'!$D8,'Raw Data'!$A:$A,'파트별 아이템별 차트'!$C8,'Raw Data'!$B:$B,'파트별 아이템별 차트'!K$2) -> 12 | L8: =COUNTIFS('Raw Data'!$C:$C,'파트별 아이템별 차트'!$B8,'Raw Data'!$D:$D,'파트별 아이템별 차트'!$D8,'Raw Data'!$A:$A,'파트별 아이템별 차트'!$C8,'Raw Data'!$B:$B,'파트별 아이템별 차트'!L$2) -> 10 | ... P8: =COUNTIFS('Raw Data'!$C:$C,'파트별 아이템별 차트'!$B8,'Raw Data'!$D:$D,'파트별 아이템별 차트'!$D8,'Raw Data'!$A:$A,'파트별 아이템별 차트'!$C8,'Raw Data'!$B:$B,'파트별 아이템별 차트'!P$2) -> 15 | Q8: =SUM(E8:P8) -> 63
A9: =A7+1 -> 3 | B9: =_xlfn.XLOOKUP($A9,'BACK DATA'!$A:$A,'BACK DATA'!$B:$B) -> ichroma | C9: 2022 | D9: =_xlfn.XLOOKUP($A9,'BACK DATA'!$A:$A,'BACK DATA'!$C:$C) -> TSH | E9: =COUNTIFS('Raw Data'!$C:$C,'파트별 아이템별 차트'!$B9,'Raw Data'!$D:$D,'파트별 아이템별 차트'!$D9,'Raw Data'!$A:$A,'파트별 아이템별 차트'!$C9,'Raw Data'!$B:$B,'파트별 아이템별 차트'!E$2) -> 1 | F9: =COUNTIFS('Raw Data'!$C:$C,'파트별 아이템별 차트'!$B9,'Raw Data'!$D:$D,'파트별 아이템별 차트'!$D9,'Raw Data'!$A:$A,'파트별 아이템별 차트'!$C9,'Raw Data'!$B:$B,'파트별 아이템별 차트'!F$2) -> 3 | G9: =COUNTIFS('Raw Data'!$C:$C,'파트별 아이템별 차트'!$B9,'Raw Data'!$D:$D,'파트별 아이템별 차트'!$D9,'Raw Data'!$A:$A,'파트별 아이템별 차트'!$C9,'Raw Data'!$B:$B,'파트별 아이템별 차트'!G$2) -> 2 | H9: =COUNTIFS('Raw Data'!$C:$C,'파트별 아이템별 차트'!$B9,'Raw Data'!$D:$D,'파트별 아이템별 차트'!$D9,'Raw Data'!$A:$A,'파트별 아이템별 차트'!$C9,'Raw Data'!$B:$B,'파트별 아이템별 차트'!H$2) -> 1 | I9: =COUNTIFS('Raw Data'!$C:$C,'파트별 아이템별 차트'!$B9,'Raw Data'!$D:$D,'파트별 아이템별 차트'!$D9,'Raw Data'!$A:$A,'파트별 아이템별 차트'!$C9,'Raw Data'!$B:$B,'파트별 아이템별 차트'!I$2) -> 5 | J9: =COUNTIFS('Raw Data'!$C:$C,'파트별 아이템별 차트'!$B9,'Raw Data'!$D:$D,'파트별 아이템별 차트'!$D9,'Raw Data'!$A:$A,'파트별 아이템별 차트'!$C9,'Raw Data'!$B:$B,'파트별 아이템별 차트'!J$2) -> 5 | K9: =COUNTIFS('Raw Data'!$C:$C,'파트별 아이템별 차트'!$B9,'Raw Data'!$D:$D,'파트별 아이템별 차트'!$D9,'Raw Data'!$A:$A,'파트별 아이템별 차트'!$C9,'Raw Data'!$B:$B,'파트별 아이템별 차트'!K$2) -> 4 | L9: =COUNTIFS('Raw Data'!$C:$C,'파트별 아이템별 차트'!$B9,'Raw Data'!$D:$D,'파트별 아이템별 차트'!$D9,'Raw Data'!$A:$A,'파트별 아이템별 차트'!$C9,'Raw Data'!$B:$B,'파트별 아이템별 차트'!L$2) -> 1 | ... P9: =COUNTIFS('Raw Data'!$C:$C,'파트별 아이템별 차트'!$B9,'Raw Data'!$D:$D,'파트별 아이템별 차트'!$D9,'Raw Data'!$A:$A,'파트별 아이템별 차트'!$C9,'Raw Data'!$B:$B,'파트별 아이템별 차트'!P$2) -> 1 | Q9: =SUM(E9:P9) -> 33
A10: =A9 -> 3 | B10: =_xlfn.XLOOKUP($A10,'BACK DATA'!$A:$A,'BACK DATA'!$B:$B) -> ichroma | C10: 2023 | D10: =_xlfn.XLOOKUP($A10,'BACK DATA'!$A:$A,'BACK DATA'!$C:$C) -> TSH | E10: =COUNTIFS('Raw Data'!$C:$C,'파트별 아이템별 차트'!$B10,'Raw Data'!$D:$D,'파트별 아이템별 차트'!$D10,'Raw Data'!$A:$A,'파트별 아이템별 차트'!$C10,'Raw Data'!$B:$B,'파트별 아이템별 차트'!E$2) -> 1 | F10: =COUNTIFS('Raw Data'!$C:$C,'파트별 아이템별 차트'!$B10,'Raw Data'!$D:$D,'파트별 아이템별 차트'!$D10,'Raw Data'!$A:$A,'파트별 아이템별 차트'!$C10,'Raw Data'!$B:$B,'파트별 아이템별 차트'!F$2) -> 3 | G10: =COUNTIFS('Raw Data'!$C:$C,'파트별 아이템별 차트'!$B10,'Raw Data'!$D:$D,'파트별 아이템별 차트'!$D10,'Raw Data'!$A:$A,'파트별 아이템별 차트'!$C10,'Raw Data'!$B:$B,'파트별 아이템별 차트'!G$2) -> 3 | H10: =COUNTIFS('Raw Data'!$C:$C,'파트별 아이템별 차트'!$B10,'Raw Data'!$D:$D,'파트별 아이템별 차트'!$D10,'Raw Data'!$A:$A,'파트별 아이템별 차트'!$C10,'Raw Data'!$B:$B,'파트별 아이템별 차트'!H$2) -> 1 | I10: =COUNTIFS('Raw Data'!$C:$C,'파트별 아이템별 차트'!$B10,'Raw Data'!$D:$D,'파트별 아이템별 차트'!$D10,'Raw Data'!$A:$A,'파트별 아이템별 차트'!$C10,'Raw Data'!$B:$B,'파트별 아이템별 차트'!I$2) -> 9 | J10: =COUNTIFS('Raw Data'!$C:$C,'파트별 아이템별 차트'!$B10,'Raw Data'!$D:$D,'파트별 아이템별 차트'!$D10,'Raw Data'!$A:$A,'파트별 아이템별 차트'!$C10,'Raw Data'!$B:$B,'파트별 아이템별 차트'!J$2) -> 1 | K10: =COUNTIFS('Raw Data'!$C:$C,'파트별 아이템별 차트'!$B10,'Raw Data'!$D:$D,'파트별 아이템별 차트'!$D10,'Raw Data'!$A:$A,'파트별 아이템별 차트'!$C10,'Raw Data'!$B:$B,'파트별 아이템별 차트'!K$2) -> 4 | L10: =COUNTIFS('Raw Data'!$C:$C,'파트별 아이템별 차트'!$B10,'Raw Data'!$D:$D,'파트별 아이템별 차트'!$D10,'Raw Data'!$A:$A,'파트별 아이템별 차트'!$C10,'Raw Data'!$B:$B,'파트별 아이템별 차트'!L$2) -> 1 | ... P10: =COUNTIFS('Raw Data'!$C:$C,'파트별 아이템별 차트'!$B10,'Raw Data'!$D:$D,'파트별 아이템별 차트'!$D10,'Raw Data'!$A:$A,'파트별 아이템별 차트'!$C10,'Raw Data'!$B:$B,'파트별 아이템별 차트'!P$2) -> 13 | Q10: =SUM(E10:P10) -> 50
A11: =A9+1 -> 4 | B11: =_xlfn.XLOOKUP($A11,'BACK DATA'!$A:$A,'BACK DATA'!$B:$B) -> ichroma | C11: 2022 | D11: =_xlfn.XLOOKUP($A11,'BACK DATA'!$A:$A,'BACK DATA'!$C:$C) -> Vitamin D | E11: =COUNTIFS('Raw Data'!$C:$C,'파트별 아이템별 차트'!$B11,'Raw Data'!$D:$D,'파트별 아이템별 차트'!$D11,'Raw Data'!$A:$A,'파트별 아이템별 차트'!$C11,'Raw Data'!$B:$B,'파트별 아이템별 차트'!E$2) -> 3 | F11: =COUNTIFS('Raw Data'!$C:$C,'파트별 아이템별 차트'!$B11,'Raw Data'!$D:$D,'파트별 아이템별 차트'!$D11,'Raw Data'!$A:$A,'파트별 아이템별 차트'!$C11,'Raw Data'!$B:$B,'파트별 아이템별 차트'!F$2) -> 2 | G11: =COUNTIFS('Raw Data'!$C:$C,'파트별 아이템별 차트'!$B11,'Raw Data'!$D:$D,'파트별 아이템별 차트'!$D11,'Raw Data'!$A:$A,'파트별 아이템별 차트'!$C11,'Raw Data'!$B:$B,'파트별 아이템별 차트'!G$2) -> 0 | H11: =COUNTIFS('Raw Data'!$C:$C,'파트별 아이템별 차트'!$B11,'Raw Data'!$D:$D,'파트별 아이템별 차트'!$D11,'Raw Data'!$A:$A,'파트별 아이템별 차트'!$C11,'Raw Data'!$B:$B,'파트별 아이템별 차트'!H$2) -> 0 | I11: =COUNTIFS('Raw Data'!$C:$C,'파트별 아이템별 차트'!$B11,'Raw Data'!$D:$D,'파트별 아이템별 차트'!$D11,'Raw Data'!$A:$A,'파트별 아이템별 차트'!$C11,'Raw Data'!$B:$B,'파트별 아이템별 차트'!I$2) -> 1 | J11: =COUNTIFS('Raw Data'!$C:$C,'파트별 아이템별 차트'!$B11,'Raw Data'!$D:$D,'파트별 아이템별 차트'!$D11,'Raw Data'!$A:$A,'파트별 아이템별 차트'!$C11,'Raw Data'!$B:$B,'파트별 아이템별 차트'!J$2) -> 0 | K11: =COUNTIFS('Raw Data'!$C:$C,'파트별 아이템별 차트'!$B11,'Raw Data'!$D:$D,'파트별 아이템별 차트'!$D11,'Raw Data'!$A:$A,'파트별 아이템별 차트'!$C11,'Raw Data'!$B:$B,'파트별 아이템별 차트'!K$2) -> 3 | L11: =COUNTIFS('Raw Data'!$C:$C,'파트별 아이템별 차트'!$B11,'Raw Data'!$D:$D,'파트별 아이템별 차트'!$D11,'Raw Data'!$A:$A,'파트별 아이템별 차트'!$C11,'Raw Data'!$B:$B,'파트별 아이템별 차트'!L$2) -> 3 | ... P11: =COUNTIFS('Raw Data'!$C:$C,'파트별 아이템별 차트'!$B11,'Raw Data'!$D:$D,'파트별 아이템별 차트'!$D11,'Raw Data'!$A:$A,'파트별 아이템별 차트'!$C11,'Raw Data'!$B:$B,'파트별 아이템별 차트'!P$2) -> 3 | Q11: =SUM(E11:P11) -> 24
A12: =A11 -> 4 | B12: =_xlfn.XLOOKUP($A12,'BACK DATA'!$A:$A,'BACK DATA'!$B:$B) -> ichroma | C12: 2023 | D12: =_xlfn.XLOOKUP($A12,'BACK DATA'!$A:$A,'BACK DATA'!$C:$C) -> Vitamin D | E12: =COUNTIFS('Raw Data'!$C:$C,'파트별 아이템별 차트'!$B12,'Raw Data'!$D:$D,'파트별 아이템별 차트'!$D12,'Raw Data'!$A:$A,'파트별 아이템별 차트'!$C12,'Raw Data'!$B:$B,'파트별 아이템별 차트'!E$2) -> 2 | F12: =COUNTIFS('Raw Data'!$C:$C,'파트별 아이템별 차트'!$B12,'Raw Data'!$D:$D,'파트별 아이템별 차트'!$D12,'Raw Data'!$A:$A,'파트별 아이템별 차트'!$C12,'Raw Data'!$B:$B,'파트별 아이템별 차트'!F$2) -> 4 | G12: =COUNTIFS('Raw Data'!$C:$C,'파트별 아이템별 차트'!$B12,'Raw Data'!$D:$D,'파트별 아이템별 차트'!$D12,'Raw Data'!$A:$A,'파트별 아이템별 차트'!$C12,'Raw Data'!$B:$B,'파트별 아이템별 차트'!G$2) -> 1 | H12: =COUNTIFS('Raw Data'!$C:$C,'파트별 아이템별 차트'!$B12,'Raw Data'!$D:$D,'파트별 아이템별 차트'!$D12,'Raw Data'!$A:$A,'파트별 아이템별 차트'!$C12,'Raw Data'!$B:$B,'파트별 아이템별 차트'!H$2) -> 1 | I12: =COUNTIFS('Raw Data'!$C:$C,'파트별 아이템별 차트'!$B12,'Raw Data'!$D:$D,'파트별 아이템별 차트'!$D12,'Raw Data'!$A:$A,'파트별 아이템별 차트'!$C12,'Raw Data'!$B:$B,'파트별 아이템별 차트'!I$2) -> 1 | J12: =COUNTIFS('Raw Data'!$C:$C,'파트별 아이템별 차트'!$B12,'Raw Data'!$D:$D,'파트별 아이템별 차트'!$D12,'Raw Data'!$A:$A,'파트별 아이템별 차트'!$C12,'Raw Data'!$B:$B,'파트별 아이템별 차트'!J$2) -> 4 | K12: =COUNTIFS('Raw Data'!$C:$C,'파트별 아이템별 차트'!$B12,'Raw Data'!$D:$D,'파트별 아이템별 차트'!$D12,'Raw Data'!$A:$A,'파트별 아이템별 차트'!$C12,'Raw Data'!$B:$B,'파트별 아이템별 차트'!K$2) -> 6 | L12: =COUNTIFS('Raw Data'!$C:$C,'파트별 아이템별 차트'!$B12,'Raw Data'!$D:$D,'파트별 아이템별 차트'!$D12,'Raw Data'!$A:$A,'파트별 아이템별 차트'!$C12,'Raw Data'!$B:$B,'파트별 아이템별 차트'!L$2) -> 4 | ... P12: =COUNTIFS('Raw Data'!$C:$C,'파트별 아이템별 차트'!$B12,'Raw Data'!$D:$D,'파트별 아이템별 차트'!$D12,'Raw Data'!$A:$A,'파트별 아이템별 차트'!$C12,'Raw Data'!$B:$B,'파트별 아이템별 차트'!P$2) -> 2 | Q12: =SUM(E12:P12) -> 28
A13: =A11+1 -> 5 | B13: =_xlfn.XLOOKUP($A13,'BACK DATA'!$A:$A,'BACK DATA'!$B:$B) -> ichroma | C13: 2022 | D13: =_xlfn.XLOOKUP($A13,'BACK DATA'!$A:$A,'BACK DATA'!$C:$C) -> Free T4 | E13: =COUNTIFS('Raw Data'!$C:$C,'파트별 아이템별 차트'!$B13,'Raw Data'!$D:$D,'파트별 아이템별 차트'!$D13,'Raw Data'!$A:$A,'파트별 아이템별 차트'!$C13,'Raw Data'!$B:$B,'파트별 아이템별 차트'!E$2) -> 0 | F13: =COUNTIFS('Raw Data'!$C:$C,'파트별 아이템별 차트'!$B13,'Raw Data'!$D:$D,'파트별 아이템별 차트'!$D13,'Raw Data'!$A:$A,'파트별 아이템별 차트'!$C13,'Raw Data'!$B:$B,'파트별 아이템별 차트'!F$2) -> 0 | G13: =COUNTIFS('Raw Data'!$C:$C,'파트별 아이템별 차트'!$B13,'Raw Data'!$D:$D,'파트별 아이템별 차트'!$D13,'Raw Data'!$A:$A,'파트별 아이템별 차트'!$C13,'Raw Data'!$B:$B,'파트별 아이템별 차트'!G$2) -> 0 | H13: =COUNTIFS('Raw Data'!$C:$C,'파트별 아이템별 차트'!$B13,'Raw Data'!$D:$D,'파트별 아이템별 차트'!$D13,'Raw Data'!$A:$A,'파트별 아이템별 차트'!$C13,'Raw Data'!$B:$B,'파트별 아이템별 차트'!H$2) -> 0 | I13: =COUNTIFS('Raw Data'!$C:$C,'파트별 아이템별 차트'!$B13,'Raw Data'!$D:$D,'파트별 아이템별 차트'!$D13,'Raw Data'!$A:$A,'파트별 아이템별 차트'!$C13,'Raw Data'!$B:$B,'파트별 아이템별 차트'!I$2) -> 0 | J13: =COUNTIFS('Raw Data'!$C:$C,'파트별 아이템별 차트'!$B13,'Raw Data'!$D:$D,'파트별 아이템별 차트'!$D13,'Raw Data'!$A:$A,'파트별 아이템별 차트'!$C13,'Raw Data'!$B:$B,'파트별 아이템별 차트'!J$2) -> 0 | K13: =COUNTIFS('Raw Data'!$C:$C,'파트별 아이템별 차트'!$B13,'Raw Data'!$D:$D,'파트별 아이템별 차트'!$D13,'Raw Data'!$A:$A,'파트별 아이템별 차트'!$C13,'Raw Data'!$B:$B,'파트별 아이템별 차트'!K$2) -> 0 | L13: =COUNTIFS('Raw Data'!$C:$C,'파트별 아이템별 차트'!$B13,'Raw Data'!$D:$D,'파트별 아이템별 차트'!$D13,'Raw Data'!$A:$A,'파트별 아이템별 차트'!$C13,'Raw Data'!$B:$B,'파트별 아이템별 차트'!L$2) -> 0 | ... P13: =COUNTIFS('Raw Data'!$C:$C,'파트별 아이템별 차트'!$B13,'Raw Data'!$D:$D,'파트별 아이템별 차트'!$D13,'Raw Data'!$A:$A,'파트별 아이템별 차트'!$C13,'Raw Data'!$B:$B,'파트별 아이템별 차트'!P$2) -> 0 | Q13: =SUM(E13:P13) -> 0
A14: =A13 -> 5 | B14: =_xlfn.XLOOKUP($A14,'BACK DATA'!$A:$A,'BACK DATA'!$B:$B) -> ichroma | C14: 2023 | D14: =_xlfn.XLOOKUP($A14,'BACK DATA'!$A:$A,'BACK DATA'!$C:$C) -> Free T4 | E14: =COUNTIFS('Raw Data'!$C:$C,'파트별 아이템별 차트'!$B14,'Raw Data'!$D:$D,'파트별 아이템별 차트'!$D14,'Raw Data'!$A:$A,'파트별 아이템별 차트'!$C14,'Raw Data'!$B:$B,'파트별 아이템별 차트'!E$2) -> 0 | F14: =COUNTIFS('Raw Data'!$C:$C,'파트별 아이템별 차트'!$B14,'Raw Data'!$D:$D,'파트별 아이템별 차트'!$D14,'Raw Data'!$A:$A,'파트별 아이템별 차트'!$C14,'Raw Data'!$B:$B,'파트별 아이템별 차트'!F$2) -> 0 | G14: =COUNTIFS('Raw Data'!$C:$C,'파트별 아이템별 차트'!$B14,'Raw Data'!$D:$D,'파트별 아이템별 차트'!$D14,'Raw Data'!$A:$A,'파트별 아이템별 차트'!$C14,'Raw Data'!$B:$B,'파트별 아이템별 차트'!G$2) -> 0 | H14: =COUNTIFS('Raw Data'!$C:$C,'파트별 아이템별 차트'!$B14,'Raw Data'!$D:$D,'파트별 아이템별 차트'!$D14,'Raw Data'!$A:$A,'파트별 아이템별 차트'!$C14,'Raw Data'!$B:$B,'파트별 아이템별 차트'!H$2) -> 0 | I14: =COUNTIFS('Raw Data'!$C:$C,'파트별 아이템별 차트'!$B14,'Raw Data'!$D:$D,'파트별 아이템별 차트'!$D14,'Raw Data'!$A:$A,'파트별 아이템별 차트'!$C14,'Raw Data'!$B:$B,'파트별 아이템별 차트'!I$2) -> 1 | J14: =COUNTIFS('Raw Data'!$C:$C,'파트별 아이템별 차트'!$B14,'Raw Data'!$D:$D,'파트별 아이템별 차트'!$D14,'Raw Data'!$A:$A,'파트별 아이템별 차트'!$C14,'Raw Data'!$B:$B,'파트별 아이템별 차트'!J$2) -> 1 | K14: =COUNTIFS('Raw Data'!$C:$C,'파트별 아이템별 차트'!$B14,'Raw Data'!$D:$D,'파트별 아이템별 차트'!$D14,'Raw Data'!$A:$A,'파트별 아이템별 차트'!$C14,'Raw Data'!$B:$B,'파트별 아이템별 차트'!K$2) -> 5 | L14: =COUNTIFS('Raw Data'!$C:$C,'파트별 아이템별 차트'!$B14,'Raw Data'!$D:$D,'파트별 아이템별 차트'!$D14,'Raw Data'!$A:$A,'파트별 아이템별 차트'!$C14,'Raw Data'!$B:$B,'파트별 아이템별 차트'!L$2) -> 4 | ... P14: =COUNTIFS('Raw Data'!$C:$C,'파트별 아이템별 차트'!$B14,'Raw Data'!$D:$D,'파트별 아이템별 차트'!$D14,'Raw Data'!$A:$A,'파트별 아이템별 차트'!$C14,'Raw Data'!$B:$B,'파트별 아이템별 차트'!P$2) -> 4 | Q14: =SUM(E14:P14) -> 21
A15: =A13+1 -> 6 | B15: =_xlfn.XLOOKUP($A15,'BACK DATA'!$A:$A,'BACK DATA'!$B:$B) -> ichroma | C15: 2022 | D15: =_xlfn.XLOOKUP($A15,'BACK DATA'!$A:$A,'BACK DATA'!$C:$C) -> T4 | E15: =COUNTIFS('Raw Data'!$C:$C,'파트별 아이템별 차트'!$B15,'Raw Data'!$D:$D,'파트별 아이템별 차트'!$D15,'Raw Data'!$A:$A,'파트별 아이템별 차트'!$C15,'Raw Data'!$B:$B,'파트별 아이템별 차트'!E$2) -> 5 | F15: =COUNTIFS('Raw Data'!$C:$C,'파트별 아이템별 차트'!$B15,'Raw Data'!$D:$D,'파트별 아이템별 차트'!$D15,'Raw Data'!$A:$A,'파트별 아이템별 차트'!$C15,'Raw Data'!$B:$B,'파트별 아이템별 차트'!F$2) -> 2 | G15: =COUNTIFS('Raw Data'!$C:$C,'파트별 아이템별 차트'!$B15,'Raw Data'!$D:$D,'파트별 아이템별 차트'!$D15,'Raw Data'!$A:$A,'파트별 아이템별 차트'!$C15,'Raw Data'!$B:$B,'파트별 아이템별 차트'!G$2) -> 2 | H15: =COUNTIFS('Raw Data'!$C:$C,'파트별 아이템별 차트'!$B15,'Raw Data'!$D:$D,'파트별 아이템별 차트'!$D15,'Raw Data'!$A:$A,'파트별 아이템별 차트'!$C15,'Raw Data'!$B:$B,'파트별 아이템별 차트'!H$2) -> 5 | I15: =COUNTIFS('Raw Data'!$C:$C,'파트별 아이템별 차트'!$B15,'Raw Data'!$D:$D,'파트별 아이템별 차트'!$D15,'Raw Data'!$A:$A,'파트별 아이템별 차트'!$C15,'Raw Data'!$B:$B,'파트별 아이템별 차트'!I$2) -> 1 | J15: =COUNTIFS('Raw Data'!$C:$C,'파트별 아이템별 차트'!$B15,'Raw Data'!$D:$D,'파트별 아이템별 차트'!$D15,'Raw Data'!$A:$A,'파트별 아이템별 차트'!$C15,'Raw Data'!$B:$B,'파트별 아이템별 차트'!J$2) -> 5 | K15: =COUNTIFS('Raw Data'!$C:$C,'파트별 아이템별 차트'!$B15,'Raw Data'!$D:$D,'파트별 아이템별 차트'!$D15,'Raw Data'!$A:$A,'파트별 아이템별 차트'!$C15,'Raw Data'!$B:$B,'파트별 아이템별 차트'!K$2) -> 3 | L15: =COUNTIFS('Raw Data'!$C:$C,'파트별 아이템별 차트'!$B15,'Raw Data'!$D:$D,'파트별 아이템별 차트'!$D15,'Raw Data'!$A:$A,'파트별 아이템별 차트'!$C15,'Raw Data'!$B:$B,'파트별 아이템별 차트'!L$2) -> 3 | ... P15: =COUNTIFS('Raw Data'!$C:$C,'파트별 아이템별 차트'!$B15,'Raw Data'!$D:$D,'파트별 아이템별 차트'!$D15,'Raw Data'!$A:$A,'파트별 아이템별 차트'!$C15,'Raw Data'!$B:$B,'파트별 아이템별 차트'!P$2) -> 0 | Q15: =SUM(E15:P15) -> 31
A16: =A15 -> 6 | B16: =_xlfn.XLOOKUP($A16,'BACK DATA'!$A:$A,'BACK DATA'!$B:$B) -> ichroma | C16: 2023 | D16: =_xlfn.XLOOKUP($A16,'BACK DATA'!$A:$A,'BACK DATA'!$C:$C) -> T4 | E16: =COUNTIFS('Raw Data'!$C:$C,'파트별 아이템별 차트'!$B16,'Raw Data'!$D:$D,'파트별 아이템별 차트'!$D16,'Raw Data'!$A:$A,'파트별 아이템별 차트'!$C16,'Raw Data'!$B:$B,'파트별 아이템별 차트'!E$2) -> 5 | F16: =COUNTIFS('Raw Data'!$C:$C,'파트별 아이템별 차트'!$B16,'Raw Data'!$D:$D,'파트별 아이템별 차트'!$D16,'Raw Data'!$A:$A,'파트별 아이템별 차트'!$C16,'Raw Data'!$B:$B,'파트별 아이템별 차트'!F$2) -> 3 | G16: =COUNTIFS('Raw Data'!$C:$C,'파트별 아이템별 차트'!$B16,'Raw Data'!$D:$D,'파트별 아이템별 차트'!$D16,'Raw Data'!$A:$A,'파트별 아이템별 차트'!$C16,'Raw Data'!$B:$B,'파트별 아이템별 차트'!G$2) -> 0 | H16: =COUNTIFS('Raw Data'!$C:$C,'파트별 아이템별 차트'!$B16,'Raw Data'!$D:$D,'파트별 아이템별 차트'!$D16,'Raw Data'!$A:$A,'파트별 아이템별 차트'!$C16,'Raw Data'!$B:$B,'파트별 아이템별 차트'!H$2) -> 0 | I16: =COUNTIFS('Raw Data'!$C:$C,'파트별 아이템별 차트'!$B16,'Raw Data'!$D:$D,'파트별 아이템별 차트'!$D16,'Raw Data'!$A:$A,'파트별 아이템별 차트'!$C16,'Raw Data'!$B:$B,'파트별 아이템별 차트'!I$2) -> 2 | J16: =COUNTIFS('Raw Data'!$C:$C,'파트별 아이템별 차트'!$B16,'Raw Data'!$D:$D,'파트별 아이템별 차트'!$D16,'Raw Data'!$A:$A,'파트별 아이템별 차트'!$C16,'Raw Data'!$B:$B,'파트별 아이템별 차트'!J$2) -> 0 | K16: =COUNTIFS('Raw Data'!$C:$C,'파트별 아이템별 차트'!$B16,'Raw Data'!$D:$D,'파트별 아이템별 차트'!$D16,'Raw Data'!$A:$A,'파트별 아이템별 차트'!$C16,'Raw Data'!$B:$B,'파트별 아이템별 차트'!K$2) -> 1 | L16: =COUNTIFS('Raw Data'!$C:$C,'파트별 아이템별 차트'!$B16,'Raw Data'!$D:$D,'파트별 아이템별 차트'!$D16,'Raw Data'!$A:$A,'파트별 아이템별 차트'!$C16,'Raw Data'!$B:$B,'파트별 아이템별 차트'!L$2) -> 1 | ... P16: =COUNTIFS('Raw Data'!$C:$C,'파트별 아이템별 차트'!$B16,'Raw Data'!$D:$D,'파트별 아이템별 차트'!$D16,'Raw Data'!$A:$A,'파트별 아이템별 차트'!$C16,'Raw Data'!$B:$B,'파트별 아이템별 차트'!P$2) -> 0 | Q16: =SUM(E16:P16) -> 19
A17: =A15+1 -> 7 | B17: =_xlfn.XLOOKUP($A17,'BACK DATA'!$A:$A,'BACK DATA'!$B:$B) -> ichroma | C17: 2022 | D17: =_xlfn.XLOOKUP($A17,'BACK DATA'!$A:$A,'BACK DATA'!$C:$C) -> D-Dimer | E17: =COUNTIFS('Raw Data'!$C:$C,'파트별 아이템별 차트'!$B17,'Raw Data'!$D:$D,'파트별 아이템별 차트'!$D17,'Raw Data'!$A:$A,'파트별 아이템별 차트'!$C17,'Raw Data'!$B:$B,'파트별 아이템별 차트'!E$2) -> 1 | F17: =COUNTIFS('Raw Data'!$C:$C,'파트별 아이템별 차트'!$B17,'Raw Data'!$D:$D,'파트별 아이템별 차트'!$D17,'Raw Data'!$A:$A,'파트별 아이템별 차트'!$C17,'Raw Data'!$B:$B,'파트별 아이템별 차트'!F$2) -> 2 | G17: =COUNTIFS('Raw Data'!$C:$C,'파트별 아이템별 차트'!$B17,'Raw Data'!$D:$D,'파트별 아이템별 차트'!$D17,'Raw Data'!$A:$A,'파트별 아이템별 차트'!$C17,'Raw Data'!$B:$B,'파트별 아이템별 차트'!G$2) -> 1 | H17: =COUNTIFS('Raw Data'!$C:$C,'파트별 아이템별 차트'!$B17,'Raw Data'!$D:$D,'파트별 아이템별 차트'!$D17,'Raw Data'!$A:$A,'파트별 아이템별 차트'!$C17,'Raw Data'!$B:$B,'파트별 아이템별 차트'!H$2) -> 1 | I17: =COUNTIFS('Raw Data'!$C:$C,'파트별 아이템별 차트'!$B17,'Raw Data'!$D:$D,'파트별 아이템별 차트'!$D17,'Raw Data'!$A:$A,'파트별 아이템별 차트'!$C17,'Raw Data'!$B:$B,'파트별 아이템별 차트'!I$2) -> 2 | J17: =COUNTIFS('Raw Data'!$C:$C,'파트별 아이템별 차트'!$B17,'Raw Data'!$D:$D,'파트별 아이템별 차트'!$D17,'Raw Data'!$A:$A,'파트별 아이템별 차트'!$C17,'Raw Data'!$B:$B,'파트별 아이템별 차트'!J$2) -> 1 | K17: =COUNTIFS('Raw Data'!$C:$C,'파트별 아이템별 차트'!$B17,'Raw Data'!$D:$D,'파트별 아이템별 차트'!$D17,'Raw Data'!$A:$A,'파트별 아이템별 차트'!$C17,'Raw Data'!$B:$B,'파트별 아이템별 차트'!K$2) -> 3 | L17: =COUNTIFS('Raw Data'!$C:$C,'파트별 아이템별 차트'!$B17,'Raw Data'!$D:$D,'파트별 아이템별 차트'!$D17,'Raw Data'!$A:$A,'파트별 아이템별 차트'!$C17,'Raw Data'!$B:$B,'파트별 아이템별 차트'!L$2) -> 3 | ... P17: =COUNTIFS('Raw Data'!$C:$C,'파트별 아이템별 차트'!$B17,'Raw Data'!$D:$D,'파트별 아이템별 차트'!$D17,'Raw Data'!$A:$A,'파트별 아이템별 차트'!$C17,'Raw Data'!$B:$B,'파트별 아이템별 차트'!P$2) -> 0 | Q17: =SUM(E17:P17) -> 22
A18: =A17 -> 7 | B18: =_xlfn.XLOOKUP($A18,'BACK DATA'!$A:$A,'BACK DATA'!$B:$B) -> ichroma | C18: 2023 | D18: =_xlfn.XLOOKUP($A18,'BACK DATA'!$A:$A,'BACK DATA'!$C:$C) -> D-Dimer | E18: =COUNTIFS('Raw Data'!$C:$C,'파트별 아이템별 차트'!$B18,'Raw Data'!$D:$D,'파트별 아이템별 차트'!$D18,'Raw Data'!$A:$A,'파트별 아이템별 차트'!$C18,'Raw Data'!$B:$B,'파트별 아이템별 차트'!E$2) -> 2 | F18: =COUNTIFS('Raw Data'!$C:$C,'파트별 아이템별 차트'!$B18,'Raw Data'!$D:$D,'파트별 아이템별 차트'!$D18,'Raw Data'!$A:$A,'파트별 아이템별 차트'!$C18,'Raw Data'!$B:$B,'파트별 아이템별 차트'!F$2) -> 1 | G18: =COUNTIFS('Raw Data'!$C:$C,'파트별 아이템별 차트'!$B18,'Raw Data'!$D:$D,'파트별 아이템별 차트'!$D18,'Raw Data'!$A:$A,'파트별 아이템별 차트'!$C18,'Raw Data'!$B:$B,'파트별 아이템별 차트'!G$2) -> 2 | H18: =COUNTIFS('Raw Data'!$C:$C,'파트별 아이템별 차트'!$B18,'Raw Data'!$D:$D,'파트별 아이템별 차트'!$D18,'Raw Data'!$A:$A,'파트별 아이템별 차트'!$C18,'Raw Data'!$B:$B,'파트별 아이템별 차트'!H$2) -> 1 | I18: =COUNTIFS('Raw Data'!$C:$C,'파트별 아이템별 차트'!$B18,'Raw Data'!$D:$D,'파트별 아이템별 차트'!$D18,'Raw Data'!$A:$A,'파트별 아이템별 차트'!$C18,'Raw Data'!$B:$B,'파트별 아이템별 차트'!I$2) -> 3 | J18: =COUNTIFS('Raw Data'!$C:$C,'파트별 아이템별 차트'!$B18,'Raw Data'!$D:$D,'파트별 아이템별 차트'!$D18,'Raw Data'!$A:$A,'파트별 아이템별 차트'!$C18,'Raw Data'!$B:$B,'파트별 아이템별 차트'!J$2) -> 1 | K18: =COUNTIFS('Raw Data'!$C:$C,'파트별 아이템별 차트'!$B18,'Raw Data'!$D:$D,'파트별 아이템별 차트'!$D18,'Raw Data'!$A:$A,'파트별 아이템별 차트'!$C18,'Raw Data'!$B:$B,'파트별 아이템별 차트'!K$2) -> 0 | L18: =COUNTIFS('Raw Data'!$C:$C,'파트별 아이템별 차트'!$B18,'Raw Data'!$D:$D,'파트별 아이템별 차트'!$D18,'Raw Data'!$A:$A,'파트별 아이템별 차트'!$C18,'Raw Data'!$B:$B,'파트별 아이템별 차트'!L$2) -> 3 | ... P18: =COUNTIFS('Raw Data'!$C:$C,'파트별 아이템별 차트'!$B18,'Raw Data'!$D:$D,'파트별 아이템별 차트'!$D18,'Raw Data'!$A:$A,'파트별 아이템별 차트'!$C18,'Raw Data'!$B:$B,'파트별 아이템별 차트'!P$2) -> 0 | Q18: =SUM(E18:P18) -> 19
A19: =A17+1 -> 8 | B19: =_xlfn.XLOOKUP($A19,'BACK DATA'!$A:$A,'BACK DATA'!$B:$B) -> ichroma | C19: 2022 | D19: =_xlfn.XLOOKUP($A19,'BACK DATA'!$A:$A,'BACK DATA'!$C:$C) -> β-HCG | E19: =COUNTIFS('Raw Data'!$C:$C,'파트별 아이템별 차트'!$B19,'Raw Data'!$D:$D,'파트별 아이템별 차트'!$D19,'Raw Data'!$A:$A,'파트별 아이템별 차트'!$C19,'Raw Data'!$B:$B,'파트별 아이템별 차트'!E$2) -> 2 | F19: =COUNTIFS('Raw Data'!$C:$C,'파트별 아이템별 차트'!$B19,'Raw Data'!$D:$D,'파트별 아이템별 차트'!$D19,'Raw Data'!$A:$A,'파트별 아이템별 차트'!$C19,'Raw Data'!$B:$B,'파트별 아이템별 차트'!F$2) -> 0 | G19: =COUNTIFS('Raw Data'!$C:$C,'파트별 아이템별 차트'!$B19,'Raw Data'!$D:$D,'파트별 아이템별 차트'!$D19,'Raw Data'!$A:$A,'파트별 아이템별 차트'!$C19,'Raw Data'!$B:$B,'파트별 아이템별 차트'!G$2) -> 1 | H19: =COUNTIFS('Raw Data'!$C:$C,'파트별 아이템별 차트'!$B19,'Raw Data'!$D:$D,'파트별 아이템별 차트'!$D19,'Raw Data'!$A:$A,'파트별 아이템별 차트'!$C19,'Raw Data'!$B:$B,'파트별 아이템별 차트'!H$2) -> 2 | I19: =COUNTIFS('Raw Data'!$C:$C,'파트별 아이템별 차트'!$B19,'Raw Data'!$D:$D,'파트별 아이템별 차트'!$D19,'Raw Data'!$A:$A,'파트별 아이템별 차트'!$C19,'Raw Data'!$B:$B,'파트별 아이템별 차트'!I$2) -> 1 | J19: =COUNTIFS('Raw Data'!$C:$C,'파트별 아이템별 차트'!$B19,'Raw Data'!$D:$D,'파트별 아이템별 차트'!$D19,'Raw Data'!$A:$A,'파트별 아이템별 차트'!$C19,'Raw Data'!$B:$B,'파트별 아이템별 차트'!J$2) -> 1 | K19: =COUNTIFS('Raw Data'!$C:$C,'파트별 아이템별 차트'!$B19,'Raw Data'!$D:$D,'파트별 아이템별 차트'!$D19,'Raw Data'!$A:$A,'파트별 아이템별 차트'!$C19,'Raw Data'!$B:$B,'파트별 아이템별 차트'!K$2) -> 0 | L19: =COUNTIFS('Raw Data'!$C:$C,'파트별 아이템별 차트'!$B19,'Raw Data'!$D:$D,'파트별 아이템별 차트'!$D19,'Raw Data'!$A:$A,'파트별 아이템별 차트'!$C19,'Raw Data'!$B:$B,'파트별 아이템별 차트'!L$2) -> 0 | ... P19: =COUNTIFS('Raw Data'!$C:$C,'파트별 아이템별 차트'!$B19,'Raw Data'!$D:$D,'파트별 아이템별 차트'!$D19,'Raw Data'!$A:$A,'파트별 아이템별 차트'!$C19,'Raw Data'!$B:$B,'파트별 아이템별 차트'!P$2) -> 0 | Q19: =SUM(E19:P19) -> 8
A20: =A19 -> 8 | B20: =_xlfn.XLOOKUP($A20,'BACK DATA'!$A:$A,'BACK DATA'!$B:$B) -> ichroma | C20: 2023 | D20: =_xlfn.XLOOKUP($A20,'BACK DATA'!$A:$A,'BACK DATA'!$C:$C) -> β-HCG | E20: =COUNTIFS('Raw Data'!$C:$C,'파트별 아이템별 차트'!$B20,'Raw Data'!$D:$D,'파트별 아이템별 차트'!$D20,'Raw Data'!$A:$A,'파트별 아이템별 차트'!$C20,'Raw Data'!$B:$B,'파트별 아이템별 차트'!E$2) -> 3 | F20: =COUNTIFS('Raw Data'!$C:$C,'파트별 아이템별 차트'!$B20,'Raw Data'!$D:$D,'파트별 아이템별 차트'!$D20,'Raw Data'!$A:$A,'파트별 아이템별 차트'!$C20,'Raw Data'!$B:$B,'파트별 아이템별 차트'!F$2) -> 2 | G20: =COUNTIFS('Raw Data'!$C:$C,'파트별 아이템별 차트'!$B20,'Raw Data'!$D:$D,'파트별 아이템별 차트'!$D20,'Raw Data'!$A:$A,'파트별 아이템별 차트'!$C20,'Raw Data'!$B:$B,'파트별 아이템별 차트'!G$2) -> 0 | H20: =COUNTIFS('Raw Data'!$C:$C,'파트별 아이템별 차트'!$B20,'Raw Data'!$D:$D,'파트별 아이템별 차트'!$D20,'Raw Data'!$A:$A,'파트별 아이템별 차트'!$C20,'Raw Data'!$B:$B,'파트별 아이템별 차트'!H$2) -> 1 | I20: =COUNTIFS('Raw Data'!$C:$C,'파트별 아이템별 차트'!$B20,'Raw Data'!$D:$D,'파트별 아이템별 차트'!$D20,'Raw Data'!$A:$A,'파트별 아이템별 차트'!$C20,'Raw Data'!$B:$B,'파트별 아이템별 차트'!I$2) -> 0 | J20: =COUNTIFS('Raw Data'!$C:$C,'파트별 아이템별 차트'!$B20,'Raw Data'!$D:$D,'파트별 아이템별 차트'!$D20,'Raw Data'!$A:$A,'파트별 아이템별 차트'!$C20,'Raw Data'!$B:$B,'파트별 아이템별 차트'!J$2) -> 2 | K20: =COUNTIFS('Raw Data'!$C:$C,'파트별 아이템별 차트'!$B20,'Raw Data'!$D:$D,'파트별 아이템별 차트'!$D20,'Raw Data'!$A:$A,'파트별 아이템별 차트'!$C20,'Raw Data'!$B:$B,'파트별 아이템별 차트'!K$2) -> 2 | L20: =COUNTIFS('Raw Data'!$C:$C,'파트별 아이템별 차트'!$B20,'Raw Data'!$D:$D,'파트별 아이템별 차트'!$D20,'Raw Data'!$A:$A,'파트별 아이템별 차트'!$C20,'Raw Data'!$B:$B,'파트별 아이템별 차트'!L$2) -> 1 | ... P20: =COUNTIFS('Raw Data'!$C:$C,'파트별 아이템별 차트'!$B20,'Raw Data'!$D:$D,'파트별 아이템별 차트'!$D20,'Raw Data'!$A:$A,'파트별 아이템별 차트'!$C20,'Raw Data'!$B:$B,'파트별 아이템별 차트'!P$2) -> 0 | Q20: =SUM(E20:P20) -> 18
A21: =A19+1 -> 9 | B21: =_xlfn.XLOOKUP($A21,'BACK DATA'!$A:$A,'BACK DATA'!$B:$B) -> ichroma | C21: 2022 | D21: =_xlfn.XLOOKUP($A21,'BACK DATA'!$A:$A,'BACK DATA'!$C:$C) -> TSH Plus | E21: =COUNTIFS('Raw Data'!$C:$C,'파트별 아이템별 차트'!$B21,'Raw Data'!$D:$D,'파트별 아이템별 차트'!$D21,'Raw Data'!$A:$A,'파트별 아이템별 차트'!$C21,'Raw Data'!$B:$B,'파트별 아이템별 차트'!E$2) -> 0 | F21: =COUNTIFS('Raw Data'!$C:$C,'파트별 아이템별 차트'!$B21,'Raw Data'!$D:$D,'파트별 아이템별 차트'!$D21,'Raw Data'!$A:$A,'파트별 아이템별 차트'!$C21,'Raw Data'!$B:$B,'파트별 아이템별 차트'!F$2) -> 0 | G21: =COUNTIFS('Raw Data'!$C:$C,'파트별 아이템별 차트'!$B21,'Raw Data'!$D:$D,'파트별 아이템별 차트'!$D21,'Raw Data'!$A:$A,'파트별 아이템별 차트'!$C21,'Raw Data'!$B:$B,'파트별 아이템별 차트'!G$2) -> 0 | H21: =COUNTIFS('Raw Data'!$C:$C,'파트별 아이템별 차트'!$B21,'Raw Data'!$D:$D,'파트별 아이템별 차트'!$D21,'Raw Data'!$A:$A,'파트별 아이템별 차트'!$C21,'Raw Data'!$B:$B,'파트별 아이템별 차트'!H$2) -> 0 | I21: =COUNTIFS('Raw Data'!$C:$C,'파트별 아이템별 차트'!$B21,'Raw Data'!$D:$D,'파트별 아이템별 차트'!$D21,'Raw Data'!$A:$A,'파트별 아이템별 차트'!$C21,'Raw Data'!$B:$B,'파트별 아이템별 차트'!I$2) -> 0 | J21: =COUNTIFS('Raw Data'!$C:$C,'파트별 아이템별 차트'!$B21,'Raw Data'!$D:$D,'파트별 아이템별 차트'!$D21,'Raw Data'!$A:$A,'파트별 아이템별 차트'!$C21,'Raw Data'!$B:$B,'파트별 아이템별 차트'!J$2) -> 0 | K21: =COUNTIFS('Raw Data'!$C:$C,'파트별 아이템별 차트'!$B21,'Raw Data'!$D:$D,'파트별 아이템별 차트'!$D21,'Raw Data'!$A:$A,'파트별 아이템별 차트'!$C21,'Raw Data'!$B:$B,'파트별 아이템별 차트'!K$2) -> 0 | L21: =COUNTIFS('Raw Data'!$C:$C,'파트별 아이템별 차트'!$B21,'Raw Data'!$D:$D,'파트별 아이템별 차트'!$D21,'Raw Data'!$A:$A,'파트별 아이템별 차트'!$C21,'Raw Data'!$B:$B,'파트별 아이템별 차트'!L$2) -> 0 | ... P21: =COUNTIFS('Raw Data'!$C:$C,'파트별 아이템별 차트'!$B21,'Raw Data'!$D:$D,'파트별 아이템별 차트'!$D21,'Raw Data'!$A:$A,'파트별 아이템별 차트'!$C21,'Raw Data'!$B:$B,'파트별 아이템별 차트'!P$2) -> 0 | Q21: =SUM(E21:P21) -> 1
A22: =A21 -> 9 | B22: =_xlfn.XLOOKUP($A22,'BACK DATA'!$A:$A,'BACK DATA'!$B:$B) -> ichroma | C22: 2023 | D22: =_xlfn.XLOOKUP($A22,'BACK DATA'!$A:$A,'BACK DATA'!$C:$C) -> TSH Plus | E22: =COUNTIFS('Raw Data'!$C:$C,'파트별 아이템별 차트'!$B22,'Raw Data'!$D:$D,'파트별 아이템별 차트'!$D22,'Raw Data'!$A:$A,'파트별 아이템별 차트'!$C22,'Raw Data'!$B:$B,'파트별 아이템별 차트'!E$2) -> 0 | F22: =COUNTIFS('Raw Data'!$C:$C,'파트별 아이템별 차트'!$B22,'Raw Data'!$D:$D,'파트별 아이템별 차트'!$D22,'Raw Data'!$A:$A,'파트별 아이템별 차트'!$C22,'Raw Data'!$B:$B,'파트별 아이템별 차트'!F$2) -> 1 | G22: =COUNTIFS('Raw Data'!$C:$C,'파트별 아이템별 차트'!$B22,'Raw Data'!$D:$D,'파트별 아이템별 차트'!$D22,'Raw Data'!$A:$A,'파트별 아이템별 차트'!$C22,'Raw Data'!$B:$B,'파트별 아이템별 차트'!G$2) -> 2 | H22: =COUNTIFS('Raw Data'!$C:$C,'파트별 아이템별 차트'!$B22,'Raw Data'!$D:$D,'파트별 아이템별 차트'!$D22,'Raw Data'!$A:$A,'파트별 아이템별 차트'!$C22,'Raw Data'!$B:$B,'파트별 아이템별 차트'!H$2) -> 1 | I22: =COUNTIFS('Raw Data'!$C:$C,'파트별 아이템별 차트'!$B22,'Raw Data'!$D:$D,'파트별 아이템별 차트'!$D22,'Raw Data'!$A:$A,'파트별 아이템별 차트'!$C22,'Raw Data'!$B:$B,'파트별 아이템별 차트'!I$2) -> 1 | J22: =COUNTIFS('Raw Data'!$C:$C,'파트별 아이템별 차트'!$B22,'Raw Data'!$D:$D,'파트별 아이템별 차트'!$D22,'Raw Data'!$A:$A,'파트별 아이템별 차트'!$C22,'Raw Data'!$B:$B,'파트별 아이템별 차트'!J$2) -> 2 | K22: =COUNTIFS('Raw Data'!$C:$C,'파트별 아이템별 차트'!$B22,'Raw Data'!$D:$D,'파트별 아이템별 차트'!$D22,'Raw Data'!$A:$A,'파트별 아이템별 차트'!$C22,'Raw Data'!$B:$B,'파트별 아이템별 차트'!K$2) -> 4 | L22: =COUNTIFS('Raw Data'!$C:$C,'파트별 아이템별 차트'!$B22,'Raw Data'!$D:$D,'파트별 아이템별 차트'!$D22,'Raw Data'!$A:$A,'파트별 아이템별 차트'!$C22,'Raw Data'!$B:$B,'파트별 아이템별 차트'!L$2) -> 1 | ... P22: =COUNTIFS('Raw Data'!$C:$C,'파트별 아이템별 차트'!$B22,'Raw Data'!$D:$D,'파트별 아이템별 차트'!$D22,'Raw Data'!$A:$A,'파트별 아이템별 차트'!$C22,'Raw Data'!$B:$B,'파트별 아이템별 차트'!P$2) -> 1 | Q22: =SUM(E22:P22) -> 18
A23: =A21+1 -> 10 | B23: =_xlfn.XLOOKUP($A23,'BACK DATA'!$A:$A,'BACK DATA'!$B:$B) -> ichroma | C23: 2022 | D23: =_xlfn.XLOOKUP($A23,'BACK DATA'!$A:$A,'BACK DATA'!$C:$C) -> Testosterone | E23: =COUNTIFS('Raw Data'!$C:$C,'파트별 아이템별 차트'!$B23,'Raw Data'!$D:$D,'파트별 아이템별 차트'!$D23,'Raw Data'!$A:$A,'파트별 아이템별 차트'!$C23,'Raw Data'!$B:$B,'파트별 아이템별 차트'!E$2) -> 0 | F23: =COUNTIFS('Raw Data'!$C:$C,'파트별 아이템별 차트'!$B23,'Raw Data'!$D:$D,'파트별 아이템별 차트'!$D23,'Raw Data'!$A:$A,'파트별 아이템별 차트'!$C23,'Raw Data'!$B:$B,'파트별 아이템별 차트'!F$2) -> 0 | G23: =COUNTIFS('Raw Data'!$C:$C,'파트별 아이템별 차트'!$B23,'Raw Data'!$D:$D,'파트별 아이템별 차트'!$D23,'Raw Data'!$A:$A,'파트별 아이템별 차트'!$C23,'Raw Data'!$B:$B,'파트별 아이템별 차트'!G$2) -> 1 | H23: =COUNTIFS('Raw Data'!$C:$C,'파트별 아이템별 차트'!$B23,'Raw Data'!$D:$D,'파트별 아이템별 차트'!$D23,'Raw Data'!$A:$A,'파트별 아이템별 차트'!$C23,'Raw Data'!$B:$B,'파트별 아이템별 차트'!H$2) -> 1 | I23: =COUNTIFS('Raw Data'!$C:$C,'파트별 아이템별 차트'!$B23,'Raw Data'!$D:$D,'파트별 아이템별 차트'!$D23,'Raw Data'!$A:$A,'파트별 아이템별 차트'!$C23,'Raw Data'!$B:$B,'파트별 아이템별 차트'!I$2) -> 0 | J23: =COUNTIFS('Raw Data'!$C:$C,'파트별 아이템별 차트'!$B23,'Raw Data'!$D:$D,'파트별 아이템별 차트'!$D23,'Raw Data'!$A:$A,'파트별 아이템별 차트'!$C23,'Raw Data'!$B:$B,'파트별 아이템별 차트'!J$2) -> 3 | K23: =COUNTIFS('Raw Data'!$C:$C,'파트별 아이템별 차트'!$B23,'Raw Data'!$D:$D,'파트별 아이템별 차트'!$D23,'Raw Data'!$A:$A,'파트별 아이템별 차트'!$C23,'Raw Data'!$B:$B,'파트별 아이템별 차트'!K$2) -> 1 | L23: =COUNTIFS('Raw Data'!$C:$C,'파트별 아이템별 차트'!$B23,'Raw Data'!$D:$D,'파트별 아이템별 차트'!$D23,'Raw Data'!$A:$A,'파트별 아이템별 차트'!$C23,'Raw Data'!$B:$B,'파트별 아이템별 차트'!L$2) -> 0 | ... P23: =COUNTIFS('Raw Data'!$C:$C,'파트별 아이템별 차트'!$B23,'Raw Data'!$D:$D,'파트별 아이템별 차트'!$D23,'Raw Data'!$A:$A,'파트별 아이템별 차트'!$C23,'Raw Data'!$B:$B,'파트별 아이템별 차트'!P$2) -> 0 | Q23: =SUM(E23:P23) -> 7
A24: =A23 -> 10 | B24: =_xlfn.XLOOKUP($A24,'BACK DATA'!$A:$A,'BACK DATA'!$B:$B) -> ichroma | C24: 2023 | D24: =_xlfn.XLOOKUP($A24,'BACK DATA'!$A:$A,'BACK DATA'!$C:$C) -> Testosterone | E24: =COUNTIFS('Raw Data'!$C:$C,'파트별 아이템별 차트'!$B24,'Raw Data'!$D:$D,'파트별 아이템별 차트'!$D24,'Raw Data'!$A:$A,'파트별 아이템별 차트'!$C24,'Raw Data'!$B:$B,'파트별 아이템별 차트'!E$2) -> 1 | F24: =COUNTIFS('Raw Data'!$C:$C,'파트별 아이템별 차트'!$B24,'Raw Data'!$D:$D,'파트별 아이템별 차트'!$D24,'Raw Data'!$A:$A,'파트별 아이템별 차트'!$C24,'Raw Data'!$B:$B,'파트별 아이템별 차트'!F$2) -> 0 | G24: =COUNTIFS('Raw Data'!$C:$C,'파트별 아이템별 차트'!$B24,'Raw Data'!$D:$D,'파트별 아이템별 차트'!$D24,'Raw Data'!$A:$A,'파트별 아이템별 차트'!$C24,'Raw Data'!$B:$B,'파트별 아이템별 차트'!G$2) -> 1 | H24: =COUNTIFS('Raw Data'!$C:$C,'파트별 아이템별 차트'!$B24,'Raw Data'!$D:$D,'파트별 아이템별 차트'!$D24,'Raw Data'!$A:$A,'파트별 아이템별 차트'!$C24,'Raw Data'!$B:$B,'파트별 아이템별 차트'!H$2) -> 1 | I24: =COUNTIFS('Raw Data'!$C:$C,'파트별 아이템별 차트'!$B24,'Raw Data'!$D:$D,'파트별 아이템별 차트'!$D24,'Raw Data'!$A:$A,'파트별 아이템별 차트'!$C24,'Raw Data'!$B:$B,'파트별 아이템별 차트'!I$2) -> 0 | J24: =COUNTIFS('Raw Data'!$C:$C,'파트별 아이템별 차트'!$B24,'Raw Data'!$D:$D,'파트별 아이템별 차트'!$D24,'Raw Data'!$A:$A,'파트별 아이템별 차트'!$C24,'Raw Data'!$B:$B,'파트별 아이템별 차트'!J$2) -> 2 | K24: =COUNTIFS('Raw Data'!$C:$C,'파트별 아이템별 차트'!$B24,'Raw Data'!$D:$D,'파트별 아이템별 차트'!$D24,'Raw Data'!$A:$A,'파트별 아이템별 차트'!$C24,'Raw Data'!$B:$B,'파트별 아이템별 차트'!K$2) -> 3 | L24: =COUNTIFS('Raw Data'!$C:$C,'파트별 아이템별 차트'!$B24,'Raw Data'!$D:$D,'파트별 아이템별 차트'!$D24,'Raw Data'!$A:$A,'파트별 아이템별 차트'!$C24,'Raw Data'!$B:$B,'파트별 아이템별 차트'!L$2) -> 4 | ... P24: =COUNTIFS('Raw Data'!$C:$C,'파트별 아이템별 차트'!$B24,'Raw Data'!$D:$D,'파트별 아이템별 차트'!$D24,'Raw Data'!$A:$A,'파트별 아이템별 차트'!$C24,'Raw Data'!$B:$B,'파트별 아이템별 차트'!P$2) -> 0 | Q24: =SUM(E24:P24) -> 17
A25: =A23+1 -> 11 | B25: =_xlfn.XLOOKUP($A25,'BACK DATA'!$A:$A,'BACK DATA'!$B:$B) -> ichroma | C25: 2022 | D25: =_xlfn.XLOOKUP($A25,'BACK DATA'!$A:$A,'BACK DATA'!$C:$C) -> NT-proBNP | E25: =COUNTIFS('Raw Data'!$C:$C,'파트별 아이템별 차트'!$B25,'Raw Data'!$D:$D,'파트별 아이템별 차트'!$D25,'Raw Data'!$A:$A,'파트별 아이템별 차트'!$C25,'Raw Data'!$B:$B,'파트별 아이템별 차트'!E$2) -> 0 | F25: =COUNTIFS('Raw Data'!$C:$C,'파트별 아이템별 차트'!$B25,'Raw Data'!$D:$D,'파트별 아이템별 차트'!$D25,'Raw Data'!$A:$A,'파트별 아이템별 차트'!$C25,'Raw Data'!$B:$B,'파트별 아이템별 차트'!F$2) -> 0 | G25: =COUNTIFS('Raw Data'!$C:$C,'파트별 아이템별 차트'!$B25,'Raw Data'!$D:$D,'파트별 아이템별 차트'!$D25,'Raw Data'!$A:$A,'파트별 아이템별 차트'!$C25,'Raw Data'!$B:$B,'파트별 아이템별 차트'!G$2) -> 0 | H25: =COUNTIFS('Raw Data'!$C:$C,'파트별 아이템별 차트'!$B25,'Raw Data'!$D:$D,'파트별 아이템별 차트'!$D25,'Raw Data'!$A:$A,'파트별 아이템별 차트'!$C25,'Raw Data'!$B:$B,'파트별 아이템별 차트'!H$2) -> 0 | I25: =COUNTIFS('Raw Data'!$C:$C,'파트별 아이템별 차트'!$B25,'Raw Data'!$D:$D,'파트별 아이템별 차트'!$D25,'Raw Data'!$A:$A,'파트별 아이템별 차트'!$C25,'Raw Data'!$B:$B,'파트별 아이템별 차트'!I$2) -> 1 | J25: =COUNTIFS('Raw Data'!$C:$C,'파트별 아이템별 차트'!$B25,'Raw Data'!$D:$D,'파트별 아이템별 차트'!$D25,'Raw Data'!$A:$A,'파트별 아이템별 차트'!$C25,'Raw Data'!$B:$B,'파트별 아이템별 차트'!J$2) -> 0 | K25: =COUNTIFS('Raw Data'!$C:$C,'파트별 아이템별 차트'!$B25,'Raw Data'!$D:$D,'파트별 아이템별 차트'!$D25,'Raw Data'!$A:$A,'파트별 아이템별 차트'!$C25,'Raw Data'!$B:$B,'파트별 아이템별 차트'!K$2) -> 2 | L25: =COUNTIFS('Raw Data'!$C:$C,'파트별 아이템별 차트'!$B25,'Raw Data'!$D:$D,'파트별 아이템별 차트'!$D25,'Raw Data'!$A:$A,'파트별 아이템별 차트'!$C25,'Raw Data'!$B:$B,'파트별 아이템별 차트'!L$2) -> 2 | ... P25: =COUNTIFS('Raw Data'!$C:$C,'파트별 아이템별 차트'!$B25,'Raw Data'!$D:$D,'파트별 아이템별 차트'!$D25,'Raw Data'!$A:$A,'파트별 아이템별 차트'!$C25,'Raw Data'!$B:$B,'파트별 아이템별 차트'!P$2) -> 0 | Q25: =SUM(E25:P25) -> 6
A26: =A25 -> 11 | B26: =_xlfn.XLOOKUP($A26,'BACK DATA'!$A:$A,'BACK DATA'!$B:$B) -> ichroma | C26: 2023 | D26: =_xlfn.XLOOKUP($A26,'BACK DATA'!$A:$A,'BACK DATA'!$C:$C) -> NT-proBNP | E26: =COUNTIFS('Raw Data'!$C:$C,'파트별 아이템별 차트'!$B26,'Raw Data'!$D:$D,'파트별 아이템별 차트'!$D26,'Raw Data'!$A:$A,'파트별 아이템별 차트'!$C26,'Raw Data'!$B:$B,'파트별 아이템별 차트'!E$2) -> 1 | F26: =COUNTIFS('Raw Data'!$C:$C,'파트별 아이템별 차트'!$B26,'Raw Data'!$D:$D,'파트별 아이템별 차트'!$D26,'Raw Data'!$A:$A,'파트별 아이템별 차트'!$C26,'Raw Data'!$B:$B,'파트별 아이템별 차트'!F$2) -> 1 | G26: =COUNTIFS('Raw Data'!$C:$C,'파트별 아이템별 차트'!$B26,'Raw Data'!$D:$D,'파트별 아이템별 차트'!$D26,'Raw Data'!$A:$A,'파트별 아이템별 차트'!$C26,'Raw Data'!$B:$B,'파트별 아이템별 차트'!G$2) -> 1 | H26: =COUNTIFS('Raw Data'!$C:$C,'파트별 아이템별 차트'!$B26,'Raw Data'!$D:$D,'파트별 아이템별 차트'!$D26,'Raw Data'!$A:$A,'파트별 아이템별 차트'!$C26,'Raw Data'!$B:$B,'파트별 아이템별 차트'!H$2) -> 0 | I26: =COUNTIFS('Raw Data'!$C:$C,'파트별 아이템별 차트'!$B26,'Raw Data'!$D:$D,'파트별 아이템별 차트'!$D26,'Raw Data'!$A:$A,'파트별 아이템별 차트'!$C26,'Raw Data'!$B:$B,'파트별 아이템별 차트'!I$2) -> 0 | J26: =COUNTIFS('Raw Data'!$C:$C,'파트별 아이템별 차트'!$B26,'Raw Data'!$D:$D,'파트별 아이템별 차트'!$D26,'Raw Data'!$A:$A,'파트별 아이템별 차트'!$C26,'Raw Data'!$B:$B,'파트별 아이템별 차트'!J$2) -> 2 | K26: =COUNTIFS('Raw Data'!$C:$C,'파트별 아이템별 차트'!$B26,'Raw Data'!$D:$D,'파트별 아이템별 차트'!$D26,'Raw Data'!$A:$A,'파트별 아이템별 차트'!$C26,'Raw Data'!$B:$B,'파트별 아이템별 차트'!K$2) -> 1 | L26: =COUNTIFS('Raw Data'!$C:$C,'파트별 아이템별 차트'!$B26,'Raw Data'!$D:$D,'파트별 아이템별 차트'!$D26,'Raw Data'!$A:$A,'파트별 아이템별 차트'!$C26,'Raw Data'!$B:$B,'파트별 아이템별 차트'!L$2) -> 3 | ... P26: =COUNTIFS('Raw Data'!$C:$C,'파트별 아이템별 차트'!$B26,'Raw Data'!$D:$D,'파트별 아이템별 차트'!$D26,'Raw Data'!$A:$A,'파트별 아이템별 차트'!$C26,'Raw Data'!$B:$B,'파트별 아이템별 차트'!P$2) -> 0 | Q26: =SUM(E26:P26) -> 15
A27: =A25+1 -> 12 | B27: =_xlfn.XLOOKUP($A27,'BACK DATA'!$A:$A,'BACK DATA'!$B:$B) -> ichroma | C27: 2022 | D27: =_xlfn.XLOOKUP($A27,'BACK DATA'!$A:$A,'BACK DATA'!$C:$C) -> Calprotectin | E27: =COUNTIFS('Raw Data'!$C:$C,'파트별 아이템별 차트'!$B27,'Raw Data'!$D:$D,'파트별 아이템별 차트'!$D27,'Raw Data'!$A:$A,'파트별 아이템별 차트'!$C27,'Raw Data'!$B:$B,'파트별 아이템별 차트'!E$2) -> 0 | F27: =COUNTIFS('Raw Data'!$C:$C,'파트별 아이템별 차트'!$B27,'Raw Data'!$D:$D,'파트별 아이템별 차트'!$D27,'Raw Data'!$A:$A,'파트별 아이템별 차트'!$C27,'Raw Data'!$B:$B,'파트별 아이템별 차트'!F$2) -> 0 | G27: =COUNTIFS('Raw Data'!$C:$C,'파트별 아이템별 차트'!$B27,'Raw Data'!$D:$D,'파트별 아이템별 차트'!$D27,'Raw Data'!$A:$A,'파트별 아이템별 차트'!$C27,'Raw Data'!$B:$B,'파트별 아이템별 차트'!G$2) -> 0 | H27: =COUNTIFS('Raw Data'!$C:$C,'파트별 아이템별 차트'!$B27,'Raw Data'!$D:$D,'파트별 아이템별 차트'!$D27,'Raw Data'!$A:$A,'파트별 아이템별 차트'!$C27,'Raw Data'!$B:$B,'파트별 아이템별 차트'!H$2) -> 1 | I27: =COUNTIFS('Raw Data'!$C:$C,'파트별 아이템별 차트'!$B27,'Raw Data'!$D:$D,'파트별 아이템별 차트'!$D27,'Raw Data'!$A:$A,'파트별 아이템별 차트'!$C27,'Raw Data'!$B:$B,'파트별 아이템별 차트'!I$2) -> 1 | J27: =COUNTIFS('Raw Data'!$C:$C,'파트별 아이템별 차트'!$B27,'Raw Data'!$D:$D,'파트별 아이템별 차트'!$D27,'Raw Data'!$A:$A,'파트별 아이템별 차트'!$C27,'Raw Data'!$B:$B,'파트별 아이템별 차트'!J$2) -> 0 | K27: =COUNTIFS('Raw Data'!$C:$C,'파트별 아이템별 차트'!$B27,'Raw Data'!$D:$D,'파트별 아이템별 차트'!$D27,'Raw Data'!$A:$A,'파트별 아이템별 차트'!$C27,'Raw Data'!$B:$B,'파트별 아이템별 차트'!K$2) -> 1 | L27: =COUNTIFS('Raw Data'!$C:$C,'파트별 아이템별 차트'!$B27,'Raw Data'!$D:$D,'파트별 아이템별 차트'!$D27,'Raw Data'!$A:$A,'파트별 아이템별 차트'!$C27,'Raw Data'!$B:$B,'파트별 아이템별 차트'!L$2) -> 1 | ... P27: =COUNTIFS('Raw Data'!$C:$C,'파트별 아이템별 차트'!$B27,'Raw Data'!$D:$D,'파트별 아이템별 차트'!$D27,'Raw Data'!$A:$A,'파트별 아이템별 차트'!$C27,'Raw Data'!$B:$B,'파트별 아이템별 차트'!P$2) -> 0 | Q27: =SUM(E27:P27) -> 7
A28: =A27 -> 12 | B28: =_xlfn.XLOOKUP($A28,'BACK DATA'!$A:$A,'BACK DATA'!$B:$B) -> ichroma | C28: 2023 | D28: =_xlfn.XLOOKUP($A28,'BACK DATA'!$A:$A,'BACK DATA'!$C:$C) -> Calprotectin | E28: =COUNTIFS('Raw Data'!$C:$C,'파트별 아이템별 차트'!$B28,'Raw Data'!$D:$D,'파트별 아이템별 차트'!$D28,'Raw Data'!$A:$A,'파트별 아이템별 차트'!$C28,'Raw Data'!$B:$B,'파트별 아이템별 차트'!E$2) -> 4 | F28: =COUNTIFS('Raw Data'!$C:$C,'파트별 아이템별 차트'!$B28,'Raw Data'!$D:$D,'파트별 아이템별 차트'!$D28,'Raw Data'!$A:$A,'파트별 아이템별 차트'!$C28,'Raw Data'!$B:$B,'파트별 아이템별 차트'!F$2) -> 2 | G28: =COUNTIFS('Raw Data'!$C:$C,'파트별 아이템별 차트'!$B28,'Raw Data'!$D:$D,'파트별 아이템별 차트'!$D28,'Raw Data'!$A:$A,'파트별 아이템별 차트'!$C28,'Raw Data'!$B:$B,'파트별 아이템별 차트'!G$2) -> 0 | H28: =COUNTIFS('Raw Data'!$C:$C,'파트별 아이템별 차트'!$B28,'Raw Data'!$D:$D,'파트별 아이템별 차트'!$D28,'Raw Data'!$A:$A,'파트별 아이템별 차트'!$C28,'Raw Data'!$B:$B,'파트별 아이템별 차트'!H$2) -> 1 | I28: =COUNTIFS('Raw Data'!$C:$C,'파트별 아이템별 차트'!$B28,'Raw Data'!$D:$D,'파트별 아이템별 차트'!$D28,'Raw Data'!$A:$A,'파트별 아이템별 차트'!$C28,'Raw Data'!$B:$B,'파트별 아이템별 차트'!I$2) -> 0 | J28: =COUNTIFS('Raw Data'!$C:$C,'파트별 아이템별 차트'!$B28,'Raw Data'!$D:$D,'파트별 아이템별 차트'!$D28,'Raw Data'!$A:$A,'파트별 아이템별 차트'!$C28,'Raw Data'!$B:$B,'파트별 아이템별 차트'!J$2) -> 0 | K28: =COUNTIFS('Raw Data'!$C:$C,'파트별 아이템별 차트'!$B28,'Raw Data'!$D:$D,'파트별 아이템별 차트'!$D28,'Raw Data'!$A:$A,'파트별 아이템별 차트'!$C28,'Raw Data'!$B:$B,'파트별 아이템별 차트'!K$2) -> 1 | L28: =COUNTIFS('Raw Data'!$C:$C,'파트별 아이템별 차트'!$B28,'Raw Data'!$D:$D,'파트별 아이템별 차트'!$D28,'Raw Data'!$A:$A,'파트별 아이템별 차트'!$C28,'Raw Data'!$B:$B,'파트별 아이템별 차트'!L$2) -> 1 | ... P28: =COUNTIFS('Raw Data'!$C:$C,'파트별 아이템별 차트'!$B28,'Raw Data'!$D:$D,'파트별 아이템별 차트'!$D28,'Raw Data'!$A:$A,'파트별 아이템별 차트'!$C28,'Raw Data'!$B:$B,'파트별 아이템별 차트'!P$2) -> 2 | Q28: =SUM(E28:P28) -> 13
A29: =A27+1 -> 13 | B29: =_xlfn.XLOOKUP($A29,'BACK DATA'!$A:$A,'BACK DATA'!$B:$B) -> ichroma | C29: 2022 | D29: =_xlfn.XLOOKUP($A29,'BACK DATA'!$A:$A,'BACK DATA'!$C:$C) -> Progesterone | E29: =COUNTIFS('Raw Data'!$C:$C,'파트별 아이템별 차트'!$B29,'Raw Data'!$D:$D,'파트별 아이템별 차트'!$D29,'Raw Data'!$A:$A,'파트별 아이템별 차트'!$C29,'Raw Data'!$B:$B,'파트별 아이템별 차트'!E$2) -> 0 | F29: =COUNTIFS('Raw Data'!$C:$C,'파트별 아이템별 차트'!$B29,'Raw Data'!$D:$D,'파트별 아이템별 차트'!$D29,'Raw Data'!$A:$A,'파트별 아이템별 차트'!$C29,'Raw Data'!$B:$B,'파트별 아이템별 차트'!F$2) -> 0 | G29: =COUNTIFS('Raw Data'!$C:$C,'파트별 아이템별 차트'!$B29,'Raw Data'!$D:$D,'파트별 아이템별 차트'!$D29,'Raw Data'!$A:$A,'파트별 아이템별 차트'!$C29,'Raw Data'!$B:$B,'파트별 아이템별 차트'!G$2) -> 0 | H29: =COUNTIFS('Raw Data'!$C:$C,'파트별 아이템별 차트'!$B29,'Raw Data'!$D:$D,'파트별 아이템별 차트'!$D29,'Raw Data'!$A:$A,'파트별 아이템별 차트'!$C29,'Raw Data'!$B:$B,'파트별 아이템별 차트'!H$2) -> 1 | I29: =COUNTIFS('Raw Data'!$C:$C,'파트별 아이템별 차트'!$B29,'Raw Data'!$D:$D,'파트별 아이템별 차트'!$D29,'Raw Data'!$A:$A,'파트별 아이템별 차트'!$C29,'Raw Data'!$B:$B,'파트별 아이템별 차트'!I$2) -> 1 | J29: =COUNTIFS('Raw Data'!$C:$C,'파트별 아이템별 차트'!$B29,'Raw Data'!$D:$D,'파트별 아이템별 차트'!$D29,'Raw Data'!$A:$A,'파트별 아이템별 차트'!$C29,'Raw Data'!$B:$B,'파트별 아이템별 차트'!J$2) -> 1 | K29: =COUNTIFS('Raw Data'!$C:$C,'파트별 아이템별 차트'!$B29,'Raw Data'!$D:$D,'파트별 아이템별 차트'!$D29,'Raw Data'!$A:$A,'파트별 아이템별 차트'!$C29,'Raw Data'!$B:$B,'파트별 아이템별 차트'!K$2) -> 3 | L29: =COUNTIFS('Raw Data'!$C:$C,'파트별 아이템별 차트'!$B29,'Raw Data'!$D:$D,'파트별 아이템별 차트'!$D29,'Raw Data'!$A:$A,'파트별 아이템별 차트'!$C29,'Raw Data'!$B:$B,'파트별 아이템별 차트'!L$2) -> 0 | ... P29: =COUNTIFS('Raw Data'!$C:$C,'파트별 아이템별 차트'!$B29,'Raw Data'!$D:$D,'파트별 아이템별 차트'!$D29,'Raw Data'!$A:$A,'파트별 아이템별 차트'!$C29,'Raw Data'!$B:$B,'파트별 아이템별 차트'!P$2) -> 0 | Q29: =SUM(E29:P29) -> 7
A30: =A29 -> 13 | B30: =_xlfn.XLOOKUP($A30,'BACK DATA'!$A:$A,'BACK DATA'!$B:$B) -> ichroma | C30: 2023 | D30: =_xlfn.XLOOKUP($A30,'BACK DATA'!$A:$A,'BACK DATA'!$C:$C) -> Progesterone | E30: =COUNTIFS('Raw Data'!$C:$C,'파트별 아이템별 차트'!$B30,'Raw Data'!$D:$D,'파트별 아이템별 차트'!$D30,'Raw Data'!$A:$A,'파트별 아이템별 차트'!$C30,'Raw Data'!$B:$B,'파트별 아이템별 차트'!E$2) -> 1 | F30: =COUNTIFS('Raw Data'!$C:$C,'파트별 아이템별 차트'!$B30,'Raw Data'!$D:$D,'파트별 아이템별 차트'!$D30,'Raw Data'!$A:$A,'파트별 아이템별 차트'!$C30,'Raw Data'!$B:$B,'파트별 아이템별 차트'!F$2) -> 0 | G30: =COUNTIFS('Raw Data'!$C:$C,'파트별 아이템별 차트'!$B30,'Raw Data'!$D:$D,'파트별 아이템별 차트'!$D30,'Raw Data'!$A:$A,'파트별 아이템별 차트'!$C30,'Raw Data'!$B:$B,'파트별 아이템별 차트'!G$2) -> 4 | H30: =COUNTIFS('Raw Data'!$C:$C,'파트별 아이템별 차트'!$B30,'Raw Data'!$D:$D,'파트별 아이템별 차트'!$D30,'Raw Data'!$A:$A,'파트별 아이템별 차트'!$C30,'Raw Data'!$B:$B,'파트별 아이템별 차트'!H$2) -> 0 | I30: =COUNTIFS('Raw Data'!$C:$C,'파트별 아이템별 차트'!$B30,'Raw Data'!$D:$D,'파트별 아이템별 차트'!$D30,'Raw Data'!$A:$A,'파트별 아이템별 차트'!$C30,'Raw Data'!$B:$B,'파트별 아이템별 차트'!I$2) -> 1 | J30: =COUNTIFS('Raw Data'!$C:$C,'파트별 아이템별 차트'!$B30,'Raw Data'!$D:$D,'파트별 아이템별 차트'!$D30,'Raw Data'!$A:$A,'파트별 아이템별 차트'!$C30,'Raw Data'!$B:$B,'파트별 아이템별 차트'!J$2) -> 0 | K30: =COUNTIFS('Raw Data'!$C:$C,'파트별 아이템별 차트'!$B30,'Raw Data'!$D:$D,'파트별 아이템별 차트'!$D30,'Raw Data'!$A:$A,'파트별 아이템별 차트'!$C30,'Raw Data'!$B:$B,'파트별 아이템별 차트'!K$2) -> 1 | L30: =COUNTIFS('Raw Data'!$C:$C,'파트별 아이템별 차트'!$B30,'Raw Data'!$D:$D,'파트별 아이템별 차트'!$D30,'Raw Data'!$A:$A,'파트별 아이템별 차트'!$C30,'Raw Data'!$B:$B,'파트별 아이템별 차트'!L$2) -> 1 | ... P30: =COUNTIFS('Raw Data'!$C:$C,'파트별 아이템별 차트'!$B30,'Raw Data'!$D:$D,'파트별 아이템별 차트'!$D30,'Raw Data'!$A:$A,'파트별 아이템별 차트'!$C30,'Raw Data'!$B:$B,'파트별 아이템별 차트'!P$2) -> 0 | Q30: =SUM(E30:P30) -> 13
A31: =A29+1 -> 14 | B31: =_xlfn.XLOOKUP($A31,'BACK DATA'!$A:$A,'BACK DATA'!$B:$B) -> ichroma | C31: 2022 | D31: =_xlfn.XLOOKUP($A31,'BACK DATA'!$A:$A,'BACK DATA'!$C:$C) -> Microalbumin | E31: =COUNTIFS('Raw Data'!$C:$C,'파트별 아이템별 차트'!$B31,'Raw Data'!$D:$D,'파트별 아이템별 차트'!$D31,'Raw Data'!$A:$A,'파트별 아이템별 차트'!$C31,'Raw Data'!$B:$B,'파트별 아이템별 차트'!E$2) -> 0 | F31: =COUNTIFS('Raw Data'!$C:$C,'파트별 아이템별 차트'!$B31,'Raw Data'!$D:$D,'파트별 아이템별 차트'!$D31,'Raw Data'!$A:$A,'파트별 아이템별 차트'!$C31,'Raw Data'!$B:$B,'파트별 아이템별 차트'!F$2) -> 0 | G31: =COUNTIFS('Raw Data'!$C:$C,'파트별 아이템별 차트'!$B31,'Raw Data'!$D:$D,'파트별 아이템별 차트'!$D31,'Raw Data'!$A:$A,'파트별 아이템별 차트'!$C31,'Raw Data'!$B:$B,'파트별 아이템별 차트'!G$2) -> 0 | H31: =COUNTIFS('Raw Data'!$C:$C,'파트별 아이템별 차트'!$B31,'Raw Data'!$D:$D,'파트별 아이템별 차트'!$D31,'Raw Data'!$A:$A,'파트별 아이템별 차트'!$C31,'Raw Data'!$B:$B,'파트별 아이템별 차트'!H$2) -> 0 | I31: =COUNTIFS('Raw Data'!$C:$C,'파트별 아이템별 차트'!$B31,'Raw Data'!$D:$D,'파트별 아이템별 차트'!$D31,'Raw Data'!$A:$A,'파트별 아이템별 차트'!$C31,'Raw Data'!$B:$B,'파트별 아이템별 차트'!I$2) -> 0 | J31: =COUNTIFS('Raw Data'!$C:$C,'파트별 아이템별 차트'!$B31,'Raw Data'!$D:$D,'파트별 아이템별 차트'!$D31,'Raw Data'!$A:$A,'파트별 아이템별 차트'!$C31,'Raw Data'!$B:$B,'파트별 아이템별 차트'!J$2) -> 1 | K31: =COUNTIFS('Raw Data'!$C:$C,'파트별 아이템별 차트'!$B31,'Raw Data'!$D:$D,'파트별 아이템별 차트'!$D31,'Raw Data'!$A:$A,'파트별 아이템별 차트'!$C31,'Raw Data'!$B:$B,'파트별 아이템별 차트'!K$2) -> 0 | L31: =COUNTIFS('Raw Data'!$C:$C,'파트별 아이템별 차트'!$B31,'Raw Data'!$D:$D,'파트별 아이템별 차트'!$D31,'Raw Data'!$A:$A,'파트별 아이템별 차트'!$C31,'Raw Data'!$B:$B,'파트별 아이템별 차트'!L$2) -> 0 | ... P31: =COUNTIFS('Raw Data'!$C:$C,'파트별 아이템별 차트'!$B31,'Raw Data'!$D:$D,'파트별 아이템별 차트'!$D31,'Raw Data'!$A:$A,'파트별 아이템별 차트'!$C31,'Raw Data'!$B:$B,'파트별 아이템별 차트'!P$2) -> 0 | Q31: =SUM(E31:P31) -> 1
A32: =A31 -> 14 | B32: =_xlfn.XLOOKUP($A32,'BACK DATA'!$A:$A,'BACK DATA'!$B:$B) -> ichroma | C32: 2023 | D32: =_xlfn.XLOOKUP($A32,'BACK DATA'!$A:$A,'BACK DATA'!$C:$C) -> Microalbumin | E32: =COUNTIFS('Raw Data'!$C:$C,'파트별 아이템별 차트'!$B32,'Raw Data'!$D:$D,'파트별 아이템별 차트'!$D32,'Raw Data'!$A:$A,'파트별 아이템별 차트'!$C32,'Raw Data'!$B:$B,'파트별 아이템별 차트'!E$2) -> 0 | F32: =COUNTIFS('Raw Data'!$C:$C,'파트별 아이템별 차트'!$B32,'Raw Data'!$D:$D,'파트별 아이템별 차트'!$D32,'Raw Data'!$A:$A,'파트별 아이템별 차트'!$C32,'Raw Data'!$B:$B,'파트별 아이템별 차트'!F$2) -> 1 | G32: =COUNTIFS('Raw Data'!$C:$C,'파트별 아이템별 차트'!$B32,'Raw Data'!$D:$D,'파트별 아이템별 차트'!$D32,'Raw Data'!$A:$A,'파트별 아이템별 차트'!$C32,'Raw Data'!$B:$B,'파트별 아이템별 차트'!G$2) -> 0 | H32: =COUNTIFS('Raw Data'!$C:$C,'파트별 아이템별 차트'!$B32,'Raw Data'!$D:$D,'파트별 아이템별 차트'!$D32,'Raw Data'!$A:$A,'파트별 아이템별 차트'!$C32,'Raw Data'!$B:$B,'파트별 아이템별 차트'!H$2) -> 0 | I32: =COUNTIFS('Raw Data'!$C:$C,'파트별 아이템별 차트'!$B32,'Raw Data'!$D:$D,'파트별 아이템별 차트'!$D32,'Raw Data'!$A:$A,'파트별 아이템별 차트'!$C32,'Raw Data'!$B:$B,'파트별 아이템별 차트'!I$2) -> 1 | J32: =COUNTIFS('Raw Data'!$C:$C,'파트별 아이템별 차트'!$B32,'Raw Data'!$D:$D,'파트별 아이템별 차트'!$D32,'Raw Data'!$A:$A,'파트별 아이템별 차트'!$C32,'Raw Data'!$B:$B,'파트별 아이템별 차트'!J$2) -> 0 | K32: =COUNTIFS('Raw Data'!$C:$C,'파트별 아이템별 차트'!$B32,'Raw Data'!$D:$D,'파트별 아이템별 차트'!$D32,'Raw Data'!$A:$A,'파트별 아이템별 차트'!$C32,'Raw Data'!$B:$B,'파트별 아이템별 차트'!K$2) -> 0 | L32: =COUNTIFS('Raw Data'!$C:$C,'파트별 아이템별 차트'!$B32,'Raw Data'!$D:$D,'파트별 아이템별 차트'!$D32,'Raw Data'!$A:$A,'파트별 아이템별 차트'!$C32,'Raw Data'!$B:$B,'파트별 아이템별 차트'!L$2) -> 3 | ... P32: =COUNTIFS('Raw Data'!$C:$C,'파트별 아이템별 차트'!$B32,'Raw Data'!$D:$D,'파트별 아이템별 차트'!$D32,'Raw Data'!$A:$A,'파트별 아이템별 차트'!$C32,'Raw Data'!$B:$B,'파트별 아이템별 차트'!P$2) -> 1 | Q32: =SUM(E32:P32) -> 13
A33: =A31+1 -> 15 | B33: =_xlfn.XLOOKUP($A33,'BACK DATA'!$A:$A,'BACK DATA'!$B:$B) -> ichroma | C33: 2022 | D33: =_xlfn.XLOOKUP($A33,'BACK DATA'!$A:$A,'BACK DATA'!$C:$C) -> PSA | E33: =COUNTIFS('Raw Data'!$C:$C,'파트별 아이템별 차트'!$B33,'Raw Data'!$D:$D,'파트별 아이템별 차트'!$D33,'Raw Data'!$A:$A,'파트별 아이템별 차트'!$C33,'Raw Data'!$B:$B,'파트별 아이템별 차트'!E$2) -> 0 | F33: =COUNTIFS('Raw Data'!$C:$C,'파트별 아이템별 차트'!$B33,'Raw Data'!$D:$D,'파트별 아이템별 차트'!$D33,'Raw Data'!$A:$A,'파트별 아이템별 차트'!$C33,'Raw Data'!$B:$B,'파트별 아이템별 차트'!F$2) -> 0 | G33: =COUNTIFS('Raw Data'!$C:$C,'파트별 아이템별 차트'!$B33,'Raw Data'!$D:$D,'파트별 아이템별 차트'!$D33,'Raw Data'!$A:$A,'파트별 아이템별 차트'!$C33,'Raw Data'!$B:$B,'파트별 아이템별 차트'!G$2) -> 0 | H33: =COUNTIFS('Raw Data'!$C:$C,'파트별 아이템별 차트'!$B33,'Raw Data'!$D:$D,'파트별 아이템별 차트'!$D33,'Raw Data'!$A:$A,'파트별 아이템별 차트'!$C33,'Raw Data'!$B:$B,'파트별 아이템별 차트'!H$2) -> 0 | I33: =COUNTIFS('Raw Data'!$C:$C,'파트별 아이템별 차트'!$B33,'Raw Data'!$D:$D,'파트별 아이템별 차트'!$D33,'Raw Data'!$A:$A,'파트별 아이템별 차트'!$C33,'Raw Data'!$B:$B,'파트별 아이템별 차트'!I$2) -> 0 | J33: =COUNTIFS('Raw Data'!$C:$C,'파트별 아이템별 차트'!$B33,'Raw Data'!$D:$D,'파트별 아이템별 차트'!$D33,'Raw Data'!$A:$A,'파트별 아이템별 차트'!$C33,'Raw Data'!$B:$B,'파트별 아이템별 차트'!J$2) -> 0 | K33: =COUNTIFS('Raw Data'!$C:$C,'파트별 아이템별 차트'!$B33,'Raw Data'!$D:$D,'파트별 아이템별 차트'!$D33,'Raw Data'!$A:$A,'파트별 아이템별 차트'!$C33,'Raw Data'!$B:$B,'파트별 아이템별 차트'!K$2) -> 0 | L33: =COUNTIFS('Raw Data'!$C:$C,'파트별 아이템별 차트'!$B33,'Raw Data'!$D:$D,'파트별 아이템별 차트'!$D33,'Raw Data'!$A:$A,'파트별 아이템별 차트'!$C33,'Raw Data'!$B:$B,'파트별 아이템별 차트'!L$2) -> 0 | ... P33: =COUNTIFS('Raw Data'!$C:$C,'파트별 아이템별 차트'!$B33,'Raw Data'!$D:$D,'파트별 아이템별 차트'!$D33,'Raw Data'!$A:$A,'파트별 아이템별 차트'!$C33,'Raw Data'!$B:$B,'파트별 아이템별 차트'!P$2) -> 0 | Q33: =SUM(E33:P33) -> 0
A34: =A33 -> 15 | B34: =_xlfn.XLOOKUP($A34,'BACK DATA'!$A:$A,'BACK DATA'!$B:$B) -> ichroma | C34: 2023 | D34: =_xlfn.XLOOKUP($A34,'BACK DATA'!$A:$A,'BACK DATA'!$C:$C) -> PSA | E34: =COUNTIFS('Raw Data'!$C:$C,'파트별 아이템별 차트'!$B34,'Raw Data'!$D:$D,'파트별 아이템별 차트'!$D34,'Raw Data'!$A:$A,'파트별 아이템별 차트'!$C34,'Raw Data'!$B:$B,'파트별 아이템별 차트'!E$2) -> 0 | F34: =COUNTIFS('Raw Data'!$C:$C,'파트별 아이템별 차트'!$B34,'Raw Data'!$D:$D,'파트별 아이템별 차트'!$D34,'Raw Data'!$A:$A,'파트별 아이템별 차트'!$C34,'Raw Data'!$B:$B,'파트별 아이템별 차트'!F$2) -> 0 | G34: =COUNTIFS('Raw Data'!$C:$C,'파트별 아이템별 차트'!$B34,'Raw Data'!$D:$D,'파트별 아이템별 차트'!$D34,'Raw Data'!$A:$A,'파트별 아이템별 차트'!$C34,'Raw Data'!$B:$B,'파트별 아이템별 차트'!G$2) -> 0 | H34: =COUNTIFS('Raw Data'!$C:$C,'파트별 아이템별 차트'!$B34,'Raw Data'!$D:$D,'파트별 아이템별 차트'!$D34,'Raw Data'!$A:$A,'파트별 아이템별 차트'!$C34,'Raw Data'!$B:$B,'파트별 아이템별 차트'!H$2) -> 2 | I34: =COUNTIFS('Raw Data'!$C:$C,'파트별 아이템별 차트'!$B34,'Raw Data'!$D:$D,'파트별 아이템별 차트'!$D34,'Raw Data'!$A:$A,'파트별 아이템별 차트'!$C34,'Raw Data'!$B:$B,'파트별 아이템별 차트'!I$2) -> 1 | J34: =COUNTIFS('Raw Data'!$C:$C,'파트별 아이템별 차트'!$B34,'Raw Data'!$D:$D,'파트별 아이템별 차트'!$D34,'Raw Data'!$A:$A,'파트별 아이템별 차트'!$C34,'Raw Data'!$B:$B,'파트별 아이템별 차트'!J$2) -> 1 | K34: =COUNTIFS('Raw Data'!$C:$C,'파트별 아이템별 차트'!$B34,'Raw Data'!$D:$D,'파트별 아이템별 차트'!$D34,'Raw Data'!$A:$A,'파트별 아이템별 차트'!$C34,'Raw Data'!$B:$B,'파트별 아이템별 차트'!K$2) -> 0 | L34: =COUNTIFS('Raw Data'!$C:$C,'파트별 아이템별 차트'!$B34,'Raw Data'!$D:$D,'파트별 아이템별 차트'!$D34,'Raw Data'!$A:$A,'파트별 아이템별 차트'!$C34,'Raw Data'!$B:$B,'파트별 아이템별 차트'!L$2) -> 1 | ... P34: =COUNTIFS('Raw Data'!$C:$C,'파트별 아이템별 차트'!$B34,'Raw Data'!$D:$D,'파트별 아이템별 차트'!$D34,'Raw Data'!$A:$A,'파트별 아이템별 차트'!$C34,'Raw Data'!$B:$B,'파트별 아이템별 차트'!P$2) -> 0 | Q34: =SUM(E34:P34) -> 11
A35: =A33+1 -> 16 | B35: =_xlfn.XLOOKUP($A35,'BACK DATA'!$A:$A,'BACK DATA'!$B:$B) -> ichroma | C35: 2022 | D35: =_xlfn.XLOOKUP($A35,'BACK DATA'!$A:$A,'BACK DATA'!$C:$C) -> iFob Neo | E35: =COUNTIFS('Raw Data'!$C:$C,'파트별 아이템별 차트'!$B35,'Raw Data'!$D:$D,'파트별 아이템별 차트'!$D35,'Raw Data'!$A:$A,'파트별 아이템별 차트'!$C35,'Raw Data'!$B:$B,'파트별 아이템별 차트'!E$2) -> 0 | F35: =COUNTIFS('Raw Data'!$C:$C,'파트별 아이템별 차트'!$B35,'Raw Data'!$D:$D,'파트별 아이템별 차트'!$D35,'Raw Data'!$A:$A,'파트별 아이템별 차트'!$C35,'Raw Data'!$B:$B,'파트별 아이템별 차트'!F$2) -> 0 | G35: =COUNTIFS('Raw Data'!$C:$C,'파트별 아이템별 차트'!$B35,'Raw Data'!$D:$D,'파트별 아이템별 차트'!$D35,'Raw Data'!$A:$A,'파트별 아이템별 차트'!$C35,'Raw Data'!$B:$B,'파트별 아이템별 차트'!G$2) -> 0 | H35: =COUNTIFS('Raw Data'!$C:$C,'파트별 아이템별 차트'!$B35,'Raw Data'!$D:$D,'파트별 아이템별 차트'!$D35,'Raw Data'!$A:$A,'파트별 아이템별 차트'!$C35,'Raw Data'!$B:$B,'파트별 아이템별 차트'!H$2) -> 0 | I35: =COUNTIFS('Raw Data'!$C:$C,'파트별 아이템별 차트'!$B35,'Raw Data'!$D:$D,'파트별 아이템별 차트'!$D35,'Raw Data'!$A:$A,'파트별 아이템별 차트'!$C35,'Raw Data'!$B:$B,'파트별 아이템별 차트'!I$2) -> 1 | J35: =COUNTIFS('Raw Data'!$C:$C,'파트별 아이템별 차트'!$B35,'Raw Data'!$D:$D,'파트별 아이템별 차트'!$D35,'Raw Data'!$A:$A,'파트별 아이템별 차트'!$C35,'Raw Data'!$B:$B,'파트별 아이템별 차트'!J$2) -> 1 | K35: =COUNTIFS('Raw Data'!$C:$C,'파트별 아이템별 차트'!$B35,'Raw Data'!$D:$D,'파트별 아이템별 차트'!$D35,'Raw Data'!$A:$A,'파트별 아이템별 차트'!$C35,'Raw Data'!$B:$B,'파트별 아이템별 차트'!K$2) -> 0 | L35: =COUNTIFS('Raw Data'!$C:$C,'파트별 아이템별 차트'!$B35,'Raw Data'!$D:$D,'파트별 아이템별 차트'!$D35,'Raw Data'!$A:$A,'파트별 아이템별 차트'!$C35,'Raw Data'!$B:$B,'파트별 아이템별 차트'!L$2) -> 0 | ... P35: =COUNTIFS('Raw Data'!$C:$C,'파트별 아이템별 차트'!$B35,'Raw Data'!$D:$D,'파트별 아이템별 차트'!$D35,'Raw Data'!$A:$A,'파트별 아이템별 차트'!$C35,'Raw Data'!$B:$B,'파트별 아이템별 차트'!P$2) -> 0 | Q35: =SUM(E35:P35) -> 2
A36: =A35 -> 16 | B36: =_xlfn.XLOOKUP($A36,'BACK DATA'!$A:$A,'BACK DATA'!$B:$B) -> ichroma | C36: 2023 | D36: =_xlfn.XLOOKUP($A36,'BACK DATA'!$A:$A,'BACK DATA'!$C:$C) -> iFob Neo | E36: =COUNTIFS('Raw Data'!$C:$C,'파트별 아이템별 차트'!$B36,'Raw Data'!$D:$D,'파트별 아이템별 차트'!$D36,'Raw Data'!$A:$A,'파트별 아이템별 차트'!$C36,'Raw Data'!$B:$B,'파트별 아이템별 차트'!E$2) -> 0 | F36: =COUNTIFS('Raw Data'!$C:$C,'파트별 아이템별 차트'!$B36,'Raw Data'!$D:$D,'파트별 아이템별 차트'!$D36,'Raw Data'!$A:$A,'파트별 아이템별 차트'!$C36,'Raw Data'!$B:$B,'파트별 아이템별 차트'!F$2) -> 1 | G36: =COUNTIFS('Raw Data'!$C:$C,'파트별 아이템별 차트'!$B36,'Raw Data'!$D:$D,'파트별 아이템별 차트'!$D36,'Raw Data'!$A:$A,'파트별 아이템별 차트'!$C36,'Raw Data'!$B:$B,'파트별 아이템별 차트'!G$2) -> 1 | H36: =COUNTIFS('Raw Data'!$C:$C,'파트별 아이템별 차트'!$B36,'Raw Data'!$D:$D,'파트별 아이템별 차트'!$D36,'Raw Data'!$A:$A,'파트별 아이템별 차트'!$C36,'Raw Data'!$B:$B,'파트별 아이템별 차트'!H$2) -> 2 | I36: =COUNTIFS('Raw Data'!$C:$C,'파트별 아이템별 차트'!$B36,'Raw Data'!$D:$D,'파트별 아이템별 차트'!$D36,'Raw Data'!$A:$A,'파트별 아이템별 차트'!$C36,'Raw Data'!$B:$B,'파트별 아이템별 차트'!I$2) -> 0 | J36: =COUNTIFS('Raw Data'!$C:$C,'파트별 아이템별 차트'!$B36,'Raw Data'!$D:$D,'파트별 아이템별 차트'!$D36,'Raw Data'!$A:$A,'파트별 아이템별 차트'!$C36,'Raw Data'!$B:$B,'파트별 아이템별 차트'!J$2) -> 1 | K36: =COUNTIFS('Raw Data'!$C:$C,'파트별 아이템별 차트'!$B36,'Raw Data'!$D:$D,'파트별 아이템별 차트'!$D36,'Raw Data'!$A:$A,'파트별 아이템별 차트'!$C36,'Raw Data'!$B:$B,'파트별 아이템별 차트'!K$2) -> 0 | L36: =COUNTIFS('Raw Data'!$C:$C,'파트별 아이템별 차트'!$B36,'Raw Data'!$D:$D,'파트별 아이템별 차트'!$D36,'Raw Data'!$A:$A,'파트별 아이템별 차트'!$C36,'Raw Data'!$B:$B,'파트별 아이템별 차트'!L$2) -> 0 | ... P36: =COUNTIFS('Raw Data'!$C:$C,'파트별 아이템별 차트'!$B36,'Raw Data'!$D:$D,'파트별 아이템별 차트'!$D36,'Raw Data'!$A:$A,'파트별 아이템별 차트'!$C36,'Raw Data'!$B:$B,'파트별 아이템별 차트'!P$2) -> 0 | Q36: =SUM(E36:P36) -> 9
A37: =A35+1 -> 17 | B37: =_xlfn.XLOOKUP($A37,'BACK DATA'!$A:$A,'BACK DATA'!$B:$B) -> ichroma | C37: 2022 | D37: =_xlfn.XLOOKUP($A37,'BACK DATA'!$A:$A,'BACK DATA'!$C:$C) -> Ferritin | E37: =COUNTIFS('Raw Data'!$C:$C,'파트별 아이템별 차트'!$B37,'Raw Data'!$D:$D,'파트별 아이템별 차트'!$D37,'Raw Data'!$A:$A,'파트별 아이템별 차트'!$C37,'Raw Data'!$B:$B,'파트별 아이템별 차트'!E$2) -> 0 | F37: =COUNTIFS('Raw Data'!$C:$C,'파트별 아이템별 차트'!$B37,'Raw Data'!$D:$D,'파트별 아이템별 차트'!$D37,'Raw Data'!$A:$A,'파트별 아이템별 차트'!$C37,'Raw Data'!$B:$B,'파트별 아이템별 차트'!F$2) -> 0 | G37: =COUNTIFS('Raw Data'!$C:$C,'파트별 아이템별 차트'!$B37,'Raw Data'!$D:$D,'파트별 아이템별 차트'!$D37,'Raw Data'!$A:$A,'파트별 아이템별 차트'!$C37,'Raw Data'!$B:$B,'파트별 아이템별 차트'!G$2) -> 0 | H37: =COUNTIFS('Raw Data'!$C:$C,'파트별 아이템별 차트'!$B37,'Raw Data'!$D:$D,'파트별 아이템별 차트'!$D37,'Raw Data'!$A:$A,'파트별 아이템별 차트'!$C37,'Raw Data'!$B:$B,'파트별 아이템별 차트'!H$2) -> 0 | I37: =COUNTIFS('Raw Data'!$C:$C,'파트별 아이템별 차트'!$B37,'Raw Data'!$D:$D,'파트별 아이템별 차트'!$D37,'Raw Data'!$A:$A,'파트별 아이템별 차트'!$C37,'Raw Data'!$B:$B,'파트별 아이템별 차트'!I$2) -> 1 | J37: =COUNTIFS('Raw Data'!$C:$C,'파트별 아이템별 차트'!$B37,'Raw Data'!$D:$D,'파트별 아이템별 차트'!$D37,'Raw Data'!$A:$A,'파트별 아이템별 차트'!$C37,'Raw Data'!$B:$B,'파트별 아이템별 차트'!J$2) -> 1 | K37: =COUNTIFS('Raw Data'!$C:$C,'파트별 아이템별 차트'!$B37,'Raw Data'!$D:$D,'파트별 아이템별 차트'!$D37,'Raw Data'!$A:$A,'파트별 아이템별 차트'!$C37,'Raw Data'!$B:$B,'파트별 아이템별 차트'!K$2) -> 0 | L37: =COUNTIFS('Raw Data'!$C:$C,'파트별 아이템별 차트'!$B37,'Raw Data'!$D:$D,'파트별 아이템별 차트'!$D37,'Raw Data'!$A:$A,'파트별 아이템별 차트'!$C37,'Raw Data'!$B:$B,'파트별 아이템별 차트'!L$2) -> 0 | ... P37: =COUNTIFS('Raw Data'!$C:$C,'파트별 아이템별 차트'!$B37,'Raw Data'!$D:$D,'파트별 아이템별 차트'!$D37,'Raw Data'!$A:$A,'파트별 아이템별 차트'!$C37,'Raw Data'!$B:$B,'파트별 아이템별 차트'!P$2) -> 1 | Q37: =SUM(E37:P37) -> 5
A38: =A37 -> 17 | B38: =_xlfn.XLOOKUP($A38,'BACK DATA'!$A:$A,'BACK DATA'!$B:$B) -> ichroma | C38: 2023 | D38: =_xlfn.XLOOKUP($A38,'BACK DATA'!$A:$A,'BACK DATA'!$C:$C) -> Ferritin | E38: =COUNTIFS('Raw Data'!$C:$C,'파트별 아이템별 차트'!$B38,'Raw Data'!$D:$D,'파트별 아이템별 차트'!$D38,'Raw Data'!$A:$A,'파트별 아이템별 차트'!$C38,'Raw Data'!$B:$B,'파트별 아이템별 차트'!E$2) -> 1 | F38: =COUNTIFS('Raw Data'!$C:$C,'파트별 아이템별 차트'!$B38,'Raw Data'!$D:$D,'파트별 아이템별 차트'!$D38,'Raw Data'!$A:$A,'파트별 아이템별 차트'!$C38,'Raw Data'!$B:$B,'파트별 아이템별 차트'!F$2) -> 0 | G38: =COUNTIFS('Raw Data'!$C:$C,'파트별 아이템별 차트'!$B38,'Raw Data'!$D:$D,'파트별 아이템별 차트'!$D38,'Raw Data'!$A:$A,'파트별 아이템별 차트'!$C38,'Raw Data'!$B:$B,'파트별 아이템별 차트'!G$2) -> 1 | H38: =COUNTIFS('Raw Data'!$C:$C,'파트별 아이템별 차트'!$B38,'Raw Data'!$D:$D,'파트별 아이템별 차트'!$D38,'Raw Data'!$A:$A,'파트별 아이템별 차트'!$C38,'Raw Data'!$B:$B,'파트별 아이템별 차트'!H$2) -> 0 | I38: =COUNTIFS('Raw Data'!$C:$C,'파트별 아이템별 차트'!$B38,'Raw Data'!$D:$D,'파트별 아이템별 차트'!$D38,'Raw Data'!$A:$A,'파트별 아이템별 차트'!$C38,'Raw Data'!$B:$B,'파트별 아이템별 차트'!I$2) -> 1 | J38: =COUNTIFS('Raw Data'!$C:$C,'파트별 아이템별 차트'!$B38,'Raw Data'!$D:$D,'파트별 아이템별 차트'!$D38,'Raw Data'!$A:$A,'파트별 아이템별 차트'!$C38,'Raw Data'!$B:$B,'파트별 아이템별 차트'!J$2) -> 0 | K38: =COUNTIFS('Raw Data'!$C:$C,'파트별 아이템별 차트'!$B38,'Raw Data'!$D:$D,'파트별 아이템별 차트'!$D38,'Raw Data'!$A:$A,'파트별 아이템별 차트'!$C38,'Raw Data'!$B:$B,'파트별 아이템별 차트'!K$2) -> 0 | L38: =COUNTIFS('Raw Data'!$C:$C,'파트별 아이템별 차트'!$B38,'Raw Data'!$D:$D,'파트별 아이템별 차트'!$D38,'Raw Data'!$A:$A,'파트별 아이템별 차트'!$C38,'Raw Data'!$B:$B,'파트별 아이템별 차트'!L$2) -> 4 | ... P38: =COUNTIFS('Raw Data'!$C:$C,'파트별 아이템별 차트'!$B38,'Raw Data'!$D:$D,'파트별 아이템별 차트'!$D38,'Raw Data'!$A:$A,'파트별 아이템별 차트'!$C38,'Raw Data'!$B:$B,'파트별 아이템별 차트'!P$2) -> 0 | Q38: =SUM(E38:P38) -> 8
A39: =A37+1 -> 18 | B39: =_xlfn.XLOOKUP($A39,'BACK DATA'!$A:$A,'BACK DATA'!$B:$B) -> ichroma | C39: 2022 | D39: =_xlfn.XLOOKUP($A39,'BACK DATA'!$A:$A,'BACK DATA'!$C:$C) -> PCT | E39: =COUNTIFS('Raw Data'!$C:$C,'파트별 아이템별 차트'!$B39,'Raw Data'!$D:$D,'파트별 아이템별 차트'!$D39,'Raw Data'!$A:$A,'파트별 아이템별 차트'!$C39,'Raw Data'!$B:$B,'파트별 아이템별 차트'!E$2) -> 0 | F39: =COUNTIFS('Raw Data'!$C:$C,'파트별 아이템별 차트'!$B39,'Raw Data'!$D:$D,'파트별 아이템별 차트'!$D39,'Raw Data'!$A:$A,'파트별 아이템별 차트'!$C39,'Raw Data'!$B:$B,'파트별 아이템별 차트'!F$2) -> 0 | G39: =COUNTIFS('Raw Data'!$C:$C,'파트별 아이템별 차트'!$B39,'Raw Data'!$D:$D,'파트별 아이템별 차트'!$D39,'Raw Data'!$A:$A,'파트별 아이템별 차트'!$C39,'Raw Data'!$B:$B,'파트별 아이템별 차트'!G$2) -> 0 | H39: =COUNTIFS('Raw Data'!$C:$C,'파트별 아이템별 차트'!$B39,'Raw Data'!$D:$D,'파트별 아이템별 차트'!$D39,'Raw Data'!$A:$A,'파트별 아이템별 차트'!$C39,'Raw Data'!$B:$B,'파트별 아이템별 차트'!H$2) -> 0 | I39: =COUNTIFS('Raw Data'!$C:$C,'파트별 아이템별 차트'!$B39,'Raw Data'!$D:$D,'파트별 아이템별 차트'!$D39,'Raw Data'!$A:$A,'파트별 아이템별 차트'!$C39,'Raw Data'!$B:$B,'파트별 아이템별 차트'!I$2) -> 0 | J39: =COUNTIFS('Raw Data'!$C:$C,'파트별 아이템별 차트'!$B39,'Raw Data'!$D:$D,'파트별 아이템별 차트'!$D39,'Raw Data'!$A:$A,'파트별 아이템별 차트'!$C39,'Raw Data'!$B:$B,'파트별 아이템별 차트'!J$2) -> 0 | K39: =COUNTIFS('Raw Data'!$C:$C,'파트별 아이템별 차트'!$B39,'Raw Data'!$D:$D,'파트별 아이템별 차트'!$D39,'Raw Data'!$A:$A,'파트별 아이템별 차트'!$C39,'Raw Data'!$B:$B,'파트별 아이템별 차트'!K$2) -> 0 | L39: =COUNTIFS('Raw Data'!$C:$C,'파트별 아이템별 차트'!$B39,'Raw Data'!$D:$D,'파트별 아이템별 차트'!$D39,'Raw Data'!$A:$A,'파트별 아이템별 차트'!$C39,'Raw Data'!$B:$B,'파트별 아이템별 차트'!L$2) -> 1 | ... P39: =COUNTIFS('Raw Data'!$C:$C,'파트별 아이템별 차트'!$B39,'Raw Data'!$D:$D,'파트별 아이템별 차트'!$D39,'Raw Data'!$A:$A,'파트별 아이템별 차트'!$C39,'Raw Data'!$B:$B,'파트별 아이템별 차트'!P$2) -> 0 | Q39: =SUM(E39:P39) -> 2
A40: =A39 -> 18 | B40: =_xlfn.XLOOKUP($A40,'BACK DATA'!$A:$A,'BACK DATA'!$B:$B) -> ichroma | C40: 2023 | D40: =_xlfn.XLOOKUP($A40,'BACK DATA'!$A:$A,'BACK DATA'!$C:$C) -> PCT | E40: =COUNTIFS('Raw Data'!$C:$C,'파트별 아이템별 차트'!$B40,'Raw Data'!$D:$D,'파트별 아이템별 차트'!$D40,'Raw Data'!$A:$A,'파트별 아이템별 차트'!$C40,'Raw Data'!$B:$B,'파트별 아이템별 차트'!E$2) -> 1 | F40: =COUNTIFS('Raw Data'!$C:$C,'파트별 아이템별 차트'!$B40,'Raw Data'!$D:$D,'파트별 아이템별 차트'!$D40,'Raw Data'!$A:$A,'파트별 아이템별 차트'!$C40,'Raw Data'!$B:$B,'파트별 아이템별 차트'!F$2) -> 0 | G40: =COUNTIFS('Raw Data'!$C:$C,'파트별 아이템별 차트'!$B40,'Raw Data'!$D:$D,'파트별 아이템별 차트'!$D40,'Raw Data'!$A:$A,'파트별 아이템별 차트'!$C40,'Raw Data'!$B:$B,'파트별 아이템별 차트'!G$2) -> 0 | H40: =COUNTIFS('Raw Data'!$C:$C,'파트별 아이템별 차트'!$B40,'Raw Data'!$D:$D,'파트별 아이템별 차트'!$D40,'Raw Data'!$A:$A,'파트별 아이템별 차트'!$C40,'Raw Data'!$B:$B,'파트별 아이템별 차트'!H$2) -> 0 | I40: =COUNTIFS('Raw Data'!$C:$C,'파트별 아이템별 차트'!$B40,'Raw Data'!$D:$D,'파트별 아이템별 차트'!$D40,'Raw Data'!$A:$A,'파트별 아이템별 차트'!$C40,'Raw Data'!$B:$B,'파트별 아이템별 차트'!I$2) -> 1 | J40: =COUNTIFS('Raw Data'!$C:$C,'파트별 아이템별 차트'!$B40,'Raw Data'!$D:$D,'파트별 아이템별 차트'!$D40,'Raw Data'!$A:$A,'파트별 아이템별 차트'!$C40,'Raw Data'!$B:$B,'파트별 아이템별 차트'!J$2) -> 0 | K40: =COUNTIFS('Raw Data'!$C:$C,'파트별 아이템별 차트'!$B40,'Raw Data'!$D:$D,'파트별 아이템별 차트'!$D40,'Raw Data'!$A:$A,'파트별 아이템별 차트'!$C40,'Raw Data'!$B:$B,'파트별 아이템별 차트'!K$2) -> 1 | L40: =COUNTIFS('Raw Data'!$C:$C,'파트별 아이템별 차트'!$B40,'Raw Data'!$D:$D,'파트별 아이템별 차트'!$D40,'Raw Data'!$A:$A,'파트별 아이템별 차트'!$C40,'Raw Data'!$B:$B,'파트별 아이템별 차트'!L$2) -> 0 | ... P40: =COUNTIFS('Raw Data'!$C:$C,'파트별 아이템별 차트'!$B40,'Raw Data'!$D:$D,'파트별 아이템별 차트'!$D40,'Raw Data'!$A:$A,'파트별 아이템별 차트'!$C40,'Raw Data'!$B:$B,'파트별 아이템별 차트'!P$2) -> 0 | Q40: =SUM(E40:P40) -> 8
A41: =A39+1 -> 19 | B41: =_xlfn.XLOOKUP($A41,'BACK DATA'!$A:$A,'BACK DATA'!$B:$B) -> ichroma | C41: 2022 | D41: =_xlfn.XLOOKUP($A41,'BACK DATA'!$A:$A,'BACK DATA'!$C:$C) -> hsCRP | E41: =COUNTIFS('Raw Data'!$C:$C,'파트별 아이템별 차트'!$B41,'Raw Data'!$D:$D,'파트별 아이템별 차트'!$D41,'Raw Data'!$A:$A,'파트별 아이템별 차트'!$C41,'Raw Data'!$B:$B,'파트별 아이템별 차트'!E$2) -> 0 | F41: =COUNTIFS('Raw Data'!$C:$C,'파트별 아이템별 차트'!$B41,'Raw Data'!$D:$D,'파트별 아이템별 차트'!$D41,'Raw Data'!$A:$A,'파트별 아이템별 차트'!$C41,'Raw Data'!$B:$B,'파트별 아이템별 차트'!F$2) -> 0 | G41: =COUNTIFS('Raw Data'!$C:$C,'파트별 아이템별 차트'!$B41,'Raw Data'!$D:$D,'파트별 아이템별 차트'!$D41,'Raw Data'!$A:$A,'파트별 아이템별 차트'!$C41,'Raw Data'!$B:$B,'파트별 아이템별 차트'!G$2) -> 7 | H41: =COUNTIFS('Raw Data'!$C:$C,'파트별 아이템별 차트'!$B41,'Raw Data'!$D:$D,'파트별 아이템별 차트'!$D41,'Raw Data'!$A:$A,'파트별 아이템별 차트'!$C41,'Raw Data'!$B:$B,'파트별 아이템별 차트'!H$2) -> 3 | I41: =COUNTIFS('Raw Data'!$C:$C,'파트별 아이템별 차트'!$B41,'Raw Data'!$D:$D,'파트별 아이템별 차트'!$D41,'Raw Data'!$A:$A,'파트별 아이템별 차트'!$C41,'Raw Data'!$B:$B,'파트별 아이템별 차트'!I$2) -> 0 | J41: =COUNTIFS('Raw Data'!$C:$C,'파트별 아이템별 차트'!$B41,'Raw Data'!$D:$D,'파트별 아이템별 차트'!$D41,'Raw Data'!$A:$A,'파트별 아이템별 차트'!$C41,'Raw Data'!$B:$B,'파트별 아이템별 차트'!J$2) -> 0 | K41: =COUNTIFS('Raw Data'!$C:$C,'파트별 아이템별 차트'!$B41,'Raw Data'!$D:$D,'파트별 아이템별 차트'!$D41,'Raw Data'!$A:$A,'파트별 아이템별 차트'!$C41,'Raw Data'!$B:$B,'파트별 아이템별 차트'!K$2) -> 0 | L41: =COUNTIFS('Raw Data'!$C:$C,'파트별 아이템별 차트'!$B41,'Raw Data'!$D:$D,'파트별 아이템별 차트'!$D41,'Raw Data'!$A:$A,'파트별 아이템별 차트'!$C41,'Raw Data'!$B:$B,'파트별 아이템별 차트'!L$2) -> 6 | ... P41: =COUNTIFS('Raw Data'!$C:$C,'파트별 아이템별 차트'!$B41,'Raw Data'!$D:$D,'파트별 아이템별 차트'!$D41,'Raw Data'!$A:$A,'파트별 아이템별 차트'!$C41,'Raw Data'!$B:$B,'파트별 아이템별 차트'!P$2) -> 0 | Q41: =SUM(E41:P41) -> 24
A42: =A41 -> 19 | B42: =_xlfn.XLOOKUP($A42,'BACK DATA'!$A:$A,'BACK DATA'!$B:$B) -> ichroma | C42: 2023 | D42: =_xlfn.XLOOKUP($A42,'BACK DATA'!$A:$A,'BACK DATA'!$C:$C) -> hsCRP | E42: =COUNTIFS('Raw Data'!$C:$C,'파트별 아이템별 차트'!$B42,'Raw Data'!$D:$D,'파트별 아이템별 차트'!$D42,'Raw Data'!$A:$A,'파트별 아이템별 차트'!$C42,'Raw Data'!$B:$B,'파트별 아이템별 차트'!E$2) -> 0 | F42: =COUNTIFS('Raw Data'!$C:$C,'파트별 아이템별 차트'!$B42,'Raw Data'!$D:$D,'파트별 아이템별 차트'!$D42,'Raw Data'!$A:$A,'파트별 아이템별 차트'!$C42,'Raw Data'!$B:$B,'파트별 아이템별 차트'!F$2) -> 1 | G42: =COUNTIFS('Raw Data'!$C:$C,'파트별 아이템별 차트'!$B42,'Raw Data'!$D:$D,'파트별 아이템별 차트'!$D42,'Raw Data'!$A:$A,'파트별 아이템별 차트'!$C42,'Raw Data'!$B:$B,'파트별 아이템별 차트'!G$2) -> 0 | H42: =COUNTIFS('Raw Data'!$C:$C,'파트별 아이템별 차트'!$B42,'Raw Data'!$D:$D,'파트별 아이템별 차트'!$D42,'Raw Data'!$A:$A,'파트별 아이템별 차트'!$C42,'Raw Data'!$B:$B,'파트별 아이템별 차트'!H$2) -> 0 | I42: =COUNTIFS('Raw Data'!$C:$C,'파트별 아이템별 차트'!$B42,'Raw Data'!$D:$D,'파트별 아이템별 차트'!$D42,'Raw Data'!$A:$A,'파트별 아이템별 차트'!$C42,'Raw Data'!$B:$B,'파트별 아이템별 차트'!I$2) -> 0 | J42: =COUNTIFS('Raw Data'!$C:$C,'파트별 아이템별 차트'!$B42,'Raw Data'!$D:$D,'파트별 아이템별 차트'!$D42,'Raw Data'!$A:$A,'파트별 아이템별 차트'!$C42,'Raw Data'!$B:$B,'파트별 아이템별 차트'!J$2) -> 2 | K42: =COUNTIFS('Raw Data'!$C:$C,'파트별 아이템별 차트'!$B42,'Raw Data'!$D:$D,'파트별 아이템별 차트'!$D42,'Raw Data'!$A:$A,'파트별 아이템별 차트'!$C42,'Raw Data'!$B:$B,'파트별 아이템별 차트'!K$2) -> 4 | L42: =COUNTIFS('Raw Data'!$C:$C,'파트별 아이템별 차트'!$B42,'Raw Data'!$D:$D,'파트별 아이템별 차트'!$D42,'Raw Data'!$A:$A,'파트별 아이템별 차트'!$C42,'Raw Data'!$B:$B,'파트별 아이템별 차트'!L$2) -> 0 | ... P42: =COUNTIFS('Raw Data'!$C:$C,'파트별 아이템별 차트'!$B42,'Raw Data'!$D:$D,'파트별 아이템별 차트'!$D42,'Raw Data'!$A:$A,'파트별 아이템별 차트'!$C42,'Raw Data'!$B:$B,'파트별 아이템별 차트'!P$2) -> 1 | Q42: =SUM(E42:P42) -> 8
A43: =A41+1 -> 20 | B43: =_xlfn.XLOOKUP($A43,'BACK DATA'!$A:$A,'BACK DATA'!$B:$B) -> ichroma | C43: 2022 | D43: =_xlfn.XLOOKUP($A43,'BACK DATA'!$A:$A,'BACK DATA'!$C:$C) -> AMH | E43: =COUNTIFS('Raw Data'!$C:$C,'파트별 아이템별 차트'!$B43,'Raw Data'!$D:$D,'파트별 아이템별 차트'!$D43,'Raw Data'!$A:$A,'파트별 아이템별 차트'!$C43,'Raw Data'!$B:$B,'파트별 아이템별 차트'!E$2) -> 0 | F43: =COUNTIFS('Raw Data'!$C:$C,'파트별 아이템별 차트'!$B43,'Raw Data'!$D:$D,'파트별 아이템별 차트'!$D43,'Raw Data'!$A:$A,'파트별 아이템별 차트'!$C43,'Raw Data'!$B:$B,'파트별 아이템별 차트'!F$2) -> 1 | G43: =COUNTIFS('Raw Data'!$C:$C,'파트별 아이템별 차트'!$B43,'Raw Data'!$D:$D,'파트별 아이템별 차트'!$D43,'Raw Data'!$A:$A,'파트별 아이템별 차트'!$C43,'Raw Data'!$B:$B,'파트별 아이템별 차트'!G$2) -> 0 | H43: =COUNTIFS('Raw Data'!$C:$C,'파트별 아이템별 차트'!$B43,'Raw Data'!$D:$D,'파트별 아이템별 차트'!$D43,'Raw Data'!$A:$A,'파트별 아이템별 차트'!$C43,'Raw Data'!$B:$B,'파트별 아이템별 차트'!H$2) -> 0 | I43: =COUNTIFS('Raw Data'!$C:$C,'파트별 아이템별 차트'!$B43,'Raw Data'!$D:$D,'파트별 아이템별 차트'!$D43,'Raw Data'!$A:$A,'파트별 아이템별 차트'!$C43,'Raw Data'!$B:$B,'파트별 아이템별 차트'!I$2) -> 0 | J43: =COUNTIFS('Raw Data'!$C:$C,'파트별 아이템별 차트'!$B43,'Raw Data'!$D:$D,'파트별 아이템별 차트'!$D43,'Raw Data'!$A:$A,'파트별 아이템별 차트'!$C43,'Raw Data'!$B:$B,'파트별 아이템별 차트'!J$2) -> 0 | K43: =COUNTIFS('Raw Data'!$C:$C,'파트별 아이템별 차트'!$B43,'Raw Data'!$D:$D,'파트별 아이템별 차트'!$D43,'Raw Data'!$A:$A,'파트별 아이템별 차트'!$C43,'Raw Data'!$B:$B,'파트별 아이템별 차트'!K$2) -> 0 | L43: =COUNTIFS('Raw Data'!$C:$C,'파트별 아이템별 차트'!$B43,'Raw Data'!$D:$D,'파트별 아이템별 차트'!$D43,'Raw Data'!$A:$A,'파트별 아이템별 차트'!$C43,'Raw Data'!$B:$B,'파트별 아이템별 차트'!L$2) -> 0 | ... P43: =COUNTIFS('Raw Data'!$C:$C,'파트별 아이템별 차트'!$B43,'Raw Data'!$D:$D,'파트별 아이템별 차트'!$D43,'Raw Data'!$A:$A,'파트별 아이템별 차트'!$C43,'Raw Data'!$B:$B,'파트별 아이템별 차트'!P$2) -> 0 | Q43: =SUM(E43:P43) -> 1
A44: =A43 -> 20 | B44: =_xlfn.XLOOKUP($A44,'BACK DATA'!$A:$A,'BACK DATA'!$B:$B) -> ichroma | C44: 2023 | D44: =_xlfn.XLOOKUP($A44,'BACK DATA'!$A:$A,'BACK DATA'!$C:$C) -> AMH | E44: =COUNTIFS('Raw Data'!$C:$C,'파트별 아이템별 차트'!$B44,'Raw Data'!$D:$D,'파트별 아이템별 차트'!$D44,'Raw Data'!$A:$A,'파트별 아이템별 차트'!$C44,'Raw Data'!$B:$B,'파트별 아이템별 차트'!E$2) -> 0 | F44: =COUNTIFS('Raw Data'!$C:$C,'파트별 아이템별 차트'!$B44,'Raw Data'!$D:$D,'파트별 아이템별 차트'!$D44,'Raw Data'!$A:$A,'파트별 아이템별 차트'!$C44,'Raw Data'!$B:$B,'파트별 아이템별 차트'!F$2) -> 0 | G44: =COUNTIFS('Raw Data'!$C:$C,'파트별 아이템별 차트'!$B44,'Raw Data'!$D:$D,'파트별 아이템별 차트'!$D44,'Raw Data'!$A:$A,'파트별 아이템별 차트'!$C44,'Raw Data'!$B:$B,'파트별 아이템별 차트'!G$2) -> 0 | H44: =COUNTIFS('Raw Data'!$C:$C,'파트별 아이템별 차트'!$B44,'Raw Data'!$D:$D,'파트별 아이템별 차트'!$D44,'Raw Data'!$A:$A,'파트별 아이템별 차트'!$C44,'Raw Data'!$B:$B,'파트별 아이템별 차트'!H$2) -> 1 | I44: =COUNTIFS('Raw Data'!$C:$C,'파트별 아이템별 차트'!$B44,'Raw Data'!$D:$D,'파트별 아이템별 차트'!$D44,'Raw Data'!$A:$A,'파트별 아이템별 차트'!$C44,'Raw Data'!$B:$B,'파트별 아이템별 차트'!I$2) -> 1 | J44: =COUNTIFS('Raw Data'!$C:$C,'파트별 아이템별 차트'!$B44,'Raw Data'!$D:$D,'파트별 아이템별 차트'!$D44,'Raw Data'!$A:$A,'파트별 아이템별 차트'!$C44,'Raw Data'!$B:$B,'파트별 아이템별 차트'!J$2) -> 1 | K44: =COUNTIFS('Raw Data'!$C:$C,'파트별 아이템별 차트'!$B44,'Raw Data'!$D:$D,'파트별 아이템별 차트'!$D44,'Raw Data'!$A:$A,'파트별 아이템별 차트'!$C44,'Raw Data'!$B:$B,'파트별 아이템별 차트'!K$2) -> 1 | L44: =COUNTIFS('Raw Data'!$C:$C,'파트별 아이템별 차트'!$B44,'Raw Data'!$D:$D,'파트별 아이템별 차트'!$D44,'Raw Data'!$A:$A,'파트별 아이템별 차트'!$C44,'Raw Data'!$B:$B,'파트별 아이템별 차트'!L$2) -> 1 | ... P44: =COUNTIFS('Raw Data'!$C:$C,'파트별 아이템별 차트'!$B44,'Raw Data'!$D:$D,'파트별 아이템별 차트'!$D44,'Raw Data'!$A:$A,'파트별 아이템별 차트'!$C44,'Raw Data'!$B:$B,'파트별 아이템별 차트'!P$2) -> 1 | Q44: =SUM(E44:P44) -> 8
A45: =A43+1 -> 21 | B45: =_xlfn.XLOOKUP($A45,'BACK DATA'!$A:$A,'BACK DATA'!$B:$B) -> ichroma | C45: 2022 | D45: =_xlfn.XLOOKUP($A45,'BACK DATA'!$A:$A,'BACK DATA'!$C:$C) -> CRP | E45: =COUNTIFS('Raw Data'!$C:$C,'파트별 아이템별 차트'!$B45,'Raw Data'!$D:$D,'파트별 아이템별 차트'!$D45,'Raw Data'!$A:$A,'파트별 아이템별 차트'!$C45,'Raw Data'!$B:$B,'파트별 아이템별 차트'!E$2) -> 1 | F45: =COUNTIFS('Raw Data'!$C:$C,'파트별 아이템별 차트'!$B45,'Raw Data'!$D:$D,'파트별 아이템별 차트'!$D45,'Raw Data'!$A:$A,'파트별 아이템별 차트'!$C45,'Raw Data'!$B:$B,'파트별 아이템별 차트'!F$2) -> 0 | G45: =COUNTIFS('Raw Data'!$C:$C,'파트별 아이템별 차트'!$B45,'Raw Data'!$D:$D,'파트별 아이템별 차트'!$D45,'Raw Data'!$A:$A,'파트별 아이템별 차트'!$C45,'Raw Data'!$B:$B,'파트별 아이템별 차트'!G$2) -> 0 | H45: =COUNTIFS('Raw Data'!$C:$C,'파트별 아이템별 차트'!$B45,'Raw Data'!$D:$D,'파트별 아이템별 차트'!$D45,'Raw Data'!$A:$A,'파트별 아이템별 차트'!$C45,'Raw Data'!$B:$B,'파트별 아이템별 차트'!H$2) -> 0 | I45: =COUNTIFS('Raw Data'!$C:$C,'파트별 아이템별 차트'!$B45,'Raw Data'!$D:$D,'파트별 아이템별 차트'!$D45,'Raw Data'!$A:$A,'파트별 아이템별 차트'!$C45,'Raw Data'!$B:$B,'파트별 아이템별 차트'!I$2) -> 0 | J45: =COUNTIFS('Raw Data'!$C:$C,'파트별 아이템별 차트'!$B45,'Raw Data'!$D:$D,'파트별 아이템별 차트'!$D45,'Raw Data'!$A:$A,'파트별 아이템별 차트'!$C45,'Raw Data'!$B:$B,'파트별 아이템별 차트'!J$2) -> 0 | K45: =COUNTIFS('Raw Data'!$C:$C,'파트별 아이템별 차트'!$B45,'Raw Data'!$D:$D,'파트별 아이템별 차트'!$D45,'Raw Data'!$A:$A,'파트별 아이템별 차트'!$C45,'Raw Data'!$B:$B,'파트별 아이템별 차트'!K$2) -> 0 | L45: =COUNTIFS('Raw Data'!$C:$C,'파트별 아이템별 차트'!$B45,'Raw Data'!$D:$D,'파트별 아이템별 차트'!$D45,'Raw Data'!$A:$A,'파트별 아이템별 차트'!$C45,'Raw Data'!$B:$B,'파트별 아이템별 차트'!L$2) -> 0 | ... P45: =COUNTIFS('Raw Data'!$C:$C,'파트별 아이템별 차트'!$B45,'Raw Data'!$D:$D,'파트별 아이템별 차트'!$D45,'Raw Data'!$A:$A,'파트별 아이템별 차트'!$C45,'Raw Data'!$B:$B,'파트별 아이템별 차트'!P$2) -> 0 | Q45: =SUM(E45:P45) -> 1
A46: =A45 -> 21 | B46: =_xlfn.XLOOKUP($A46,'BACK DATA'!$A:$A,'BACK DATA'!$B:$B) -> ichroma | C46: 2023 | D46: =_xlfn.XLOOKUP($A46,'BACK DATA'!$A:$A,'BACK DATA'!$C:$C) -> CRP | E46: =COUNTIFS('Raw Data'!$C:$C,'파트별 아이템별 차트'!$B46,'Raw Data'!$D:$D,'파트별 아이템별 차트'!$D46,'Raw Data'!$A:$A,'파트별 아이템별 차트'!$C46,'Raw Data'!$B:$B,'파트별 아이템별 차트'!E$2) -> 6 | F46: =COUNTIFS('Raw Data'!$C:$C,'파트별 아이템별 차트'!$B46,'Raw Data'!$D:$D,'파트별 아이템별 차트'!$D46,'Raw Data'!$A:$A,'파트별 아이템별 차트'!$C46,'Raw Data'!$B:$B,'파트별 아이템별 차트'!F$2) -> 0 | G46: =COUNTIFS('Raw Data'!$C:$C,'파트별 아이템별 차트'!$B46,'Raw Data'!$D:$D,'파트별 아이템별 차트'!$D46,'Raw Data'!$A:$A,'파트별 아이템별 차트'!$C46,'Raw Data'!$B:$B,'파트별 아이템별 차트'!G$2) -> 0 | H46: =COUNTIFS('Raw Data'!$C:$C,'파트별 아이템별 차트'!$B46,'Raw Data'!$D:$D,'파트별 아이템별 차트'!$D46,'Raw Data'!$A:$A,'파트별 아이템별 차트'!$C46,'Raw Data'!$B:$B,'파트별 아이템별 차트'!H$2) -> 0 | I46: =COUNTIFS('Raw Data'!$C:$C,'파트별 아이템별 차트'!$B46,'Raw Data'!$D:$D,'파트별 아이템별 차트'!$D46,'Raw Data'!$A:$A,'파트별 아이템별 차트'!$C46,'Raw Data'!$B:$B,'파트별 아이템별 차트'!I$2) -> 1 | J46: =COUNTIFS('Raw Data'!$C:$C,'파트별 아이템별 차트'!$B46,'Raw Data'!$D:$D,'파트별 아이템별 차트'!$D46,'Raw Data'!$A:$A,'파트별 아이템별 차트'!$C46,'Raw Data'!$B:$B,'파트별 아이템별 차트'!J$2) -> 0 | K46: =COUNTIFS('Raw Data'!$C:$C,'파트별 아이템별 차트'!$B46,'Raw Data'!$D:$D,'파트별 아이템별 차트'!$D46,'Raw Data'!$A:$A,'파트별 아이템별 차트'!$C46,'Raw Data'!$B:$B,'파트별 아이템별 차트'!K$2) -> 0 | L46: =COUNTIFS('Raw Data'!$C:$C,'파트별 아이템별 차트'!$B46,'Raw Data'!$D:$D,'파트별 아이템별 차트'!$D46,'Raw Data'!$A:$A,'파트별 아이템별 차트'!$C46,'Raw Data'!$B:$B,'파트별 아이템별 차트'!L$2) -> 0 | ... P46: =COUNTIFS('Raw Data'!$C:$C,'파트별 아이템별 차트'!$B46,'Raw Data'!$D:$D,'파트별 아이템별 차트'!$D46,'Raw Data'!$A:$A,'파트별 아이템별 차트'!$C46,'Raw Data'!$B:$B,'파트별 아이템별 차트'!P$2) -> 0 | Q46: =SUM(E46:P46) -> 7
A47: =A45+1 -> 22 | B47: =_xlfn.XLOOKUP($A47,'BACK DATA'!$A:$A,'BACK DATA'!$B:$B) -> ichroma | C47: 2022 | D47: =_xlfn.XLOOKUP($A47,'BACK DATA'!$A:$A,'BACK DATA'!$C:$C) -> RF IgM | E47: =COUNTIFS('Raw Data'!$C:$C,'파트별 아이템별 차트'!$B47,'Raw Data'!$D:$D,'파트별 아이템별 차트'!$D47,'Raw Data'!$A:$A,'파트별 아이템별 차트'!$C47,'Raw Data'!$B:$B,'파트별 아이템별 차트'!E$2) -> 0 | F47: =COUNTIFS('Raw Data'!$C:$C,'파트별 아이템별 차트'!$B47,'Raw Data'!$D:$D,'파트별 아이템별 차트'!$D47,'Raw Data'!$A:$A,'파트별 아이템별 차트'!$C47,'Raw Data'!$B:$B,'파트별 아이템별 차트'!F$2) -> 0 | G47: =COUNTIFS('Raw Data'!$C:$C,'파트별 아이템별 차트'!$B47,'Raw Data'!$D:$D,'파트별 아이템별 차트'!$D47,'Raw Data'!$A:$A,'파트별 아이템별 차트'!$C47,'Raw Data'!$B:$B,'파트별 아이템별 차트'!G$2) -> 0 | H47: =COUNTIFS('Raw Data'!$C:$C,'파트별 아이템별 차트'!$B47,'Raw Data'!$D:$D,'파트별 아이템별 차트'!$D47,'Raw Data'!$A:$A,'파트별 아이템별 차트'!$C47,'Raw Data'!$B:$B,'파트별 아이템별 차트'!H$2) -> 0 | I47: =COUNTIFS('Raw Data'!$C:$C,'파트별 아이템별 차트'!$B47,'Raw Data'!$D:$D,'파트별 아이템별 차트'!$D47,'Raw Data'!$A:$A,'파트별 아이템별 차트'!$C47,'Raw Data'!$B:$B,'파트별 아이템별 차트'!I$2) -> 0 | J47: =COUNTIFS('Raw Data'!$C:$C,'파트별 아이템별 차트'!$B47,'Raw Data'!$D:$D,'파트별 아이템별 차트'!$D47,'Raw Data'!$A:$A,'파트별 아이템별 차트'!$C47,'Raw Data'!$B:$B,'파트별 아이템별 차트'!J$2) -> 0 | K47: =COUNTIFS('Raw Data'!$C:$C,'파트별 아이템별 차트'!$B47,'Raw Data'!$D:$D,'파트별 아이템별 차트'!$D47,'Raw Data'!$A:$A,'파트별 아이템별 차트'!$C47,'Raw Data'!$B:$B,'파트별 아이템별 차트'!K$2) -> 1 | L47: =COUNTIFS('Raw Data'!$C:$C,'파트별 아이템별 차트'!$B47,'Raw Data'!$D:$D,'파트별 아이템별 차트'!$D47,'Raw Data'!$A:$A,'파트별 아이템별 차트'!$C47,'Raw Data'!$B:$B,'파트별 아이템별 차트'!L$2) -> 0 | ... P47: =COUNTIFS('Raw Data'!$C:$C,'파트별 아이템별 차트'!$B47,'Raw Data'!$D:$D,'파트별 아이템별 차트'!$D47,'Raw Data'!$A:$A,'파트별 아이템별 차트'!$C47,'Raw Data'!$B:$B,'파트별 아이템별 차트'!P$2) -> 0 | Q47: =SUM(E47:P47) -> 1
A48: =A47 -> 22 | B48: =_xlfn.XLOOKUP($A48,'BACK DATA'!$A:$A,'BACK DATA'!$B:$B) -> ichroma | C48: 2023 | D48: =_xlfn.XLOOKUP($A48,'BACK DATA'!$A:$A,'BACK DATA'!$C:$C) -> RF IgM | E48: =COUNTIFS('Raw Data'!$C:$C,'파트별 아이템별 차트'!$B48,'Raw Data'!$D:$D,'파트별 아이템별 차트'!$D48,'Raw Data'!$A:$A,'파트별 아이템별 차트'!$C48,'Raw Data'!$B:$B,'파트별 아이템별 차트'!E$2) -> 0 | F48: =COUNTIFS('Raw Data'!$C:$C,'파트별 아이템별 차트'!$B48,'Raw Data'!$D:$D,'파트별 아이템별 차트'!$D48,'Raw Data'!$A:$A,'파트별 아이템별 차트'!$C48,'Raw Data'!$B:$B,'파트별 아이템별 차트'!F$2) -> 0 | G48: =COUNTIFS('Raw Data'!$C:$C,'파트별 아이템별 차트'!$B48,'Raw Data'!$D:$D,'파트별 아이템별 차트'!$D48,'Raw Data'!$A:$A,'파트별 아이템별 차트'!$C48,'Raw Data'!$B:$B,'파트별 아이템별 차트'!G$2) -> 0 | H48: =COUNTIFS('Raw Data'!$C:$C,'파트별 아이템별 차트'!$B48,'Raw Data'!$D:$D,'파트별 아이템별 차트'!$D48,'Raw Data'!$A:$A,'파트별 아이템별 차트'!$C48,'Raw Data'!$B:$B,'파트별 아이템별 차트'!H$2) -> 2 | I48: =COUNTIFS('Raw Data'!$C:$C,'파트별 아이템별 차트'!$B48,'Raw Data'!$D:$D,'파트별 아이템별 차트'!$D48,'Raw Data'!$A:$A,'파트별 아이템별 차트'!$C48,'Raw Data'!$B:$B,'파트별 아이템별 차트'!I$2) -> 1 | J48: =COUNTIFS('Raw Data'!$C:$C,'파트별 아이템별 차트'!$B48,'Raw Data'!$D:$D,'파트별 아이템별 차트'!$D48,'Raw Data'!$A:$A,'파트별 아이템별 차트'!$C48,'Raw Data'!$B:$B,'파트별 아이템별 차트'!J$2) -> 0 | K48: =COUNTIFS('Raw Data'!$C:$C,'파트별 아이템별 차트'!$B48,'Raw Data'!$D:$D,'파트별 아이템별 차트'!$D48,'Raw Data'!$A:$A,'파트별 아이템별 차트'!$C48,'Raw Data'!$B:$B,'파트별 아이템별 차트'!K$2) -> 2 | L48: =COUNTIFS('Raw Data'!$C:$C,'파트별 아이템별 차트'!$B48,'Raw Data'!$D:$D,'파트별 아이템별 차트'!$D48,'Raw Data'!$A:$A,'파트별 아이템별 차트'!$C48,'Raw Data'!$B:$B,'파트별 아이템별 차트'!L$2) -> 2 | ... P48: =COUNTIFS('Raw Data'!$C:$C,'파트별 아이템별 차트'!$B48,'Raw Data'!$D:$D,'파트별 아이템별 차트'!$D48,'Raw Data'!$A:$A,'파트별 아이템별 차트'!$C48,'Raw Data'!$B:$B,'파트별 아이템별 차트'!P$2) -> 0 | Q48: =SUM(E48:P48) -> 7
A49: =A47+1 -> 23 | B49: =_xlfn.XLOOKUP($A49,'BACK DATA'!$A:$A,'BACK DATA'!$B:$B) -> ichroma | C49: 2022 | D49: =_xlfn.XLOOKUP($A49,'BACK DATA'!$A:$A,'BACK DATA'!$C:$C) -> ASO | E49: =COUNTIFS('Raw Data'!$C:$C,'파트별 아이템별 차트'!$B49,'Raw Data'!$D:$D,'파트별 아이템별 차트'!$D49,'Raw Data'!$A:$A,'파트별 아이템별 차트'!$C49,'Raw Data'!$B:$B,'파트별 아이템별 차트'!E$2) -> 0 | F49: =COUNTIFS('Raw Data'!$C:$C,'파트별 아이템별 차트'!$B49,'Raw Data'!$D:$D,'파트별 아이템별 차트'!$D49,'Raw Data'!$A:$A,'파트별 아이템별 차트'!$C49,'Raw Data'!$B:$B,'파트별 아이템별 차트'!F$2) -> 0 | G49: =COUNTIFS('Raw Data'!$C:$C,'파트별 아이템별 차트'!$B49,'Raw Data'!$D:$D,'파트별 아이템별 차트'!$D49,'Raw Data'!$A:$A,'파트별 아이템별 차트'!$C49,'Raw Data'!$B:$B,'파트별 아이템별 차트'!G$2) -> 0 | H49: =COUNTIFS('Raw Data'!$C:$C,'파트별 아이템별 차트'!$B49,'Raw Data'!$D:$D,'파트별 아이템별 차트'!$D49,'Raw Data'!$A:$A,'파트별 아이템별 차트'!$C49,'Raw Data'!$B:$B,'파트별 아이템별 차트'!H$2) -> 0 | I49: =COUNTIFS('Raw Data'!$C:$C,'파트별 아이템별 차트'!$B49,'Raw Data'!$D:$D,'파트별 아이템별 차트'!$D49,'Raw Data'!$A:$A,'파트별 아이템별 차트'!$C49,'Raw Data'!$B:$B,'파트별 아이템별 차트'!I$2) -> 0 | J49: =COUNTIFS('Raw Data'!$C:$C,'파트별 아이템별 차트'!$B49,'Raw Data'!$D:$D,'파트별 아이템별 차트'!$D49,'Raw Data'!$A:$A,'파트별 아이템별 차트'!$C49,'Raw Data'!$B:$B,'파트별 아이템별 차트'!J$2) -> 1 | K49: =COUNTIFS('Raw Data'!$C:$C,'파트별 아이템별 차트'!$B49,'Raw Data'!$D:$D,'파트별 아이템별 차트'!$D49,'Raw Data'!$A:$A,'파트별 아이템별 차트'!$C49,'Raw Data'!$B:$B,'파트별 아이템별 차트'!K$2) -> 0 | L49: =COUNTIFS('Raw Data'!$C:$C,'파트별 아이템별 차트'!$B49,'Raw Data'!$D:$D,'파트별 아이템별 차트'!$D49,'Raw Data'!$A:$A,'파트별 아이템별 차트'!$C49,'Raw Data'!$B:$B,'파트별 아이템별 차트'!L$2) -> 2 | ... P49: =COUNTIFS('Raw Data'!$C:$C,'파트별 아이템별 차트'!$B49,'Raw Data'!$D:$D,'파트별 아이템별 차트'!$D49,'Raw Data'!$A:$A,'파트별 아이템별 차트'!$C49,'Raw Data'!$B:$B,'파트별 아이템별 차트'!P$2) -> 0 | Q49: =SUM(E49:P49) -> 4
A50: =A49 -> 23 | B50: =_xlfn.XLOOKUP($A50,'BACK DATA'!$A:$A,'BACK DATA'!$B:$B) -> ichroma | C50: 2023 | D50: =_xlfn.XLOOKUP($A50,'BACK DATA'!$A:$A,'BACK DATA'!$C:$C) -> ASO | E50: =COUNTIFS('Raw Data'!$C:$C,'파트별 아이템별 차트'!$B50,'Raw Data'!$D:$D,'파트별 아이템별 차트'!$D50,'Raw Data'!$A:$A,'파트별 아이템별 차트'!$C50,'Raw Data'!$B:$B,'파트별 아이템별 차트'!E$2) -> 0 | F50: =COUNTIFS('Raw Data'!$C:$C,'파트별 아이템별 차트'!$B50,'Raw Data'!$D:$D,'파트별 아이템별 차트'!$D50,'Raw Data'!$A:$A,'파트별 아이템별 차트'!$C50,'Raw Data'!$B:$B,'파트별 아이템별 차트'!F$2) -> 0 | G50: =COUNTIFS('Raw Data'!$C:$C,'파트별 아이템별 차트'!$B50,'Raw Data'!$D:$D,'파트별 아이템별 차트'!$D50,'Raw Data'!$A:$A,'파트별 아이템별 차트'!$C50,'Raw Data'!$B:$B,'파트별 아이템별 차트'!G$2) -> 0 | H50: =COUNTIFS('Raw Data'!$C:$C,'파트별 아이템별 차트'!$B50,'Raw Data'!$D:$D,'파트별 아이템별 차트'!$D50,'Raw Data'!$A:$A,'파트별 아이템별 차트'!$C50,'Raw Data'!$B:$B,'파트별 아이템별 차트'!H$2) -> 0 | I50: =COUNTIFS('Raw Data'!$C:$C,'파트별 아이템별 차트'!$B50,'Raw Data'!$D:$D,'파트별 아이템별 차트'!$D50,'Raw Data'!$A:$A,'파트별 아이템별 차트'!$C50,'Raw Data'!$B:$B,'파트별 아이템별 차트'!I$2) -> 3 | J50: =COUNTIFS('Raw Data'!$C:$C,'파트별 아이템별 차트'!$B50,'Raw Data'!$D:$D,'파트별 아이템별 차트'!$D50,'Raw Data'!$A:$A,'파트별 아이템별 차트'!$C50,'Raw Data'!$B:$B,'파트별 아이템별 차트'!J$2) -> 0 | K50: =COUNTIFS('Raw Data'!$C:$C,'파트별 아이템별 차트'!$B50,'Raw Data'!$D:$D,'파트별 아이템별 차트'!$D50,'Raw Data'!$A:$A,'파트별 아이템별 차트'!$C50,'Raw Data'!$B:$B,'파트별 아이템별 차트'!K$2) -> 0 | L50: =COUNTIFS('Raw Data'!$C:$C,'파트별 아이템별 차트'!$B50,'Raw Data'!$D:$D,'파트별 아이템별 차트'!$D50,'Raw Data'!$A:$A,'파트별 아이템별 차트'!$C50,'Raw Data'!$B:$B,'파트별 아이템별 차트'!L$2) -> 0 | ... P50: =COUNTIFS('Raw Data'!$C:$C,'파트별 아이템별 차트'!$B50,'Raw Data'!$D:$D,'파트별 아이템별 차트'!$D50,'Raw Data'!$A:$A,'파트별 아이템별 차트'!$C50,'Raw Data'!$B:$B,'파트별 아이템별 차트'!P$2) -> 1 | Q50: =SUM(E50:P50) -> 7
A51: =A49+1 -> 24 | B51: =_xlfn.XLOOKUP($A51,'BACK DATA'!$A:$A,'BACK DATA'!$B:$B) -> ichroma | C51: 2022 | D51: =_xlfn.XLOOKUP($A51,'BACK DATA'!$A:$A,'BACK DATA'!$C:$C) -> Cortisol | E51: =COUNTIFS('Raw Data'!$C:$C,'파트별 아이템별 차트'!$B51,'Raw Data'!$D:$D,'파트별 아이템별 차트'!$D51,'Raw Data'!$A:$A,'파트별 아이템별 차트'!$C51,'Raw Data'!$B:$B,'파트별 아이템별 차트'!E$2) -> 0 | F51: =COUNTIFS('Raw Data'!$C:$C,'파트별 아이템별 차트'!$B51,'Raw Data'!$D:$D,'파트별 아이템별 차트'!$D51,'Raw Data'!$A:$A,'파트별 아이템별 차트'!$C51,'Raw Data'!$B:$B,'파트별 아이템별 차트'!F$2) -> 0 | G51: =COUNTIFS('Raw Data'!$C:$C,'파트별 아이템별 차트'!$B51,'Raw Data'!$D:$D,'파트별 아이템별 차트'!$D51,'Raw Data'!$A:$A,'파트별 아이템별 차트'!$C51,'Raw Data'!$B:$B,'파트별 아이템별 차트'!G$2) -> 1 | H51: =COUNTIFS('Raw Data'!$C:$C,'파트별 아이템별 차트'!$B51,'Raw Data'!$D:$D,'파트별 아이템별 차트'!$D51,'Raw Data'!$A:$A,'파트별 아이템별 차트'!$C51,'Raw Data'!$B:$B,'파트별 아이템별 차트'!H$2) -> 0 | I51: =COUNTIFS('Raw Data'!$C:$C,'파트별 아이템별 차트'!$B51,'Raw Data'!$D:$D,'파트별 아이템별 차트'!$D51,'Raw Data'!$A:$A,'파트별 아이템별 차트'!$C51,'Raw Data'!$B:$B,'파트별 아이템별 차트'!I$2) -> 0 | J51: =COUNTIFS('Raw Data'!$C:$C,'파트별 아이템별 차트'!$B51,'Raw Data'!$D:$D,'파트별 아이템별 차트'!$D51,'Raw Data'!$A:$A,'파트별 아이템별 차트'!$C51,'Raw Data'!$B:$B,'파트별 아이템별 차트'!J$2) -> 0 | K51: =COUNTIFS('Raw Data'!$C:$C,'파트별 아이템별 차트'!$B51,'Raw Data'!$D:$D,'파트별 아이템별 차트'!$D51,'Raw Data'!$A:$A,'파트별 아이템별 차트'!$C51,'Raw Data'!$B:$B,'파트별 아이템별 차트'!K$2) -> 0 | L51: =COUNTIFS('Raw Data'!$C:$C,'파트별 아이템별 차트'!$B51,'Raw Data'!$D:$D,'파트별 아이템별 차트'!$D51,'Raw Data'!$A:$A,'파트별 아이템별 차트'!$C51,'Raw Data'!$B:$B,'파트별 아이템별 차트'!L$2) -> 0 | ... P51: =COUNTIFS('Raw Data'!$C:$C,'파트별 아이템별 차트'!$B51,'Raw Data'!$D:$D,'파트별 아이템별 차트'!$D51,'Raw Data'!$A:$A,'파트별 아이템별 차트'!$C51,'Raw Data'!$B:$B,'파트별 아이템별 차트'!P$2) -> 0 | Q51: =SUM(E51:P51) -> 1
A52: =A51 -> 24 | B52: =_xlfn.XLOOKUP($A52,'BACK DATA'!$A:$A,'BACK DATA'!$B:$B) -> ichroma | C52: 2023 | D52: =_xlfn.XLOOKUP($A52,'BACK DATA'!$A:$A,'BACK DATA'!$C:$C) -> Cortisol | E52: =COUNTIFS('Raw Data'!$C:$C,'파트별 아이템별 차트'!$B52,'Raw Data'!$D:$D,'파트별 아이템별 차트'!$D52,'Raw Data'!$A:$A,'파트별 아이템별 차트'!$C52,'Raw Data'!$B:$B,'파트별 아이템별 차트'!E$2) -> 1 | F52: =COUNTIFS('Raw Data'!$C:$C,'파트별 아이템별 차트'!$B52,'Raw Data'!$D:$D,'파트별 아이템별 차트'!$D52,'Raw Data'!$A:$A,'파트별 아이템별 차트'!$C52,'Raw Data'!$B:$B,'파트별 아이템별 차트'!F$2) -> 0 | G52: =COUNTIFS('Raw Data'!$C:$C,'파트별 아이템별 차트'!$B52,'Raw Data'!$D:$D,'파트별 아이템별 차트'!$D52,'Raw Data'!$A:$A,'파트별 아이템별 차트'!$C52,'Raw Data'!$B:$B,'파트별 아이템별 차트'!G$2) -> 0 | H52: =COUNTIFS('Raw Data'!$C:$C,'파트별 아이템별 차트'!$B52,'Raw Data'!$D:$D,'파트별 아이템별 차트'!$D52,'Raw Data'!$A:$A,'파트별 아이템별 차트'!$C52,'Raw Data'!$B:$B,'파트별 아이템별 차트'!H$2) -> 0 | I52: =COUNTIFS('Raw Data'!$C:$C,'파트별 아이템별 차트'!$B52,'Raw Data'!$D:$D,'파트별 아이템별 차트'!$D52,'Raw Data'!$A:$A,'파트별 아이템별 차트'!$C52,'Raw Data'!$B:$B,'파트별 아이템별 차트'!I$2) -> 1 | J52: =COUNTIFS('Raw Data'!$C:$C,'파트별 아이템별 차트'!$B52,'Raw Data'!$D:$D,'파트별 아이템별 차트'!$D52,'Raw Data'!$A:$A,'파트별 아이템별 차트'!$C52,'Raw Data'!$B:$B,'파트별 아이템별 차트'!J$2) -> 1 | K52: =COUNTIFS('Raw Data'!$C:$C,'파트별 아이템별 차트'!$B52,'Raw Data'!$D:$D,'파트별 아이템별 차트'!$D52,'Raw Data'!$A:$A,'파트별 아이템별 차트'!$C52,'Raw Data'!$B:$B,'파트별 아이템별 차트'!K$2) -> 1 | L52: =COUNTIFS('Raw Data'!$C:$C,'파트별 아이템별 차트'!$B52,'Raw Data'!$D:$D,'파트별 아이템별 차트'!$D52,'Raw Data'!$A:$A,'파트별 아이템별 차트'!$C52,'Raw Data'!$B:$B,'파트별 아이템별 차트'!L$2) -> 0 | ... P52: =COUNTIFS('Raw Data'!$C:$C,'파트별 아이템별 차트'!$B52,'Raw Data'!$D:$D,'파트별 아이템별 차트'!$D52,'Raw Data'!$A:$A,'파트별 아이템별 차트'!$C52,'Raw Data'!$B:$B,'파트별 아이템별 차트'!P$2) -> 0 | Q52: =SUM(E52:P52) -> 6
A53: =A51+1 -> 25 | B53: =_xlfn.XLOOKUP($A53,'BACK DATA'!$A:$A,'BACK DATA'!$B:$B) -> ichroma | C53: 2022 | D53: =_xlfn.XLOOKUP($A53,'BACK DATA'!$A:$A,'BACK DATA'!$C:$C) -> Tn-I Plus | E53: =COUNTIFS('Raw Data'!$C:$C,'파트별 아이템별 차트'!$B53,'Raw Data'!$D:$D,'파트별 아이템별 차트'!$D53,'Raw Data'!$A:$A,'파트별 아이템별 차트'!$C53,'Raw Data'!$B:$B,'파트별 아이템별 차트'!E$2) -> 1 | F53: =COUNTIFS('Raw Data'!$C:$C,'파트별 아이템별 차트'!$B53,'Raw Data'!$D:$D,'파트별 아이템별 차트'!$D53,'Raw Data'!$A:$A,'파트별 아이템별 차트'!$C53,'Raw Data'!$B:$B,'파트별 아이템별 차트'!F$2) -> 0 | G53: =COUNTIFS('Raw Data'!$C:$C,'파트별 아이템별 차트'!$B53,'Raw Data'!$D:$D,'파트별 아이템별 차트'!$D53,'Raw Data'!$A:$A,'파트별 아이템별 차트'!$C53,'Raw Data'!$B:$B,'파트별 아이템별 차트'!G$2) -> 0 | H53: =COUNTIFS('Raw Data'!$C:$C,'파트별 아이템별 차트'!$B53,'Raw Data'!$D:$D,'파트별 아이템별 차트'!$D53,'Raw Data'!$A:$A,'파트별 아이템별 차트'!$C53,'Raw Data'!$B:$B,'파트별 아이템별 차트'!H$2) -> 0 | I53: =COUNTIFS('Raw Data'!$C:$C,'파트별 아이템별 차트'!$B53,'Raw Data'!$D:$D,'파트별 아이템별 차트'!$D53,'Raw Data'!$A:$A,'파트별 아이템별 차트'!$C53,'Raw Data'!$B:$B,'파트별 아이템별 차트'!I$2) -> 0 | J53: =COUNTIFS('Raw Data'!$C:$C,'파트별 아이템별 차트'!$B53,'Raw Data'!$D:$D,'파트별 아이템별 차트'!$D53,'Raw Data'!$A:$A,'파트별 아이템별 차트'!$C53,'Raw Data'!$B:$B,'파트별 아이템별 차트'!J$2) -> 0 | K53: =COUNTIFS('Raw Data'!$C:$C,'파트별 아이템별 차트'!$B53,'Raw Data'!$D:$D,'파트별 아이템별 차트'!$D53,'Raw Data'!$A:$A,'파트별 아이템별 차트'!$C53,'Raw Data'!$B:$B,'파트별 아이템별 차트'!K$2) -> 1 | L53: =COUNTIFS('Raw Data'!$C:$C,'파트별 아이템별 차트'!$B53,'Raw Data'!$D:$D,'파트별 아이템별 차트'!$D53,'Raw Data'!$A:$A,'파트별 아이템별 차트'!$C53,'Raw Data'!$B:$B,'파트별 아이템별 차트'!L$2) -> 2 | ... P53: =COUNTIFS('Raw Data'!$C:$C,'파트별 아이템별 차트'!$B53,'Raw Data'!$D:$D,'파트별 아이템별 차트'!$D53,'Raw Data'!$A:$A,'파트별 아이템별 차트'!$C53,'Raw Data'!$B:$B,'파트별 아이템별 차트'!P$2) -> 0 | Q53: =SUM(E53:P53) -> 5
A54: =A53 -> 25 | B54: =_xlfn.XLOOKUP($A54,'BACK DATA'!$A:$A,'BACK DATA'!$B:$B) -> ichroma | C54: 2023 | D54: =_xlfn.XLOOKUP($A54,'BACK DATA'!$A:$A,'BACK DATA'!$C:$C) -> Tn-I Plus | E54: =COUNTIFS('Raw Data'!$C:$C,'파트별 아이템별 차트'!$B54,'Raw Data'!$D:$D,'파트별 아이템별 차트'!$D54,'Raw Data'!$A:$A,'파트별 아이템별 차트'!$C54,'Raw Data'!$B:$B,'파트별 아이템별 차트'!E$2) -> 1 | F54: =COUNTIFS('Raw Data'!$C:$C,'파트별 아이템별 차트'!$B54,'Raw Data'!$D:$D,'파트별 아이템별 차트'!$D54,'Raw Data'!$A:$A,'파트별 아이템별 차트'!$C54,'Raw Data'!$B:$B,'파트별 아이템별 차트'!F$2) -> 0 | G54: =COUNTIFS('Raw Data'!$C:$C,'파트별 아이템별 차트'!$B54,'Raw Data'!$D:$D,'파트별 아이템별 차트'!$D54,'Raw Data'!$A:$A,'파트별 아이템별 차트'!$C54,'Raw Data'!$B:$B,'파트별 아이템별 차트'!G$2) -> 0 | H54: =COUNTIFS('Raw Data'!$C:$C,'파트별 아이템별 차트'!$B54,'Raw Data'!$D:$D,'파트별 아이템별 차트'!$D54,'Raw Data'!$A:$A,'파트별 아이템별 차트'!$C54,'Raw Data'!$B:$B,'파트별 아이템별 차트'!H$2) -> 0 | I54: =COUNTIFS('Raw Data'!$C:$C,'파트별 아이템별 차트'!$B54,'Raw Data'!$D:$D,'파트별 아이템별 차트'!$D54,'Raw Data'!$A:$A,'파트별 아이템별 차트'!$C54,'Raw Data'!$B:$B,'파트별 아이템별 차트'!I$2) -> 0 | J54: =COUNTIFS('Raw Data'!$C:$C,'파트별 아이템별 차트'!$B54,'Raw Data'!$D:$D,'파트별 아이템별 차트'!$D54,'Raw Data'!$A:$A,'파트별 아이템별 차트'!$C54,'Raw Data'!$B:$B,'파트별 아이템별 차트'!J$2) -> 1 | K54: =COUNTIFS('Raw Data'!$C:$C,'파트별 아이템별 차트'!$B54,'Raw Data'!$D:$D,'파트별 아이템별 차트'!$D54,'Raw Data'!$A:$A,'파트별 아이템별 차트'!$C54,'Raw Data'!$B:$B,'파트별 아이템별 차트'!K$2) -> 2 | L54: =COUNTIFS('Raw Data'!$C:$C,'파트별 아이템별 차트'!$B54,'Raw Data'!$D:$D,'파트별 아이템별 차트'!$D54,'Raw Data'!$A:$A,'파트별 아이템별 차트'!$C54,'Raw Data'!$B:$B,'파트별 아이템별 차트'!L$2) -> 0 | ... P54: =COUNTIFS('Raw Data'!$C:$C,'파트별 아이템별 차트'!$B54,'Raw Data'!$D:$D,'파트별 아이템별 차트'!$D54,'Raw Data'!$A:$A,'파트별 아이템별 차트'!$C54,'Raw Data'!$B:$B,'파트별 아이템별 차트'!P$2) -> 0 | Q54: =SUM(E54:P54) -> 6
A55: =A53+1 -> 26 | B55: =_xlfn.XLOOKUP($A55,'BACK DATA'!$A:$A,'BACK DATA'!$B:$B) -> ichroma | C55: 2022 | D55: =_xlfn.XLOOKUP($A55,'BACK DATA'!$A:$A,'BACK DATA'!$C:$C) -> PCT Plus | E55: =COUNTIFS('Raw Data'!$C:$C,'파트별 아이템별 차트'!$B55,'Raw Data'!$D:$D,'파트별 아이템별 차트'!$D55,'Raw Data'!$A:$A,'파트별 아이템별 차트'!$C55,'Raw Data'!$B:$B,'파트별 아이템별 차트'!E$2) -> 0 | F55: =COUNTIFS('Raw Data'!$C:$C,'파트별 아이템별 차트'!$B55,'Raw Data'!$D:$D,'파트별 아이템별 차트'!$D55,'Raw Data'!$A:$A,'파트별 아이템별 차트'!$C55,'Raw Data'!$B:$B,'파트별 아이템별 차트'!F$2) -> 0 | G55: =COUNTIFS('Raw Data'!$C:$C,'파트별 아이템별 차트'!$B55,'Raw Data'!$D:$D,'파트별 아이템별 차트'!$D55,'Raw Data'!$A:$A,'파트별 아이템별 차트'!$C55,'Raw Data'!$B:$B,'파트별 아이템별 차트'!G$2) -> 1 | H55: =COUNTIFS('Raw Data'!$C:$C,'파트별 아이템별 차트'!$B55,'Raw Data'!$D:$D,'파트별 아이템별 차트'!$D55,'Raw Data'!$A:$A,'파트별 아이템별 차트'!$C55,'Raw Data'!$B:$B,'파트별 아이템별 차트'!H$2) -> 0 | I55: =COUNTIFS('Raw Data'!$C:$C,'파트별 아이템별 차트'!$B55,'Raw Data'!$D:$D,'파트별 아이템별 차트'!$D55,'Raw Data'!$A:$A,'파트별 아이템별 차트'!$C55,'Raw Data'!$B:$B,'파트별 아이템별 차트'!I$2) -> 0 | J55: =COUNTIFS('Raw Data'!$C:$C,'파트별 아이템별 차트'!$B55,'Raw Data'!$D:$D,'파트별 아이템별 차트'!$D55,'Raw Data'!$A:$A,'파트별 아이템별 차트'!$C55,'Raw Data'!$B:$B,'파트별 아이템별 차트'!J$2) -> 0 | K55: =COUNTIFS('Raw Data'!$C:$C,'파트별 아이템별 차트'!$B55,'Raw Data'!$D:$D,'파트별 아이템별 차트'!$D55,'Raw Data'!$A:$A,'파트별 아이템별 차트'!$C55,'Raw Data'!$B:$B,'파트별 아이템별 차트'!K$2) -> 0 | L55: =COUNTIFS('Raw Data'!$C:$C,'파트별 아이템별 차트'!$B55,'Raw Data'!$D:$D,'파트별 아이템별 차트'!$D55,'Raw Data'!$A:$A,'파트별 아이템별 차트'!$C55,'Raw Data'!$B:$B,'파트별 아이템별 차트'!L$2) -> 0 | ... P55: =COUNTIFS('Raw Data'!$C:$C,'파트별 아이템별 차트'!$B55,'Raw Data'!$D:$D,'파트별 아이템별 차트'!$D55,'Raw Data'!$A:$A,'파트별 아이템별 차트'!$C55,'Raw Data'!$B:$B,'파트별 아이템별 차트'!P$2) -> 0 | Q55: =SUM(E55:P55) -> 1
A56: =A55 -> 26 | B56: =_xlfn.XLOOKUP($A56,'BACK DATA'!$A:$A,'BACK DATA'!$B:$B) -> ichroma | C56: 2023 | D56: =_xlfn.XLOOKUP($A56,'BACK DATA'!$A:$A,'BACK DATA'!$C:$C) -> PCT Plus | E56: =COUNTIFS('Raw Data'!$C:$C,'파트별 아이템별 차트'!$B56,'Raw Data'!$D:$D,'파트별 아이템별 차트'!$D56,'Raw Data'!$A:$A,'파트별 아이템별 차트'!$C56,'Raw Data'!$B:$B,'파트별 아이템별 차트'!E$2) -> 1 | F56: =COUNTIFS('Raw Data'!$C:$C,'파트별 아이템별 차트'!$B56,'Raw Data'!$D:$D,'파트별 아이템별 차트'!$D56,'Raw Data'!$A:$A,'파트별 아이템별 차트'!$C56,'Raw Data'!$B:$B,'파트별 아이템별 차트'!F$2) -> 0 | G56: =COUNTIFS('Raw Data'!$C:$C,'파트별 아이템별 차트'!$B56,'Raw Data'!$D:$D,'파트별 아이템별 차트'!$D56,'Raw Data'!$A:$A,'파트별 아이템별 차트'!$C56,'Raw Data'!$B:$B,'파트별 아이템별 차트'!G$2) -> 0 | H56: =COUNTIFS('Raw Data'!$C:$C,'파트별 아이템별 차트'!$B56,'Raw Data'!$D:$D,'파트별 아이템별 차트'!$D56,'Raw Data'!$A:$A,'파트별 아이템별 차트'!$C56,'Raw Data'!$B:$B,'파트별 아이템별 차트'!H$2) -> 1 | I56: =COUNTIFS('Raw Data'!$C:$C,'파트별 아이템별 차트'!$B56,'Raw Data'!$D:$D,'파트별 아이템별 차트'!$D56,'Raw Data'!$A:$A,'파트별 아이템별 차트'!$C56,'Raw Data'!$B:$B,'파트별 아이템별 차트'!I$2) -> 1 | J56: =COUNTIFS('Raw Data'!$C:$C,'파트별 아이템별 차트'!$B56,'Raw Data'!$D:$D,'파트별 아이템별 차트'!$D56,'Raw Data'!$A:$A,'파트별 아이템별 차트'!$C56,'Raw Data'!$B:$B,'파트별 아이템별 차트'!J$2) -> 0 | K56: =COUNTIFS('Raw Data'!$C:$C,'파트별 아이템별 차트'!$B56,'Raw Data'!$D:$D,'파트별 아이템별 차트'!$D56,'Raw Data'!$A:$A,'파트별 아이템별 차트'!$C56,'Raw Data'!$B:$B,'파트별 아이템별 차트'!K$2) -> 0 | L56: =COUNTIFS('Raw Data'!$C:$C,'파트별 아이템별 차트'!$B56,'Raw Data'!$D:$D,'파트별 아이템별 차트'!$D56,'Raw Data'!$A:$A,'파트별 아이템별 차트'!$C56,'Raw Data'!$B:$B,'파트별 아이템별 차트'!L$2) -> 0 | ... P56: =COUNTIFS('Raw Data'!$C:$C,'파트별 아이템별 차트'!$B56,'Raw Data'!$D:$D,'파트별 아이템별 차트'!$D56,'Raw Data'!$A:$A,'파트별 아이템별 차트'!$C56,'Raw Data'!$B:$B,'파트별 아이템별 차트'!P$2) -> 0 | Q56: =SUM(E56:P56) -> 6
A57: =A55+1 -> 27 | B57: =_xlfn.XLOOKUP($A57,'BACK DATA'!$A:$A,'BACK DATA'!$B:$B) -> ichroma | C57: 2022 | D57: =_xlfn.XLOOKUP($A57,'BACK DATA'!$A:$A,'BACK DATA'!$C:$C) -> Tn-I | E57: =COUNTIFS('Raw Data'!$C:$C,'파트별 아이템별 차트'!$B57,'Raw Data'!$D:$D,'파트별 아이템별 차트'!$D57,'Raw Data'!$A:$A,'파트별 아이템별 차트'!$C57,'Raw Data'!$B:$B,'파트별 아이템별 차트'!E$2) -> 0 | F57: =COUNTIFS('Raw Data'!$C:$C,'파트별 아이템별 차트'!$B57,'Raw Data'!$D:$D,'파트별 아이템별 차트'!$D57,'Raw Data'!$A:$A,'파트별 아이템별 차트'!$C57,'Raw Data'!$B:$B,'파트별 아이템별 차트'!F$2) -> 1 | G57: =COUNTIFS('Raw Data'!$C:$C,'파트별 아이템별 차트'!$B57,'Raw Data'!$D:$D,'파트별 아이템별 차트'!$D57,'Raw Data'!$A:$A,'파트별 아이템별 차트'!$C57,'Raw Data'!$B:$B,'파트별 아이템별 차트'!G$2) -> 1 | H57: =COUNTIFS('Raw Data'!$C:$C,'파트별 아이템별 차트'!$B57,'Raw Data'!$D:$D,'파트별 아이템별 차트'!$D57,'Raw Data'!$A:$A,'파트별 아이템별 차트'!$C57,'Raw Data'!$B:$B,'파트별 아이템별 차트'!H$2) -> 0 | I57: =COUNTIFS('Raw Data'!$C:$C,'파트별 아이템별 차트'!$B57,'Raw Data'!$D:$D,'파트별 아이템별 차트'!$D57,'Raw Data'!$A:$A,'파트별 아이템별 차트'!$C57,'Raw Data'!$B:$B,'파트별 아이템별 차트'!I$2) -> 0 | J57: =COUNTIFS('Raw Data'!$C:$C,'파트별 아이템별 차트'!$B57,'Raw Data'!$D:$D,'파트별 아이템별 차트'!$D57,'Raw Data'!$A:$A,'파트별 아이템별 차트'!$C57,'Raw Data'!$B:$B,'파트별 아이템별 차트'!J$2) -> 0 | K57: =COUNTIFS('Raw Data'!$C:$C,'파트별 아이템별 차트'!$B57,'Raw Data'!$D:$D,'파트별 아이템별 차트'!$D57,'Raw Data'!$A:$A,'파트별 아이템별 차트'!$C57,'Raw Data'!$B:$B,'파트별 아이템별 차트'!K$2) -> 1 | L57: =COUNTIFS('Raw Data'!$C:$C,'파트별 아이템별 차트'!$B57,'Raw Data'!$D:$D,'파트별 아이템별 차트'!$D57,'Raw Data'!$A:$A,'파트별 아이템별 차트'!$C57,'Raw Data'!$B:$B,'파트별 아이템별 차트'!L$2) -> 0 | ... P57: =COUNTIFS('Raw Data'!$C:$C,'파트별 아이템별 차트'!$B57,'Raw Data'!$D:$D,'파트별 아이템별 차트'!$D57,'Raw Data'!$A:$A,'파트별 아이템별 차트'!$C57,'Raw Data'!$B:$B,'파트별 아이템별 차트'!P$2) -> 0 | Q57: =SUM(E57:P57) -> 3
A58: =A57 -> 27 | B58: =_xlfn.XLOOKUP($A58,'BACK DATA'!$A:$A,'BACK DATA'!$B:$B) -> ichroma | C58: 2023 | D58: =_xlfn.XLOOKUP($A58,'BACK DATA'!$A:$A,'BACK DATA'!$C:$C) -> Tn-I | E58: =COUNTIFS('Raw Data'!$C:$C,'파트별 아이템별 차트'!$B58,'Raw Data'!$D:$D,'파트별 아이템별 차트'!$D58,'Raw Data'!$A:$A,'파트별 아이템별 차트'!$C58,'Raw Data'!$B:$B,'파트별 아이템별 차트'!E$2) -> 1 | F58: =COUNTIFS('Raw Data'!$C:$C,'파트별 아이템별 차트'!$B58,'Raw Data'!$D:$D,'파트별 아이템별 차트'!$D58,'Raw Data'!$A:$A,'파트별 아이템별 차트'!$C58,'Raw Data'!$B:$B,'파트별 아이템별 차트'!F$2) -> 0 | G58: =COUNTIFS('Raw Data'!$C:$C,'파트별 아이템별 차트'!$B58,'Raw Data'!$D:$D,'파트별 아이템별 차트'!$D58,'Raw Data'!$A:$A,'파트별 아이템별 차트'!$C58,'Raw Data'!$B:$B,'파트별 아이템별 차트'!G$2) -> 0 | H58: =COUNTIFS('Raw Data'!$C:$C,'파트별 아이템별 차트'!$B58,'Raw Data'!$D:$D,'파트별 아이템별 차트'!$D58,'Raw Data'!$A:$A,'파트별 아이템별 차트'!$C58,'Raw Data'!$B:$B,'파트별 아이템별 차트'!H$2) -> 0 | I58: =COUNTIFS('Raw Data'!$C:$C,'파트별 아이템별 차트'!$B58,'Raw Data'!$D:$D,'파트별 아이템별 차트'!$D58,'Raw Data'!$A:$A,'파트별 아이템별 차트'!$C58,'Raw Data'!$B:$B,'파트별 아이템별 차트'!I$2) -> 0 | J58: =COUNTIFS('Raw Data'!$C:$C,'파트별 아이템별 차트'!$B58,'Raw Data'!$D:$D,'파트별 아이템별 차트'!$D58,'Raw Data'!$A:$A,'파트별 아이템별 차트'!$C58,'Raw Data'!$B:$B,'파트별 아이템별 차트'!J$2) -> 0 | K58: =COUNTIFS('Raw Data'!$C:$C,'파트별 아이템별 차트'!$B58,'Raw Data'!$D:$D,'파트별 아이템별 차트'!$D58,'Raw Data'!$A:$A,'파트별 아이템별 차트'!$C58,'Raw Data'!$B:$B,'파트별 아이템별 차트'!K$2) -> 0 | L58: =COUNTIFS('Raw Data'!$C:$C,'파트별 아이템별 차트'!$B58,'Raw Data'!$D:$D,'파트별 아이템별 차트'!$D58,'Raw Data'!$A:$A,'파트별 아이템별 차트'!$C58,'Raw Data'!$B:$B,'파트별 아이템별 차트'!L$2) -> 0 | ... P58: =COUNTIFS('Raw Data'!$C:$C,'파트별 아이템별 차트'!$B58,'Raw Data'!$D:$D,'파트별 아이템별 차트'!$D58,'Raw Data'!$A:$A,'파트별 아이템별 차트'!$C58,'Raw Data'!$B:$B,'파트별 아이템별 차트'!P$2) -> 1 | Q58: =SUM(E58:P58) -> 6
A59: =A57+1 -> 28 | B59: =_xlfn.XLOOKUP($A59,'BACK DATA'!$A:$A,'BACK DATA'!$B:$B) -> ichroma | C59: 2022 | D59: =_xlfn.XLOOKUP($A59,'BACK DATA'!$A:$A,'BACK DATA'!$C:$C) -> Dengue NS1 Ag | E59: =COUNTIFS('Raw Data'!$C:$C,'파트별 아이템별 차트'!$B59,'Raw Data'!$D:$D,'파트별 아이템별 차트'!$D59,'Raw Data'!$A:$A,'파트별 아이템별 차트'!$C59,'Raw Data'!$B:$B,'파트별 아이템별 차트'!E$2) -> 0 | F59: =COUNTIFS('Raw Data'!$C:$C,'파트별 아이템별 차트'!$B59,'Raw Data'!$D:$D,'파트별 아이템별 차트'!$D59,'Raw Data'!$A:$A,'파트별 아이템별 차트'!$C59,'Raw Data'!$B:$B,'파트별 아이템별 차트'!F$2) -> 0 | G59: =COUNTIFS('Raw Data'!$C:$C,'파트별 아이템별 차트'!$B59,'Raw Data'!$D:$D,'파트별 아이템별 차트'!$D59,'Raw Data'!$A:$A,'파트별 아이템별 차트'!$C59,'Raw Data'!$B:$B,'파트별 아이템별 차트'!G$2) -> 0 | H59: =COUNTIFS('Raw Data'!$C:$C,'파트별 아이템별 차트'!$B59,'Raw Data'!$D:$D,'파트별 아이템별 차트'!$D59,'Raw Data'!$A:$A,'파트별 아이템별 차트'!$C59,'Raw Data'!$B:$B,'파트별 아이템별 차트'!H$2) -> 0 | I59: =COUNTIFS('Raw Data'!$C:$C,'파트별 아이템별 차트'!$B59,'Raw Data'!$D:$D,'파트별 아이템별 차트'!$D59,'Raw Data'!$A:$A,'파트별 아이템별 차트'!$C59,'Raw Data'!$B:$B,'파트별 아이템별 차트'!I$2) -> 0 | J59: =COUNTIFS('Raw Data'!$C:$C,'파트별 아이템별 차트'!$B59,'Raw Data'!$D:$D,'파트별 아이템별 차트'!$D59,'Raw Data'!$A:$A,'파트별 아이템별 차트'!$C59,'Raw Data'!$B:$B,'파트별 아이템별 차트'!J$2) -> 0 | K59: =COUNTIFS('Raw Data'!$C:$C,'파트별 아이템별 차트'!$B59,'Raw Data'!$D:$D,'파트별 아이템별 차트'!$D59,'Raw Data'!$A:$A,'파트별 아이템별 차트'!$C59,'Raw Data'!$B:$B,'파트별 아이템별 차트'!K$2) -> 1 | L59: =COUNTIFS('Raw Data'!$C:$C,'파트별 아이템별 차트'!$B59,'Raw Data'!$D:$D,'파트별 아이템별 차트'!$D59,'Raw Data'!$A:$A,'파트별 아이템별 차트'!$C59,'Raw Data'!$B:$B,'파트별 아이템별 차트'!L$2) -> 1 | ... P59: =COUNTIFS('Raw Data'!$C:$C,'파트별 아이템별 차트'!$B59,'Raw Data'!$D:$D,'파트별 아이템별 차트'!$D59,'Raw Data'!$A:$A,'파트별 아이템별 차트'!$C59,'Raw Data'!$B:$B,'파트별 아이템별 차트'!P$2) -> 0 | Q59: =SUM(E59:P59) -> 4
A60: =A59 -> 28 | B60: =_xlfn.XLOOKUP($A60,'BACK DATA'!$A:$A,'BACK DATA'!$B:$B) -> ichroma | C60: 2023 | D60: =_xlfn.XLOOKUP($A60,'BACK DATA'!$A:$A,'BACK DATA'!$C:$C) -> Dengue NS1 Ag | E60: =COUNTIFS('Raw Data'!$C:$C,'파트별 아이템별 차트'!$B60,'Raw Data'!$D:$D,'파트별 아이템별 차트'!$D60,'Raw Data'!$A:$A,'파트별 아이템별 차트'!$C60,'Raw Data'!$B:$B,'파트별 아이템별 차트'!E$2) -> 0 | F60: =COUNTIFS('Raw Data'!$C:$C,'파트별 아이템별 차트'!$B60,'Raw Data'!$D:$D,'파트별 아이템별 차트'!$D60,'Raw Data'!$A:$A,'파트별 아이템별 차트'!$C60,'Raw Data'!$B:$B,'파트별 아이템별 차트'!F$2) -> 0 | G60: =COUNTIFS('Raw Data'!$C:$C,'파트별 아이템별 차트'!$B60,'Raw Data'!$D:$D,'파트별 아이템별 차트'!$D60,'Raw Data'!$A:$A,'파트별 아이템별 차트'!$C60,'Raw Data'!$B:$B,'파트별 아이템별 차트'!G$2) -> 0 | H60: =COUNTIFS('Raw Data'!$C:$C,'파트별 아이템별 차트'!$B60,'Raw Data'!$D:$D,'파트별 아이템별 차트'!$D60,'Raw Data'!$A:$A,'파트별 아이템별 차트'!$C60,'Raw Data'!$B:$B,'파트별 아이템별 차트'!H$2) -> 0 | I60: =COUNTIFS('Raw Data'!$C:$C,'파트별 아이템별 차트'!$B60,'Raw Data'!$D:$D,'파트별 아이템별 차트'!$D60,'Raw Data'!$A:$A,'파트별 아이템별 차트'!$C60,'Raw Data'!$B:$B,'파트별 아이템별 차트'!I$2) -> 0 | J60: =COUNTIFS('Raw Data'!$C:$C,'파트별 아이템별 차트'!$B60,'Raw Data'!$D:$D,'파트별 아이템별 차트'!$D60,'Raw Data'!$A:$A,'파트별 아이템별 차트'!$C60,'Raw Data'!$B:$B,'파트별 아이템별 차트'!J$2) -> 1 | K60: =COUNTIFS('Raw Data'!$C:$C,'파트별 아이템별 차트'!$B60,'Raw Data'!$D:$D,'파트별 아이템별 차트'!$D60,'Raw Data'!$A:$A,'파트별 아이템별 차트'!$C60,'Raw Data'!$B:$B,'파트별 아이템별 차트'!K$2) -> 1 | L60: =COUNTIFS('Raw Data'!$C:$C,'파트별 아이템별 차트'!$B60,'Raw Data'!$D:$D,'파트별 아이템별 차트'!$D60,'Raw Data'!$A:$A,'파트별 아이템별 차트'!$C60,'Raw Data'!$B:$B,'파트별 아이템별 차트'!L$2) -> 1 | ... P60: =COUNTIFS('Raw Data'!$C:$C,'파트별 아이템별 차트'!$B60,'Raw Data'!$D:$D,'파트별 아이템별 차트'!$D60,'Raw Data'!$A:$A,'파트별 아이템별 차트'!$C60,'Raw Data'!$B:$B,'파트별 아이템별 차트'!P$2) -> 1 | Q60: =SUM(E60:P60) -> 6
A61: =A59+1 -> 29 | B61: =_xlfn.XLOOKUP($A61,'BACK DATA'!$A:$A,'BACK DATA'!$B:$B) -> ichroma | C61: 2022 | D61: =_xlfn.XLOOKUP($A61,'BACK DATA'!$A:$A,'BACK DATA'!$C:$C) -> IGRA-TB | E61: =COUNTIFS('Raw Data'!$C:$C,'파트별 아이템별 차트'!$B61,'Raw Data'!$D:$D,'파트별 아이템별 차트'!$D61,'Raw Data'!$A:$A,'파트별 아이템별 차트'!$C61,'Raw Data'!$B:$B,'파트별 아이템별 차트'!E$2) -> 0 | F61: =COUNTIFS('Raw Data'!$C:$C,'파트별 아이템별 차트'!$B61,'Raw Data'!$D:$D,'파트별 아이템별 차트'!$D61,'Raw Data'!$A:$A,'파트별 아이템별 차트'!$C61,'Raw Data'!$B:$B,'파트별 아이템별 차트'!F$2) -> 0 | G61: =COUNTIFS('Raw Data'!$C:$C,'파트별 아이템별 차트'!$B61,'Raw Data'!$D:$D,'파트별 아이템별 차트'!$D61,'Raw Data'!$A:$A,'파트별 아이템별 차트'!$C61,'Raw Data'!$B:$B,'파트별 아이템별 차트'!G$2) -> 0 | H61: =COUNTIFS('Raw Data'!$C:$C,'파트별 아이템별 차트'!$B61,'Raw Data'!$D:$D,'파트별 아이템별 차트'!$D61,'Raw Data'!$A:$A,'파트별 아이템별 차트'!$C61,'Raw Data'!$B:$B,'파트별 아이템별 차트'!H$2) -> 0 | I61: =COUNTIFS('Raw Data'!$C:$C,'파트별 아이템별 차트'!$B61,'Raw Data'!$D:$D,'파트별 아이템별 차트'!$D61,'Raw Data'!$A:$A,'파트별 아이템별 차트'!$C61,'Raw Data'!$B:$B,'파트별 아이템별 차트'!I$2) -> 0 | J61: =COUNTIFS('Raw Data'!$C:$C,'파트별 아이템별 차트'!$B61,'Raw Data'!$D:$D,'파트별 아이템별 차트'!$D61,'Raw Data'!$A:$A,'파트별 아이템별 차트'!$C61,'Raw Data'!$B:$B,'파트별 아이템별 차트'!J$2) -> 0 | K61: =COUNTIFS('Raw Data'!$C:$C,'파트별 아이템별 차트'!$B61,'Raw Data'!$D:$D,'파트별 아이템별 차트'!$D61,'Raw Data'!$A:$A,'파트별 아이템별 차트'!$C61,'Raw Data'!$B:$B,'파트별 아이템별 차트'!K$2) -> 0 | L61: =COUNTIFS('Raw Data'!$C:$C,'파트별 아이템별 차트'!$B61,'Raw Data'!$D:$D,'파트별 아이템별 차트'!$D61,'Raw Data'!$A:$A,'파트별 아이템별 차트'!$C61,'Raw Data'!$B:$B,'파트별 아이템별 차트'!L$2) -> 2 | ... P61: =COUNTIFS('Raw Data'!$C:$C,'파트별 아이템별 차트'!$B61,'Raw Data'!$D:$D,'파트별 아이템별 차트'!$D61,'Raw Data'!$A:$A,'파트별 아이템별 차트'!$C61,'Raw Data'!$B:$B,'파트별 아이템별 차트'!P$2) -> 2 | Q61: =SUM(E61:P61) -> 8
A62: =A61 -> 29 | B62: =_xlfn.XLOOKUP($A62,'BACK DATA'!$A:$A,'BACK DATA'!$B:$B) -> ichroma | C62: 2023 | D62: =_xlfn.XLOOKUP($A62,'BACK DATA'!$A:$A,'BACK DATA'!$C:$C) -> IGRA-TB | E62: =COUNTIFS('Raw Data'!$C:$C,'파트별 아이템별 차트'!$B62,'Raw Data'!$D:$D,'파트별 아이템별 차트'!$D62,'Raw Data'!$A:$A,'파트별 아이템별 차트'!$C62,'Raw Data'!$B:$B,'파트별 아이템별 차트'!E$2) -> 0 | F62: =COUNTIFS('Raw Data'!$C:$C,'파트별 아이템별 차트'!$B62,'Raw Data'!$D:$D,'파트별 아이템별 차트'!$D62,'Raw Data'!$A:$A,'파트별 아이템별 차트'!$C62,'Raw Data'!$B:$B,'파트별 아이템별 차트'!F$2) -> 3 | G62: =COUNTIFS('Raw Data'!$C:$C,'파트별 아이템별 차트'!$B62,'Raw Data'!$D:$D,'파트별 아이템별 차트'!$D62,'Raw Data'!$A:$A,'파트별 아이템별 차트'!$C62,'Raw Data'!$B:$B,'파트별 아이템별 차트'!G$2) -> 0 | H62: =COUNTIFS('Raw Data'!$C:$C,'파트별 아이템별 차트'!$B62,'Raw Data'!$D:$D,'파트별 아이템별 차트'!$D62,'Raw Data'!$A:$A,'파트별 아이템별 차트'!$C62,'Raw Data'!$B:$B,'파트별 아이템별 차트'!H$2) -> 0 | I62: =COUNTIFS('Raw Data'!$C:$C,'파트별 아이템별 차트'!$B62,'Raw Data'!$D:$D,'파트별 아이템별 차트'!$D62,'Raw Data'!$A:$A,'파트별 아이템별 차트'!$C62,'Raw Data'!$B:$B,'파트별 아이템별 차트'!I$2) -> 0 | J62: =COUNTIFS('Raw Data'!$C:$C,'파트별 아이템별 차트'!$B62,'Raw Data'!$D:$D,'파트별 아이템별 차트'!$D62,'Raw Data'!$A:$A,'파트별 아이템별 차트'!$C62,'Raw Data'!$B:$B,'파트별 아이템별 차트'!J$2) -> 1 | K62: =COUNTIFS('Raw Data'!$C:$C,'파트별 아이템별 차트'!$B62,'Raw Data'!$D:$D,'파트별 아이템별 차트'!$D62,'Raw Data'!$A:$A,'파트별 아이템별 차트'!$C62,'Raw Data'!$B:$B,'파트별 아이템별 차트'!K$2) -> 0 | L62: =COUNTIFS('Raw Data'!$C:$C,'파트별 아이템별 차트'!$B62,'Raw Data'!$D:$D,'파트별 아이템별 차트'!$D62,'Raw Data'!$A:$A,'파트별 아이템별 차트'!$C62,'Raw Data'!$B:$B,'파트별 아이템별 차트'!L$2) -> 0 | ... P62: =COUNTIFS('Raw Data'!$C:$C,'파트별 아이템별 차트'!$B62,'Raw Data'!$D:$D,'파트별 아이템별 차트'!$D62,'Raw Data'!$A:$A,'파트별 아이템별 차트'!$C62,'Raw Data'!$B:$B,'파트별 아이템별 차트'!P$2) -> 0 | Q62: =SUM(E62:P62) -> 5
A63: =A61+1 -> 30 | B63: =_xlfn.XLOOKUP($A63,'BACK DATA'!$A:$A,'BACK DATA'!$B:$B) -> ichroma | C63: 2022 | D63: =_xlfn.XLOOKUP($A63,'BACK DATA'!$A:$A,'BACK DATA'!$C:$C) -> FSH | E63: =COUNTIFS('Raw Data'!$C:$C,'파트별 아이템별 차트'!$B63,'Raw Data'!$D:$D,'파트별 아이템별 차트'!$D63,'Raw Data'!$A:$A,'파트별 아이템별 차트'!$C63,'Raw Data'!$B:$B,'파트별 아이템별 차트'!E$2) -> 1 | F63: =COUNTIFS('Raw Data'!$C:$C,'파트별 아이템별 차트'!$B63,'Raw Data'!$D:$D,'파트별 아이템별 차트'!$D63,'Raw Data'!$A:$A,'파트별 아이템별 차트'!$C63,'Raw Data'!$B:$B,'파트별 아이템별 차트'!F$2) -> 0 | G63: =COUNTIFS('Raw Data'!$C:$C,'파트별 아이템별 차트'!$B63,'Raw Data'!$D:$D,'파트별 아이템별 차트'!$D63,'Raw Data'!$A:$A,'파트별 아이템별 차트'!$C63,'Raw Data'!$B:$B,'파트별 아이템별 차트'!G$2) -> 0 | H63: =COUNTIFS('Raw Data'!$C:$C,'파트별 아이템별 차트'!$B63,'Raw Data'!$D:$D,'파트별 아이템별 차트'!$D63,'Raw Data'!$A:$A,'파트별 아이템별 차트'!$C63,'Raw Data'!$B:$B,'파트별 아이템별 차트'!H$2) -> 0 | I63: =COUNTIFS('Raw Data'!$C:$C,'파트별 아이템별 차트'!$B63,'Raw Data'!$D:$D,'파트별 아이템별 차트'!$D63,'Raw Data'!$A:$A,'파트별 아이템별 차트'!$C63,'Raw Data'!$B:$B,'파트별 아이템별 차트'!I$2) -> 0 | J63: =COUNTIFS('Raw Data'!$C:$C,'파트별 아이템별 차트'!$B63,'Raw Data'!$D:$D,'파트별 아이템별 차트'!$D63,'Raw Data'!$A:$A,'파트별 아이템별 차트'!$C63,'Raw Data'!$B:$B,'파트별 아이템별 차트'!J$2) -> 0 | K63: =COUNTIFS('Raw Data'!$C:$C,'파트별 아이템별 차트'!$B63,'Raw Data'!$D:$D,'파트별 아이템별 차트'!$D63,'Raw Data'!$A:$A,'파트별 아이템별 차트'!$C63,'Raw Data'!$B:$B,'파트별 아이템별 차트'!K$2) -> 1 | L63: =COUNTIFS('Raw Data'!$C:$C,'파트별 아이템별 차트'!$B63,'Raw Data'!$D:$D,'파트별 아이템별 차트'!$D63,'Raw Data'!$A:$A,'파트별 아이템별 차트'!$C63,'Raw Data'!$B:$B,'파트별 아이템별 차트'!L$2) -> 0 | ... P63: =COUNTIFS('Raw Data'!$C:$C,'파트별 아이템별 차트'!$B63,'Raw Data'!$D:$D,'파트별 아이템별 차트'!$D63,'Raw Data'!$A:$A,'파트별 아이템별 차트'!$C63,'Raw Data'!$B:$B,'파트별 아이템별 차트'!P$2) -> 0 | Q63: =SUM(E63:P63) -> 2
A64: =A63 -> 30 | B64: =_xlfn.XLOOKUP($A64,'BACK DATA'!$A:$A,'BACK DATA'!$B:$B) -> ichroma | C64: 2023 | D64: =_xlfn.XLOOKUP($A64,'BACK DATA'!$A:$A,'BACK DATA'!$C:$C) -> FSH | E64: =COUNTIFS('Raw Data'!$C:$C,'파트별 아이템별 차트'!$B64,'Raw Data'!$D:$D,'파트별 아이템별 차트'!$D64,'Raw Data'!$A:$A,'파트별 아이템별 차트'!$C64,'Raw Data'!$B:$B,'파트별 아이템별 차트'!E$2) -> 0 | F64: =COUNTIFS('Raw Data'!$C:$C,'파트별 아이템별 차트'!$B64,'Raw Data'!$D:$D,'파트별 아이템별 차트'!$D64,'Raw Data'!$A:$A,'파트별 아이템별 차트'!$C64,'Raw Data'!$B:$B,'파트별 아이템별 차트'!F$2) -> 1 | G64: =COUNTIFS('Raw Data'!$C:$C,'파트별 아이템별 차트'!$B64,'Raw Data'!$D:$D,'파트별 아이템별 차트'!$D64,'Raw Data'!$A:$A,'파트별 아이템별 차트'!$C64,'Raw Data'!$B:$B,'파트별 아이템별 차트'!G$2) -> 0 | H64: =COUNTIFS('Raw Data'!$C:$C,'파트별 아이템별 차트'!$B64,'Raw Data'!$D:$D,'파트별 아이템별 차트'!$D64,'Raw Data'!$A:$A,'파트별 아이템별 차트'!$C64,'Raw Data'!$B:$B,'파트별 아이템별 차트'!H$2) -> 0 | I64: =COUNTIFS('Raw Data'!$C:$C,'파트별 아이템별 차트'!$B64,'Raw Data'!$D:$D,'파트별 아이템별 차트'!$D64,'Raw Data'!$A:$A,'파트별 아이템별 차트'!$C64,'Raw Data'!$B:$B,'파트별 아이템별 차트'!I$2) -> 0 | J64: =COUNTIFS('Raw Data'!$C:$C,'파트별 아이템별 차트'!$B64,'Raw Data'!$D:$D,'파트별 아이템별 차트'!$D64,'Raw Data'!$A:$A,'파트별 아이템별 차트'!$C64,'Raw Data'!$B:$B,'파트별 아이템별 차트'!J$2) -> 2 | K64: =COUNTIFS('Raw Data'!$C:$C,'파트별 아이템별 차트'!$B64,'Raw Data'!$D:$D,'파트별 아이템별 차트'!$D64,'Raw Data'!$A:$A,'파트별 아이템별 차트'!$C64,'Raw Data'!$B:$B,'파트별 아이템별 차트'!K$2) -> 1 | L64: =COUNTIFS('Raw Data'!$C:$C,'파트별 아이템별 차트'!$B64,'Raw Data'!$D:$D,'파트별 아이템별 차트'!$D64,'Raw Data'!$A:$A,'파트별 아이템별 차트'!$C64,'Raw Data'!$B:$B,'파트별 아이템별 차트'!L$2) -> 0 | ... P64: =COUNTIFS('Raw Data'!$C:$C,'파트별 아이템별 차트'!$B64,'Raw Data'!$D:$D,'파트별 아이템별 차트'!$D64,'Raw Data'!$A:$A,'파트별 아이템별 차트'!$C64,'Raw Data'!$B:$B,'파트별 아이템별 차트'!P$2) -> 0 | Q64: =SUM(E64:P64) -> 5
A65: =A63+1 -> 31 | B65: =_xlfn.XLOOKUP($A65,'BACK DATA'!$A:$A,'BACK DATA'!$B:$B) -> ichroma | C65: 2022 | D65: =_xlfn.XLOOKUP($A65,'BACK DATA'!$A:$A,'BACK DATA'!$C:$C) -> LH | E65: =COUNTIFS('Raw Data'!$C:$C,'파트별 아이템별 차트'!$B65,'Raw Data'!$D:$D,'파트별 아이템별 차트'!$D65,'Raw Data'!$A:$A,'파트별 아이템별 차트'!$C65,'Raw Data'!$B:$B,'파트별 아이템별 차트'!E$2) -> 0 | F65: =COUNTIFS('Raw Data'!$C:$C,'파트별 아이템별 차트'!$B65,'Raw Data'!$D:$D,'파트별 아이템별 차트'!$D65,'Raw Data'!$A:$A,'파트별 아이템별 차트'!$C65,'Raw Data'!$B:$B,'파트별 아이템별 차트'!F$2) -> 0 | G65: =COUNTIFS('Raw Data'!$C:$C,'파트별 아이템별 차트'!$B65,'Raw Data'!$D:$D,'파트별 아이템별 차트'!$D65,'Raw Data'!$A:$A,'파트별 아이템별 차트'!$C65,'Raw Data'!$B:$B,'파트별 아이템별 차트'!G$2) -> 1 | H65: =COUNTIFS('Raw Data'!$C:$C,'파트별 아이템별 차트'!$B65,'Raw Data'!$D:$D,'파트별 아이템별 차트'!$D65,'Raw Data'!$A:$A,'파트별 아이템별 차트'!$C65,'Raw Data'!$B:$B,'파트별 아이템별 차트'!H$2) -> 0 | I65: =COUNTIFS('Raw Data'!$C:$C,'파트별 아이템별 차트'!$B65,'Raw Data'!$D:$D,'파트별 아이템별 차트'!$D65,'Raw Data'!$A:$A,'파트별 아이템별 차트'!$C65,'Raw Data'!$B:$B,'파트별 아이템별 차트'!I$2) -> 0 | J65: =COUNTIFS('Raw Data'!$C:$C,'파트별 아이템별 차트'!$B65,'Raw Data'!$D:$D,'파트별 아이템별 차트'!$D65,'Raw Data'!$A:$A,'파트별 아이템별 차트'!$C65,'Raw Data'!$B:$B,'파트별 아이템별 차트'!J$2) -> 0 | K65: =COUNTIFS('Raw Data'!$C:$C,'파트별 아이템별 차트'!$B65,'Raw Data'!$D:$D,'파트별 아이템별 차트'!$D65,'Raw Data'!$A:$A,'파트별 아이템별 차트'!$C65,'Raw Data'!$B:$B,'파트별 아이템별 차트'!K$2) -> 1 | L65: =COUNTIFS('Raw Data'!$C:$C,'파트별 아이템별 차트'!$B65,'Raw Data'!$D:$D,'파트별 아이템별 차트'!$D65,'Raw Data'!$A:$A,'파트별 아이템별 차트'!$C65,'Raw Data'!$B:$B,'파트별 아이템별 차트'!L$2) -> 0 | ... P65: =COUNTIFS('Raw Data'!$C:$C,'파트별 아이템별 차트'!$B65,'Raw Data'!$D:$D,'파트별 아이템별 차트'!$D65,'Raw Data'!$A:$A,'파트별 아이템별 차트'!$C65,'Raw Data'!$B:$B,'파트별 아이템별 차트'!P$2) -> 0 | Q65: =SUM(E65:P65) -> 3
A66: =A65 -> 31 | B66: =_xlfn.XLOOKUP($A66,'BACK DATA'!$A:$A,'BACK DATA'!$B:$B) -> ichroma | C66: 2023 | D66: =_xlfn.XLOOKUP($A66,'BACK DATA'!$A:$A,'BACK DATA'!$C:$C) -> LH | E66: =COUNTIFS('Raw Data'!$C:$C,'파트별 아이템별 차트'!$B66,'Raw Data'!$D:$D,'파트별 아이템별 차트'!$D66,'Raw Data'!$A:$A,'파트별 아이템별 차트'!$C66,'Raw Data'!$B:$B,'파트별 아이템별 차트'!E$2) -> 0 | F66: =COUNTIFS('Raw Data'!$C:$C,'파트별 아이템별 차트'!$B66,'Raw Data'!$D:$D,'파트별 아이템별 차트'!$D66,'Raw Data'!$A:$A,'파트별 아이템별 차트'!$C66,'Raw Data'!$B:$B,'파트별 아이템별 차트'!F$2) -> 0 | G66: =COUNTIFS('Raw Data'!$C:$C,'파트별 아이템별 차트'!$B66,'Raw Data'!$D:$D,'파트별 아이템별 차트'!$D66,'Raw Data'!$A:$A,'파트별 아이템별 차트'!$C66,'Raw Data'!$B:$B,'파트별 아이템별 차트'!G$2) -> 0 | H66: =COUNTIFS('Raw Data'!$C:$C,'파트별 아이템별 차트'!$B66,'Raw Data'!$D:$D,'파트별 아이템별 차트'!$D66,'Raw Data'!$A:$A,'파트별 아이템별 차트'!$C66,'Raw Data'!$B:$B,'파트별 아이템별 차트'!H$2) -> 0 | I66: =COUNTIFS('Raw Data'!$C:$C,'파트별 아이템별 차트'!$B66,'Raw Data'!$D:$D,'파트별 아이템별 차트'!$D66,'Raw Data'!$A:$A,'파트별 아이템별 차트'!$C66,'Raw Data'!$B:$B,'파트별 아이템별 차트'!I$2) -> 0 | J66: =COUNTIFS('Raw Data'!$C:$C,'파트별 아이템별 차트'!$B66,'Raw Data'!$D:$D,'파트별 아이템별 차트'!$D66,'Raw Data'!$A:$A,'파트별 아이템별 차트'!$C66,'Raw Data'!$B:$B,'파트별 아이템별 차트'!J$2) -> 2 | K66: =COUNTIFS('Raw Data'!$C:$C,'파트별 아이템별 차트'!$B66,'Raw Data'!$D:$D,'파트별 아이템별 차트'!$D66,'Raw Data'!$A:$A,'파트별 아이템별 차트'!$C66,'Raw Data'!$B:$B,'파트별 아이템별 차트'!K$2) -> 1 | L66: =COUNTIFS('Raw Data'!$C:$C,'파트별 아이템별 차트'!$B66,'Raw Data'!$D:$D,'파트별 아이템별 차트'!$D66,'Raw Data'!$A:$A,'파트별 아이템별 차트'!$C66,'Raw Data'!$B:$B,'파트별 아이템별 차트'!L$2) -> 0 | ... P66: =COUNTIFS('Raw Data'!$C:$C,'파트별 아이템별 차트'!$B66,'Raw Data'!$D:$D,'파트별 아이템별 차트'!$D66,'Raw Data'!$A:$A,'파트별 아이템별 차트'!$C66,'Raw Data'!$B:$B,'파트별 아이템별 차트'!P$2) -> 0 | Q66: =SUM(E66:P66) -> 5
A67: =A65+1 -> 32 | B67: =_xlfn.XLOOKUP($A67,'BACK DATA'!$A:$A,'BACK DATA'!$B:$B) -> ichroma | C67: 2022 | D67: =_xlfn.XLOOKUP($A67,'BACK DATA'!$A:$A,'BACK DATA'!$C:$C) -> PRL | E67: =COUNTIFS('Raw Data'!$C:$C,'파트별 아이템별 차트'!$B67,'Raw Data'!$D:$D,'파트별 아이템별 차트'!$D67,'Raw Data'!$A:$A,'파트별 아이템별 차트'!$C67,'Raw Data'!$B:$B,'파트별 아이템별 차트'!E$2) -> 2 | F67: =COUNTIFS('Raw Data'!$C:$C,'파트별 아이템별 차트'!$B67,'Raw Data'!$D:$D,'파트별 아이템별 차트'!$D67,'Raw Data'!$A:$A,'파트별 아이템별 차트'!$C67,'Raw Data'!$B:$B,'파트별 아이템별 차트'!F$2) -> 1 | G67: =COUNTIFS('Raw Data'!$C:$C,'파트별 아이템별 차트'!$B67,'Raw Data'!$D:$D,'파트별 아이템별 차트'!$D67,'Raw Data'!$A:$A,'파트별 아이템별 차트'!$C67,'Raw Data'!$B:$B,'파트별 아이템별 차트'!G$2) -> 0 | H67: =COUNTIFS('Raw Data'!$C:$C,'파트별 아이템별 차트'!$B67,'Raw Data'!$D:$D,'파트별 아이템별 차트'!$D67,'Raw Data'!$A:$A,'파트별 아이템별 차트'!$C67,'Raw Data'!$B:$B,'파트별 아이템별 차트'!H$2) -> 1 | I67: =COUNTIFS('Raw Data'!$C:$C,'파트별 아이템별 차트'!$B67,'Raw Data'!$D:$D,'파트별 아이템별 차트'!$D67,'Raw Data'!$A:$A,'파트별 아이템별 차트'!$C67,'Raw Data'!$B:$B,'파트별 아이템별 차트'!I$2) -> 1 | J67: =COUNTIFS('Raw Data'!$C:$C,'파트별 아이템별 차트'!$B67,'Raw Data'!$D:$D,'파트별 아이템별 차트'!$D67,'Raw Data'!$A:$A,'파트별 아이템별 차트'!$C67,'Raw Data'!$B:$B,'파트별 아이템별 차트'!J$2) -> 0 | K67: =COUNTIFS('Raw Data'!$C:$C,'파트별 아이템별 차트'!$B67,'Raw Data'!$D:$D,'파트별 아이템별 차트'!$D67,'Raw Data'!$A:$A,'파트별 아이템별 차트'!$C67,'Raw Data'!$B:$B,'파트별 아이템별 차트'!K$2) -> 0 | L67: =COUNTIFS('Raw Data'!$C:$C,'파트별 아이템별 차트'!$B67,'Raw Data'!$D:$D,'파트별 아이템별 차트'!$D67,'Raw Data'!$A:$A,'파트별 아이템별 차트'!$C67,'Raw Data'!$B:$B,'파트별 아이템별 차트'!L$2) -> 0 | ... P67: =COUNTIFS('Raw Data'!$C:$C,'파트별 아이템별 차트'!$B67,'Raw Data'!$D:$D,'파트별 아이템별 차트'!$D67,'Raw Data'!$A:$A,'파트별 아이템별 차트'!$C67,'Raw Data'!$B:$B,'파트별 아이템별 차트'!P$2) -> 0 | Q67: =SUM(E67:P67) -> 7
A68: =A67 -> 32 | B68: =_xlfn.XLOOKUP($A68,'BACK DATA'!$A:$A,'BACK DATA'!$B:$B) -> ichroma | C68: 2023 | D68: =_xlfn.XLOOKUP($A68,'BACK DATA'!$A:$A,'BACK DATA'!$C:$C) -> PRL | E68: =COUNTIFS('Raw Data'!$C:$C,'파트별 아이템별 차트'!$B68,'Raw Data'!$D:$D,'파트별 아이템별 차트'!$D68,'Raw Data'!$A:$A,'파트별 아이템별 차트'!$C68,'Raw Data'!$B:$B,'파트별 아이템별 차트'!E$2) -> 0 | F68: =COUNTIFS('Raw Data'!$C:$C,'파트별 아이템별 차트'!$B68,'Raw Data'!$D:$D,'파트별 아이템별 차트'!$D68,'Raw Data'!$A:$A,'파트별 아이템별 차트'!$C68,'Raw Data'!$B:$B,'파트별 아이템별 차트'!F$2) -> 0 | G68: =COUNTIFS('Raw Data'!$C:$C,'파트별 아이템별 차트'!$B68,'Raw Data'!$D:$D,'파트별 아이템별 차트'!$D68,'Raw Data'!$A:$A,'파트별 아이템별 차트'!$C68,'Raw Data'!$B:$B,'파트별 아이템별 차트'!G$2) -> 0 | H68: =COUNTIFS('Raw Data'!$C:$C,'파트별 아이템별 차트'!$B68,'Raw Data'!$D:$D,'파트별 아이템별 차트'!$D68,'Raw Data'!$A:$A,'파트별 아이템별 차트'!$C68,'Raw Data'!$B:$B,'파트별 아이템별 차트'!H$2) -> 0 | I68: =COUNTIFS('Raw Data'!$C:$C,'파트별 아이템별 차트'!$B68,'Raw Data'!$D:$D,'파트별 아이템별 차트'!$D68,'Raw Data'!$A:$A,'파트별 아이템별 차트'!$C68,'Raw Data'!$B:$B,'파트별 아이템별 차트'!I$2) -> 0 | J68: =COUNTIFS('Raw Data'!$C:$C,'파트별 아이템별 차트'!$B68,'Raw Data'!$D:$D,'파트별 아이템별 차트'!$D68,'Raw Data'!$A:$A,'파트별 아이템별 차트'!$C68,'Raw Data'!$B:$B,'파트별 아이템별 차트'!J$2) -> 2 | K68: =COUNTIFS('Raw Data'!$C:$C,'파트별 아이템별 차트'!$B68,'Raw Data'!$D:$D,'파트별 아이템별 차트'!$D68,'Raw Data'!$A:$A,'파트별 아이템별 차트'!$C68,'Raw Data'!$B:$B,'파트별 아이템별 차트'!K$2) -> 1 | L68: =COUNTIFS('Raw Data'!$C:$C,'파트별 아이템별 차트'!$B68,'Raw Data'!$D:$D,'파트별 아이템별 차트'!$D68,'Raw Data'!$A:$A,'파트별 아이템별 차트'!$C68,'Raw Data'!$B:$B,'파트별 아이템별 차트'!L$2) -> 0 | ... P68: =COUNTIFS('Raw Data'!$C:$C,'파트별 아이템별 차트'!$B68,'Raw Data'!$D:$D,'파트별 아이템별 차트'!$D68,'Raw Data'!$A:$A,'파트별 아이템별 차트'!$C68,'Raw Data'!$B:$B,'파트별 아이템별 차트'!P$2) -> 0 | Q68: =SUM(E68:P68) -> 5
A69: =A67+1 -> 33 | B69: =_xlfn.XLOOKUP($A69,'BACK DATA'!$A:$A,'BACK DATA'!$B:$B) -> ichroma | C69: 2022 | D69: =_xlfn.XLOOKUP($A69,'BACK DATA'!$A:$A,'BACK DATA'!$C:$C) -> Anti-CCP Plus | E69: =COUNTIFS('Raw Data'!$C:$C,'파트별 아이템별 차트'!$B69,'Raw Data'!$D:$D,'파트별 아이템별 차트'!$D69,'Raw Data'!$A:$A,'파트별 아이템별 차트'!$C69,'Raw Data'!$B:$B,'파트별 아이템별 차트'!E$2) -> 0 | F69: =COUNTIFS('Raw Data'!$C:$C,'파트별 아이템별 차트'!$B69,'Raw Data'!$D:$D,'파트별 아이템별 차트'!$D69,'Raw Data'!$A:$A,'파트별 아이템별 차트'!$C69,'Raw Data'!$B:$B,'파트별 아이템별 차트'!F$2) -> 0 | G69: =COUNTIFS('Raw Data'!$C:$C,'파트별 아이템별 차트'!$B69,'Raw Data'!$D:$D,'파트별 아이템별 차트'!$D69,'Raw Data'!$A:$A,'파트별 아이템별 차트'!$C69,'Raw Data'!$B:$B,'파트별 아이템별 차트'!G$2) -> 2 | H69: =COUNTIFS('Raw Data'!$C:$C,'파트별 아이템별 차트'!$B69,'Raw Data'!$D:$D,'파트별 아이템별 차트'!$D69,'Raw Data'!$A:$A,'파트별 아이템별 차트'!$C69,'Raw Data'!$B:$B,'파트별 아이템별 차트'!H$2) -> 4 | I69: =COUNTIFS('Raw Data'!$C:$C,'파트별 아이템별 차트'!$B69,'Raw Data'!$D:$D,'파트별 아이템별 차트'!$D69,'Raw Data'!$A:$A,'파트별 아이템별 차트'!$C69,'Raw Data'!$B:$B,'파트별 아이템별 차트'!I$2) -> 0 | J69: =COUNTIFS('Raw Data'!$C:$C,'파트별 아이템별 차트'!$B69,'Raw Data'!$D:$D,'파트별 아이템별 차트'!$D69,'Raw Data'!$A:$A,'파트별 아이템별 차트'!$C69,'Raw Data'!$B:$B,'파트별 아이템별 차트'!J$2) -> 0 | K69: =COUNTIFS('Raw Data'!$C:$C,'파트별 아이템별 차트'!$B69,'Raw Data'!$D:$D,'파트별 아이템별 차트'!$D69,'Raw Data'!$A:$A,'파트별 아이템별 차트'!$C69,'Raw Data'!$B:$B,'파트별 아이템별 차트'!K$2) -> 1 | L69: =COUNTIFS('Raw Data'!$C:$C,'파트별 아이템별 차트'!$B69,'Raw Data'!$D:$D,'파트별 아이템별 차트'!$D69,'Raw Data'!$A:$A,'파트별 아이템별 차트'!$C69,'Raw Data'!$B:$B,'파트별 아이템별 차트'!L$2) -> 1 | ... P69: =COUNTIFS('Raw Data'!$C:$C,'파트별 아이템별 차트'!$B69,'Raw Data'!$D:$D,'파트별 아이템별 차트'!$D69,'Raw Data'!$A:$A,'파트별 아이템별 차트'!$C69,'Raw Data'!$B:$B,'파트별 아이템별 차트'!P$2) -> 0 | Q69: =SUM(E69:P69) -> 8
A70: =A69 -> 33 | B70: =_xlfn.XLOOKUP($A70,'BACK DATA'!$A:$A,'BACK DATA'!$B:$B) -> ichroma | C70: 2023 | D70: =_xlfn.XLOOKUP($A70,'BACK DATA'!$A:$A,'BACK DATA'!$C:$C) -> Anti-CCP Plus | E70: =COUNTIFS('Raw Data'!$C:$C,'파트별 아이템별 차트'!$B70,'Raw Data'!$D:$D,'파트별 아이템별 차트'!$D70,'Raw Data'!$A:$A,'파트별 아이템별 차트'!$C70,'Raw Data'!$B:$B,'파트별 아이템별 차트'!E$2) -> 0 | F70: =COUNTIFS('Raw Data'!$C:$C,'파트별 아이템별 차트'!$B70,'Raw Data'!$D:$D,'파트별 아이템별 차트'!$D70,'Raw Data'!$A:$A,'파트별 아이템별 차트'!$C70,'Raw Data'!$B:$B,'파트별 아이템별 차트'!F$2) -> 1 | G70: =COUNTIFS('Raw Data'!$C:$C,'파트별 아이템별 차트'!$B70,'Raw Data'!$D:$D,'파트별 아이템별 차트'!$D70,'Raw Data'!$A:$A,'파트별 아이템별 차트'!$C70,'Raw Data'!$B:$B,'파트별 아이템별 차트'!G$2) -> 0 | H70: =COUNTIFS('Raw Data'!$C:$C,'파트별 아이템별 차트'!$B70,'Raw Data'!$D:$D,'파트별 아이템별 차트'!$D70,'Raw Data'!$A:$A,'파트별 아이템별 차트'!$C70,'Raw Data'!$B:$B,'파트별 아이템별 차트'!H$2) -> 1 | I70: =COUNTIFS('Raw Data'!$C:$C,'파트별 아이템별 차트'!$B70,'Raw Data'!$D:$D,'파트별 아이템별 차트'!$D70,'Raw Data'!$A:$A,'파트별 아이템별 차트'!$C70,'Raw Data'!$B:$B,'파트별 아이템별 차트'!I$2) -> 1 | J70: =COUNTIFS('Raw Data'!$C:$C,'파트별 아이템별 차트'!$B70,'Raw Data'!$D:$D,'파트별 아이템별 차트'!$D70,'Raw Data'!$A:$A,'파트별 아이템별 차트'!$C70,'Raw Data'!$B:$B,'파트별 아이템별 차트'!J$2) -> 0 | K70: =COUNTIFS('Raw Data'!$C:$C,'파트별 아이템별 차트'!$B70,'Raw Data'!$D:$D,'파트별 아이템별 차트'!$D70,'Raw Data'!$A:$A,'파트별 아이템별 차트'!$C70,'Raw Data'!$B:$B,'파트별 아이템별 차트'!K$2) -> 1 | L70: =COUNTIFS('Raw Data'!$C:$C,'파트별 아이템별 차트'!$B70,'Raw Data'!$D:$D,'파트별 아이템별 차트'!$D70,'Raw Data'!$A:$A,'파트별 아이템별 차트'!$C70,'Raw Data'!$B:$B,'파트별 아이템별 차트'!L$2) -> 0 | ... P70: =COUNTIFS('Raw Data'!$C:$C,'파트별 아이템별 차트'!$B70,'Raw Data'!$D:$D,'파트별 아이템별 차트'!$D70,'Raw Data'!$A:$A,'파트별 아이템별 차트'!$C70,'Raw Data'!$B:$B,'파트별 아이템별 차트'!P$2) -> 0 | Q70: =SUM(E70:P70) -> 4
A71: =A69+1 -> 34 | B71: =_xlfn.XLOOKUP($A71,'BACK DATA'!$A:$A,'BACK DATA'!$B:$B) -> ichroma | C71: 2022 | D71: =_xlfn.XLOOKUP($A71,'BACK DATA'!$A:$A,'BACK DATA'!$C:$C) -> Anti-HCV | E71: =COUNTIFS('Raw Data'!$C:$C,'파트별 아이템별 차트'!$B71,'Raw Data'!$D:$D,'파트별 아이템별 차트'!$D71,'Raw Data'!$A:$A,'파트별 아이템별 차트'!$C71,'Raw Data'!$B:$B,'파트별 아이템별 차트'!E$2) -> 0 | F71: =COUNTIFS('Raw Data'!$C:$C,'파트별 아이템별 차트'!$B71,'Raw Data'!$D:$D,'파트별 아이템별 차트'!$D71,'Raw Data'!$A:$A,'파트별 아이템별 차트'!$C71,'Raw Data'!$B:$B,'파트별 아이템별 차트'!F$2) -> 1 | G71: =COUNTIFS('Raw Data'!$C:$C,'파트별 아이템별 차트'!$B71,'Raw Data'!$D:$D,'파트별 아이템별 차트'!$D71,'Raw Data'!$A:$A,'파트별 아이템별 차트'!$C71,'Raw Data'!$B:$B,'파트별 아이템별 차트'!G$2) -> 2 | H71: =COUNTIFS('Raw Data'!$C:$C,'파트별 아이템별 차트'!$B71,'Raw Data'!$D:$D,'파트별 아이템별 차트'!$D71,'Raw Data'!$A:$A,'파트별 아이템별 차트'!$C71,'Raw Data'!$B:$B,'파트별 아이템별 차트'!H$2) -> 1 | I71: =COUNTIFS('Raw Data'!$C:$C,'파트별 아이템별 차트'!$B71,'Raw Data'!$D:$D,'파트별 아이템별 차트'!$D71,'Raw Data'!$A:$A,'파트별 아이템별 차트'!$C71,'Raw Data'!$B:$B,'파트별 아이템별 차트'!I$2) -> 1 | J71: =COUNTIFS('Raw Data'!$C:$C,'파트별 아이템별 차트'!$B71,'Raw Data'!$D:$D,'파트별 아이템별 차트'!$D71,'Raw Data'!$A:$A,'파트별 아이템별 차트'!$C71,'Raw Data'!$B:$B,'파트별 아이템별 차트'!J$2) -> 2 | K71: =COUNTIFS('Raw Data'!$C:$C,'파트별 아이템별 차트'!$B71,'Raw Data'!$D:$D,'파트별 아이템별 차트'!$D71,'Raw Data'!$A:$A,'파트별 아이템별 차트'!$C71,'Raw Data'!$B:$B,'파트별 아이템별 차트'!K$2) -> 2 | L71: =COUNTIFS('Raw Data'!$C:$C,'파트별 아이템별 차트'!$B71,'Raw Data'!$D:$D,'파트별 아이템별 차트'!$D71,'Raw Data'!$A:$A,'파트별 아이템별 차트'!$C71,'Raw Data'!$B:$B,'파트별 아이템별 차트'!L$2) -> 0 | ... P71: =COUNTIFS('Raw Data'!$C:$C,'파트별 아이템별 차트'!$B71,'Raw Data'!$D:$D,'파트별 아이템별 차트'!$D71,'Raw Data'!$A:$A,'파트별 아이템별 차트'!$C71,'Raw Data'!$B:$B,'파트별 아이템별 차트'!P$2) -> 2 | Q71: =SUM(E71:P71) -> 11
A72: =A71 -> 34 | B72: =_xlfn.XLOOKUP($A72,'BACK DATA'!$A:$A,'BACK DATA'!$B:$B) -> ichroma | C72: 2023 | D72: =_xlfn.XLOOKUP($A72,'BACK DATA'!$A:$A,'BACK DATA'!$C:$C) -> Anti-HCV | E72: =COUNTIFS('Raw Data'!$C:$C,'파트별 아이템별 차트'!$B72,'Raw Data'!$D:$D,'파트별 아이템별 차트'!$D72,'Raw Data'!$A:$A,'파트별 아이템별 차트'!$C72,'Raw Data'!$B:$B,'파트별 아이템별 차트'!E$2) -> 0 | F72: =COUNTIFS('Raw Data'!$C:$C,'파트별 아이템별 차트'!$B72,'Raw Data'!$D:$D,'파트별 아이템별 차트'!$D72,'Raw Data'!$A:$A,'파트별 아이템별 차트'!$C72,'Raw Data'!$B:$B,'파트별 아이템별 차트'!F$2) -> 0 | G72: =COUNTIFS('Raw Data'!$C:$C,'파트별 아이템별 차트'!$B72,'Raw Data'!$D:$D,'파트별 아이템별 차트'!$D72,'Raw Data'!$A:$A,'파트별 아이템별 차트'!$C72,'Raw Data'!$B:$B,'파트별 아이템별 차트'!G$2) -> 2 | H72: =COUNTIFS('Raw Data'!$C:$C,'파트별 아이템별 차트'!$B72,'Raw Data'!$D:$D,'파트별 아이템별 차트'!$D72,'Raw Data'!$A:$A,'파트별 아이템별 차트'!$C72,'Raw Data'!$B:$B,'파트별 아이템별 차트'!H$2) -> 0 | I72: =COUNTIFS('Raw Data'!$C:$C,'파트별 아이템별 차트'!$B72,'Raw Data'!$D:$D,'파트별 아이템별 차트'!$D72,'Raw Data'!$A:$A,'파트별 아이템별 차트'!$C72,'Raw Data'!$B:$B,'파트별 아이템별 차트'!I$2) -> 0 | J72: =COUNTIFS('Raw Data'!$C:$C,'파트별 아이템별 차트'!$B72,'Raw Data'!$D:$D,'파트별 아이템별 차트'!$D72,'Raw Data'!$A:$A,'파트별 아이템별 차트'!$C72,'Raw Data'!$B:$B,'파트별 아이템별 차트'!J$2) -> 0 | K72: =COUNTIFS('Raw Data'!$C:$C,'파트별 아이템별 차트'!$B72,'Raw Data'!$D:$D,'파트별 아이템별 차트'!$D72,'Raw Data'!$A:$A,'파트별 아이템별 차트'!$C72,'Raw Data'!$B:$B,'파트별 아이템별 차트'!K$2) -> 1 | L72: =COUNTIFS('Raw Data'!$C:$C,'파트별 아이템별 차트'!$B72,'Raw Data'!$D:$D,'파트별 아이템별 차트'!$D72,'Raw Data'!$A:$A,'파트별 아이템별 차트'!$C72,'Raw Data'!$B:$B,'파트별 아이템별 차트'!L$2) -> 0 | ... P72: =COUNTIFS('Raw Data'!$C:$C,'파트별 아이템별 차트'!$B72,'Raw Data'!$D:$D,'파트별 아이템별 차트'!$D72,'Raw Data'!$A:$A,'파트별 아이템별 차트'!$C72,'Raw Data'!$B:$B,'파트별 아이템별 차트'!P$2) -> 1 | Q72: =SUM(E72:P72) -> 4
A73: =A71+1 -> 35 | B73: =_xlfn.XLOOKUP($A73,'BACK DATA'!$A:$A,'BACK DATA'!$B:$B) -> ichroma | C73: 2022 | D73: =_xlfn.XLOOKUP($A73,'BACK DATA'!$A:$A,'BACK DATA'!$C:$C) -> vProgesterone | E73: =COUNTIFS('Raw Data'!$C:$C,'파트별 아이템별 차트'!$B73,'Raw Data'!$D:$D,'파트별 아이템별 차트'!$D73,'Raw Data'!$A:$A,'파트별 아이템별 차트'!$C73,'Raw Data'!$B:$B,'파트별 아이템별 차트'!E$2) -> 0 | F73: =COUNTIFS('Raw Data'!$C:$C,'파트별 아이템별 차트'!$B73,'Raw Data'!$D:$D,'파트별 아이템별 차트'!$D73,'Raw Data'!$A:$A,'파트별 아이템별 차트'!$C73,'Raw Data'!$B:$B,'파트별 아이템별 차트'!F$2) -> 0 | G73: =COUNTIFS('Raw Data'!$C:$C,'파트별 아이템별 차트'!$B73,'Raw Data'!$D:$D,'파트별 아이템별 차트'!$D73,'Raw Data'!$A:$A,'파트별 아이템별 차트'!$C73,'Raw Data'!$B:$B,'파트별 아이템별 차트'!G$2) -> 1 | H73: =COUNTIFS('Raw Data'!$C:$C,'파트별 아이템별 차트'!$B73,'Raw Data'!$D:$D,'파트별 아이템별 차트'!$D73,'Raw Data'!$A:$A,'파트별 아이템별 차트'!$C73,'Raw Data'!$B:$B,'파트별 아이템별 차트'!H$2) -> 1 | I73: =COUNTIFS('Raw Data'!$C:$C,'파트별 아이템별 차트'!$B73,'Raw Data'!$D:$D,'파트별 아이템별 차트'!$D73,'Raw Data'!$A:$A,'파트별 아이템별 차트'!$C73,'Raw Data'!$B:$B,'파트별 아이템별 차트'!I$2) -> 0 | J73: =COUNTIFS('Raw Data'!$C:$C,'파트별 아이템별 차트'!$B73,'Raw Data'!$D:$D,'파트별 아이템별 차트'!$D73,'Raw Data'!$A:$A,'파트별 아이템별 차트'!$C73,'Raw Data'!$B:$B,'파트별 아이템별 차트'!J$2) -> 0 | K73: =COUNTIFS('Raw Data'!$C:$C,'파트별 아이템별 차트'!$B73,'Raw Data'!$D:$D,'파트별 아이템별 차트'!$D73,'Raw Data'!$A:$A,'파트별 아이템별 차트'!$C73,'Raw Data'!$B:$B,'파트별 아이템별 차트'!K$2) -> 0 | L73: =COUNTIFS('Raw Data'!$C:$C,'파트별 아이템별 차트'!$B73,'Raw Data'!$D:$D,'파트별 아이템별 차트'!$D73,'Raw Data'!$A:$A,'파트별 아이템별 차트'!$C73,'Raw Data'!$B:$B,'파트별 아이템별 차트'!L$2) -> 0 | ... P73: =COUNTIFS('Raw Data'!$C:$C,'파트별 아이템별 차트'!$B73,'Raw Data'!$D:$D,'파트별 아이템별 차트'!$D73,'Raw Data'!$A:$A,'파트별 아이템별 차트'!$C73,'Raw Data'!$B:$B,'파트별 아이템별 차트'!P$2) -> 0 | Q73: =SUM(E73:P73) -> 2
A74: =A73 -> 35 | B74: =_xlfn.XLOOKUP($A74,'BACK DATA'!$A:$A,'BACK DATA'!$B:$B) -> ichroma | C74: 2023 | D74: =_xlfn.XLOOKUP($A74,'BACK DATA'!$A:$A,'BACK DATA'!$C:$C) -> vProgesterone | E74: =COUNTIFS('Raw Data'!$C:$C,'파트별 아이템별 차트'!$B74,'Raw Data'!$D:$D,'파트별 아이템별 차트'!$D74,'Raw Data'!$A:$A,'파트별 아이템별 차트'!$C74,'Raw Data'!$B:$B,'파트별 아이템별 차트'!E$2) -> 0 | F74: =COUNTIFS('Raw Data'!$C:$C,'파트별 아이템별 차트'!$B74,'Raw Data'!$D:$D,'파트별 아이템별 차트'!$D74,'Raw Data'!$A:$A,'파트별 아이템별 차트'!$C74,'Raw Data'!$B:$B,'파트별 아이템별 차트'!F$2) -> 0 | G74: =COUNTIFS('Raw Data'!$C:$C,'파트별 아이템별 차트'!$B74,'Raw Data'!$D:$D,'파트별 아이템별 차트'!$D74,'Raw Data'!$A:$A,'파트별 아이템별 차트'!$C74,'Raw Data'!$B:$B,'파트별 아이템별 차트'!G$2) -> 1 | H74: =COUNTIFS('Raw Data'!$C:$C,'파트별 아이템별 차트'!$B74,'Raw Data'!$D:$D,'파트별 아이템별 차트'!$D74,'Raw Data'!$A:$A,'파트별 아이템별 차트'!$C74,'Raw Data'!$B:$B,'파트별 아이템별 차트'!H$2) -> 0 | I74: =COUNTIFS('Raw Data'!$C:$C,'파트별 아이템별 차트'!$B74,'Raw Data'!$D:$D,'파트별 아이템별 차트'!$D74,'Raw Data'!$A:$A,'파트별 아이템별 차트'!$C74,'Raw Data'!$B:$B,'파트별 아이템별 차트'!I$2) -> 1 | J74: =COUNTIFS('Raw Data'!$C:$C,'파트별 아이템별 차트'!$B74,'Raw Data'!$D:$D,'파트별 아이템별 차트'!$D74,'Raw Data'!$A:$A,'파트별 아이템별 차트'!$C74,'Raw Data'!$B:$B,'파트별 아이템별 차트'!J$2) -> 0 | K74: =COUNTIFS('Raw Data'!$C:$C,'파트별 아이템별 차트'!$B74,'Raw Data'!$D:$D,'파트별 아이템별 차트'!$D74,'Raw Data'!$A:$A,'파트별 아이템별 차트'!$C74,'Raw Data'!$B:$B,'파트별 아이템별 차트'!K$2) -> 0 | L74: =COUNTIFS('Raw Data'!$C:$C,'파트별 아이템별 차트'!$B74,'Raw Data'!$D:$D,'파트별 아이템별 차트'!$D74,'Raw Data'!$A:$A,'파트별 아이템별 차트'!$C74,'Raw Data'!$B:$B,'파트별 아이템별 차트'!L$2) -> 0 | ... P74: =COUNTIFS('Raw Data'!$C:$C,'파트별 아이템별 차트'!$B74,'Raw Data'!$D:$D,'파트별 아이템별 차트'!$D74,'Raw Data'!$A:$A,'파트별 아이템별 차트'!$C74,'Raw Data'!$B:$B,'파트별 아이템별 차트'!P$2) -> 1 | Q74: =SUM(E74:P74) -> 4
A75: =A73+1 -> 36 | B75: =_xlfn.XLOOKUP($A75,'BACK DATA'!$A:$A,'BACK DATA'!$B:$B) -> ichroma | C75: 2022 | D75: =_xlfn.XLOOKUP($A75,'BACK DATA'!$A:$A,'BACK DATA'!$C:$C) -> Cardiac Triple | E75: =COUNTIFS('Raw Data'!$C:$C,'파트별 아이템별 차트'!$B75,'Raw Data'!$D:$D,'파트별 아이템별 차트'!$D75,'Raw Data'!$A:$A,'파트별 아이템별 차트'!$C75,'Raw Data'!$B:$B,'파트별 아이템별 차트'!E$2) -> 0 | F75: =COUNTIFS('Raw Data'!$C:$C,'파트별 아이템별 차트'!$B75,'Raw Data'!$D:$D,'파트별 아이템별 차트'!$D75,'Raw Data'!$A:$A,'파트별 아이템별 차트'!$C75,'Raw Data'!$B:$B,'파트별 아이템별 차트'!F$2) -> 0 | G75: =COUNTIFS('Raw Data'!$C:$C,'파트별 아이템별 차트'!$B75,'Raw Data'!$D:$D,'파트별 아이템별 차트'!$D75,'Raw Data'!$A:$A,'파트별 아이템별 차트'!$C75,'Raw Data'!$B:$B,'파트별 아이템별 차트'!G$2) -> 0 | H75: =COUNTIFS('Raw Data'!$C:$C,'파트별 아이템별 차트'!$B75,'Raw Data'!$D:$D,'파트별 아이템별 차트'!$D75,'Raw Data'!$A:$A,'파트별 아이템별 차트'!$C75,'Raw Data'!$B:$B,'파트별 아이템별 차트'!H$2) -> 1 | I75: =COUNTIFS('Raw Data'!$C:$C,'파트별 아이템별 차트'!$B75,'Raw Data'!$D:$D,'파트별 아이템별 차트'!$D75,'Raw Data'!$A:$A,'파트별 아이템별 차트'!$C75,'Raw Data'!$B:$B,'파트별 아이템별 차트'!I$2) -> 0 | J75: =COUNTIFS('Raw Data'!$C:$C,'파트별 아이템별 차트'!$B75,'Raw Data'!$D:$D,'파트별 아이템별 차트'!$D75,'Raw Data'!$A:$A,'파트별 아이템별 차트'!$C75,'Raw Data'!$B:$B,'파트별 아이템별 차트'!J$2) -> 0 | K75: =COUNTIFS('Raw Data'!$C:$C,'파트별 아이템별 차트'!$B75,'Raw Data'!$D:$D,'파트별 아이템별 차트'!$D75,'Raw Data'!$A:$A,'파트별 아이템별 차트'!$C75,'Raw Data'!$B:$B,'파트별 아이템별 차트'!K$2) -> 0 | L75: =COUNTIFS('Raw Data'!$C:$C,'파트별 아이템별 차트'!$B75,'Raw Data'!$D:$D,'파트별 아이템별 차트'!$D75,'Raw Data'!$A:$A,'파트별 아이템별 차트'!$C75,'Raw Data'!$B:$B,'파트별 아이템별 차트'!L$2) -> 0 | ... P75: =COUNTIFS('Raw Data'!$C:$C,'파트별 아이템별 차트'!$B75,'Raw Data'!$D:$D,'파트별 아이템별 차트'!$D75,'Raw Data'!$A:$A,'파트별 아이템별 차트'!$C75,'Raw Data'!$B:$B,'파트별 아이템별 차트'!P$2) -> 1 | Q75: =SUM(E75:P75) -> 2
A76: =A75 -> 36 | B76: =_xlfn.XLOOKUP($A76,'BACK DATA'!$A:$A,'BACK DATA'!$B:$B) -> ichroma | C76: 2023 | D76: =_xlfn.XLOOKUP($A76,'BACK DATA'!$A:$A,'BACK DATA'!$C:$C) -> Cardiac Triple | E76: =COUNTIFS('Raw Data'!$C:$C,'파트별 아이템별 차트'!$B76,'Raw Data'!$D:$D,'파트별 아이템별 차트'!$D76,'Raw Data'!$A:$A,'파트별 아이템별 차트'!$C76,'Raw Data'!$B:$B,'파트별 아이템별 차트'!E$2) -> 0 | F76: =COUNTIFS('Raw Data'!$C:$C,'파트별 아이템별 차트'!$B76,'Raw Data'!$D:$D,'파트별 아이템별 차트'!$D76,'Raw Data'!$A:$A,'파트별 아이템별 차트'!$C76,'Raw Data'!$B:$B,'파트별 아이템별 차트'!F$2) -> 0 | G76: =COUNTIFS('Raw Data'!$C:$C,'파트별 아이템별 차트'!$B76,'Raw Data'!$D:$D,'파트별 아이템별 차트'!$D76,'Raw Data'!$A:$A,'파트별 아이템별 차트'!$C76,'Raw Data'!$B:$B,'파트별 아이템별 차트'!G$2) -> 0 | H76: =COUNTIFS('Raw Data'!$C:$C,'파트별 아이템별 차트'!$B76,'Raw Data'!$D:$D,'파트별 아이템별 차트'!$D76,'Raw Data'!$A:$A,'파트별 아이템별 차트'!$C76,'Raw Data'!$B:$B,'파트별 아이템별 차트'!H$2) -> 0 | I76: =COUNTIFS('Raw Data'!$C:$C,'파트별 아이템별 차트'!$B76,'Raw Data'!$D:$D,'파트별 아이템별 차트'!$D76,'Raw Data'!$A:$A,'파트별 아이템별 차트'!$C76,'Raw Data'!$B:$B,'파트별 아이템별 차트'!I$2) -> 1 | J76: =COUNTIFS('Raw Data'!$C:$C,'파트별 아이템별 차트'!$B76,'Raw Data'!$D:$D,'파트별 아이템별 차트'!$D76,'Raw Data'!$A:$A,'파트별 아이템별 차트'!$C76,'Raw Data'!$B:$B,'파트별 아이템별 차트'!J$2) -> 0 | K76: =COUNTIFS('Raw Data'!$C:$C,'파트별 아이템별 차트'!$B76,'Raw Data'!$D:$D,'파트별 아이템별 차트'!$D76,'Raw Data'!$A:$A,'파트별 아이템별 차트'!$C76,'Raw Data'!$B:$B,'파트별 아이템별 차트'!K$2) -> 0 | L76: =COUNTIFS('Raw Data'!$C:$C,'파트별 아이템별 차트'!$B76,'Raw Data'!$D:$D,'파트별 아이템별 차트'!$D76,'Raw Data'!$A:$A,'파트별 아이템별 차트'!$C76,'Raw Data'!$B:$B,'파트별 아이템별 차트'!L$2) -> 1 | ... P76: =COUNTIFS('Raw Data'!$C:$C,'파트별 아이템별 차트'!$B76,'Raw Data'!$D:$D,'파트별 아이템별 차트'!$D76,'Raw Data'!$A:$A,'파트별 아이템별 차트'!$C76,'Raw Data'!$B:$B,'파트별 아이템별 차트'!P$2) -> 0 | Q76: =SUM(E76:P76) -> 4
A77: =A75+1 -> 37 | B77: =_xlfn.XLOOKUP($A77,'BACK DATA'!$A:$A,'BACK DATA'!$B:$B) -> ichroma | C77: 2022 | D77: =_xlfn.XLOOKUP($A77,'BACK DATA'!$A:$A,'BACK DATA'!$C:$C) -> CA19-9 | E77: =COUNTIFS('Raw Data'!$C:$C,'파트별 아이템별 차트'!$B77,'Raw Data'!$D:$D,'파트별 아이템별 차트'!$D77,'Raw Data'!$A:$A,'파트별 아이템별 차트'!$C77,'Raw Data'!$B:$B,'파트별 아이템별 차트'!E$2) -> 0 | F77: =COUNTIFS('Raw Data'!$C:$C,'파트별 아이템별 차트'!$B77,'Raw Data'!$D:$D,'파트별 아이템별 차트'!$D77,'Raw Data'!$A:$A,'파트별 아이템별 차트'!$C77,'Raw Data'!$B:$B,'파트별 아이템별 차트'!F$2) -> 0 | G77: =COUNTIFS('Raw Data'!$C:$C,'파트별 아이템별 차트'!$B77,'Raw Data'!$D:$D,'파트별 아이템별 차트'!$D77,'Raw Data'!$A:$A,'파트별 아이템별 차트'!$C77,'Raw Data'!$B:$B,'파트별 아이템별 차트'!G$2) -> 0 | H77: =COUNTIFS('Raw Data'!$C:$C,'파트별 아이템별 차트'!$B77,'Raw Data'!$D:$D,'파트별 아이템별 차트'!$D77,'Raw Data'!$A:$A,'파트별 아이템별 차트'!$C77,'Raw Data'!$B:$B,'파트별 아이템별 차트'!H$2) -> 0 | I77: =COUNTIFS('Raw Data'!$C:$C,'파트별 아이템별 차트'!$B77,'Raw Data'!$D:$D,'파트별 아이템별 차트'!$D77,'Raw Data'!$A:$A,'파트별 아이템별 차트'!$C77,'Raw Data'!$B:$B,'파트별 아이템별 차트'!I$2) -> 0 | J77: =COUNTIFS('Raw Data'!$C:$C,'파트별 아이템별 차트'!$B77,'Raw Data'!$D:$D,'파트별 아이템별 차트'!$D77,'Raw Data'!$A:$A,'파트별 아이템별 차트'!$C77,'Raw Data'!$B:$B,'파트별 아이템별 차트'!J$2) -> 0 | K77: =COUNTIFS('Raw Data'!$C:$C,'파트별 아이템별 차트'!$B77,'Raw Data'!$D:$D,'파트별 아이템별 차트'!$D77,'Raw Data'!$A:$A,'파트별 아이템별 차트'!$C77,'Raw Data'!$B:$B,'파트별 아이템별 차트'!K$2) -> 0 | L77: =COUNTIFS('Raw Data'!$C:$C,'파트별 아이템별 차트'!$B77,'Raw Data'!$D:$D,'파트별 아이템별 차트'!$D77,'Raw Data'!$A:$A,'파트별 아이템별 차트'!$C77,'Raw Data'!$B:$B,'파트별 아이템별 차트'!L$2) -> 0 | ... P77: =COUNTIFS('Raw Data'!$C:$C,'파트별 아이템별 차트'!$B77,'Raw Data'!$D:$D,'파트별 아이템별 차트'!$D77,'Raw Data'!$A:$A,'파트별 아이템별 차트'!$C77,'Raw Data'!$B:$B,'파트별 아이템별 차트'!P$2) -> 0 | Q77: =SUM(E77:P77) -> 0
A78: =A77 -> 37 | B78: =_xlfn.XLOOKUP($A78,'BACK DATA'!$A:$A,'BACK DATA'!$B:$B) -> ichroma | C78: 2023 | D78: =_xlfn.XLOOKUP($A78,'BACK DATA'!$A:$A,'BACK DATA'!$C:$C) -> CA19-9 | E78: =COUNTIFS('Raw Data'!$C:$C,'파트별 아이템별 차트'!$B78,'Raw Data'!$D:$D,'파트별 아이템별 차트'!$D78,'Raw Data'!$A:$A,'파트별 아이템별 차트'!$C78,'Raw Data'!$B:$B,'파트별 아이템별 차트'!E$2) -> 0 | F78: =COUNTIFS('Raw Data'!$C:$C,'파트별 아이템별 차트'!$B78,'Raw Data'!$D:$D,'파트별 아이템별 차트'!$D78,'Raw Data'!$A:$A,'파트별 아이템별 차트'!$C78,'Raw Data'!$B:$B,'파트별 아이템별 차트'!F$2) -> 0 | G78: =COUNTIFS('Raw Data'!$C:$C,'파트별 아이템별 차트'!$B78,'Raw Data'!$D:$D,'파트별 아이템별 차트'!$D78,'Raw Data'!$A:$A,'파트별 아이템별 차트'!$C78,'Raw Data'!$B:$B,'파트별 아이템별 차트'!G$2) -> 0 | H78: =COUNTIFS('Raw Data'!$C:$C,'파트별 아이템별 차트'!$B78,'Raw Data'!$D:$D,'파트별 아이템별 차트'!$D78,'Raw Data'!$A:$A,'파트별 아이템별 차트'!$C78,'Raw Data'!$B:$B,'파트별 아이템별 차트'!H$2) -> 0 | I78: =COUNTIFS('Raw Data'!$C:$C,'파트별 아이템별 차트'!$B78,'Raw Data'!$D:$D,'파트별 아이템별 차트'!$D78,'Raw Data'!$A:$A,'파트별 아이템별 차트'!$C78,'Raw Data'!$B:$B,'파트별 아이템별 차트'!I$2) -> 1 | J78: =COUNTIFS('Raw Data'!$C:$C,'파트별 아이템별 차트'!$B78,'Raw Data'!$D:$D,'파트별 아이템별 차트'!$D78,'Raw Data'!$A:$A,'파트별 아이템별 차트'!$C78,'Raw Data'!$B:$B,'파트별 아이템별 차트'!J$2) -> 0 | K78: =COUNTIFS('Raw Data'!$C:$C,'파트별 아이템별 차트'!$B78,'Raw Data'!$D:$D,'파트별 아이템별 차트'!$D78,'Raw Data'!$A:$A,'파트별 아이템별 차트'!$C78,'Raw Data'!$B:$B,'파트별 아이템별 차트'!K$2) -> 0 | L78: =COUNTIFS('Raw Data'!$C:$C,'파트별 아이템별 차트'!$B78,'Raw Data'!$D:$D,'파트별 아이템별 차트'!$D78,'Raw Data'!$A:$A,'파트별 아이템별 차트'!$C78,'Raw Data'!$B:$B,'파트별 아이템별 차트'!L$2) -> 1 | ... P78: =COUNTIFS('Raw Data'!$C:$C,'파트별 아이템별 차트'!$B78,'Raw Data'!$D:$D,'파트별 아이템별 차트'!$D78,'Raw Data'!$A:$A,'파트별 아이템별 차트'!$C78,'Raw Data'!$B:$B,'파트별 아이템별 차트'!P$2) -> 0 | Q78: =SUM(E78:P78) -> 4
A79: =A77+1 -> 38 | B79: =_xlfn.XLOOKUP($A79,'BACK DATA'!$A:$A,'BACK DATA'!$B:$B) -> ichroma | C79: 2022 | D79: =_xlfn.XLOOKUP($A79,'BACK DATA'!$A:$A,'BACK DATA'!$C:$C) -> CEA | E79: =COUNTIFS('Raw Data'!$C:$C,'파트별 아이템별 차트'!$B79,'Raw Data'!$D:$D,'파트별 아이템별 차트'!$D79,'Raw Data'!$A:$A,'파트별 아이템별 차트'!$C79,'Raw Data'!$B:$B,'파트별 아이템별 차트'!E$2) -> 0 | F79: =COUNTIFS('Raw Data'!$C:$C,'파트별 아이템별 차트'!$B79,'Raw Data'!$D:$D,'파트별 아이템별 차트'!$D79,'Raw Data'!$A:$A,'파트별 아이템별 차트'!$C79,'Raw Data'!$B:$B,'파트별 아이템별 차트'!F$2) -> 0 | G79: =COUNTIFS('Raw Data'!$C:$C,'파트별 아이템별 차트'!$B79,'Raw Data'!$D:$D,'파트별 아이템별 차트'!$D79,'Raw Data'!$A:$A,'파트별 아이템별 차트'!$C79,'Raw Data'!$B:$B,'파트별 아이템별 차트'!G$2) -> 0 | H79: =COUNTIFS('Raw Data'!$C:$C,'파트별 아이템별 차트'!$B79,'Raw Data'!$D:$D,'파트별 아이템별 차트'!$D79,'Raw Data'!$A:$A,'파트별 아이템별 차트'!$C79,'Raw Data'!$B:$B,'파트별 아이템별 차트'!H$2) -> 0 | I79: =COUNTIFS('Raw Data'!$C:$C,'파트별 아이템별 차트'!$B79,'Raw Data'!$D:$D,'파트별 아이템별 차트'!$D79,'Raw Data'!$A:$A,'파트별 아이템별 차트'!$C79,'Raw Data'!$B:$B,'파트별 아이템별 차트'!I$2) -> 0 | J79: =COUNTIFS('Raw Data'!$C:$C,'파트별 아이템별 차트'!$B79,'Raw Data'!$D:$D,'파트별 아이템별 차트'!$D79,'Raw Data'!$A:$A,'파트별 아이템별 차트'!$C79,'Raw Data'!$B:$B,'파트별 아이템별 차트'!J$2) -> 0 | K79: =COUNTIFS('Raw Data'!$C:$C,'파트별 아이템별 차트'!$B79,'Raw Data'!$D:$D,'파트별 아이템별 차트'!$D79,'Raw Data'!$A:$A,'파트별 아이템별 차트'!$C79,'Raw Data'!$B:$B,'파트별 아이템별 차트'!K$2) -> 0 | L79: =COUNTIFS('Raw Data'!$C:$C,'파트별 아이템별 차트'!$B79,'Raw Data'!$D:$D,'파트별 아이템별 차트'!$D79,'Raw Data'!$A:$A,'파트별 아이템별 차트'!$C79,'Raw Data'!$B:$B,'파트별 아이템별 차트'!L$2) -> 0 | ... P79: =COUNTIFS('Raw Data'!$C:$C,'파트별 아이템별 차트'!$B79,'Raw Data'!$D:$D,'파트별 아이템별 차트'!$D79,'Raw Data'!$A:$A,'파트별 아이템별 차트'!$C79,'Raw Data'!$B:$B,'파트별 아이템별 차트'!P$2) -> 0 | Q79: =SUM(E79:P79) -> 1
A80: =A79 -> 38 | B80: =_xlfn.XLOOKUP($A80,'BACK DATA'!$A:$A,'BACK DATA'!$B:$B) -> ichroma | C80: 2023 | D80: =_xlfn.XLOOKUP($A80,'BACK DATA'!$A:$A,'BACK DATA'!$C:$C) -> CEA | E80: =COUNTIFS('Raw Data'!$C:$C,'파트별 아이템별 차트'!$B80,'Raw Data'!$D:$D,'파트별 아이템별 차트'!$D80,'Raw Data'!$A:$A,'파트별 아이템별 차트'!$C80,'Raw Data'!$B:$B,'파트별 아이템별 차트'!E$2) -> 0 | F80: =COUNTIFS('Raw Data'!$C:$C,'파트별 아이템별 차트'!$B80,'Raw Data'!$D:$D,'파트별 아이템별 차트'!$D80,'Raw Data'!$A:$A,'파트별 아이템별 차트'!$C80,'Raw Data'!$B:$B,'파트별 아이템별 차트'!F$2) -> 0 | G80: =COUNTIFS('Raw Data'!$C:$C,'파트별 아이템별 차트'!$B80,'Raw Data'!$D:$D,'파트별 아이템별 차트'!$D80,'Raw Data'!$A:$A,'파트별 아이템별 차트'!$C80,'Raw Data'!$B:$B,'파트별 아이템별 차트'!G$2) -> 0 | H80: =COUNTIFS('Raw Data'!$C:$C,'파트별 아이템별 차트'!$B80,'Raw Data'!$D:$D,'파트별 아이템별 차트'!$D80,'Raw Data'!$A:$A,'파트별 아이템별 차트'!$C80,'Raw Data'!$B:$B,'파트별 아이템별 차트'!H$2) -> 0 | I80: =COUNTIFS('Raw Data'!$C:$C,'파트별 아이템별 차트'!$B80,'Raw Data'!$D:$D,'파트별 아이템별 차트'!$D80,'Raw Data'!$A:$A,'파트별 아이템별 차트'!$C80,'Raw Data'!$B:$B,'파트별 아이템별 차트'!I$2) -> 0 | J80: =COUNTIFS('Raw Data'!$C:$C,'파트별 아이템별 차트'!$B80,'Raw Data'!$D:$D,'파트별 아이템별 차트'!$D80,'Raw Data'!$A:$A,'파트별 아이템별 차트'!$C80,'Raw Data'!$B:$B,'파트별 아이템별 차트'!J$2) -> 0 | K80: =COUNTIFS('Raw Data'!$C:$C,'파트별 아이템별 차트'!$B80,'Raw Data'!$D:$D,'파트별 아이템별 차트'!$D80,'Raw Data'!$A:$A,'파트별 아이템별 차트'!$C80,'Raw Data'!$B:$B,'파트별 아이템별 차트'!K$2) -> 0 | L80: =COUNTIFS('Raw Data'!$C:$C,'파트별 아이템별 차트'!$B80,'Raw Data'!$D:$D,'파트별 아이템별 차트'!$D80,'Raw Data'!$A:$A,'파트별 아이템별 차트'!$C80,'Raw Data'!$B:$B,'파트별 아이템별 차트'!L$2) -> 0 | ... P80: =COUNTIFS('Raw Data'!$C:$C,'파트별 아이템별 차트'!$B80,'Raw Data'!$D:$D,'파트별 아이템별 차트'!$D80,'Raw Data'!$A:$A,'파트별 아이템별 차트'!$C80,'Raw Data'!$B:$B,'파트별 아이템별 차트'!P$2) -> 0 | Q80: =SUM(E80:P80) -> 4
A81: =A79+1 -> 39 | B81: =_xlfn.XLOOKUP($A81,'BACK DATA'!$A:$A,'BACK DATA'!$B:$B) -> ichroma | C81: 2022 | D81: =_xlfn.XLOOKUP($A81,'BACK DATA'!$A:$A,'BACK DATA'!$C:$C) -> Toxo IgG/IgM | E81: =COUNTIFS('Raw Data'!$C:$C,'파트별 아이템별 차트'!$B81,'Raw Data'!$D:$D,'파트별 아이템별 차트'!$D81,'Raw Data'!$A:$A,'파트별 아이템별 차트'!$C81,'Raw Data'!$B:$B,'파트별 아이템별 차트'!E$2) -> 1 | F81: =COUNTIFS('Raw Data'!$C:$C,'파트별 아이템별 차트'!$B81,'Raw Data'!$D:$D,'파트별 아이템별 차트'!$D81,'Raw Data'!$A:$A,'파트별 아이템별 차트'!$C81,'Raw Data'!$B:$B,'파트별 아이템별 차트'!F$2) -> 2 | G81: =COUNTIFS('Raw Data'!$C:$C,'파트별 아이템별 차트'!$B81,'Raw Data'!$D:$D,'파트별 아이템별 차트'!$D81,'Raw Data'!$A:$A,'파트별 아이템별 차트'!$C81,'Raw Data'!$B:$B,'파트별 아이템별 차트'!G$2) -> 0 | H81: =COUNTIFS('Raw Data'!$C:$C,'파트별 아이템별 차트'!$B81,'Raw Data'!$D:$D,'파트별 아이템별 차트'!$D81,'Raw Data'!$A:$A,'파트별 아이템별 차트'!$C81,'Raw Data'!$B:$B,'파트별 아이템별 차트'!H$2) -> 0 | I81: =COUNTIFS('Raw Data'!$C:$C,'파트별 아이템별 차트'!$B81,'Raw Data'!$D:$D,'파트별 아이템별 차트'!$D81,'Raw Data'!$A:$A,'파트별 아이템별 차트'!$C81,'Raw Data'!$B:$B,'파트별 아이템별 차트'!I$2) -> 1 | J81: =COUNTIFS('Raw Data'!$C:$C,'파트별 아이템별 차트'!$B81,'Raw Data'!$D:$D,'파트별 아이템별 차트'!$D81,'Raw Data'!$A:$A,'파트별 아이템별 차트'!$C81,'Raw Data'!$B:$B,'파트별 아이템별 차트'!J$2) -> 0 | K81: =COUNTIFS('Raw Data'!$C:$C,'파트별 아이템별 차트'!$B81,'Raw Data'!$D:$D,'파트별 아이템별 차트'!$D81,'Raw Data'!$A:$A,'파트별 아이템별 차트'!$C81,'Raw Data'!$B:$B,'파트별 아이템별 차트'!K$2) -> 0 | L81: =COUNTIFS('Raw Data'!$C:$C,'파트별 아이템별 차트'!$B81,'Raw Data'!$D:$D,'파트별 아이템별 차트'!$D81,'Raw Data'!$A:$A,'파트별 아이템별 차트'!$C81,'Raw Data'!$B:$B,'파트별 아이템별 차트'!L$2) -> 0 | ... P81: =COUNTIFS('Raw Data'!$C:$C,'파트별 아이템별 차트'!$B81,'Raw Data'!$D:$D,'파트별 아이템별 차트'!$D81,'Raw Data'!$A:$A,'파트별 아이템별 차트'!$C81,'Raw Data'!$B:$B,'파트별 아이템별 차트'!P$2) -> 0 | Q81: =SUM(E81:P81) -> 5
A82: =A81 -> 39 | B82: =_xlfn.XLOOKUP($A82,'BACK DATA'!$A:$A,'BACK DATA'!$B:$B) -> ichroma | C82: 2023 | D82: =_xlfn.XLOOKUP($A82,'BACK DATA'!$A:$A,'BACK DATA'!$C:$C) -> Toxo IgG/IgM | E82: =COUNTIFS('Raw Data'!$C:$C,'파트별 아이템별 차트'!$B82,'Raw Data'!$D:$D,'파트별 아이템별 차트'!$D82,'Raw Data'!$A:$A,'파트별 아이템별 차트'!$C82,'Raw Data'!$B:$B,'파트별 아이템별 차트'!E$2) -> 0 | F82: =COUNTIFS('Raw Data'!$C:$C,'파트별 아이템별 차트'!$B82,'Raw Data'!$D:$D,'파트별 아이템별 차트'!$D82,'Raw Data'!$A:$A,'파트별 아이템별 차트'!$C82,'Raw Data'!$B:$B,'파트별 아이템별 차트'!F$2) -> 0 | G82: =COUNTIFS('Raw Data'!$C:$C,'파트별 아이템별 차트'!$B82,'Raw Data'!$D:$D,'파트별 아이템별 차트'!$D82,'Raw Data'!$A:$A,'파트별 아이템별 차트'!$C82,'Raw Data'!$B:$B,'파트별 아이템별 차트'!G$2) -> 0 | H82: =COUNTIFS('Raw Data'!$C:$C,'파트별 아이템별 차트'!$B82,'Raw Data'!$D:$D,'파트별 아이템별 차트'!$D82,'Raw Data'!$A:$A,'파트별 아이템별 차트'!$C82,'Raw Data'!$B:$B,'파트별 아이템별 차트'!H$2) -> 0 | I82: =COUNTIFS('Raw Data'!$C:$C,'파트별 아이템별 차트'!$B82,'Raw Data'!$D:$D,'파트별 아이템별 차트'!$D82,'Raw Data'!$A:$A,'파트별 아이템별 차트'!$C82,'Raw Data'!$B:$B,'파트별 아이템별 차트'!I$2) -> 0 | J82: =COUNTIFS('Raw Data'!$C:$C,'파트별 아이템별 차트'!$B82,'Raw Data'!$D:$D,'파트별 아이템별 차트'!$D82,'Raw Data'!$A:$A,'파트별 아이템별 차트'!$C82,'Raw Data'!$B:$B,'파트별 아이템별 차트'!J$2) -> 0 | K82: =COUNTIFS('Raw Data'!$C:$C,'파트별 아이템별 차트'!$B82,'Raw Data'!$D:$D,'파트별 아이템별 차트'!$D82,'Raw Data'!$A:$A,'파트별 아이템별 차트'!$C82,'Raw Data'!$B:$B,'파트별 아이템별 차트'!K$2) -> 0 | L82: =COUNTIFS('Raw Data'!$C:$C,'파트별 아이템별 차트'!$B82,'Raw Data'!$D:$D,'파트별 아이템별 차트'!$D82,'Raw Data'!$A:$A,'파트별 아이템별 차트'!$C82,'Raw Data'!$B:$B,'파트별 아이템별 차트'!L$2) -> 0 | ... P82: =COUNTIFS('Raw Data'!$C:$C,'파트별 아이템별 차트'!$B82,'Raw Data'!$D:$D,'파트별 아이템별 차트'!$D82,'Raw Data'!$A:$A,'파트별 아이템별 차트'!$C82,'Raw Data'!$B:$B,'파트별 아이템별 차트'!P$2) -> 2 | Q82: =SUM(E82:P82) -> 4
A83: =A81+1 -> 40 | B83: =_xlfn.XLOOKUP($A83,'BACK DATA'!$A:$A,'BACK DATA'!$B:$B) -> ichroma | C83: 2022 | D83: =_xlfn.XLOOKUP($A83,'BACK DATA'!$A:$A,'BACK DATA'!$C:$C) -> H. pylori SA | E83: =COUNTIFS('Raw Data'!$C:$C,'파트별 아이템별 차트'!$B83,'Raw Data'!$D:$D,'파트별 아이템별 차트'!$D83,'Raw Data'!$A:$A,'파트별 아이템별 차트'!$C83,'Raw Data'!$B:$B,'파트별 아이템별 차트'!E$2) -> 0 | F83: =COUNTIFS('Raw Data'!$C:$C,'파트별 아이템별 차트'!$B83,'Raw Data'!$D:$D,'파트별 아이템별 차트'!$D83,'Raw Data'!$A:$A,'파트별 아이템별 차트'!$C83,'Raw Data'!$B:$B,'파트별 아이템별 차트'!F$2) -> 0 | G83: =COUNTIFS('Raw Data'!$C:$C,'파트별 아이템별 차트'!$B83,'Raw Data'!$D:$D,'파트별 아이템별 차트'!$D83,'Raw Data'!$A:$A,'파트별 아이템별 차트'!$C83,'Raw Data'!$B:$B,'파트별 아이템별 차트'!G$2) -> 0 | H83: =COUNTIFS('Raw Data'!$C:$C,'파트별 아이템별 차트'!$B83,'Raw Data'!$D:$D,'파트별 아이템별 차트'!$D83,'Raw Data'!$A:$A,'파트별 아이템별 차트'!$C83,'Raw Data'!$B:$B,'파트별 아이템별 차트'!H$2) -> 1 | I83: =COUNTIFS('Raw Data'!$C:$C,'파트별 아이템별 차트'!$B83,'Raw Data'!$D:$D,'파트별 아이템별 차트'!$D83,'Raw Data'!$A:$A,'파트별 아이템별 차트'!$C83,'Raw Data'!$B:$B,'파트별 아이템별 차트'!I$2) -> 0 | J83: =COUNTIFS('Raw Data'!$C:$C,'파트별 아이템별 차트'!$B83,'Raw Data'!$D:$D,'파트별 아이템별 차트'!$D83,'Raw Data'!$A:$A,'파트별 아이템별 차트'!$C83,'Raw Data'!$B:$B,'파트별 아이템별 차트'!J$2) -> 0 | K83: =COUNTIFS('Raw Data'!$C:$C,'파트별 아이템별 차트'!$B83,'Raw Data'!$D:$D,'파트별 아이템별 차트'!$D83,'Raw Data'!$A:$A,'파트별 아이템별 차트'!$C83,'Raw Data'!$B:$B,'파트별 아이템별 차트'!K$2) -> 0 | L83: =COUNTIFS('Raw Data'!$C:$C,'파트별 아이템별 차트'!$B83,'Raw Data'!$D:$D,'파트별 아이템별 차트'!$D83,'Raw Data'!$A:$A,'파트별 아이템별 차트'!$C83,'Raw Data'!$B:$B,'파트별 아이템별 차트'!L$2) -> 0 | ... P83: =COUNTIFS('Raw Data'!$C:$C,'파트별 아이템별 차트'!$B83,'Raw Data'!$D:$D,'파트별 아이템별 차트'!$D83,'Raw Data'!$A:$A,'파트별 아이템별 차트'!$C83,'Raw Data'!$B:$B,'파트별 아이템별 차트'!P$2) -> 0 | Q83: =SUM(E83:P83) -> 1
A84: =A83 -> 40 | B84: =_xlfn.XLOOKUP($A84,'BACK DATA'!$A:$A,'BACK DATA'!$B:$B) -> ichroma | C84: 2023 | D84: =_xlfn.XLOOKUP($A84,'BACK DATA'!$A:$A,'BACK DATA'!$C:$C) -> H. pylori SA | E84: =COUNTIFS('Raw Data'!$C:$C,'파트별 아이템별 차트'!$B84,'Raw Data'!$D:$D,'파트별 아이템별 차트'!$D84,'Raw Data'!$A:$A,'파트별 아이템별 차트'!$C84,'Raw Data'!$B:$B,'파트별 아이템별 차트'!E$2) -> 1 | F84: =COUNTIFS('Raw Data'!$C:$C,'파트별 아이템별 차트'!$B84,'Raw Data'!$D:$D,'파트별 아이템별 차트'!$D84,'Raw Data'!$A:$A,'파트별 아이템별 차트'!$C84,'Raw Data'!$B:$B,'파트별 아이템별 차트'!F$2) -> 0 | G84: =COUNTIFS('Raw Data'!$C:$C,'파트별 아이템별 차트'!$B84,'Raw Data'!$D:$D,'파트별 아이템별 차트'!$D84,'Raw Data'!$A:$A,'파트별 아이템별 차트'!$C84,'Raw Data'!$B:$B,'파트별 아이템별 차트'!G$2) -> 0 | H84: =COUNTIFS('Raw Data'!$C:$C,'파트별 아이템별 차트'!$B84,'Raw Data'!$D:$D,'파트별 아이템별 차트'!$D84,'Raw Data'!$A:$A,'파트별 아이템별 차트'!$C84,'Raw Data'!$B:$B,'파트별 아이템별 차트'!H$2) -> 0 | I84: =COUNTIFS('Raw Data'!$C:$C,'파트별 아이템별 차트'!$B84,'Raw Data'!$D:$D,'파트별 아이템별 차트'!$D84,'Raw Data'!$A:$A,'파트별 아이템별 차트'!$C84,'Raw Data'!$B:$B,'파트별 아이템별 차트'!I$2) -> 0 | J84: =COUNTIFS('Raw Data'!$C:$C,'파트별 아이템별 차트'!$B84,'Raw Data'!$D:$D,'파트별 아이템별 차트'!$D84,'Raw Data'!$A:$A,'파트별 아이템별 차트'!$C84,'Raw Data'!$B:$B,'파트별 아이템별 차트'!J$2) -> 0 | K84: =COUNTIFS('Raw Data'!$C:$C,'파트별 아이템별 차트'!$B84,'Raw Data'!$D:$D,'파트별 아이템별 차트'!$D84,'Raw Data'!$A:$A,'파트별 아이템별 차트'!$C84,'Raw Data'!$B:$B,'파트별 아이템별 차트'!K$2) -> 0 | L84: =COUNTIFS('Raw Data'!$C:$C,'파트별 아이템별 차트'!$B84,'Raw Data'!$D:$D,'파트별 아이템별 차트'!$D84,'Raw Data'!$A:$A,'파트별 아이템별 차트'!$C84,'Raw Data'!$B:$B,'파트별 아이템별 차트'!L$2) -> 0 | ... P84: =COUNTIFS('Raw Data'!$C:$C,'파트별 아이템별 차트'!$B84,'Raw Data'!$D:$D,'파트별 아이템별 차트'!$D84,'Raw Data'!$A:$A,'파트별 아이템별 차트'!$C84,'Raw Data'!$B:$B,'파트별 아이템별 차트'!P$2) -> 1 | Q84: =SUM(E84:P84) -> 3
A85: =A83+1 -> 41 | B85: =_xlfn.XLOOKUP($A85,'BACK DATA'!$A:$A,'BACK DATA'!$B:$B) -> ichroma | C85: 2022 | D85: =_xlfn.XLOOKUP($A85,'BACK DATA'!$A:$A,'BACK DATA'!$C:$C) -> Dengue IgG/IgM | E85: =COUNTIFS('Raw Data'!$C:$C,'파트별 아이템별 차트'!$B85,'Raw Data'!$D:$D,'파트별 아이템별 차트'!$D85,'Raw Data'!$A:$A,'파트별 아이템별 차트'!$C85,'Raw Data'!$B:$B,'파트별 아이템별 차트'!E$2) -> 0 | F85: =COUNTIFS('Raw Data'!$C:$C,'파트별 아이템별 차트'!$B85,'Raw Data'!$D:$D,'파트별 아이템별 차트'!$D85,'Raw Data'!$A:$A,'파트별 아이템별 차트'!$C85,'Raw Data'!$B:$B,'파트별 아이템별 차트'!F$2) -> 0 | G85: =COUNTIFS('Raw Data'!$C:$C,'파트별 아이템별 차트'!$B85,'Raw Data'!$D:$D,'파트별 아이템별 차트'!$D85,'Raw Data'!$A:$A,'파트별 아이템별 차트'!$C85,'Raw Data'!$B:$B,'파트별 아이템별 차트'!G$2) -> 0 | H85: =COUNTIFS('Raw Data'!$C:$C,'파트별 아이템별 차트'!$B85,'Raw Data'!$D:$D,'파트별 아이템별 차트'!$D85,'Raw Data'!$A:$A,'파트별 아이템별 차트'!$C85,'Raw Data'!$B:$B,'파트별 아이템별 차트'!H$2) -> 0 | I85: =COUNTIFS('Raw Data'!$C:$C,'파트별 아이템별 차트'!$B85,'Raw Data'!$D:$D,'파트별 아이템별 차트'!$D85,'Raw Data'!$A:$A,'파트별 아이템별 차트'!$C85,'Raw Data'!$B:$B,'파트별 아이템별 차트'!I$2) -> 1 | J85: =COUNTIFS('Raw Data'!$C:$C,'파트별 아이템별 차트'!$B85,'Raw Data'!$D:$D,'파트별 아이템별 차트'!$D85,'Raw Data'!$A:$A,'파트별 아이템별 차트'!$C85,'Raw Data'!$B:$B,'파트별 아이템별 차트'!J$2) -> 1 | K85: =COUNTIFS('Raw Data'!$C:$C,'파트별 아이템별 차트'!$B85,'Raw Data'!$D:$D,'파트별 아이템별 차트'!$D85,'Raw Data'!$A:$A,'파트별 아이템별 차트'!$C85,'Raw Data'!$B:$B,'파트별 아이템별 차트'!K$2) -> 1 | L85: =COUNTIFS('Raw Data'!$C:$C,'파트별 아이템별 차트'!$B85,'Raw Data'!$D:$D,'파트별 아이템별 차트'!$D85,'Raw Data'!$A:$A,'파트별 아이템별 차트'!$C85,'Raw Data'!$B:$B,'파트별 아이템별 차트'!L$2) -> 0 | ... P85: =COUNTIFS('Raw Data'!$C:$C,'파트별 아이템별 차트'!$B85,'Raw Data'!$D:$D,'파트별 아이템별 차트'!$D85,'Raw Data'!$A:$A,'파트별 아이템별 차트'!$C85,'Raw Data'!$B:$B,'파트별 아이템별 차트'!P$2) -> 0 | Q85: =SUM(E85:P85) -> 6
A86: =A85 -> 41 | B86: =_xlfn.XLOOKUP($A86,'BACK DATA'!$A:$A,'BACK DATA'!$B:$B) -> ichroma | C86: 2023 | D86: =_xlfn.XLOOKUP($A86,'BACK DATA'!$A:$A,'BACK DATA'!$C:$C) -> Dengue IgG/IgM | E86: =COUNTIFS('Raw Data'!$C:$C,'파트별 아이템별 차트'!$B86,'Raw Data'!$D:$D,'파트별 아이템별 차트'!$D86,'Raw Data'!$A:$A,'파트별 아이템별 차트'!$C86,'Raw Data'!$B:$B,'파트별 아이템별 차트'!E$2) -> 0 | F86: =COUNTIFS('Raw Data'!$C:$C,'파트별 아이템별 차트'!$B86,'Raw Data'!$D:$D,'파트별 아이템별 차트'!$D86,'Raw Data'!$A:$A,'파트별 아이템별 차트'!$C86,'Raw Data'!$B:$B,'파트별 아이템별 차트'!F$2) -> 1 | G86: =COUNTIFS('Raw Data'!$C:$C,'파트별 아이템별 차트'!$B86,'Raw Data'!$D:$D,'파트별 아이템별 차트'!$D86,'Raw Data'!$A:$A,'파트별 아이템별 차트'!$C86,'Raw Data'!$B:$B,'파트별 아이템별 차트'!G$2) -> 0 | H86: =COUNTIFS('Raw Data'!$C:$C,'파트별 아이템별 차트'!$B86,'Raw Data'!$D:$D,'파트별 아이템별 차트'!$D86,'Raw Data'!$A:$A,'파트별 아이템별 차트'!$C86,'Raw Data'!$B:$B,'파트별 아이템별 차트'!H$2) -> 0 | I86: =COUNTIFS('Raw Data'!$C:$C,'파트별 아이템별 차트'!$B86,'Raw Data'!$D:$D,'파트별 아이템별 차트'!$D86,'Raw Data'!$A:$A,'파트별 아이템별 차트'!$C86,'Raw Data'!$B:$B,'파트별 아이템별 차트'!I$2) -> 0 | J86: =COUNTIFS('Raw Data'!$C:$C,'파트별 아이템별 차트'!$B86,'Raw Data'!$D:$D,'파트별 아이템별 차트'!$D86,'Raw Data'!$A:$A,'파트별 아이템별 차트'!$C86,'Raw Data'!$B:$B,'파트별 아이템별 차트'!J$2) -> 0 | K86: =COUNTIFS('Raw Data'!$C:$C,'파트별 아이템별 차트'!$B86,'Raw Data'!$D:$D,'파트별 아이템별 차트'!$D86,'Raw Data'!$A:$A,'파트별 아이템별 차트'!$C86,'Raw Data'!$B:$B,'파트별 아이템별 차트'!K$2) -> 1 | L86: =COUNTIFS('Raw Data'!$C:$C,'파트별 아이템별 차트'!$B86,'Raw Data'!$D:$D,'파트별 아이템별 차트'!$D86,'Raw Data'!$A:$A,'파트별 아이템별 차트'!$C86,'Raw Data'!$B:$B,'파트별 아이템별 차트'!L$2) -> 0 | ... P86: =COUNTIFS('Raw Data'!$C:$C,'파트별 아이템별 차트'!$B86,'Raw Data'!$D:$D,'파트별 아이템별 차트'!$D86,'Raw Data'!$A:$A,'파트별 아이템별 차트'!$C86,'Raw Data'!$B:$B,'파트별 아이템별 차트'!P$2) -> 0 | Q86: =SUM(E86:P86) -> 3
A87: =A85+1 -> 42 | B87: =_xlfn.XLOOKUP($A87,'BACK DATA'!$A:$A,'BACK DATA'!$B:$B) -> ichroma | C87: 2022 | D87: =_xlfn.XLOOKUP($A87,'BACK DATA'!$A:$A,'BACK DATA'!$C:$C) -> COVID-19 | E87: =COUNTIFS('Raw Data'!$C:$C,'파트별 아이템별 차트'!$B87,'Raw Data'!$D:$D,'파트별 아이템별 차트'!$D87,'Raw Data'!$A:$A,'파트별 아이템별 차트'!$C87,'Raw Data'!$B:$B,'파트별 아이템별 차트'!E$2) -> 20 | F87: =COUNTIFS('Raw Data'!$C:$C,'파트별 아이템별 차트'!$B87,'Raw Data'!$D:$D,'파트별 아이템별 차트'!$D87,'Raw Data'!$A:$A,'파트별 아이템별 차트'!$C87,'Raw Data'!$B:$B,'파트별 아이템별 차트'!F$2) -> 7 | G87: =COUNTIFS('Raw Data'!$C:$C,'파트별 아이템별 차트'!$B87,'Raw Data'!$D:$D,'파트별 아이템별 차트'!$D87,'Raw Data'!$A:$A,'파트별 아이템별 차트'!$C87,'Raw Data'!$B:$B,'파트별 아이템별 차트'!G$2) -> 3 | H87: =COUNTIFS('Raw Data'!$C:$C,'파트별 아이템별 차트'!$B87,'Raw Data'!$D:$D,'파트별 아이템별 차트'!$D87,'Raw Data'!$A:$A,'파트별 아이템별 차트'!$C87,'Raw Data'!$B:$B,'파트별 아이템별 차트'!H$2) -> 1 | I87: =COUNTIFS('Raw Data'!$C:$C,'파트별 아이템별 차트'!$B87,'Raw Data'!$D:$D,'파트별 아이템별 차트'!$D87,'Raw Data'!$A:$A,'파트별 아이템별 차트'!$C87,'Raw Data'!$B:$B,'파트별 아이템별 차트'!I$2) -> 7 | J87: =COUNTIFS('Raw Data'!$C:$C,'파트별 아이템별 차트'!$B87,'Raw Data'!$D:$D,'파트별 아이템별 차트'!$D87,'Raw Data'!$A:$A,'파트별 아이템별 차트'!$C87,'Raw Data'!$B:$B,'파트별 아이템별 차트'!J$2) -> 3 | K87: =COUNTIFS('Raw Data'!$C:$C,'파트별 아이템별 차트'!$B87,'Raw Data'!$D:$D,'파트별 아이템별 차트'!$D87,'Raw Data'!$A:$A,'파트별 아이템별 차트'!$C87,'Raw Data'!$B:$B,'파트별 아이템별 차트'!K$2) -> 5 | L87: =COUNTIFS('Raw Data'!$C:$C,'파트별 아이템별 차트'!$B87,'Raw Data'!$D:$D,'파트별 아이템별 차트'!$D87,'Raw Data'!$A:$A,'파트별 아이템별 차트'!$C87,'Raw Data'!$B:$B,'파트별 아이템별 차트'!L$2) -> 4 | ... P87: =COUNTIFS('Raw Data'!$C:$C,'파트별 아이템별 차트'!$B87,'Raw Data'!$D:$D,'파트별 아이템별 차트'!$D87,'Raw Data'!$A:$A,'파트별 아이템별 차트'!$C87,'Raw Data'!$B:$B,'파트별 아이템별 차트'!P$2) -> 4 | Q87: =SUM(E87:P87) -> 54
A88: =A87 -> 42 | B88: =_xlfn.XLOOKUP($A88,'BACK DATA'!$A:$A,'BACK DATA'!$B:$B) -> ichroma | C88: 2023 | D88: =_xlfn.XLOOKUP($A88,'BACK DATA'!$A:$A,'BACK DATA'!$C:$C) -> COVID-19 | E88: =COUNTIFS('Raw Data'!$C:$C,'파트별 아이템별 차트'!$B88,'Raw Data'!$D:$D,'파트별 아이템별 차트'!$D88,'Raw Data'!$A:$A,'파트별 아이템별 차트'!$C88,'Raw Data'!$B:$B,'파트별 아이템별 차트'!E$2) -> 0 | F88: =COUNTIFS('Raw Data'!$C:$C,'파트별 아이템별 차트'!$B88,'Raw Data'!$D:$D,'파트별 아이템별 차트'!$D88,'Raw Data'!$A:$A,'파트별 아이템별 차트'!$C88,'Raw Data'!$B:$B,'파트별 아이템별 차트'!F$2) -> 0 | G88: =COUNTIFS('Raw Data'!$C:$C,'파트별 아이템별 차트'!$B88,'Raw Data'!$D:$D,'파트별 아이템별 차트'!$D88,'Raw Data'!$A:$A,'파트별 아이템별 차트'!$C88,'Raw Data'!$B:$B,'파트별 아이템별 차트'!G$2) -> 0 | H88: =COUNTIFS('Raw Data'!$C:$C,'파트별 아이템별 차트'!$B88,'Raw Data'!$D:$D,'파트별 아이템별 차트'!$D88,'Raw Data'!$A:$A,'파트별 아이템별 차트'!$C88,'Raw Data'!$B:$B,'파트별 아이템별 차트'!H$2) -> 0 | I88: =COUNTIFS('Raw Data'!$C:$C,'파트별 아이템별 차트'!$B88,'Raw Data'!$D:$D,'파트별 아이템별 차트'!$D88,'Raw Data'!$A:$A,'파트별 아이템별 차트'!$C88,'Raw Data'!$B:$B,'파트별 아이템별 차트'!I$2) -> 0 | J88: =COUNTIFS('Raw Data'!$C:$C,'파트별 아이템별 차트'!$B88,'Raw Data'!$D:$D,'파트별 아이템별 차트'!$D88,'Raw Data'!$A:$A,'파트별 아이템별 차트'!$C88,'Raw Data'!$B:$B,'파트별 아이템별 차트'!J$2) -> 2 | K88: =COUNTIFS('Raw Data'!$C:$C,'파트별 아이템별 차트'!$B88,'Raw Data'!$D:$D,'파트별 아이템별 차트'!$D88,'Raw Data'!$A:$A,'파트별 아이템별 차트'!$C88,'Raw Data'!$B:$B,'파트별 아이템별 차트'!K$2) -> 1 | L88: =COUNTIFS('Raw Data'!$C:$C,'파트별 아이템별 차트'!$B88,'Raw Data'!$D:$D,'파트별 아이템별 차트'!$D88,'Raw Data'!$A:$A,'파트별 아이템별 차트'!$C88,'Raw Data'!$B:$B,'파트별 아이템별 차트'!L$2) -> 0 | ... P88: =COUNTIFS('Raw Data'!$C:$C,'파트별 아이템별 차트'!$B88,'Raw Data'!$D:$D,'파트별 아이템별 차트'!$D88,'Raw Data'!$A:$A,'파트별 아이템별 차트'!$C88,'Raw Data'!$B:$B,'파트별 아이템별 차트'!P$2) -> 0 | Q88: =SUM(E88:P88) -> 3
A89: =A87+1 -> 43 | B89: =_xlfn.XLOOKUP($A89,'BACK DATA'!$A:$A,'BACK DATA'!$B:$B) -> ichroma | C89: 2022 | D89: =_xlfn.XLOOKUP($A89,'BACK DATA'!$A:$A,'BACK DATA'!$C:$C) -> Free PSA | E89: =COUNTIFS('Raw Data'!$C:$C,'파트별 아이템별 차트'!$B89,'Raw Data'!$D:$D,'파트별 아이템별 차트'!$D89,'Raw Data'!$A:$A,'파트별 아이템별 차트'!$C89,'Raw Data'!$B:$B,'파트별 아이템별 차트'!E$2) -> 0 | F89: =COUNTIFS('Raw Data'!$C:$C,'파트별 아이템별 차트'!$B89,'Raw Data'!$D:$D,'파트별 아이템별 차트'!$D89,'Raw Data'!$A:$A,'파트별 아이템별 차트'!$C89,'Raw Data'!$B:$B,'파트별 아이템별 차트'!F$2) -> 0 | G89: =COUNTIFS('Raw Data'!$C:$C,'파트별 아이템별 차트'!$B89,'Raw Data'!$D:$D,'파트별 아이템별 차트'!$D89,'Raw Data'!$A:$A,'파트별 아이템별 차트'!$C89,'Raw Data'!$B:$B,'파트별 아이템별 차트'!G$2) -> 0 | H89: =COUNTIFS('Raw Data'!$C:$C,'파트별 아이템별 차트'!$B89,'Raw Data'!$D:$D,'파트별 아이템별 차트'!$D89,'Raw Data'!$A:$A,'파트별 아이템별 차트'!$C89,'Raw Data'!$B:$B,'파트별 아이템별 차트'!H$2) -> 0 | I89: =COUNTIFS('Raw Data'!$C:$C,'파트별 아이템별 차트'!$B89,'Raw Data'!$D:$D,'파트별 아이템별 차트'!$D89,'Raw Data'!$A:$A,'파트별 아이템별 차트'!$C89,'Raw Data'!$B:$B,'파트별 아이템별 차트'!I$2) -> 0 | J89: =COUNTIFS('Raw Data'!$C:$C,'파트별 아이템별 차트'!$B89,'Raw Data'!$D:$D,'파트별 아이템별 차트'!$D89,'Raw Data'!$A:$A,'파트별 아이템별 차트'!$C89,'Raw Data'!$B:$B,'파트별 아이템별 차트'!J$2) -> 0 | K89: =COUNTIFS('Raw Data'!$C:$C,'파트별 아이템별 차트'!$B89,'Raw Data'!$D:$D,'파트별 아이템별 차트'!$D89,'Raw Data'!$A:$A,'파트별 아이템별 차트'!$C89,'Raw Data'!$B:$B,'파트별 아이템별 차트'!K$2) -> 0 | L89: =COUNTIFS('Raw Data'!$C:$C,'파트별 아이템별 차트'!$B89,'Raw Data'!$D:$D,'파트별 아이템별 차트'!$D89,'Raw Data'!$A:$A,'파트별 아이템별 차트'!$C89,'Raw Data'!$B:$B,'파트별 아이템별 차트'!L$2) -> 0 | ... P89: =COUNTIFS('Raw Data'!$C:$C,'파트별 아이템별 차트'!$B89,'Raw Data'!$D:$D,'파트별 아이템별 차트'!$D89,'Raw Data'!$A:$A,'파트별 아이템별 차트'!$C89,'Raw Data'!$B:$B,'파트별 아이템별 차트'!P$2) -> 0 | Q89: =SUM(E89:P89) -> 0
A90: =A89 -> 43 | B90: =_xlfn.XLOOKUP($A90,'BACK DATA'!$A:$A,'BACK DATA'!$B:$B) -> ichroma | C90: 2023 | D90: =_xlfn.XLOOKUP($A90,'BACK DATA'!$A:$A,'BACK DATA'!$C:$C) -> Free PSA | E90: =COUNTIFS('Raw Data'!$C:$C,'파트별 아이템별 차트'!$B90,'Raw Data'!$D:$D,'파트별 아이템별 차트'!$D90,'Raw Data'!$A:$A,'파트별 아이템별 차트'!$C90,'Raw Data'!$B:$B,'파트별 아이템별 차트'!E$2) -> 0 | F90: =COUNTIFS('Raw Data'!$C:$C,'파트별 아이템별 차트'!$B90,'Raw Data'!$D:$D,'파트별 아이템별 차트'!$D90,'Raw Data'!$A:$A,'파트별 아이템별 차트'!$C90,'Raw Data'!$B:$B,'파트별 아이템별 차트'!F$2) -> 0 | G90: =COUNTIFS('Raw Data'!$C:$C,'파트별 아이템별 차트'!$B90,'Raw Data'!$D:$D,'파트별 아이템별 차트'!$D90,'Raw Data'!$A:$A,'파트별 아이템별 차트'!$C90,'Raw Data'!$B:$B,'파트별 아이템별 차트'!G$2) -> 0 | H90: =COUNTIFS('Raw Data'!$C:$C,'파트별 아이템별 차트'!$B90,'Raw Data'!$D:$D,'파트별 아이템별 차트'!$D90,'Raw Data'!$A:$A,'파트별 아이템별 차트'!$C90,'Raw Data'!$B:$B,'파트별 아이템별 차트'!H$2) -> 0 | I90: =COUNTIFS('Raw Data'!$C:$C,'파트별 아이템별 차트'!$B90,'Raw Data'!$D:$D,'파트별 아이템별 차트'!$D90,'Raw Data'!$A:$A,'파트별 아이템별 차트'!$C90,'Raw Data'!$B:$B,'파트별 아이템별 차트'!I$2) -> 0 | J90: =COUNTIFS('Raw Data'!$C:$C,'파트별 아이템별 차트'!$B90,'Raw Data'!$D:$D,'파트별 아이템별 차트'!$D90,'Raw Data'!$A:$A,'파트별 아이템별 차트'!$C90,'Raw Data'!$B:$B,'파트별 아이템별 차트'!J$2) -> 0 | K90: =COUNTIFS('Raw Data'!$C:$C,'파트별 아이템별 차트'!$B90,'Raw Data'!$D:$D,'파트별 아이템별 차트'!$D90,'Raw Data'!$A:$A,'파트별 아이템별 차트'!$C90,'Raw Data'!$B:$B,'파트별 아이템별 차트'!K$2) -> 0 | L90: =COUNTIFS('Raw Data'!$C:$C,'파트별 아이템별 차트'!$B90,'Raw Data'!$D:$D,'파트별 아이템별 차트'!$D90,'Raw Data'!$A:$A,'파트별 아이템별 차트'!$C90,'Raw Data'!$B:$B,'파트별 아이템별 차트'!L$2) -> 0 | ... P90: =COUNTIFS('Raw Data'!$C:$C,'파트별 아이템별 차트'!$B90,'Raw Data'!$D:$D,'파트별 아이템별 차트'!$D90,'Raw Data'!$A:$A,'파트별 아이템별 차트'!$C90,'Raw Data'!$B:$B,'파트별 아이템별 차트'!P$2) -> 0 | Q90: =SUM(E90:P90) -> 3
A91: =A89+1 -> 44 | B91: =_xlfn.XLOOKUP($A91,'BACK DATA'!$A:$A,'BACK DATA'!$B:$B) -> ichroma | C91: 2022 | D91: =_xlfn.XLOOKUP($A91,'BACK DATA'!$A:$A,'BACK DATA'!$C:$C) -> 미확인 | E91: =COUNTIFS('Raw Data'!$C:$C,'파트별 아이템별 차트'!$B91,'Raw Data'!$D:$D,'파트별 아이템별 차트'!$D91,'Raw Data'!$A:$A,'파트별 아이템별 차트'!$C91,'Raw Data'!$B:$B,'파트별 아이템별 차트'!E$2) -> 0 | F91: =COUNTIFS('Raw Data'!$C:$C,'파트별 아이템별 차트'!$B91,'Raw Data'!$D:$D,'파트별 아이템별 차트'!$D91,'Raw Data'!$A:$A,'파트별 아이템별 차트'!$C91,'Raw Data'!$B:$B,'파트별 아이템별 차트'!F$2) -> 0 | G91: =COUNTIFS('Raw Data'!$C:$C,'파트별 아이템별 차트'!$B91,'Raw Data'!$D:$D,'파트별 아이템별 차트'!$D91,'Raw Data'!$A:$A,'파트별 아이템별 차트'!$C91,'Raw Data'!$B:$B,'파트별 아이템별 차트'!G$2) -> 0 | H91: =COUNTIFS('Raw Data'!$C:$C,'파트별 아이템별 차트'!$B91,'Raw Data'!$D:$D,'파트별 아이템별 차트'!$D91,'Raw Data'!$A:$A,'파트별 아이템별 차트'!$C91,'Raw Data'!$B:$B,'파트별 아이템별 차트'!H$2) -> 0 | I91: =COUNTIFS('Raw Data'!$C:$C,'파트별 아이템별 차트'!$B91,'Raw Data'!$D:$D,'파트별 아이템별 차트'!$D91,'Raw Data'!$A:$A,'파트별 아이템별 차트'!$C91,'Raw Data'!$B:$B,'파트별 아이템별 차트'!I$2) -> 0 | J91: =COUNTIFS('Raw Data'!$C:$C,'파트별 아이템별 차트'!$B91,'Raw Data'!$D:$D,'파트별 아이템별 차트'!$D91,'Raw Data'!$A:$A,'파트별 아이템별 차트'!$C91,'Raw Data'!$B:$B,'파트별 아이템별 차트'!J$2) -> 0 | K91: =COUNTIFS('Raw Data'!$C:$C,'파트별 아이템별 차트'!$B91,'Raw Data'!$D:$D,'파트별 아이템별 차트'!$D91,'Raw Data'!$A:$A,'파트별 아이템별 차트'!$C91,'Raw Data'!$B:$B,'파트별 아이템별 차트'!K$2) -> 0 | L91: =COUNTIFS('Raw Data'!$C:$C,'파트별 아이템별 차트'!$B91,'Raw Data'!$D:$D,'파트별 아이템별 차트'!$D91,'Raw Data'!$A:$A,'파트별 아이템별 차트'!$C91,'Raw Data'!$B:$B,'파트별 아이템별 차트'!L$2) -> 0 | ... P91: =COUNTIFS('Raw Data'!$C:$C,'파트별 아이템별 차트'!$B91,'Raw Data'!$D:$D,'파트별 아이템별 차트'!$D91,'Raw Data'!$A:$A,'파트별 아이템별 차트'!$C91,'Raw Data'!$B:$B,'파트별 아이템별 차트'!P$2) -> 0 | Q91: =SUM(E91:P91) -> 0
A92: =A91 -> 44 | B92: =_xlfn.XLOOKUP($A92,'BACK DATA'!$A:$A,'BACK DATA'!$B:$B) -> ichroma | C92: 2023 | D92: =_xlfn.XLOOKUP($A92,'BACK DATA'!$A:$A,'BACK DATA'!$C:$C) -> 미확인 | E92: =COUNTIFS('Raw Data'!$C:$C,'파트별 아이템별 차트'!$B92,'Raw Data'!$D:$D,'파트별 아이템별 차트'!$D92,'Raw Data'!$A:$A,'파트별 아이템별 차트'!$C92,'Raw Data'!$B:$B,'파트별 아이템별 차트'!E$2) -> 2 | F92: =COUNTIFS('Raw Data'!$C:$C,'파트별 아이템별 차트'!$B92,'Raw Data'!$D:$D,'파트별 아이템별 차트'!$D92,'Raw Data'!$A:$A,'파트별 아이템별 차트'!$C92,'Raw Data'!$B:$B,'파트별 아이템별 차트'!F$2) -> 0 | G92: =COUNTIFS('Raw Data'!$C:$C,'파트별 아이템별 차트'!$B92,'Raw Data'!$D:$D,'파트별 아이템별 차트'!$D92,'Raw Data'!$A:$A,'파트별 아이템별 차트'!$C92,'Raw Data'!$B:$B,'파트별 아이템별 차트'!G$2) -> 0 | H92: =COUNTIFS('Raw Data'!$C:$C,'파트별 아이템별 차트'!$B92,'Raw Data'!$D:$D,'파트별 아이템별 차트'!$D92,'Raw Data'!$A:$A,'파트별 아이템별 차트'!$C92,'Raw Data'!$B:$B,'파트별 아이템별 차트'!H$2) -> 0 | I92: =COUNTIFS('Raw Data'!$C:$C,'파트별 아이템별 차트'!$B92,'Raw Data'!$D:$D,'파트별 아이템별 차트'!$D92,'Raw Data'!$A:$A,'파트별 아이템별 차트'!$C92,'Raw Data'!$B:$B,'파트별 아이템별 차트'!I$2) -> 0 | J92: =COUNTIFS('Raw Data'!$C:$C,'파트별 아이템별 차트'!$B92,'Raw Data'!$D:$D,'파트별 아이템별 차트'!$D92,'Raw Data'!$A:$A,'파트별 아이템별 차트'!$C92,'Raw Data'!$B:$B,'파트별 아이템별 차트'!J$2) -> 0 | K92: =COUNTIFS('Raw Data'!$C:$C,'파트별 아이템별 차트'!$B92,'Raw Data'!$D:$D,'파트별 아이템별 차트'!$D92,'Raw Data'!$A:$A,'파트별 아이템별 차트'!$C92,'Raw Data'!$B:$B,'파트별 아이템별 차트'!K$2) -> 0 | L92: =COUNTIFS('Raw Data'!$C:$C,'파트별 아이템별 차트'!$B92,'Raw Data'!$D:$D,'파트별 아이템별 차트'!$D92,'Raw Data'!$A:$A,'파트별 아이템별 차트'!$C92,'Raw Data'!$B:$B,'파트별 아이템별 차트'!L$2) -> 0 | ... P92: =COUNTIFS('Raw Data'!$C:$C,'파트별 아이템별 차트'!$B92,'Raw Data'!$D:$D,'파트별 아이템별 차트'!$D92,'Raw Data'!$A:$A,'파트별 아이템별 차트'!$C92,'Raw Data'!$B:$B,'파트별 아이템별 차트'!P$2) -> 0 | Q92: =SUM(E92:P92) -> 2
A93: =A91+1 -> 45 | B93: =_xlfn.XLOOKUP($A93,'BACK DATA'!$A:$A,'BACK DATA'!$B:$B) -> ichroma | C93: 2022 | D93: =_xlfn.XLOOKUP($A93,'BACK DATA'!$A:$A,'BACK DATA'!$C:$C) -> TN-T | E93: =COUNTIFS('Raw Data'!$C:$C,'파트별 아이템별 차트'!$B93,'Raw Data'!$D:$D,'파트별 아이템별 차트'!$D93,'Raw Data'!$A:$A,'파트별 아이템별 차트'!$C93,'Raw Data'!$B:$B,'파트별 아이템별 차트'!E$2) -> 0 | F93: =COUNTIFS('Raw Data'!$C:$C,'파트별 아이템별 차트'!$B93,'Raw Data'!$D:$D,'파트별 아이템별 차트'!$D93,'Raw Data'!$A:$A,'파트별 아이템별 차트'!$C93,'Raw Data'!$B:$B,'파트별 아이템별 차트'!F$2) -> 0 | G93: =COUNTIFS('Raw Data'!$C:$C,'파트별 아이템별 차트'!$B93,'Raw Data'!$D:$D,'파트별 아이템별 차트'!$D93,'Raw Data'!$A:$A,'파트별 아이템별 차트'!$C93,'Raw Data'!$B:$B,'파트별 아이템별 차트'!G$2) -> 0 | H93: =COUNTIFS('Raw Data'!$C:$C,'파트별 아이템별 차트'!$B93,'Raw Data'!$D:$D,'파트별 아이템별 차트'!$D93,'Raw Data'!$A:$A,'파트별 아이템별 차트'!$C93,'Raw Data'!$B:$B,'파트별 아이템별 차트'!H$2) -> 0 | I93: =COUNTIFS('Raw Data'!$C:$C,'파트별 아이템별 차트'!$B93,'Raw Data'!$D:$D,'파트별 아이템별 차트'!$D93,'Raw Data'!$A:$A,'파트별 아이템별 차트'!$C93,'Raw Data'!$B:$B,'파트별 아이템별 차트'!I$2) -> 0 | J93: =COUNTIFS('Raw Data'!$C:$C,'파트별 아이템별 차트'!$B93,'Raw Data'!$D:$D,'파트별 아이템별 차트'!$D93,'Raw Data'!$A:$A,'파트별 아이템별 차트'!$C93,'Raw Data'!$B:$B,'파트별 아이템별 차트'!J$2) -> 0 | K93: =COUNTIFS('Raw Data'!$C:$C,'파트별 아이템별 차트'!$B93,'Raw Data'!$D:$D,'파트별 아이템별 차트'!$D93,'Raw Data'!$A:$A,'파트별 아이템별 차트'!$C93,'Raw Data'!$B:$B,'파트별 아이템별 차트'!K$2) -> 0 | L93: =COUNTIFS('Raw Data'!$C:$C,'파트별 아이템별 차트'!$B93,'Raw Data'!$D:$D,'파트별 아이템별 차트'!$D93,'Raw Data'!$A:$A,'파트별 아이템별 차트'!$C93,'Raw Data'!$B:$B,'파트별 아이템별 차트'!L$2) -> 0 | ... P93: =COUNTIFS('Raw Data'!$C:$C,'파트별 아이템별 차트'!$B93,'Raw Data'!$D:$D,'파트별 아이템별 차트'!$D93,'Raw Data'!$A:$A,'파트별 아이템별 차트'!$C93,'Raw Data'!$B:$B,'파트별 아이템별 차트'!P$2) -> 0 | Q93: =SUM(E93:P93) -> 0
A94: =A93 -> 45 | B94: =_xlfn.XLOOKUP($A94,'BACK DATA'!$A:$A,'BACK DATA'!$B:$B) -> ichroma | C94: 2023 | D94: =_xlfn.XLOOKUP($A94,'BACK DATA'!$A:$A,'BACK DATA'!$C:$C) -> TN-T | E94: =COUNTIFS('Raw Data'!$C:$C,'파트별 아이템별 차트'!$B94,'Raw Data'!$D:$D,'파트별 아이템별 차트'!$D94,'Raw Data'!$A:$A,'파트별 아이템별 차트'!$C94,'Raw Data'!$B:$B,'파트별 아이템별 차트'!E$2) -> 0 | F94: =COUNTIFS('Raw Data'!$C:$C,'파트별 아이템별 차트'!$B94,'Raw Data'!$D:$D,'파트별 아이템별 차트'!$D94,'Raw Data'!$A:$A,'파트별 아이템별 차트'!$C94,'Raw Data'!$B:$B,'파트별 아이템별 차트'!F$2) -> 0 | G94: =COUNTIFS('Raw Data'!$C:$C,'파트별 아이템별 차트'!$B94,'Raw Data'!$D:$D,'파트별 아이템별 차트'!$D94,'Raw Data'!$A:$A,'파트별 아이템별 차트'!$C94,'Raw Data'!$B:$B,'파트별 아이템별 차트'!G$2) -> 0 | H94: =COUNTIFS('Raw Data'!$C:$C,'파트별 아이템별 차트'!$B94,'Raw Data'!$D:$D,'파트별 아이템별 차트'!$D94,'Raw Data'!$A:$A,'파트별 아이템별 차트'!$C94,'Raw Data'!$B:$B,'파트별 아이템별 차트'!H$2) -> 0 | I94: =COUNTIFS('Raw Data'!$C:$C,'파트별 아이템별 차트'!$B94,'Raw Data'!$D:$D,'파트별 아이템별 차트'!$D94,'Raw Data'!$A:$A,'파트별 아이템별 차트'!$C94,'Raw Data'!$B:$B,'파트별 아이템별 차트'!I$2) -> 1 | J94: =COUNTIFS('Raw Data'!$C:$C,'파트별 아이템별 차트'!$B94,'Raw Data'!$D:$D,'파트별 아이템별 차트'!$D94,'Raw Data'!$A:$A,'파트별 아이템별 차트'!$C94,'Raw Data'!$B:$B,'파트별 아이템별 차트'!J$2) -> 0 | K94: =COUNTIFS('Raw Data'!$C:$C,'파트별 아이템별 차트'!$B94,'Raw Data'!$D:$D,'파트별 아이템별 차트'!$D94,'Raw Data'!$A:$A,'파트별 아이템별 차트'!$C94,'Raw Data'!$B:$B,'파트별 아이템별 차트'!K$2) -> 0 | L94: =COUNTIFS('Raw Data'!$C:$C,'파트별 아이템별 차트'!$B94,'Raw Data'!$D:$D,'파트별 아이템별 차트'!$D94,'Raw Data'!$A:$A,'파트별 아이템별 차트'!$C94,'Raw Data'!$B:$B,'파트별 아이템별 차트'!L$2) -> 0 | ... P94: =COUNTIFS('Raw Data'!$C:$C,'파트별 아이템별 차트'!$B94,'Raw Data'!$D:$D,'파트별 아이템별 차트'!$D94,'Raw Data'!$A:$A,'파트별 아이템별 차트'!$C94,'Raw Data'!$B:$B,'파트별 아이템별 차트'!P$2) -> 0 | Q94: =SUM(E94:P94) -> 2
A95: =A93+1 -> 46 | B95: =_xlfn.XLOOKUP($A95,'BACK DATA'!$A:$A,'BACK DATA'!$B:$B) -> ichroma | C95: 2022 | D95: =_xlfn.XLOOKUP($A95,'BACK DATA'!$A:$A,'BACK DATA'!$C:$C) -> Total IgE | E95: =COUNTIFS('Raw Data'!$C:$C,'파트별 아이템별 차트'!$B95,'Raw Data'!$D:$D,'파트별 아이템별 차트'!$D95,'Raw Data'!$A:$A,'파트별 아이템별 차트'!$C95,'Raw Data'!$B:$B,'파트별 아이템별 차트'!E$2) -> 0 | F95: =COUNTIFS('Raw Data'!$C:$C,'파트별 아이템별 차트'!$B95,'Raw Data'!$D:$D,'파트별 아이템별 차트'!$D95,'Raw Data'!$A:$A,'파트별 아이템별 차트'!$C95,'Raw Data'!$B:$B,'파트별 아이템별 차트'!F$2) -> 0 | G95: =COUNTIFS('Raw Data'!$C:$C,'파트별 아이템별 차트'!$B95,'Raw Data'!$D:$D,'파트별 아이템별 차트'!$D95,'Raw Data'!$A:$A,'파트별 아이템별 차트'!$C95,'Raw Data'!$B:$B,'파트별 아이템별 차트'!G$2) -> 0 | H95: =COUNTIFS('Raw Data'!$C:$C,'파트별 아이템별 차트'!$B95,'Raw Data'!$D:$D,'파트별 아이템별 차트'!$D95,'Raw Data'!$A:$A,'파트별 아이템별 차트'!$C95,'Raw Data'!$B:$B,'파트별 아이템별 차트'!H$2) -> 0 | I95: =COUNTIFS('Raw Data'!$C:$C,'파트별 아이템별 차트'!$B95,'Raw Data'!$D:$D,'파트별 아이템별 차트'!$D95,'Raw Data'!$A:$A,'파트별 아이템별 차트'!$C95,'Raw Data'!$B:$B,'파트별 아이템별 차트'!I$2) -> 0 | J95: =COUNTIFS('Raw Data'!$C:$C,'파트별 아이템별 차트'!$B95,'Raw Data'!$D:$D,'파트별 아이템별 차트'!$D95,'Raw Data'!$A:$A,'파트별 아이템별 차트'!$C95,'Raw Data'!$B:$B,'파트별 아이템별 차트'!J$2) -> 0 | K95: =COUNTIFS('Raw Data'!$C:$C,'파트별 아이템별 차트'!$B95,'Raw Data'!$D:$D,'파트별 아이템별 차트'!$D95,'Raw Data'!$A:$A,'파트별 아이템별 차트'!$C95,'Raw Data'!$B:$B,'파트별 아이템별 차트'!K$2) -> 0 | L95: =COUNTIFS('Raw Data'!$C:$C,'파트별 아이템별 차트'!$B95,'Raw Data'!$D:$D,'파트별 아이템별 차트'!$D95,'Raw Data'!$A:$A,'파트별 아이템별 차트'!$C95,'Raw Data'!$B:$B,'파트별 아이템별 차트'!L$2) -> 0 | ... P95: =COUNTIFS('Raw Data'!$C:$C,'파트별 아이템별 차트'!$B95,'Raw Data'!$D:$D,'파트별 아이템별 차트'!$D95,'Raw Data'!$A:$A,'파트별 아이템별 차트'!$C95,'Raw Data'!$B:$B,'파트별 아이템별 차트'!P$2) -> 0 | Q95: =SUM(E95:P95) -> 0
A96: =A95 -> 46 | B96: =_xlfn.XLOOKUP($A96,'BACK DATA'!$A:$A,'BACK DATA'!$B:$B) -> ichroma | C96: 2023 | D96: =_xlfn.XLOOKUP($A96,'BACK DATA'!$A:$A,'BACK DATA'!$C:$C) -> Total IgE | E96: =COUNTIFS('Raw Data'!$C:$C,'파트별 아이템별 차트'!$B96,'Raw Data'!$D:$D,'파트별 아이템별 차트'!$D96,'Raw Data'!$A:$A,'파트별 아이템별 차트'!$C96,'Raw Data'!$B:$B,'파트별 아이템별 차트'!E$2) -> 0 | F96: =COUNTIFS('Raw Data'!$C:$C,'파트별 아이템별 차트'!$B96,'Raw Data'!$D:$D,'파트별 아이템별 차트'!$D96,'Raw Data'!$A:$A,'파트별 아이템별 차트'!$C96,'Raw Data'!$B:$B,'파트별 아이템별 차트'!F$2) -> 0 | G96: =COUNTIFS('Raw Data'!$C:$C,'파트별 아이템별 차트'!$B96,'Raw Data'!$D:$D,'파트별 아이템별 차트'!$D96,'Raw Data'!$A:$A,'파트별 아이템별 차트'!$C96,'Raw Data'!$B:$B,'파트별 아이템별 차트'!G$2) -> 0 | H96: =COUNTIFS('Raw Data'!$C:$C,'파트별 아이템별 차트'!$B96,'Raw Data'!$D:$D,'파트별 아이템별 차트'!$D96,'Raw Data'!$A:$A,'파트별 아이템별 차트'!$C96,'Raw Data'!$B:$B,'파트별 아이템별 차트'!H$2) -> 0 | I96: =COUNTIFS('Raw Data'!$C:$C,'파트별 아이템별 차트'!$B96,'Raw Data'!$D:$D,'파트별 아이템별 차트'!$D96,'Raw Data'!$A:$A,'파트별 아이템별 차트'!$C96,'Raw Data'!$B:$B,'파트별 아이템별 차트'!I$2) -> 0 | J96: =COUNTIFS('Raw Data'!$C:$C,'파트별 아이템별 차트'!$B96,'Raw Data'!$D:$D,'파트별 아이템별 차트'!$D96,'Raw Data'!$A:$A,'파트별 아이템별 차트'!$C96,'Raw Data'!$B:$B,'파트별 아이템별 차트'!J$2) -> 1 | K96: =COUNTIFS('Raw Data'!$C:$C,'파트별 아이템별 차트'!$B96,'Raw Data'!$D:$D,'파트별 아이템별 차트'!$D96,'Raw Data'!$A:$A,'파트별 아이템별 차트'!$C96,'Raw Data'!$B:$B,'파트별 아이템별 차트'!K$2) -> 0 | L96: =COUNTIFS('Raw Data'!$C:$C,'파트별 아이템별 차트'!$B96,'Raw Data'!$D:$D,'파트별 아이템별 차트'!$D96,'Raw Data'!$A:$A,'파트별 아이템별 차트'!$C96,'Raw Data'!$B:$B,'파트별 아이템별 차트'!L$2) -> 0 | ... P96: =COUNTIFS('Raw Data'!$C:$C,'파트별 아이템별 차트'!$B96,'Raw Data'!$D:$D,'파트별 아이템별 차트'!$D96,'Raw Data'!$A:$A,'파트별 아이템별 차트'!$C96,'Raw Data'!$B:$B,'파트별 아이템별 차트'!P$2) -> 0 | Q96: =SUM(E96:P96) -> 2
A97: =A95+1 -> 47 | B97: =_xlfn.XLOOKUP($A97,'BACK DATA'!$A:$A,'BACK DATA'!$B:$B) -> ichroma | C97: 2022 | D97: =_xlfn.XLOOKUP($A97,'BACK DATA'!$A:$A,'BACK DATA'!$C:$C) -> LDL cholesterol | E97: =COUNTIFS('Raw Data'!$C:$C,'파트별 아이템별 차트'!$B97,'Raw Data'!$D:$D,'파트별 아이템별 차트'!$D97,'Raw Data'!$A:$A,'파트별 아이템별 차트'!$C97,'Raw Data'!$B:$B,'파트별 아이템별 차트'!E$2) -> 0 | F97: =COUNTIFS('Raw Data'!$C:$C,'파트별 아이템별 차트'!$B97,'Raw Data'!$D:$D,'파트별 아이템별 차트'!$D97,'Raw Data'!$A:$A,'파트별 아이템별 차트'!$C97,'Raw Data'!$B:$B,'파트별 아이템별 차트'!F$2) -> 0 | G97: =COUNTIFS('Raw Data'!$C:$C,'파트별 아이템별 차트'!$B97,'Raw Data'!$D:$D,'파트별 아이템별 차트'!$D97,'Raw Data'!$A:$A,'파트별 아이템별 차트'!$C97,'Raw Data'!$B:$B,'파트별 아이템별 차트'!G$2) -> 0 | H97: =COUNTIFS('Raw Data'!$C:$C,'파트별 아이템별 차트'!$B97,'Raw Data'!$D:$D,'파트별 아이템별 차트'!$D97,'Raw Data'!$A:$A,'파트별 아이템별 차트'!$C97,'Raw Data'!$B:$B,'파트별 아이템별 차트'!H$2) -> 0 | I97: =COUNTIFS('Raw Data'!$C:$C,'파트별 아이템별 차트'!$B97,'Raw Data'!$D:$D,'파트별 아이템별 차트'!$D97,'Raw Data'!$A:$A,'파트별 아이템별 차트'!$C97,'Raw Data'!$B:$B,'파트별 아이템별 차트'!I$2) -> 0 | J97: =COUNTIFS('Raw Data'!$C:$C,'파트별 아이템별 차트'!$B97,'Raw Data'!$D:$D,'파트별 아이템별 차트'!$D97,'Raw Data'!$A:$A,'파트별 아이템별 차트'!$C97,'Raw Data'!$B:$B,'파트별 아이템별 차트'!J$2) -> 0 | K97: =COUNTIFS('Raw Data'!$C:$C,'파트별 아이템별 차트'!$B97,'Raw Data'!$D:$D,'파트별 아이템별 차트'!$D97,'Raw Data'!$A:$A,'파트별 아이템별 차트'!$C97,'Raw Data'!$B:$B,'파트별 아이템별 차트'!K$2) -> 0 | L97: =COUNTIFS('Raw Data'!$C:$C,'파트별 아이템별 차트'!$B97,'Raw Data'!$D:$D,'파트별 아이템별 차트'!$D97,'Raw Data'!$A:$A,'파트별 아이템별 차트'!$C97,'Raw Data'!$B:$B,'파트별 아이템별 차트'!L$2) -> 0 | ... P97: =COUNTIFS('Raw Data'!$C:$C,'파트별 아이템별 차트'!$B97,'Raw Data'!$D:$D,'파트별 아이템별 차트'!$D97,'Raw Data'!$A:$A,'파트별 아이템별 차트'!$C97,'Raw Data'!$B:$B,'파트별 아이템별 차트'!P$2) -> 0 | Q97: =SUM(E97:P97) -> 1
A98: =A97 -> 47 | B98: =_xlfn.XLOOKUP($A98,'BACK DATA'!$A:$A,'BACK DATA'!$B:$B) -> ichroma | C98: 2023 | D98: =_xlfn.XLOOKUP($A98,'BACK DATA'!$A:$A,'BACK DATA'!$C:$C) -> LDL cholesterol | E98: =COUNTIFS('Raw Data'!$C:$C,'파트별 아이템별 차트'!$B98,'Raw Data'!$D:$D,'파트별 아이템별 차트'!$D98,'Raw Data'!$A:$A,'파트별 아이템별 차트'!$C98,'Raw Data'!$B:$B,'파트별 아이템별 차트'!E$2) -> 0 | F98: =COUNTIFS('Raw Data'!$C:$C,'파트별 아이템별 차트'!$B98,'Raw Data'!$D:$D,'파트별 아이템별 차트'!$D98,'Raw Data'!$A:$A,'파트별 아이템별 차트'!$C98,'Raw Data'!$B:$B,'파트별 아이템별 차트'!F$2) -> 0 | G98: =COUNTIFS('Raw Data'!$C:$C,'파트별 아이템별 차트'!$B98,'Raw Data'!$D:$D,'파트별 아이템별 차트'!$D98,'Raw Data'!$A:$A,'파트별 아이템별 차트'!$C98,'Raw Data'!$B:$B,'파트별 아이템별 차트'!G$2) -> 0 | H98: =COUNTIFS('Raw Data'!$C:$C,'파트별 아이템별 차트'!$B98,'Raw Data'!$D:$D,'파트별 아이템별 차트'!$D98,'Raw Data'!$A:$A,'파트별 아이템별 차트'!$C98,'Raw Data'!$B:$B,'파트별 아이템별 차트'!H$2) -> 0 | I98: =COUNTIFS('Raw Data'!$C:$C,'파트별 아이템별 차트'!$B98,'Raw Data'!$D:$D,'파트별 아이템별 차트'!$D98,'Raw Data'!$A:$A,'파트별 아이템별 차트'!$C98,'Raw Data'!$B:$B,'파트별 아이템별 차트'!I$2) -> 0 | J98: =COUNTIFS('Raw Data'!$C:$C,'파트별 아이템별 차트'!$B98,'Raw Data'!$D:$D,'파트별 아이템별 차트'!$D98,'Raw Data'!$A:$A,'파트별 아이템별 차트'!$C98,'Raw Data'!$B:$B,'파트별 아이템별 차트'!J$2) -> 0 | K98: =COUNTIFS('Raw Data'!$C:$C,'파트별 아이템별 차트'!$B98,'Raw Data'!$D:$D,'파트별 아이템별 차트'!$D98,'Raw Data'!$A:$A,'파트별 아이템별 차트'!$C98,'Raw Data'!$B:$B,'파트별 아이템별 차트'!K$2) -> 1 | L98: =COUNTIFS('Raw Data'!$C:$C,'파트별 아이템별 차트'!$B98,'Raw Data'!$D:$D,'파트별 아이템별 차트'!$D98,'Raw Data'!$A:$A,'파트별 아이템별 차트'!$C98,'Raw Data'!$B:$B,'파트별 아이템별 차트'!L$2) -> 0 | ... P98: =COUNTIFS('Raw Data'!$C:$C,'파트별 아이템별 차트'!$B98,'Raw Data'!$D:$D,'파트별 아이템별 차트'!$D98,'Raw Data'!$A:$A,'파트별 아이템별 차트'!$C98,'Raw Data'!$B:$B,'파트별 아이템별 차트'!P$2) -> 0 | Q98: =SUM(E98:P98) -> 2
A99: =A97+1 -> 48 | B99: =_xlfn.XLOOKUP($A99,'BACK DATA'!$A:$A,'BACK DATA'!$B:$B) -> ichroma | C99: 2022 | D99: =_xlfn.XLOOKUP($A99,'BACK DATA'!$A:$A,'BACK DATA'!$C:$C) -> SDMA | E99: =COUNTIFS('Raw Data'!$C:$C,'파트별 아이템별 차트'!$B99,'Raw Data'!$D:$D,'파트별 아이템별 차트'!$D99,'Raw Data'!$A:$A,'파트별 아이템별 차트'!$C99,'Raw Data'!$B:$B,'파트별 아이템별 차트'!E$2) -> 0 | F99: =COUNTIFS('Raw Data'!$C:$C,'파트별 아이템별 차트'!$B99,'Raw Data'!$D:$D,'파트별 아이템별 차트'!$D99,'Raw Data'!$A:$A,'파트별 아이템별 차트'!$C99,'Raw Data'!$B:$B,'파트별 아이템별 차트'!F$2) -> 0 | G99: =COUNTIFS('Raw Data'!$C:$C,'파트별 아이템별 차트'!$B99,'Raw Data'!$D:$D,'파트별 아이템별 차트'!$D99,'Raw Data'!$A:$A,'파트별 아이템별 차트'!$C99,'Raw Data'!$B:$B,'파트별 아이템별 차트'!G$2) -> 0 | H99: =COUNTIFS('Raw Data'!$C:$C,'파트별 아이템별 차트'!$B99,'Raw Data'!$D:$D,'파트별 아이템별 차트'!$D99,'Raw Data'!$A:$A,'파트별 아이템별 차트'!$C99,'Raw Data'!$B:$B,'파트별 아이템별 차트'!H$2) -> 0 | I99: =COUNTIFS('Raw Data'!$C:$C,'파트별 아이템별 차트'!$B99,'Raw Data'!$D:$D,'파트별 아이템별 차트'!$D99,'Raw Data'!$A:$A,'파트별 아이템별 차트'!$C99,'Raw Data'!$B:$B,'파트별 아이템별 차트'!I$2) -> 0 | J99: =COUNTIFS('Raw Data'!$C:$C,'파트별 아이템별 차트'!$B99,'Raw Data'!$D:$D,'파트별 아이템별 차트'!$D99,'Raw Data'!$A:$A,'파트별 아이템별 차트'!$C99,'Raw Data'!$B:$B,'파트별 아이템별 차트'!J$2) -> 0 | K99: =COUNTIFS('Raw Data'!$C:$C,'파트별 아이템별 차트'!$B99,'Raw Data'!$D:$D,'파트별 아이템별 차트'!$D99,'Raw Data'!$A:$A,'파트별 아이템별 차트'!$C99,'Raw Data'!$B:$B,'파트별 아이템별 차트'!K$2) -> 0 | L99: =COUNTIFS('Raw Data'!$C:$C,'파트별 아이템별 차트'!$B99,'Raw Data'!$D:$D,'파트별 아이템별 차트'!$D99,'Raw Data'!$A:$A,'파트별 아이템별 차트'!$C99,'Raw Data'!$B:$B,'파트별 아이템별 차트'!L$2) -> 0 | ... P99: =COUNTIFS('Raw Data'!$C:$C,'파트별 아이템별 차트'!$B99,'Raw Data'!$D:$D,'파트별 아이템별 차트'!$D99,'Raw Data'!$A:$A,'파트별 아이템별 차트'!$C99,'Raw Data'!$B:$B,'파트별 아이템별 차트'!P$2) -> 0 | Q99: =SUM(E99:P99) -> 0
A100: =A99 -> 48 | B100: =_xlfn.XLOOKUP($A100,'BACK DATA'!$A:$A,'BACK DATA'!$B:$B) -> ichroma | C100: 2023 | D100: =_xlfn.XLOOKUP($A100,'BACK DATA'!$A:$A,'BACK DATA'!$C:$C) -> SDMA | E100: =COUNTIFS('Raw Data'!$C:$C,'파트별 아이템별 차트'!$B100,'Raw Data'!$D:$D,'파트별 아이템별 차트'!$D100,'Raw Data'!$A:$A,'파트별 아이템별 차트'!$C100,'Raw Data'!$B:$B,'파트별 아이템별 차트'!E$2) -> 0 | F100: =COUNTIFS('Raw Data'!$C:$C,'파트별 아이템별 차트'!$B100,'Raw Data'!$D:$D,'파트별 아이템별 차트'!$D100,'Raw Data'!$A:$A,'파트별 아이템별 차트'!$C100,'Raw Data'!$B:$B,'파트별 아이템별 차트'!F$2) -> 0 | G100: =COUNTIFS('Raw Data'!$C:$C,'파트별 아이템별 차트'!$B100,'Raw Data'!$D:$D,'파트별 아이템별 차트'!$D100,'Raw Data'!$A:$A,'파트별 아이템별 차트'!$C100,'Raw Data'!$B:$B,'파트별 아이템별 차트'!G$2) -> 0 | H100: =COUNTIFS('Raw Data'!$C:$C,'파트별 아이템별 차트'!$B100,'Raw Data'!$D:$D,'파트별 아이템별 차트'!$D100,'Raw Data'!$A:$A,'파트별 아이템별 차트'!$C100,'Raw Data'!$B:$B,'파트별 아이템별 차트'!H$2) -> 0 | I100: =COUNTIFS('Raw Data'!$C:$C,'파트별 아이템별 차트'!$B100,'Raw Data'!$D:$D,'파트별 아이템별 차트'!$D100,'Raw Data'!$A:$A,'파트별 아이템별 차트'!$C100,'Raw Data'!$B:$B,'파트별 아이템별 차트'!I$2) -> 0 | J100: =COUNTIFS('Raw Data'!$C:$C,'파트별 아이템별 차트'!$B100,'Raw Data'!$D:$D,'파트별 아이템별 차트'!$D100,'Raw Data'!$A:$A,'파트별 아이템별 차트'!$C100,'Raw Data'!$B:$B,'파트별 아이템별 차트'!J$2) -> 0 | K100: =COUNTIFS('Raw Data'!$C:$C,'파트별 아이템별 차트'!$B100,'Raw Data'!$D:$D,'파트별 아이템별 차트'!$D100,'Raw Data'!$A:$A,'파트별 아이템별 차트'!$C100,'Raw Data'!$B:$B,'파트별 아이템별 차트'!K$2) -> 0 | L100: =COUNTIFS('Raw Data'!$C:$C,'파트별 아이템별 차트'!$B100,'Raw Data'!$D:$D,'파트별 아이템별 차트'!$D100,'Raw Data'!$A:$A,'파트별 아이템별 차트'!$C100,'Raw Data'!$B:$B,'파트별 아이템별 차트'!L$2) -> 1 | ... P100: =COUNTIFS('Raw Data'!$C:$C,'파트별 아이템별 차트'!$B100,'Raw Data'!$D:$D,'파트별 아이템별 차트'!$D100,'Raw Data'!$A:$A,'파트별 아이템별 차트'!$C100,'Raw Data'!$B:$B,'파트별 아이템별 차트'!P$2) -> 1 | Q100: =SUM(E100:P100) -> 2
A101: =A99+1 -> 49 | B101: =_xlfn.XLOOKUP($A101,'BACK DATA'!$A:$A,'BACK DATA'!$B:$B) -> ichroma | C101: 2022 | D101: =_xlfn.XLOOKUP($A101,'BACK DATA'!$A:$A,'BACK DATA'!$C:$C) -> Myoglobin | E101: =COUNTIFS('Raw Data'!$C:$C,'파트별 아이템별 차트'!$B101,'Raw Data'!$D:$D,'파트별 아이템별 차트'!$D101,'Raw Data'!$A:$A,'파트별 아이템별 차트'!$C101,'Raw Data'!$B:$B,'파트별 아이템별 차트'!E$2) -> 0 | F101: =COUNTIFS('Raw Data'!$C:$C,'파트별 아이템별 차트'!$B101,'Raw Data'!$D:$D,'파트별 아이템별 차트'!$D101,'Raw Data'!$A:$A,'파트별 아이템별 차트'!$C101,'Raw Data'!$B:$B,'파트별 아이템별 차트'!F$2) -> 1 | G101: =COUNTIFS('Raw Data'!$C:$C,'파트별 아이템별 차트'!$B101,'Raw Data'!$D:$D,'파트별 아이템별 차트'!$D101,'Raw Data'!$A:$A,'파트별 아이템별 차트'!$C101,'Raw Data'!$B:$B,'파트별 아이템별 차트'!G$2) -> 0 | H101: =COUNTIFS('Raw Data'!$C:$C,'파트별 아이템별 차트'!$B101,'Raw Data'!$D:$D,'파트별 아이템별 차트'!$D101,'Raw Data'!$A:$A,'파트별 아이템별 차트'!$C101,'Raw Data'!$B:$B,'파트별 아이템별 차트'!H$2) -> 0 | I101: =COUNTIFS('Raw Data'!$C:$C,'파트별 아이템별 차트'!$B101,'Raw Data'!$D:$D,'파트별 아이템별 차트'!$D101,'Raw Data'!$A:$A,'파트별 아이템별 차트'!$C101,'Raw Data'!$B:$B,'파트별 아이템별 차트'!I$2) -> 0 | J101: =COUNTIFS('Raw Data'!$C:$C,'파트별 아이템별 차트'!$B101,'Raw Data'!$D:$D,'파트별 아이템별 차트'!$D101,'Raw Data'!$A:$A,'파트별 아이템별 차트'!$C101,'Raw Data'!$B:$B,'파트별 아이템별 차트'!J$2) -> 0 | K101: =COUNTIFS('Raw Data'!$C:$C,'파트별 아이템별 차트'!$B101,'Raw Data'!$D:$D,'파트별 아이템별 차트'!$D101,'Raw Data'!$A:$A,'파트별 아이템별 차트'!$C101,'Raw Data'!$B:$B,'파트별 아이템별 차트'!K$2) -> 0 | L101: =COUNTIFS('Raw Data'!$C:$C,'파트별 아이템별 차트'!$B101,'Raw Data'!$D:$D,'파트별 아이템별 차트'!$D101,'Raw Data'!$A:$A,'파트별 아이템별 차트'!$C101,'Raw Data'!$B:$B,'파트별 아이템별 차트'!L$2) -> 0 | ... P101: =COUNTIFS('Raw Data'!$C:$C,'파트별 아이템별 차트'!$B101,'Raw Data'!$D:$D,'파트별 아이템별 차트'!$D101,'Raw Data'!$A:$A,'파트별 아이템별 차트'!$C101,'Raw Data'!$B:$B,'파트별 아이템별 차트'!P$2) -> 0 | Q101: =SUM(E101:P101) -> 1
...

Sheet 아이템별차트
A2: NO | B2: 년도 | C2: 아이템명 | D2: 1 | E2: 2 | F2: 3 | G2: 4 | H2: 5 | I2: 6 | J2: 7 | K2: 8 | L2: 9 | M2: 10 | N2: 11 | O2: 12 | P2: 합계
A3: 1 | B3: 2022 | C3: =_xlfn.XLOOKUP($A3,'BACK DATA'!$G:$G,'BACK DATA'!$H:$H) -> HbA1c | D3: =COUNTIFS('Raw Data'!$D:$D,아이템별차트!$C3,'Raw Data'!$A:$A,아이템별차트!$B3,'Raw Data'!$B:$B,아이템별차트!D$2) -> 8 | E3: =COUNTIFS('Raw Data'!$D:$D,아이템별차트!$C3,'Raw Data'!$A:$A,아이템별차트!$B3,'Raw Data'!$B:$B,아이템별차트!E$2) -> 5 | F3: =COUNTIFS('Raw Data'!$D:$D,아이템별차트!$C3,'Raw Data'!$A:$A,아이템별차트!$B3,'Raw Data'!$B:$B,아이템별차트!F$2) -> 4 | G3: =COUNTIFS('Raw Data'!$D:$D,아이템별차트!$C3,'Raw Data'!$A:$A,아이템별차트!$B3,'Raw Data'!$B:$B,아이템별차트!G$2) -> 5 | H3: =COUNTIFS('Raw Data'!$D:$D,아이템별차트!$C3,'Raw Data'!$A:$A,아이템별차트!$B3,'Raw Data'!$B:$B,아이템별차트!H$2) -> 10 | I3: =COUNTIFS('Raw Data'!$D:$D,아이템별차트!$C3,'Raw Data'!$A:$A,아이템별차트!$B3,'Raw Data'!$B:$B,아이템별차트!I$2) -> 10 | J3: =COUNTIFS('Raw Data'!$D:$D,아이템별차트!$C3,'Raw Data'!$A:$A,아이템별차트!$B3,'Raw Data'!$B:$B,아이템별차트!J$2) -> 12 | K3: =COUNTIFS('Raw Data'!$D:$D,아이템별차트!$C3,'Raw Data'!$A:$A,아이템별차트!$B3,'Raw Data'!$B:$B,아이템별차트!K$2) -> 8 | ... O3: =COUNTIFS('Raw Data'!$D:$D,아이템별차트!$C3,'Raw Data'!$A:$A,아이템별차트!$B3,'Raw Data'!$B:$B,아이템별차트!O$2) -> 11 | P3: =SUM(D3:O3) -> 111
A4: =A3 -> 1 | B4: 2023 | C4: =_xlfn.XLOOKUP($A4,'BACK DATA'!$G:$G,'BACK DATA'!$H:$H) -> HbA1c | D4: =COUNTIFS('Raw Data'!$D:$D,아이템별차트!$C4,'Raw Data'!$A:$A,아이템별차트!$B4,'Raw Data'!$B:$B,아이템별차트!D$2) -> 9 | E4: =COUNTIFS('Raw Data'!$D:$D,아이템별차트!$C4,'Raw Data'!$A:$A,아이템별차트!$B4,'Raw Data'!$B:$B,아이템별차트!E$2) -> 15 | F4: =COUNTIFS('Raw Data'!$D:$D,아이템별차트!$C4,'Raw Data'!$A:$A,아이템별차트!$B4,'Raw Data'!$B:$B,아이템별차트!F$2) -> 7 | G4: =COUNTIFS('Raw Data'!$D:$D,아이템별차트!$C4,'Raw Data'!$A:$A,아이템별차트!$B4,'Raw Data'!$B:$B,아이템별차트!G$2) -> 2 | H4: =COUNTIFS('Raw Data'!$D:$D,아이템별차트!$C4,'Raw Data'!$A:$A,아이템별차트!$B4,'Raw Data'!$B:$B,아이템별차트!H$2) -> 13 | I4: =COUNTIFS('Raw Data'!$D:$D,아이템별차트!$C4,'Raw Data'!$A:$A,아이템별차트!$B4,'Raw Data'!$B:$B,아이템별차트!I$2) -> 10 | J4: =COUNTIFS('Raw Data'!$D:$D,아이템별차트!$C4,'Raw Data'!$A:$A,아이템별차트!$B4,'Raw Data'!$B:$B,아이템별차트!J$2) -> 8 | K4: =COUNTIFS('Raw Data'!$D:$D,아이템별차트!$C4,'Raw Data'!$A:$A,아이템별차트!$B4,'Raw Data'!$B:$B,아이템별차트!K$2) -> 8 | ... O4: =COUNTIFS('Raw Data'!$D:$D,아이템별차트!$C4,'Raw Data'!$A:$A,아이템별차트!$B4,'Raw Data'!$B:$B,아이템별차트!O$2) -> 9 | P4: =SUM(D4:O4) -> 138
A5: =A3+1 -> 2 | B5: 2022 | C5: =_xlfn.XLOOKUP($A5,'BACK DATA'!$G:$G,'BACK DATA'!$H:$H) -> T3 | D5: =COUNTIFS('Raw Data'!$D:$D,아이템별차트!$C5,'Raw Data'!$A:$A,아이템별차트!$B5,'Raw Data'!$B:$B,아이템별차트!D$2) -> 4 | E5: =COUNTIFS('Raw Data'!$D:$D,아이템별차트!$C5,'Raw Data'!$A:$A,아이템별차트!$B5,'Raw Data'!$B:$B,아이템별차트!E$2) -> 1 | F5: =COUNTIFS('Raw Data'!$D:$D,아이템별차트!$C5,'Raw Data'!$A:$A,아이템별차트!$B5,'Raw Data'!$B:$B,아이템별차트!F$2) -> 1 | G5: =COUNTIFS('Raw Data'!$D:$D,아이템별차트!$C5,'Raw Data'!$A:$A,아이템별차트!$B5,'Raw Data'!$B:$B,아이템별차트!G$2) -> 2 | H5: =COUNTIFS('Raw Data'!$D:$D,아이템별차트!$C5,'Raw Data'!$A:$A,아이템별차트!$B5,'Raw Data'!$B:$B,아이템별차트!H$2) -> 3 | I5: =COUNTIFS('Raw Data'!$D:$D,아이템별차트!$C5,'Raw Data'!$A:$A,아이템별차트!$B5,'Raw Data'!$B:$B,아이템별차트!I$2) -> 3 | J5: =COUNTIFS('Raw Data'!$D:$D,아이템별차트!$C5,'Raw Data'!$A:$A,아이템별차트!$B5,'Raw Data'!$B:$B,아이템별차트!J$2) -> 3 | K5: =COUNTIFS('Raw Data'!$D:$D,아이템별차트!$C5,'Raw Data'!$A:$A,아이템별차트!$B5,'Raw Data'!$B:$B,아이템별차트!K$2) -> 0 | ... O5: =COUNTIFS('Raw Data'!$D:$D,아이템별차트!$C5,'Raw Data'!$A:$A,아이템별차트!$B5,'Raw Data'!$B:$B,아이템별차트!O$2) -> 0 | P5: =SUM(D5:O5) -> 26
A6: =A5 -> 2 | B6: 2023 | C6: =_xlfn.XLOOKUP($A6,'BACK DATA'!$G:$G,'BACK DATA'!$H:$H) -> T3 | D6: =COUNTIFS('Raw Data'!$D:$D,아이템별차트!$C6,'Raw Data'!$A:$A,아이템별차트!$B6,'Raw Data'!$B:$B,아이템별차트!D$2) -> 0 | E6: =COUNTIFS('Raw Data'!$D:$D,아이템별차트!$C6,'Raw Data'!$A:$A,아이템별차트!$B6,'Raw Data'!$B:$B,아이템별차트!E$2) -> 1 | F6: =COUNTIFS('Raw Data'!$D:$D,아이템별차트!$C6,'Raw Data'!$A:$A,아이템별차트!$B6,'Raw Data'!$B:$B,아이템별차트!F$2) -> 2 | G6: =COUNTIFS('Raw Data'!$D:$D,아이템별차트!$C6,'Raw Data'!$A:$A,아이템별차트!$B6,'Raw Data'!$B:$B,아이템별차트!G$2) -> 2 | H6: =COUNTIFS('Raw Data'!$D:$D,아이템별차트!$C6,'Raw Data'!$A:$A,아이템별차트!$B6,'Raw Data'!$B:$B,아이템별차트!H$2) -> 4 | I6: =COUNTIFS('Raw Data'!$D:$D,아이템별차트!$C6,'Raw Data'!$A:$A,아이템별차트!$B6,'Raw Data'!$B:$B,아이템별차트!I$2) -> 4 | J6: =COUNTIFS('Raw Data'!$D:$D,아이템별차트!$C6,'Raw Data'!$A:$A,아이템별차트!$B6,'Raw Data'!$B:$B,아이템별차트!J$2) -> 14 | K6: =COUNTIFS('Raw Data'!$D:$D,아이템별차트!$C6,'Raw Data'!$A:$A,아이템별차트!$B6,'Raw Data'!$B:$B,아이템별차트!K$2) -> 11 | ... O6: =COUNTIFS('Raw Data'!$D:$D,아이템별차트!$C6,'Raw Data'!$A:$A,아이템별차트!$B6,'Raw Data'!$B:$B,아이템별차트!O$2) -> 19 | P6: =SUM(D6:O6) -> 85
A7: =A5+1 -> 3 | B7: 2022 | C7: =_xlfn.XLOOKUP($A7,'BACK DATA'!$G:$G,'BACK DATA'!$H:$H) -> TSH | D7: =COUNTIFS('Raw Data'!$D:$D,아이템별차트!$C7,'Raw Data'!$A:$A,아이템별차트!$B7,'Raw Data'!$B:$B,아이템별차트!D$2) -> 2 | E7: =COUNTIFS('Raw Data'!$D:$D,아이템별차트!$C7,'Raw Data'!$A:$A,아이템별차트!$B7,'Raw Data'!$B:$B,아이템별차트!E$2) -> 5 | F7: =COUNTIFS('Raw Data'!$D:$D,아이템별차트!$C7,'Raw Data'!$A:$A,아이템별차트!$B7,'Raw Data'!$B:$B,아이템별차트!F$2) -> 10 | G7: =COUNTIFS('Raw Data'!$D:$D,아이템별차트!$C7,'Raw Data'!$A:$A,아이템별차트!$B7,'Raw Data'!$B:$B,아이템별차트!G$2) -> 2 | H7: =COUNTIFS('Raw Data'!$D:$D,아이템별차트!$C7,'Raw Data'!$A:$A,아이템별차트!$B7,'Raw Data'!$B:$B,아이템별차트!H$2) -> 8 | I7: =COUNTIFS('Raw Data'!$D:$D,아이템별차트!$C7,'Raw Data'!$A:$A,아이템별차트!$B7,'Raw Data'!$B:$B,아이템별차트!I$2) -> 6 | J7: =COUNTIFS('Raw Data'!$D:$D,아이템별차트!$C7,'Raw Data'!$A:$A,아이템별차트!$B7,'Raw Data'!$B:$B,아이템별차트!J$2) -> 7 | K7: =COUNTIFS('Raw Data'!$D:$D,아이템별차트!$C7,'Raw Data'!$A:$A,아이템별차트!$B7,'Raw Data'!$B:$B,아이템별차트!K$2) -> 3 | ... O7: =COUNTIFS('Raw Data'!$D:$D,아이템별차트!$C7,'Raw Data'!$A:$A,아이템별차트!$B7,'Raw Data'!$B:$B,아이템별차트!O$2) -> 2 | P7: =SUM(D7:O7) -> 59
A8: =A7 -> 3 | B8: 2023 | C8: =_xlfn.XLOOKUP($A8,'BACK DATA'!$G:$G,'BACK DATA'!$H:$H) -> TSH | D8: =COUNTIFS('Raw Data'!$D:$D,아이템별차트!$C8,'Raw Data'!$A:$A,아이템별차트!$B8,'Raw Data'!$B:$B,아이템별차트!D$2) -> 1 | E8: =COUNTIFS('Raw Data'!$D:$D,아이템별차트!$C8,'Raw Data'!$A:$A,아이템별차트!$B8,'Raw Data'!$B:$B,아이템별차트!E$2) -> 3 | F8: =COUNTIFS('Raw Data'!$D:$D,아이템별차트!$C8,'Raw Data'!$A:$A,아이템별차트!$B8,'Raw Data'!$B:$B,아이템별차트!F$2) -> 7 | G8: =COUNTIFS('Raw Data'!$D:$D,아이템별차트!$C8,'Raw Data'!$A:$A,아이템별차트!$B8,'Raw Data'!$B:$B,아이템별차트!G$2) -> 1 | H8: =COUNTIFS('Raw Data'!$D:$D,아이템별차트!$C8,'Raw Data'!$A:$A,아이템별차트!$B8,'Raw Data'!$B:$B,아이템별차트!H$2) -> 10 | I8: =COUNTIFS('Raw Data'!$D:$D,아이템별차트!$C8,'Raw Data'!$A:$A,아이템별차트!$B8,'Raw Data'!$B:$B,아이템별차트!I$2) -> 2 | J8: =COUNTIFS('Raw Data'!$D:$D,아이템별차트!$C8,'Raw Data'!$A:$A,아이템별차트!$B8,'Raw Data'!$B:$B,아이템별차트!J$2) -> 10 | K8: =COUNTIFS('Raw Data'!$D:$D,아이템별차트!$C8,'Raw Data'!$A:$A,아이템별차트!$B8,'Raw Data'!$B:$B,아이템별차트!K$2) -> 7 | ... O8: =COUNTIFS('Raw Data'!$D:$D,아이템별차트!$C8,'Raw Data'!$A:$A,아이템별차트!$B8,'Raw Data'!$B:$B,아이템별차트!O$2) -> 16 | P8: =SUM(D8:O8) -> 81
A9: =A7+1 -> 4 | B9: 2022 | C9: =_xlfn.XLOOKUP($A9,'BACK DATA'!$G:$G,'BACK DATA'!$H:$H) -> Vitamin D | D9: =COUNTIFS('Raw Data'!$D:$D,아이템별차트!$C9,'Raw Data'!$A:$A,아이템별차트!$B9,'Raw Data'!$B:$B,아이템별차트!D$2) -> 7 | E9: =COUNTIFS('Raw Data'!$D:$D,아이템별차트!$C9,'Raw Data'!$A:$A,아이템별차트!$B9,'Raw Data'!$B:$B,아이템별차트!E$2) -> 4 | F9: =COUNTIFS('Raw Data'!$D:$D,아이템별차트!$C9,'Raw Data'!$A:$A,아이템별차트!$B9,'Raw Data'!$B:$B,아이템별차트!F$2) -> 1 | G9: =COUNTIFS('Raw Data'!$D:$D,아이템별차트!$C9,'Raw Data'!$A:$A,아이템별차트!$B9,'Raw Data'!$B:$B,아이템별차트!G$2) -> 0 | H9: =COUNTIFS('Raw Data'!$D:$D,아이템별차트!$C9,'Raw Data'!$A:$A,아이템별차트!$B9,'Raw Data'!$B:$B,아이템별차트!H$2) -> 2 | I9: =COUNTIFS('Raw Data'!$D:$D,아이템별차트!$C9,'Raw Data'!$A:$A,아이템별차트!$B9,'Raw Data'!$B:$B,아이템별차트!I$2) -> 4 | J9: =COUNTIFS('Raw Data'!$D:$D,아이템별차트!$C9,'Raw Data'!$A:$A,아이템별차트!$B9,'Raw Data'!$B:$B,아이템별차트!J$2) -> 4 | K9: =COUNTIFS('Raw Data'!$D:$D,아이템별차트!$C9,'Raw Data'!$A:$A,아이템별차트!$B9,'Raw Data'!$B:$B,아이템별차트!K$2) -> 4 | ... O9: =COUNTIFS('Raw Data'!$D:$D,아이템별차트!$C9,'Raw Data'!$A:$A,아이템별차트!$B9,'Raw Data'!$B:$B,아이템별차트!O$2) -> 4 | P9: =SUM(D9:O9) -> 44
A10: =A9 -> 4 | B10: 2023 | C10: =_xlfn.XLOOKUP($A10,'BACK DATA'!$G:$G,'BACK DATA'!$H:$H) -> Vitamin D | D10: =COUNTIFS('Raw Data'!$D:$D,아이템별차트!$C10,'Raw Data'!$A:$A,아이템별차트!$B10,'Raw Data'!$B:$B,아이템별차트!D$2) -> 3 | E10: =COUNTIFS('Raw Data'!$D:$D,아이템별차트!$C10,'Raw Data'!$A:$A,아이템별차트!$B10,'Raw Data'!$B:$B,아이템별차트!E$2) -> 5 | F10: =COUNTIFS('Raw Data'!$D:$D,아이템별차트!$C10,'Raw Data'!$A:$A,아이템별차트!$B10,'Raw Data'!$B:$B,아이템별차트!F$2) -> 2 | G10: =COUNTIFS('Raw Data'!$D:$D,아이템별차트!$C10,'Raw Data'!$A:$A,아이템별차트!$B10,'Raw Data'!$B:$B,아이템별차트!G$2) -> 2 | H10: =COUNTIFS('Raw Data'!$D:$D,아이템별차트!$C10,'Raw Data'!$A:$A,아이템별차트!$B10,'Raw Data'!$B:$B,아이템별차트!H$2) -> 2 | I10: =COUNTIFS('Raw Data'!$D:$D,아이템별차트!$C10,'Raw Data'!$A:$A,아이템별차트!$B10,'Raw Data'!$B:$B,아이템별차트!I$2) -> 5 | J10: =COUNTIFS('Raw Data'!$D:$D,아이템별차트!$C10,'Raw Data'!$A:$A,아이템별차트!$B10,'Raw Data'!$B:$B,아이템별차트!J$2) -> 8 | K10: =COUNTIFS('Raw Data'!$D:$D,아이템별차트!$C10,'Raw Data'!$A:$A,아이템별차트!$B10,'Raw Data'!$B:$B,아이템별차트!K$2) -> 6 | ... O10: =COUNTIFS('Raw Data'!$D:$D,아이템별차트!$C10,'Raw Data'!$A:$A,아이템별차트!$B10,'Raw Data'!$B:$B,아이템별차트!O$2) -> 2 | P10: =SUM(D10:O10) -> 44
A11: =A9+1 -> 5 | B11: 2022 | C11: =_xlfn.XLOOKUP($A11,'BACK DATA'!$G:$G,'BACK DATA'!$H:$H) -> Free T4 | D11: =COUNTIFS('Raw Data'!$D:$D,아이템별차트!$C11,'Raw Data'!$A:$A,아이템별차트!$B11,'Raw Data'!$B:$B,아이템별차트!D$2) -> 0 | E11: =COUNTIFS('Raw Data'!$D:$D,아이템별차트!$C11,'Raw Data'!$A:$A,아이템별차트!$B11,'Raw Data'!$B:$B,아이템별차트!E$2) -> 0 | F11: =COUNTIFS('Raw Data'!$D:$D,아이템별차트!$C11,'Raw Data'!$A:$A,아이템별차트!$B11,'Raw Data'!$B:$B,아이템별차트!F$2) -> 0 | G11: =COUNTIFS('Raw Data'!$D:$D,아이템별차트!$C11,'Raw Data'!$A:$A,아이템별차트!$B11,'Raw Data'!$B:$B,아이템별차트!G$2) -> 0 | H11: =COUNTIFS('Raw Data'!$D:$D,아이템별차트!$C11,'Raw Data'!$A:$A,아이템별차트!$B11,'Raw Data'!$B:$B,아이템별차트!H$2) -> 0 | I11: =COUNTIFS('Raw Data'!$D:$D,아이템별차트!$C11,'Raw Data'!$A:$A,아이템별차트!$B11,'Raw Data'!$B:$B,아이템별차트!I$2) -> 0 | J11: =COUNTIFS('Raw Data'!$D:$D,아이템별차트!$C11,'Raw Data'!$A:$A,아이템별차트!$B11,'Raw Data'!$B:$B,아이템별차트!J$2) -> 0 | K11: =COUNTIFS('Raw Data'!$D:$D,아이템별차트!$C11,'Raw Data'!$A:$A,아이템별차트!$B11,'Raw Data'!$B:$B,아이템별차트!K$2) -> 0 | ... O11: =COUNTIFS('Raw Data'!$D:$D,아이템별차트!$C11,'Raw Data'!$A:$A,아이템별차트!$B11,'Raw Data'!$B:$B,아이템별차트!O$2) -> 0 | P11: =SUM(D11:O11) -> 0
A12: =A11 -> 5 | B12: 2023 | C12: =_xlfn.XLOOKUP($A12,'BACK DATA'!$G:$G,'BACK DATA'!$H:$H) -> Free T4 | D12: =COUNTIFS('Raw Data'!$D:$D,아이템별차트!$C12,'Raw Data'!$A:$A,아이템별차트!$B12,'Raw Data'!$B:$B,아이템별차트!D$2) -> 0 | E12: =COUNTIFS('Raw Data'!$D:$D,아이템별차트!$C12,'Raw Data'!$A:$A,아이템별차트!$B12,'Raw Data'!$B:$B,아이템별차트!E$2) -> 0 | F12: =COUNTIFS('Raw Data'!$D:$D,아이템별차트!$C12,'Raw Data'!$A:$A,아이템별차트!$B12,'Raw Data'!$B:$B,아이템별차트!F$2) -> 1 | G12: =COUNTIFS('Raw Data'!$D:$D,아이템별차트!$C12,'Raw Data'!$A:$A,아이템별차트!$B12,'Raw Data'!$B:$B,아이템별차트!G$2) -> 0 | H12: =COUNTIFS('Raw Data'!$D:$D,아이템별차트!$C12,'Raw Data'!$A:$A,아이템별차트!$B12,'Raw Data'!$B:$B,아이템별차트!H$2) -> 2 | I12: =COUNTIFS('Raw Data'!$D:$D,아이템별차트!$C12,'Raw Data'!$A:$A,아이템별차트!$B12,'Raw Data'!$B:$B,아이템별차트!I$2) -> 1 | J12: =COUNTIFS('Raw Data'!$D:$D,아이템별차트!$C12,'Raw Data'!$A:$A,아이템별차트!$B12,'Raw Data'!$B:$B,아이템별차트!J$2) -> 7 | K12: =COUNTIFS('Raw Data'!$D:$D,아이템별차트!$C12,'Raw Data'!$A:$A,아이템별차트!$B12,'Raw Data'!$B:$B,아이템별차트!K$2) -> 5 | ... O12: =COUNTIFS('Raw Data'!$D:$D,아이템별차트!$C12,'Raw Data'!$A:$A,아이템별차트!$B12,'Raw Data'!$B:$B,아이템별차트!O$2) -> 8 | P12: =SUM(D12:O12) -> 48
A13: =A11+1 -> 6 | B13: 2022 | C13: =_xlfn.XLOOKUP($A13,'BACK DATA'!$G:$G,'BACK DATA'!$H:$H) -> T4 | D13: =COUNTIFS('Raw Data'!$D:$D,아이템별차트!$C13,'Raw Data'!$A:$A,아이템별차트!$B13,'Raw Data'!$B:$B,아이템별차트!D$2) -> 6 | E13: =COUNTIFS('Raw Data'!$D:$D,아이템별차트!$C13,'Raw Data'!$A:$A,아이템별차트!$B13,'Raw Data'!$B:$B,아이템별차트!E$2) -> 3 | F13: =COUNTIFS('Raw Data'!$D:$D,아이템별차트!$C13,'Raw Data'!$A:$A,아이템별차트!$B13,'Raw Data'!$B:$B,아이템별차트!F$2) -> 2 | G13: =COUNTIFS('Raw Data'!$D:$D,아이템별차트!$C13,'Raw Data'!$A:$A,아이템별차트!$B13,'Raw Data'!$B:$B,아이템별차트!G$2) -> 5 | H13: =COUNTIFS('Raw Data'!$D:$D,아이템별차트!$C13,'Raw Data'!$A:$A,아이템별차트!$B13,'Raw Data'!$B:$B,아이템별차트!H$2) -> 1 | I13: =COUNTIFS('Raw Data'!$D:$D,아이템별차트!$C13,'Raw Data'!$A:$A,아이템별차트!$B13,'Raw Data'!$B:$B,아이템별차트!I$2) -> 5 | J13: =COUNTIFS('Raw Data'!$D:$D,아이템별차트!$C13,'Raw Data'!$A:$A,아이템별차트!$B13,'Raw Data'!$B:$B,아이템별차트!J$2) -> 3 | K13: =COUNTIFS('Raw Data'!$D:$D,아이템별차트!$C13,'Raw Data'!$A:$A,아이템별차트!$B13,'Raw Data'!$B:$B,아이템별차트!K$2) -> 3 | ... O13: =COUNTIFS('Raw Data'!$D:$D,아이템별차트!$C13,'Raw Data'!$A:$A,아이템별차트!$B13,'Raw Data'!$B:$B,아이템별차트!O$2) -> 0 | P13: =SUM(D13:O13) -> 41
A14: =A13 -> 6 | B14: 2023 | C14: =_xlfn.XLOOKUP($A14,'BACK DATA'!$G:$G,'BACK DATA'!$H:$H) -> T4 | D14: =COUNTIFS('Raw Data'!$D:$D,아이템별차트!$C14,'Raw Data'!$A:$A,아이템별차트!$B14,'Raw Data'!$B:$B,아이템별차트!D$2) -> 5 | E14: =COUNTIFS('Raw Data'!$D:$D,아이템별차트!$C14,'Raw Data'!$A:$A,아이템별차트!$B14,'Raw Data'!$B:$B,아이템별차트!E$2) -> 4 | F14: =COUNTIFS('Raw Data'!$D:$D,아이템별차트!$C14,'Raw Data'!$A:$A,아이템별차트!$B14,'Raw Data'!$B:$B,아이템별차트!F$2) -> 0 | G14: =COUNTIFS('Raw Data'!$D:$D,아이템별차트!$C14,'Raw Data'!$A:$A,아이템별차트!$B14,'Raw Data'!$B:$B,아이템별차트!G$2) -> 0 | H14: =COUNTIFS('Raw Data'!$D:$D,아이템별차트!$C14,'Raw Data'!$A:$A,아이템별차트!$B14,'Raw Data'!$B:$B,아이템별차트!H$2) -> 2 | I14: =COUNTIFS('Raw Data'!$D:$D,아이템별차트!$C14,'Raw Data'!$A:$A,아이템별차트!$B14,'Raw Data'!$B:$B,아이템별차트!I$2) -> 0 | J14: =COUNTIFS('Raw Data'!$D:$D,아이템별차트!$C14,'Raw Data'!$A:$A,아이템별차트!$B14,'Raw Data'!$B:$B,아이템별차트!J$2) -> 1 | K14: =COUNTIFS('Raw Data'!$D:$D,아이템별차트!$C14,'Raw Data'!$A:$A,아이템별차트!$B14,'Raw Data'!$B:$B,아이템별차트!K$2) -> 1 | ... O14: =COUNTIFS('Raw Data'!$D:$D,아이템별차트!$C14,'Raw Data'!$A:$A,아이템별차트!$B14,'Raw Data'!$B:$B,아이템별차트!O$2) -> 1 | P14: =SUM(D14:O14) -> 27
A15: =A13+1 -> 7 | B15: 2022 | C15: =_xlfn.XLOOKUP($A15,'BACK DATA'!$G:$G,'BACK DATA'!$H:$H) -> D-Dimer | D15: =COUNTIFS('Raw Data'!$D:$D,아이템별차트!$C15,'Raw Data'!$A:$A,아이템별차트!$B15,'Raw Data'!$B:$B,아이템별차트!D$2) -> 1 | E15: =COUNTIFS('Raw Data'!$D:$D,아이템별차트!$C15,'Raw Data'!$A:$A,아이템별차트!$B15,'Raw Data'!$B:$B,아이템별차트!E$2) -> 6 | F15: =COUNTIFS('Raw Data'!$D:$D,아이템별차트!$C15,'Raw Data'!$A:$A,아이템별차트!$B15,'Raw Data'!$B:$B,아이템별차트!F$2) -> 3 | G15: =COUNTIFS('Raw Data'!$D:$D,아이템별차트!$C15,'Raw Data'!$A:$A,아이템별차트!$B15,'Raw Data'!$B:$B,아이템별차트!G$2) -> 2 | H15: =COUNTIFS('Raw Data'!$D:$D,아이템별차트!$C15,'Raw Data'!$A:$A,아이템별차트!$B15,'Raw Data'!$B:$B,아이템별차트!H$2) -> 3 | I15: =COUNTIFS('Raw Data'!$D:$D,아이템별차트!$C15,'Raw Data'!$A:$A,아이템별차트!$B15,'Raw Data'!$B:$B,아이템별차트!I$2) -> 1 | J15: =COUNTIFS('Raw Data'!$D:$D,아이템별차트!$C15,'Raw Data'!$A:$A,아이템별차트!$B15,'Raw Data'!$B:$B,아이템별차트!J$2) -> 5 | K15: =COUNTIFS('Raw Data'!$D:$D,아이템별차트!$C15,'Raw Data'!$A:$A,아이템별차트!$B15,'Raw Data'!$B:$B,아이템별차트!K$2) -> 9 | ... O15: =COUNTIFS('Raw Data'!$D:$D,아이템별차트!$C15,'Raw Data'!$A:$A,아이템별차트!$B15,'Raw Data'!$B:$B,아이템별차트!O$2) -> 0 | P15: =SUM(D15:O15) -> 40
A16: =A15 -> 7 | B16: 2023 | C16: =_xlfn.XLOOKUP($A16,'BACK DATA'!$G:$G,'BACK DATA'!$H:$H) -> D-Dimer | D16: =COUNTIFS('Raw Data'!$D:$D,아이템별차트!$C16,'Raw Data'!$A:$A,아이템별차트!$B16,'Raw Data'!$B:$B,아이템별차트!D$2) -> 6 | E16: =COUNTIFS('Raw Data'!$D:$D,아이템별차트!$C16,'Raw Data'!$A:$A,아이템별차트!$B16,'Raw Data'!$B:$B,아이템별차트!E$2) -> 3 | F16: =COUNTIFS('Raw Data'!$D:$D,아이템별차트!$C16,'Raw Data'!$A:$A,아이템별차트!$B16,'Raw Data'!$B:$B,아이템별차트!F$2) -> 3 | G16: =COUNTIFS('Raw Data'!$D:$D,아이템별차트!$C16,'Raw Data'!$A:$A,아이템별차트!$B16,'Raw Data'!$B:$B,아이템별차트!G$2) -> 1 | H16: =COUNTIFS('Raw Data'!$D:$D,아이템별차트!$C16,'Raw Data'!$A:$A,아이템별차트!$B16,'Raw Data'!$B:$B,아이템별차트!H$2) -> 3 | I16: =COUNTIFS('Raw Data'!$D:$D,아이템별차트!$C16,'Raw Data'!$A:$A,아이템별차트!$B16,'Raw Data'!$B:$B,아이템별차트!I$2) -> 1 | J16: =COUNTIFS('Raw Data'!$D:$D,아이템별차트!$C16,'Raw Data'!$A:$A,아이템별차트!$B16,'Raw Data'!$B:$B,아이템별차트!J$2) -> 3 | K16: =COUNTIFS('Raw Data'!$D:$D,아이템별차트!$C16,'Raw Data'!$A:$A,아이템별차트!$B16,'Raw Data'!$B:$B,아이템별차트!K$2) -> 4 | ... O16: =COUNTIFS('Raw Data'!$D:$D,아이템별차트!$C16,'Raw Data'!$A:$A,아이템별차트!$B16,'Raw Data'!$B:$B,아이템별차트!O$2) -> 1 | P16: =SUM(D16:O16) -> 37
A17: =A15+1 -> 8 | B17: 2022 | C17: =_xlfn.XLOOKUP($A17,'BACK DATA'!$G:$G,'BACK DATA'!$H:$H) -> β-HCG | D17: =COUNTIFS('Raw Data'!$D:$D,아이템별차트!$C17,'Raw Data'!$A:$A,아이템별차트!$B17,'Raw Data'!$B:$B,아이템별차트!D$2) -> 2 | E17: =COUNTIFS('Raw Data'!$D:$D,아이템별차트!$C17,'Raw Data'!$A:$A,아이템별차트!$B17,'Raw Data'!$B:$B,아이템별차트!E$2) -> 0 | F17: =COUNTIFS('Raw Data'!$D:$D,아이템별차트!$C17,'Raw Data'!$A:$A,아이템별차트!$B17,'Raw Data'!$B:$B,아이템별차트!F$2) -> 1 | G17: =COUNTIFS('Raw Data'!$D:$D,아이템별차트!$C17,'Raw Data'!$A:$A,아이템별차트!$B17,'Raw Data'!$B:$B,아이템별차트!G$2) -> 2 | H17: =COUNTIFS('Raw Data'!$D:$D,아이템별차트!$C17,'Raw Data'!$A:$A,아이템별차트!$B17,'Raw Data'!$B:$B,아이템별차트!H$2) -> 1 | I17: =COUNTIFS('Raw Data'!$D:$D,아이템별차트!$C17,'Raw Data'!$A:$A,아이템별차트!$B17,'Raw Data'!$B:$B,아이템별차트!I$2) -> 1 | J17: =COUNTIFS('Raw Data'!$D:$D,아이템별차트!$C17,'Raw Data'!$A:$A,아이템별차트!$B17,'Raw Data'!$B:$B,아이템별차트!J$2) -> 0 | K17: =COUNTIFS('Raw Data'!$D:$D,아이템별차트!$C17,'Raw Data'!$A:$A,아이템별차트!$B17,'Raw Data'!$B:$B,아이템별차트!K$2) -> 0 | ... O17: =COUNTIFS('Raw Data'!$D:$D,아이템별차트!$C17,'Raw Data'!$A:$A,아이템별차트!$B17,'Raw Data'!$B:$B,아이템별차트!O$2) -> 0 | P17: =SUM(D17:O17) -> 9
A18: =A17 -> 8 | B18: 2023 | C18: =_xlfn.XLOOKUP($A18,'BACK DATA'!$G:$G,'BACK DATA'!$H:$H) -> β-HCG | D18: =COUNTIFS('Raw Data'!$D:$D,아이템별차트!$C18,'Raw Data'!$A:$A,아이템별차트!$B18,'Raw Data'!$B:$B,아이템별차트!D$2) -> 3 | E18: =COUNTIFS('Raw Data'!$D:$D,아이템별차트!$C18,'Raw Data'!$A:$A,아이템별차트!$B18,'Raw Data'!$B:$B,아이템별차트!E$2) -> 2 | F18: =COUNTIFS('Raw Data'!$D:$D,아이템별차트!$C18,'Raw Data'!$A:$A,아이템별차트!$B18,'Raw Data'!$B:$B,아이템별차트!F$2) -> 0 | G18: =COUNTIFS('Raw Data'!$D:$D,아이템별차트!$C18,'Raw Data'!$A:$A,아이템별차트!$B18,'Raw Data'!$B:$B,아이템별차트!G$2) -> 1 | H18: =COUNTIFS('Raw Data'!$D:$D,아이템별차트!$C18,'Raw Data'!$A:$A,아이템별차트!$B18,'Raw Data'!$B:$B,아이템별차트!H$2) -> 0 | I18: =COUNTIFS('Raw Data'!$D:$D,아이템별차트!$C18,'Raw Data'!$A:$A,아이템별차트!$B18,'Raw Data'!$B:$B,아이템별차트!I$2) -> 2 | J18: =COUNTIFS('Raw Data'!$D:$D,아이템별차트!$C18,'Raw Data'!$A:$A,아이템별차트!$B18,'Raw Data'!$B:$B,아이템별차트!J$2) -> 3 | K18: =COUNTIFS('Raw Data'!$D:$D,아이템별차트!$C18,'Raw Data'!$A:$A,아이템별차트!$B18,'Raw Data'!$B:$B,아이템별차트!K$2) -> 1 | ... O18: =COUNTIFS('Raw Data'!$D:$D,아이템별차트!$C18,'Raw Data'!$A:$A,아이템별차트!$B18,'Raw Data'!$B:$B,아이템별차트!O$2) -> 0 | P18: =SUM(D18:O18) -> 21
A19: =A17+1 -> 9 | B19: 2022 | C19: =_xlfn.XLOOKUP($A19,'BACK DATA'!$G:$G,'BACK DATA'!$H:$H) -> TSH Plus | D19: =COUNTIFS('Raw Data'!$D:$D,아이템별차트!$C19,'Raw Data'!$A:$A,아이템별차트!$B19,'Raw Data'!$B:$B,아이템별차트!D$2) -> 0 | E19: =COUNTIFS('Raw Data'!$D:$D,아이템별차트!$C19,'Raw Data'!$A:$A,아이템별차트!$B19,'Raw Data'!$B:$B,아이템별차트!E$2) -> 0 | F19: =COUNTIFS('Raw Data'!$D:$D,아이템별차트!$C19,'Raw Data'!$A:$A,아이템별차트!$B19,'Raw Data'!$B:$B,아이템별차트!F$2) -> 0 | G19: =COUNTIFS('Raw Data'!$D:$D,아이템별차트!$C19,'Raw Data'!$A:$A,아이템별차트!$B19,'Raw Data'!$B:$B,아이템별차트!G$2) -> 0 | H19: =COUNTIFS('Raw Data'!$D:$D,아이템별차트!$C19,'Raw Data'!$A:$A,아이템별차트!$B19,'Raw Data'!$B:$B,아이템별차트!H$2) -> 0 | I19: =COUNTIFS('Raw Data'!$D:$D,아이템별차트!$C19,'Raw Data'!$A:$A,아이템별차트!$B19,'Raw Data'!$B:$B,아이템별차트!I$2) -> 0 | J19: =COUNTIFS('Raw Data'!$D:$D,아이템별차트!$C19,'Raw Data'!$A:$A,아이템별차트!$B19,'Raw Data'!$B:$B,아이템별차트!J$2) -> 0 | K19: =COUNTIFS('Raw Data'!$D:$D,아이템별차트!$C19,'Raw Data'!$A:$A,아이템별차트!$B19,'Raw Data'!$B:$B,아이템별차트!K$2) -> 0 | ... O19: =COUNTIFS('Raw Data'!$D:$D,아이템별차트!$C19,'Raw Data'!$A:$A,아이템별차트!$B19,'Raw Data'!$B:$B,아이템별차트!O$2) -> 0 | P19: =SUM(D19:O19) -> 1
A20: =A19 -> 9 | B20: 2023 | C20: =_xlfn.XLOOKUP($A20,'BACK DATA'!$G:$G,'BACK DATA'!$H:$H) -> TSH Plus | D20: =COUNTIFS('Raw Data'!$D:$D,아이템별차트!$C20,'Raw Data'!$A:$A,아이템별차트!$B20,'Raw Data'!$B:$B,아이템별차트!D$2) -> 0 | E20: =COUNTIFS('Raw Data'!$D:$D,아이템별차트!$C20,'Raw Data'!$A:$A,아이템별차트!$B20,'Raw Data'!$B:$B,아이템별차트!E$2) -> 1 | F20: =COUNTIFS('Raw Data'!$D:$D,아이템별차트!$C20,'Raw Data'!$A:$A,아이템별차트!$B20,'Raw Data'!$B:$B,아이템별차트!F$2) -> 2 | G20: =COUNTIFS('Raw Data'!$D:$D,아이템별차트!$C20,'Raw Data'!$A:$A,아이템별차트!$B20,'Raw Data'!$B:$B,아이템별차트!G$2) -> 1 | H20: =COUNTIFS('Raw Data'!$D:$D,아이템별차트!$C20,'Raw Data'!$A:$A,아이템별차트!$B20,'Raw Data'!$B:$B,아이템별차트!H$2) -> 1 | I20: =COUNTIFS('Raw Data'!$D:$D,아이템별차트!$C20,'Raw Data'!$A:$A,아이템별차트!$B20,'Raw Data'!$B:$B,아이템별차트!I$2) -> 2 | J20: =COUNTIFS('Raw Data'!$D:$D,아이템별차트!$C20,'Raw Data'!$A:$A,아이템별차트!$B20,'Raw Data'!$B:$B,아이템별차트!J$2) -> 4 | K20: =COUNTIFS('Raw Data'!$D:$D,아이템별차트!$C20,'Raw Data'!$A:$A,아이템별차트!$B20,'Raw Data'!$B:$B,아이템별차트!K$2) -> 2 | ... O20: =COUNTIFS('Raw Data'!$D:$D,아이템별차트!$C20,'Raw Data'!$A:$A,아이템별차트!$B20,'Raw Data'!$B:$B,아이템별차트!O$2) -> 3 | P20: =SUM(D20:O20) -> 26
A21: =A19+1 -> 10 | B21: 2022 | C21: =_xlfn.XLOOKUP($A21,'BACK DATA'!$G:$G,'BACK DATA'!$H:$H) -> Dengue NS1 Ag | D21: =COUNTIFS('Raw Data'!$D:$D,아이템별차트!$C21,'Raw Data'!$A:$A,아이템별차트!$B21,'Raw Data'!$B:$B,아이템별차트!D$2) -> 0 | E21: =COUNTIFS('Raw Data'!$D:$D,아이템별차트!$C21,'Raw Data'!$A:$A,아이템별차트!$B21,'Raw Data'!$B:$B,아이템별차트!E$2) -> 0 | F21: =COUNTIFS('Raw Data'!$D:$D,아이템별차트!$C21,'Raw Data'!$A:$A,아이템별차트!$B21,'Raw Data'!$B:$B,아이템별차트!F$2) -> 0 | G21: =COUNTIFS('Raw Data'!$D:$D,아이템별차트!$C21,'Raw Data'!$A:$A,아이템별차트!$B21,'Raw Data'!$B:$B,아이템별차트!G$2) -> 0 | H21: =COUNTIFS('Raw Data'!$D:$D,아이템별차트!$C21,'Raw Data'!$A:$A,아이템별차트!$B21,'Raw Data'!$B:$B,아이템별차트!H$2) -> 0 | I21: =COUNTIFS('Raw Data'!$D:$D,아이템별차트!$C21,'Raw Data'!$A:$A,아이템별차트!$B21,'Raw Data'!$B:$B,아이템별차트!I$2) -> 0 | J21: =COUNTIFS('Raw Data'!$D:$D,아이템별차트!$C21,'Raw Data'!$A:$A,아이템별차트!$B21,'Raw Data'!$B:$B,아이템별차트!J$2) -> 1 | K21: =COUNTIFS('Raw Data'!$D:$D,아이템별차트!$C21,'Raw Data'!$A:$A,아이템별차트!$B21,'Raw Data'!$B:$B,아이템별차트!K$2) -> 1 | ... O21: =COUNTIFS('Raw Data'!$D:$D,아이템별차트!$C21,'Raw Data'!$A:$A,아이템별차트!$B21,'Raw Data'!$B:$B,아이템별차트!O$2) -> 0 | P21: =SUM(D21:O21) -> 4
A22: =A21 -> 10 | B22: 2023 | C22: =_xlfn.XLOOKUP($A22,'BACK DATA'!$G:$G,'BACK DATA'!$H:$H) -> Dengue NS1 Ag | D22: =COUNTIFS('Raw Data'!$D:$D,아이템별차트!$C22,'Raw Data'!$A:$A,아이템별차트!$B22,'Raw Data'!$B:$B,아이템별차트!D$2) -> 0 | E22: =COUNTIFS('Raw Data'!$D:$D,아이템별차트!$C22,'Raw Data'!$A:$A,아이템별차트!$B22,'Raw Data'!$B:$B,아이템별차트!E$2) -> 0 | F22: =COUNTIFS('Raw Data'!$D:$D,아이템별차트!$C22,'Raw Data'!$A:$A,아이템별차트!$B22,'Raw Data'!$B:$B,아이템별차트!F$2) -> 0 | G22: =COUNTIFS('Raw Data'!$D:$D,아이템별차트!$C22,'Raw Data'!$A:$A,아이템별차트!$B22,'Raw Data'!$B:$B,아이템별차트!G$2) -> 0 | H22: =COUNTIFS('Raw Data'!$D:$D,아이템별차트!$C22,'Raw Data'!$A:$A,아이템별차트!$B22,'Raw Data'!$B:$B,아이템별차트!H$2) -> 0 | I22: =COUNTIFS('Raw Data'!$D:$D,아이템별차트!$C22,'Raw Data'!$A:$A,아이템별차트!$B22,'Raw Data'!$B:$B,아이템별차트!I$2) -> 1 | J22: =COUNTIFS('Raw Data'!$D:$D,아이템별차트!$C22,'Raw Data'!$A:$A,아이템별차트!$B22,'Raw Data'!$B:$B,아이템별차트!J$2) -> 1 | K22: =COUNTIFS('Raw Data'!$D:$D,아이템별차트!$C22,'Raw Data'!$A:$A,아이템별차트!$B22,'Raw Data'!$B:$B,아이템별차트!K$2) -> 1 | ... O22: =COUNTIFS('Raw Data'!$D:$D,아이템별차트!$C22,'Raw Data'!$A:$A,아이템별차트!$B22,'Raw Data'!$B:$B,아이템별차트!O$2) -> 1 | P22: =SUM(D22:O22) -> 6
A23: =A21+1 -> 11 | B23: 2022 | C23: =_xlfn.XLOOKUP($A23,'BACK DATA'!$G:$G,'BACK DATA'!$H:$H) -> NT-proBNP | D23: =COUNTIFS('Raw Data'!$D:$D,아이템별차트!$C23,'Raw Data'!$A:$A,아이템별차트!$B23,'Raw Data'!$B:$B,아이템별차트!D$2) -> 5 | E23: =COUNTIFS('Raw Data'!$D:$D,아이템별차트!$C23,'Raw Data'!$A:$A,아이템별차트!$B23,'Raw Data'!$B:$B,아이템별차트!E$2) -> 2 | F23: =COUNTIFS('Raw Data'!$D:$D,아이템별차트!$C23,'Raw Data'!$A:$A,아이템별차트!$B23,'Raw Data'!$B:$B,아이템별차트!F$2) -> 0 | G23: =COUNTIFS('Raw Data'!$D:$D,아이템별차트!$C23,'Raw Data'!$A:$A,아이템별차트!$B23,'Raw Data'!$B:$B,아이템별차트!G$2) -> 1 | H23: =COUNTIFS('Raw Data'!$D:$D,아이템별차트!$C23,'Raw Data'!$A:$A,아이템별차트!$B23,'Raw Data'!$B:$B,아이템별차트!H$2) -> 2 | I23: =COUNTIFS('Raw Data'!$D:$D,아이템별차트!$C23,'Raw Data'!$A:$A,아이템별차트!$B23,'Raw Data'!$B:$B,아이템별차트!I$2) -> 0 | J23: =COUNTIFS('Raw Data'!$D:$D,아이템별차트!$C23,'Raw Data'!$A:$A,아이템별차트!$B23,'Raw Data'!$B:$B,아이템별차트!J$2) -> 2 | K23: =COUNTIFS('Raw Data'!$D:$D,아이템별차트!$C23,'Raw Data'!$A:$A,아이템별차트!$B23,'Raw Data'!$B:$B,아이템별차트!K$2) -> 3 | ... O23: =COUNTIFS('Raw Data'!$D:$D,아이템별차트!$C23,'Raw Data'!$A:$A,아이템별차트!$B23,'Raw Data'!$B:$B,아이템별차트!O$2) -> 1 | P23: =SUM(D23:O23) -> 19
A24: =A23 -> 11 | B24: 2023 | C24: =_xlfn.XLOOKUP($A24,'BACK DATA'!$G:$G,'BACK DATA'!$H:$H) -> NT-proBNP | D24: =COUNTIFS('Raw Data'!$D:$D,아이템별차트!$C24,'Raw Data'!$A:$A,아이템별차트!$B24,'Raw Data'!$B:$B,아이템별차트!D$2) -> 4 | E24: =COUNTIFS('Raw Data'!$D:$D,아이템별차트!$C24,'Raw Data'!$A:$A,아이템별차트!$B24,'Raw Data'!$B:$B,아이템별차트!E$2) -> 1 | F24: =COUNTIFS('Raw Data'!$D:$D,아이템별차트!$C24,'Raw Data'!$A:$A,아이템별차트!$B24,'Raw Data'!$B:$B,아이템별차트!F$2) -> 3 | G24: =COUNTIFS('Raw Data'!$D:$D,아이템별차트!$C24,'Raw Data'!$A:$A,아이템별차트!$B24,'Raw Data'!$B:$B,아이템별차트!G$2) -> 0 | H24: =COUNTIFS('Raw Data'!$D:$D,아이템별차트!$C24,'Raw Data'!$A:$A,아이템별차트!$B24,'Raw Data'!$B:$B,아이템별차트!H$2) -> 1 | I24: =COUNTIFS('Raw Data'!$D:$D,아이템별차트!$C24,'Raw Data'!$A:$A,아이템별차트!$B24,'Raw Data'!$B:$B,아이템별차트!I$2) -> 3 | J24: =COUNTIFS('Raw Data'!$D:$D,아이템별차트!$C24,'Raw Data'!$A:$A,아이템별차트!$B24,'Raw Data'!$B:$B,아이템별차트!J$2) -> 1 | K24: =COUNTIFS('Raw Data'!$D:$D,아이템별차트!$C24,'Raw Data'!$A:$A,아이템별차트!$B24,'Raw Data'!$B:$B,아이템별차트!K$2) -> 5 | ... O24: =COUNTIFS('Raw Data'!$D:$D,아이템별차트!$C24,'Raw Data'!$A:$A,아이템별차트!$B24,'Raw Data'!$B:$B,아이템별차트!O$2) -> 5 | P24: =SUM(D24:O24) -> 36
A25: =A23+1 -> 12 | B25: 2022 | C25: =_xlfn.XLOOKUP($A25,'BACK DATA'!$G:$G,'BACK DATA'!$H:$H) -> Calprotectin | D25: =COUNTIFS('Raw Data'!$D:$D,아이템별차트!$C25,'Raw Data'!$A:$A,아이템별차트!$B25,'Raw Data'!$B:$B,아이템별차트!D$2) -> 0 | E25: =COUNTIFS('Raw Data'!$D:$D,아이템별차트!$C25,'Raw Data'!$A:$A,아이템별차트!$B25,'Raw Data'!$B:$B,아이템별차트!E$2) -> 0 | F25: =COUNTIFS('Raw Data'!$D:$D,아이템별차트!$C25,'Raw Data'!$A:$A,아이템별차트!$B25,'Raw Data'!$B:$B,아이템별차트!F$2) -> 0 | G25: =COUNTIFS('Raw Data'!$D:$D,아이템별차트!$C25,'Raw Data'!$A:$A,아이템별차트!$B25,'Raw Data'!$B:$B,아이템별차트!G$2) -> 1 | H25: =COUNTIFS('Raw Data'!$D:$D,아이템별차트!$C25,'Raw Data'!$A:$A,아이템별차트!$B25,'Raw Data'!$B:$B,아이템별차트!H$2) -> 1 | I25: =COUNTIFS('Raw Data'!$D:$D,아이템별차트!$C25,'Raw Data'!$A:$A,아이템별차트!$B25,'Raw Data'!$B:$B,아이템별차트!I$2) -> 0 | J25: =COUNTIFS('Raw Data'!$D:$D,아이템별차트!$C25,'Raw Data'!$A:$A,아이템별차트!$B25,'Raw Data'!$B:$B,아이템별차트!J$2) -> 1 | K25: =COUNTIFS('Raw Data'!$D:$D,아이템별차트!$C25,'Raw Data'!$A:$A,아이템별차트!$B25,'Raw Data'!$B:$B,아이템별차트!K$2) -> 2 | ... O25: =COUNTIFS('Raw Data'!$D:$D,아이템별차트!$C25,'Raw Data'!$A:$A,아이템별차트!$B25,'Raw Data'!$B:$B,아이템별차트!O$2) -> 0 | P25: =SUM(D25:O25) -> 9
A26: =A25 -> 12 | B26: 2023 | C26: =_xlfn.XLOOKUP($A26,'BACK DATA'!$G:$G,'BACK DATA'!$H:$H) -> Calprotectin | D26: =COUNTIFS('Raw Data'!$D:$D,아이템별차트!$C26,'Raw Data'!$A:$A,아이템별차트!$B26,'Raw Data'!$B:$B,아이템별차트!D$2) -> 4 | E26: =COUNTIFS('Raw Data'!$D:$D,아이템별차트!$C26,'Raw Data'!$A:$A,아이템별차트!$B26,'Raw Data'!$B:$B,아이템별차트!E$2) -> 2 | F26: =COUNTIFS('Raw Data'!$D:$D,아이템별차트!$C26,'Raw Data'!$A:$A,아이템별차트!$B26,'Raw Data'!$B:$B,아이템별차트!F$2) -> 0 | G26: =COUNTIFS('Raw Data'!$D:$D,아이템별차트!$C26,'Raw Data'!$A:$A,아이템별차트!$B26,'Raw Data'!$B:$B,아이템별차트!G$2) -> 1 | H26: =COUNTIFS('Raw Data'!$D:$D,아이템별차트!$C26,'Raw Data'!$A:$A,아이템별차트!$B26,'Raw Data'!$B:$B,아이템별차트!H$2) -> 0 | I26: =COUNTIFS('Raw Data'!$D:$D,아이템별차트!$C26,'Raw Data'!$A:$A,아이템별차트!$B26,'Raw Data'!$B:$B,아이템별차트!I$2) -> 0 | J26: =COUNTIFS('Raw Data'!$D:$D,아이템별차트!$C26,'Raw Data'!$A:$A,아이템별차트!$B26,'Raw Data'!$B:$B,아이템별차트!J$2) -> 1 | K26: =COUNTIFS('Raw Data'!$D:$D,아이템별차트!$C26,'Raw Data'!$A:$A,아이템별차트!$B26,'Raw Data'!$B:$B,아이템별차트!K$2) -> 1 | ... O26: =COUNTIFS('Raw Data'!$D:$D,아이템별차트!$C26,'Raw Data'!$A:$A,아이템별차트!$B26,'Raw Data'!$B:$B,아이템별차트!O$2) -> 2 | P26: =SUM(D26:O26) -> 13
A27: =A25+1 -> 13 | B27: 2022 | C27: =_xlfn.XLOOKUP($A27,'BACK DATA'!$G:$G,'BACK DATA'!$H:$H) -> Progesterone | D27: =COUNTIFS('Raw Data'!$D:$D,아이템별차트!$C27,'Raw Data'!$A:$A,아이템별차트!$B27,'Raw Data'!$B:$B,아이템별차트!D$2) -> 0 | E27: =COUNTIFS('Raw Data'!$D:$D,아이템별차트!$C27,'Raw Data'!$A:$A,아이템별차트!$B27,'Raw Data'!$B:$B,아이템별차트!E$2) -> 0 | F27: =COUNTIFS('Raw Data'!$D:$D,아이템별차트!$C27,'Raw Data'!$A:$A,아이템별차트!$B27,'Raw Data'!$B:$B,아이템별차트!F$2) -> 0 | G27: =COUNTIFS('Raw Data'!$D:$D,아이템별차트!$C27,'Raw Data'!$A:$A,아이템별차트!$B27,'Raw Data'!$B:$B,아이템별차트!G$2) -> 1 | H27: =COUNTIFS('Raw Data'!$D:$D,아이템별차트!$C27,'Raw Data'!$A:$A,아이템별차트!$B27,'Raw Data'!$B:$B,아이템별차트!H$2) -> 1 | I27: =COUNTIFS('Raw Data'!$D:$D,아이템별차트!$C27,'Raw Data'!$A:$A,아이템별차트!$B27,'Raw Data'!$B:$B,아이템별차트!I$2) -> 1 | J27: =COUNTIFS('Raw Data'!$D:$D,아이템별차트!$C27,'Raw Data'!$A:$A,아이템별차트!$B27,'Raw Data'!$B:$B,아이템별차트!J$2) -> 3 | K27: =COUNTIFS('Raw Data'!$D:$D,아이템별차트!$C27,'Raw Data'!$A:$A,아이템별차트!$B27,'Raw Data'!$B:$B,아이템별차트!K$2) -> 0 | ... O27: =COUNTIFS('Raw Data'!$D:$D,아이템별차트!$C27,'Raw Data'!$A:$A,아이템별차트!$B27,'Raw Data'!$B:$B,아이템별차트!O$2) -> 0 | P27: =SUM(D27:O27) -> 7
A28: =A27 -> 13 | B28: 2023 | C28: =_xlfn.XLOOKUP($A28,'BACK DATA'!$G:$G,'BACK DATA'!$H:$H) -> Progesterone | D28: =COUNTIFS('Raw Data'!$D:$D,아이템별차트!$C28,'Raw Data'!$A:$A,아이템별차트!$B28,'Raw Data'!$B:$B,아이템별차트!D$2) -> 1 | E28: =COUNTIFS('Raw Data'!$D:$D,아이템별차트!$C28,'Raw Data'!$A:$A,아이템별차트!$B28,'Raw Data'!$B:$B,아이템별차트!E$2) -> 0 | F28: =COUNTIFS('Raw Data'!$D:$D,아이템별차트!$C28,'Raw Data'!$A:$A,아이템별차트!$B28,'Raw Data'!$B:$B,아이템별차트!F$2) -> 4 | G28: =COUNTIFS('Raw Data'!$D:$D,아이템별차트!$C28,'Raw Data'!$A:$A,아이템별차트!$B28,'Raw Data'!$B:$B,아이템별차트!G$2) -> 0 | H28: =COUNTIFS('Raw Data'!$D:$D,아이템별차트!$C28,'Raw Data'!$A:$A,아이템별차트!$B28,'Raw Data'!$B:$B,아이템별차트!H$2) -> 1 | I28: =COUNTIFS('Raw Data'!$D:$D,아이템별차트!$C28,'Raw Data'!$A:$A,아이템별차트!$B28,'Raw Data'!$B:$B,아이템별차트!I$2) -> 0 | J28: =COUNTIFS('Raw Data'!$D:$D,아이템별차트!$C28,'Raw Data'!$A:$A,아이템별차트!$B28,'Raw Data'!$B:$B,아이템별차트!J$2) -> 1 | K28: =COUNTIFS('Raw Data'!$D:$D,아이템별차트!$C28,'Raw Data'!$A:$A,아이템별차트!$B28,'Raw Data'!$B:$B,아이템별차트!K$2) -> 1 | ... O28: =COUNTIFS('Raw Data'!$D:$D,아이템별차트!$C28,'Raw Data'!$A:$A,아이템별차트!$B28,'Raw Data'!$B:$B,아이템별차트!O$2) -> 0 | P28: =SUM(D28:O28) -> 13
