Workbook

Sheet Raw Data
A1: 년 | B1: 접수 월 | C1: 파트구분 | D1: 제품명 | E1: 내용
A2: 2023 | B2: 1 | C2: ichroma | D2: Vitamin D | E2: 사람 | J2: AFIAS | K2: HbA1c | L2: 47
A3: 2023 | B3: 1 | C3: ichroma | D3: Calprotectin | E3: 사람 | J3: AFIAS | K3: TSH | L3: 31
A4: 2023 | B4: 1 | C4: ichroma | D4: 미확인 | E4: 사람 | J4: AFIAS | K4: Free T4 | L4: 27
A5: 2023 | B5: 1 | C5: AFIAS | D5: 미확인 | E5: 사람 | J5: AFIAS | K5: Tn-I Plus | L5: 24
A6: 2023 | B6: 1 | C6: AFIAS | D6: D-Dimer | E6: 사람 | J6: AFIAS | K6: T3 | L6: 22
A7: 2023 | B7: 1 | C7: AFIAS | D7: D-Dimer | E7: 사람 | J7: AFIAS | K7: NT-proBNP | L7: 21
A8: 2023 | B8: 1 | C8: AFIAS | D8: D-Dimer | E8: 사람 | J8: AFIAS | K8: CRP | L8: 19
A9: 2023 | B9: 1 | C9: ichroma | D9: IL-6 | E9: 사람 | J9: AFIAS | K9: D-Dimer | L9: 18
A10: 2023 | B10: 1 | C10: ichroma | D10: β-HCG | E10: 사람 | J10: AFIAS | K10: Vitamin D | L10: 16
A11: 2023 | B11: 1 | C11: ichroma | D11: β-HCG | E11: 사람 | J11: AFIAS | K11: Total β-HCG | L11: 11
A12: 2023 | B12: 1 | C12: ichroma | D12: Progesterone | E12: 사람 | J12: AFIAS | K12: IGRA-TB | L12: 8
A13: 2023 | B13: 1 | C13: ichroma | D13: Testosterone | E13: 사람 | J13: AFIAS | K13: Cardiac Triple | L13: 8
... A158: 2023 | B158: 3 | C158: AFIAS | D158: PSA Plus | E158: 사람 | J158: 분주/건조 | K158: D-Dimer | L158: 0
A159: 2023 | B159: 3 | C159: AFIAS | D159: Vitamin D | E159: 사람
A160: 2023 | B160: 3 | C160: ichroma | D160: HbA1c | E160: 사람
A161: 2023 | B161: 3 | C161: AFIAS | D161: NT-proBNP | E161: 사람
A162: 2023 | B162: 3 | C162: ichroma | D162: D-Dimer | E162: 사람
A163: 2023 | B163: 3 | C163: AFIAS | D163: TSH | E163: 사람
A164: 2023 | B164: 3 | C164: AFIAS | D164: TSH | E164: 사람
A165: 2023 | B165: 3 | C165: ichroma | D165: TSH | E165: 사람
A166: 2023 | B166: 4 | C166: ichroma | D166: PSA | E166: 사람
A167: 2023 | B167: 4 | C167: ichroma | D167: Anti-CCP Plus | E167: 사람
A168: 2023 | B168: 4 | C168: ichroma | D168: Calprotectin | E168: 사람
A169: 2023 | B169: 4 | C169: ichroma | D169: D-Dimer | E169: 사람
A170: 2023 | B170: 4 | C170: ichroma | D170: Vitamin D | E170: 사람
... A1704: 2022 | B1704: 9 | C1704: ichroma | D1704: Vitamin D | E1704: 사람

Sheet 파트별 아이템별 차트
A2: NO | B2: 구분 | C2: 년도 | D2: 아이템명 | E2: 1 | F2: 2 | G2: 3 | H2: 4 | I2: 5 | J2: 6 | K2: 7 | L2: 8 | M2: 9 | N2: 10 | O2: 11 | P2: 12 | Q2: 합계
A3: 14 | B3: =_xlfn.XLOOKUP($A3,'BACK DATA'!$A:$A,'BACK DATA'!$B:$B) -> ichroma | C3: 2022 | D3: =_xlfn.XLOOKUP($A3,'BACK DATA'!$A:$A,'BACK DATA'!$C:$C) -> Microalbumin | E3: =COUNTIFS('Raw Data'!$C:$C,'파트별 아이템별 차트'!$B3,'Raw Data'!$D:$D,'파트별 아이템별 차트'!$D3,'Raw Data'!$A:$A,'파트별 아이템별 차트'!$C3,'Raw Data'!$B:$B,'파트별 아이템별 차트'!E$2) -> 0 | F3: =COUNTIFS('Raw Data'!$C:$C,'파트별 아이템별 차트'!$B3,'Raw Data'!$D:$D,'파트별 아이템별 차트'!$D3,'Raw Data'!$A:$A,'파트별 아이템별 차트'!$C3,'Raw Data'!$B:$B,'파트별 아이템별 차트'!F$2) -> 0 | G3: =COUNTIFS('Raw Data'!$C:$C,'파트별 아이템별 차트'!$B3,'Raw Data'!$D:$D,'파트별 아이템별 차트'!$D3,'Raw Data'!$A:$A,'파트별 아이템별 차트'!$C3,'Raw Data'!$B:$B,'파트별 아이템별 차트'!G$2) -> 0 | H3: =COUNTIFS('Raw Data'!$C:$C,'파트별 아이템별 차트'!$B3,'Raw Data'!$D:$D,'파트별 아이템별 차트'!$D3,'Raw Data'!$A:$A,'파트별 아이템별 차트'!$C3,'Raw Data'!$B:$B,'파트별 아이템별 차트'!H$2) -> 0 | I3: =COUNTIFS('Raw Data'!$C:$C,'파트별 아이템별 차트'!$B3,'Raw Data'!$D:$D,'파트별 아이템별 차트'!$D3,'Raw Data'!$A:$A,'파트별 아이템별 차트'!$C3,'Raw Data'!$B:$B,'파트별 아이템별 차트'!I$2) -> 0 | J3: =COUNTIFS('Raw Data'!$C:$C,'파트별 아이템별 차트'!$B3,'Raw Data'!$D:$D,'파트별 아이템별 차트'!$D3,'Raw Data'!$A:$A,'파트별 아이템별 차트'!$C3,'Raw Data'!$B:$B,'파트별 아이템별 차트'!J$2) -> 1 | K3: =COUNTIFS('Raw Data'!$C:$C,'파트별 아이템별 차트'!$B3,'Raw Data'!$D:$D,'파트별 아이템별 차트'!$D3,'Raw Data'!$A:$A,'파트별 아이템별 차트'!$C3,'Raw Data'!$B:$B,'파트별 아이템별 차트'!K$2) -> 0 | L3: =COUNTIFS('Raw Data'!$C:$C,'파트별 아이템별 차트'!$B3,'Raw Data'!$D:$D,'파트별 아이템별 차트'!$D3,'Raw Data'!$A:$A,'파트별 아이템별 차트'!$C3,'Raw Data'!$B:$B,'파트별 아이템별 차트'!L$2) -> 0 | ... P3: =COUNTIFS('Raw Data'!$C:$C,'파트별 아이템별 차트'!$B3,'Raw Data'!$D:$D,'파트별 아이템별 차트'!$D3,'Raw Data'!$A:$A,'파트별 아이템별 차트'!$C3,'Raw Data'!$B:$B,'파트별 아이템별 차트'!P$2) -> 0 | Q3: =SUM(E3:P3) -> 1
A4: =A3 -> 14 | B4: =_xlfn.XLOOKUP($A4,'BACK DATA'!$A:$A,'BACK DATA'!$B:$B) -> ichroma | C4: 2023 | D4: =_xlfn.XLOOKUP($A4,'BACK DATA'!$A:$A,'BACK DATA'!$C:$C) -> Microalbumin | E4: =COUNTIFS('Raw Data'!$C:$C,'파트별 아이템별 차트'!$B4,'Raw Data'!$D:$D,'파트별 아이템별 차트'!$D4,'Raw Data'!$A:$A,'파트별 아이템별 차트'!$C4,'Raw Data'!$B:$B,'파트별 아이템별 차트'!E$2) -> 0 | F4: =COUNTIFS('Raw Data'!$C:$C,'파트별 아이템별 차트'!$B4,'Raw Data'!$D:$D,'파트별 아이템별 차트'!$D4,'Raw Data'!$A:$A,'파트별 아이템별 차트'!$C4,'Raw Data'!$B:$B,'파트별 아이템별 차트'!F$2) -> 1 | G4: =COUNTIFS('Raw Data'!$C:$C,'파트별 아이템별 차트'!$B4,'Raw Data'!$D:$D,'파트별 아이템별 차트'!$D4,'Raw Data'!$A:$A,'파트별 아이템별 차트'!$C4,'Raw Data'!$B:$B,'파트별 아이템별 차트'!G$2) -> 0 | H4: =COUNTIFS('Raw Data'!$C:$C,'파트별 아이템별 차트'!$B4,'Raw Data'!$D:$D,'파트별 아이템별 차트'!$D4,'Raw Data'!$A:$A,'파트별 아이템별 차트'!$C4,'Raw Data'!$B:$B,'파트별 아이템별 차트'!H$2) -> 0 | I4: =COUNTIFS('Raw Data'!$C:$C,'파트별 아이템별 차트'!$B4,'Raw Data'!$D:$D,'파트별 아이템별 차트'!$D4,'Raw Data'!$A:$A,'파트별 아이템별 차트'!$C4,'Raw Data'!$B:$B,'파트별 아이템별 차트'!I$2) -> 1 | J4: =COUNTIFS('Raw Data'!$C:$C,'파트별 아이템별 차트'!$B4,'Raw Data'!$D:$D,'파트별 아이템별 차트'!$D4,'Raw Data'!$A:$A,'파트별 아이템별 차트'!$C4,'Raw Data'!$B:$B,'파트별 아이템별 차트'!J$2) -> 0 | K4: =COUNTIFS('Raw Data'!$C:$C,'파트별 아이템별 차트'!$B4,'Raw Data'!$D:$D,'파트별 아이템별 차트'!$D4,'Raw Data'!$A:$A,'파트별 아이템별 차트'!$C4,'Raw Data'!$B:$B,'파트별 아이템별 차트'!K$2) -> 0 | L4: =COUNTIFS('Raw Data'!$C:$C,'파트별 아이템별 차트'!$B4,'Raw Data'!$D:$D,'파트별 아이템별 차트'!$D4,'Raw Data'!$A:$A,'파트별 아이템별 차트'!$C4,'Raw Data'!$B:$B,'파트별 아이템별 차트'!L$2) -> 3 | ... P4: =COUNTIFS('Raw Data'!$C:$C,'파트별 아이템별 차트'!$B4,'Raw Data'!$D:$D,'파트별 아이템별 차트'!$D4,'Raw Data'!$A:$A,'파트별 아이템별 차트'!$C4,'Raw Data'!$B:$B,'파트별 아이템별 차트'!P$2) -> 1 | Q4: =SUM(E4:P4) -> 13
A5: =A1+1 -> 1 | B5: =_xlfn.XLOOKUP($A5,'BACK DATA'!$A:$A,'BACK DATA'!$B:$B) -> ichroma | C5: 2022 | D5: =_xlfn.XLOOKUP($A5,'BACK DATA'!$A:$A,'BACK DATA'!$C:$C) -> HbA1c | E5: =COUNTIFS('Raw Data'!$C:$C,'파트별 아이템별 차트'!$B5,'Raw Data'!$D:$D,'파트별 아이템별 차트'!$D5,'Raw Data'!$A:$A,'파트별 아이템별 차트'!$C5,'Raw Data'!$B:$B,'파트별 아이템별 차트'!E$2) -> 7 | F5: =COUNTIFS('Raw Data'!$C:$C,'파트별 아이템별 차트'!$B5,'Raw Data'!$D:$D,'파트별 아이템별 차트'!$D5,'Raw Data'!$A:$A,'파트별 아이템별 차트'!$C5,'Raw Data'!$B:$B,'파트별 아이템별 차트'!F$2) -> 3 | G5: =COUNTIFS('Raw Data'!$C:$C,'파트별 아이템별 차트'!$B5,'Raw Data'!$D:$D,'파트별 아이템별 차트'!$D5,'Raw Data'!$A:$A,'파트별 아이템별 차트'!$C5,'Raw Data'!$B:$B,'파트별 아이템별 차트'!G$2) -> 3 | H5: =COUNTIFS('Raw Data'!$C:$C,'파트별 아이템별 차트'!$B5,'Raw Data'!$D:$D,'파트별 아이템별 차트'!$D5,'Raw Data'!$A:$A,'파트별 아이템별 차트'!$C5,'Raw Data'!$B:$B,'파트별 아이템별 차트'!H$2) -> 2 | I5: =COUNTIFS('Raw Data'!$C:$C,'파트별 아이템별 차트'!$B5,'Raw Data'!$D:$D,'파트별 아이템별 차트'!$D5,'Raw Data'!$A:$A,'파트별 아이템별 차트'!$C5,'Raw Data'!$B:$B,'파트별 아이템별 차트'!I$2) -> 5 | J5: =COUNTIFS('Raw Data'!$C:$C,'파트별 아이템별 차트'!$B5,'Raw Data'!$D:$D,'파트별 아이템별 차트'!$D5,'Raw Data'!$A:$A,'파트별 아이템별 차트'!$C5,'Raw Data'!$B:$B,'파트별 아이템별 차트'!J$2) -> 6 | K5: =COUNTIFS('Raw Data'!$C:$C,'파트별 아이템별 차트'!$B5,'Raw Data'!$D:$D,'파트별 아이템별 차트'!$D5,'Raw Data'!$A:$A,'파트별 아이템별 차트'!$C5,'Raw Data'!$B:$B,'파트별 아이템별 차트'!K$2) -> 9 | L5: =COUNTIFS('Raw Data'!$C:$C,'파트별 아이템별 차트'!$B5,'Raw Data'!$D:$D,'파트별 아이템별 차트'!$D5,'Raw Data'!$A:$A,'파트별 아이템별 차트'!$C5,'Raw Data'!$B:$B,'파트별 아이템별 차트'!L$2) -> 3 | ... P5: =COUNTIFS('Raw Data'!$C:$C,'파트별 아이템별 차트'!$B5,'Raw Data'!$D:$D,'파트별 아이템별 차트'!$D5,'Raw Data'!$A:$A,'파트별 아이템별 차트'!$C5,'Raw Data'!$B:$B,'파트별 아이템별 차트'!P$2) -> 7 | Q5: =SUM(E5:P5) -> 72
A6: =A5 -> 1 | B6: =_xlfn.XLOOKUP($A6,'BACK DATA'!$A:$A,'BACK DATA'!$B:$B) -> ichroma | C6: 2023 | D6: =_xlfn.XLOOKUP($A6,'BACK DATA'!$A:$A,'BACK DATA'!$C:$C) -> HbA1c | E6: =COUNTIFS('Raw Data'!$C:$C,'파트별 아이템별 차트'!$B6,'Raw Data'!$D:$D,'파트별 아이템별 차트'!$D6,'Raw Data'!$A:$A,'파트별 아이템별 차트'!$C6,'Raw Data'!$B:$B,'파트별 아이템별 차트'!E$2) -> 8 | F6: =COUNTIFS('Raw Data'!$C:$C,'파트별 아이템별 차트'!$B6,'Raw Data'!$D:$D,'파트별 아이템별 차트'!$D6,'Raw Data'!$A:$A,'파트별 아이템별 차트'!$C6,'Raw Data'!$B:$B,'파트별 아이템별 차트'!F$2) -> 9 | G6: =COUNTIFS('Raw Data'!$C:$C,'파트별 아이템별 차트'!$B6,'Raw Data'!$D:$D,'파트별 아이템별 차트'!$D6,'Raw Data'!$A:$A,'파트별 아이템별 차트'!$C6,'Raw Data'!$B:$B,'파트별 아이템별 차트'!G$2) -> 7 | H6: =COUNTIFS('Raw Data'!$C:$C,'파트별 아이템별 차트'!$B6,'Raw Data'!$D:$D,'파트별 아이템별 차트'!$D6,'Raw Data'!$A:$A,'파트별 아이템별 차트'!$C6,'Raw Data'!$B:$B,'파트별 아이템별 차트'!H$2) -> 2 | I6: =COUNTIFS('Raw Data'!$C:$C,'파트별 아이템별 차트'!$B6,'Raw Data'!$D:$D,'파트별 아이템별 차트'!$D6,'Raw Data'!$A:$A,'파트별 아이템별 차트'!$C6,'Raw Data'!$B:$B,'파트별 아이템별 차트'!I$2) -> 8 | J6: =COUNTIFS('Raw Data'!$C:$C,'파트별 아이템별 차트'!$B6,'Raw Data'!$D:$D,'파트별 아이템별 차트'!$D6,'Raw Data'!$A:$A,'파트별 아이템별 차트'!$C6,'Raw Data'!$B:$B,'파트별 아이템별 차트'!J$2) -> 5 | K6: =COUNTIFS('Raw Data'!$C:$C,'파트별 아이템별 차트'!$B6,'Raw Data'!$D:$D,'파트별 아이템별 차트'!$D6,'Raw Data'!$A:$A,'파트별 아이템별 차트'!$C6,'Raw Data'!$B:$B,'파트별 아이템별 차트'!K$2) -> 3 | L6: =COUNTIFS('Raw Data'!$C:$C,'파트별 아이템별 차트'!$B6,'Raw Data'!$D:$D,'파트별 아이템별 차트'!$D6,'Raw Data'!$A:$A,'파트별 아이템별 차트'!$C6,'Raw Data'!$B:$B,'파트별 아이템별 차트'!L$2) -> 4 | ... P6: =COUNTIFS('Raw Data'!$C:$C,'파트별 아이템별 차트'!$B6,'Raw Data'!$D:$D,'파트별 아이템별 차트'!$D6,'Raw Data'!$A:$A,'파트별 아이템별 차트'!$C6,'Raw Data'!$B:$B,'파트별 아이템별 차트'!P$2) -> 4 | Q6: =SUM(E6:P6) -> 91
A7: =A5+1 -> 2 | B7: =_xlfn.XLOOKUP($A7,'BACK DATA'!$A:$A,'BACK DATA'!$B:$B) -> ichroma | C7: 2022 | D7: =_xlfn.XLOOKUP($A7,'BACK DATA'!$A:$A,'BACK DATA'!$C:$C) -> T3 | E7: =COUNTIFS('Raw Data'!$C:$C,'파트별 아이템별 차트'!$B7,'Raw Data'!$D:$D,'파트별 아이템별 차트'!$D7,'Raw Data'!$A:$A,'파트별 아이템별 차트'!$C7,'Raw Data'!$B:$B,'파트별 아이템별 차트'!E$2) -> 4 | F7: =COUNTIFS('Raw Data'!$C:$C,'파트별 아이템별 차트'!$B7,'Raw Data'!$D:$D,'파트별 아이템별 차트'!$D7,'Raw Data'!$A:$A,'파트별 아이템별 차트'!$C7,'Raw Data'!$B:$B,'파트별 아이템별 차트'!F$2) -> 1 | G7: =COUNTIFS('Raw Data'!$C:$C,'파트별 아이템별 차트'!$B7,'Raw Data'!$D:$D,'파트별 아이템별 차트'!$D7,'Raw Data'!$A:$A,'파트별 아이템별 차트'!$C7,'Raw Data'!$B:$B,'파트별 아이템별 차트'!G$2) -> 1 | H7: =COUNTIFS('Raw Data'!$C:$C,'파트별 아이템별 차트'!$B7,'Raw Data'!$D:$D,'파트별 아이템별 차트'!$D7,'Raw Data'!$A:$A,'파트별 아이템별 차트'!$C7,'Raw Data'!$B:$B,'파트별 아이템별 차트'!H$2) -> 2 | I7: =COUNTIFS('Raw Data'!$C:$C,'파트별 아이템별 차트'!$B7,'Raw Data'!$D:$D,'파트별 아이템별 차트'!$D7,'Raw Data'!$A:$A,'파트별 아이템별 차트'!$C7,'Raw Data'!$B:$B,'파트별 아이템별 차트'!I$2) -> 3 | J7: =COUNTIFS('Raw Data'!$C:$C,'파트별 아이템별 차트'!$B7,'Raw Data'!$D:$D,'파트별 아이템별 차트'!$D7,'Raw Data'!$A:$A,'파트별 아이템별 차트'!$C7,'Raw Data'!$B:$B,'파트별 아이템별 차트'!J$2) -> 3 | K7: =COUNTIFS('Raw Data'!$C:$C,'파트별 아이템별 차트'!$B7,'Raw Data'!$D:$D,'파트별 아이템별 차트'!$D7,'Raw Data'!$A:$A,'파트별 아이템별 차트'!$C7,'Raw Data'!$B:$B,'파트별 아이템별 차트'!K$2) -> 3 | L7: =COUNTIFS('Raw Data'!$C:$C,'파트별 아이템별 차트'!$B7,'Raw Data'!$D:$D,'파트별 아이템별 차트'!$D7,'Raw Data'!$A:$A,'파트별 아이템별 차트'!$C7,'Raw Data'!$B:$B,'파트별 아이템별 차트'!L$2) -> 0 | ... P7: =COUNTIFS('Raw Data'!$C:$C,'파트별 아이템별 차트'!$B7,'Raw Data'!$D:$D,'파트별 아이템별 차트'!$D7,'Raw Data'!$A:$A,'파트별 아이템별 차트'!$C7,'Raw Data'!$B:$B,'파트별 아이템별 차트'!P$2) -> 0 | Q7: =SUM(E7:P7) -> 23
A8: =A7 -> 2 | B8: =_xlfn.XLOOKUP($A8,'BACK DATA'!$A:$A,'BACK DATA'!$B:$B) -> ichroma | C8: 2023 | D8: =_xlfn.XLOOKUP($A8,'BACK DATA'!$A:$A,'BACK DATA'!$C:$C) -> T3 | E8: =COUNTIFS('Raw Data'!$C:$C,'파트별 아이템별 차트'!$B8,'Raw Data'!$D:$D,'파트별 아이템별 차트'!$D8,'Raw Data'!$A:$A,'파트별 아이템별 차트'!$C8,'Raw Data'!$B:$B,'파트별 아이템별 차트'!E$2) -> 0 | F8: =COUNTIFS('Raw Data'!$C:$C,'파트별 아이템별 차트'!$B8,'Raw Data'!$D:$D,'파트별 아이템별 차트'!$D8,'Raw Data'!$A:$A,'파트별 아이템별 차트'!$C8,'Raw Data'!$B:$B,'파트별 아이템별 차트'!F$2) -> 1 | G8: =COUNTIFS('Raw Data'!$C:$C,'파트별 아이템별 차트'!$B8,'Raw Data'!$D:$D,'파트별 아이템별 차트'!$D8,'Raw Data'!$A:$A,'파트별 아이템별 차트'!$C8,'Raw Data'!$B:$B,'파트별 아이템별 차트'!G$2) -> 2 | H8: =COUNTIFS('Raw Data'!$C:$C,'파트별 아이템별 차트'!$B8,'Raw Data'!$D:$D,'파트별 아이템별 차트'!$D8,'Raw Data'!$A:$A,'파트별 아이템별 차트'!$C8,'Raw Data'!$B:$B,'파트별 아이템별 차트'!H$2) -> 2 | I8: =COUNTIFS('Raw Data'!$C:$C,'파트별 아이템별 차트'!$B8,'Raw Data'!$D:$D,'파트별 아이템별 차트'!$D8,'Raw Data'!$A:$A,'파트별 아이템별 차트'!$C8,'Raw Data'!$B:$B,'파트별 아이템별 차트'!I$2) -> 4 | J8: =COUNTIFS('Raw Data'!$C:$C,'파트별 아이템별 차트'!$B8,'Raw Data'!$D:$D,'파트별 아이템별 차트'!$D8,'Raw Data'!$A:$A,'파트별 아이템별 차트'!$C8,'Raw Data'!$B:$B,'파트별 아이템별 차트'!J$2) -> 2 | K8: =COUNTIFS('Raw Data'!$C:$C,'파트별 아이템별 차트'!$B8,'Raw Data'!$D:$D,'파트별 아이템별 차트'!$D8,'Raw Data'!$A:$A,'파트별 아이템별 차트'!$C8,'Raw Data'!$B:$B,'파트별 아이템별 차트'!K$2) -> 12 | L8: =COUNTIFS('Raw Data'!$C:$C,'파트별 아이템별 차트'!$B8,'Raw Data'!$D:$D,'파트별 아이템별 차트'!$D8,'Raw Data'!$A:$A,'파트별 아이템별 차트'!$C8,'Raw Data'!$B:$B,'파트별 아이템별 차트'!L$2) -> 10 | ... P8: =COUNTIFS('Raw Data'!$C:$C,'파트별 아이템별 차트'!$B8,'Raw Data'!$D:$D,'파트별 아이템별 차트'!$D8,'Raw Data'!$A:$A,'파트별 아이템별 차트'!$C8,'Raw Data'!$B:$B,'파트별 아이템별 차트'!P$2) -> 15 | Q8: =SUM(E8:P8) -> 63
A9: =A7+1 -> 3 | B9: =_xlfn.XLOOKUP($A9,'BACK DATA'!$A:$A,'BACK DATA'!$B:$B) -> ichroma | C9: 2022 | D9: =_xlfn.XLOOKUP($A9,'BACK DATA'!$A:$A,'BACK DATA'!$C:$C) -> TSH | E9: =COUNTIFS('Raw Data'!$C:$C,'파트별 아이템별 차트'!$B9,'Raw Data'!$D:$D,'파트별 아이템별 차트'!$D9,'Raw Data'!$A:$A,'파트별 아이템별 차트'!$C9,'Raw Data'!$B:$B,'파트별 아이템별 차트'!E$2) -> 1 | F9: =COUNTIFS('Raw Data'!$C:$C,'파트별 아이템별 차트'!$B9,'Raw Data'!$D:$D,'파트별 아이템별 차트'!$D9,'Raw Data'!$A:$A,'파트별 아이템별 차트'!$C9,'Raw Data'!$B:$B,'파트별 아이템별 차트'!F$2) -> 3 | G9: =COUNTIFS('Raw Data'!$C:$C,'파트별 아이템별 차트'!$B9,'Raw Data'!$D:$D,'파트별 아이템별 차트'!$D9,'Raw Data'!$A:$A,'파트별 아이템별 차트'!$C9,'Raw Data'!$B:$B,'파트별 아이템별 차트'!G$2) -> 2 | H9: =COUNTIFS('Raw Data'!$C:$C,'파트별 아이템별 차트'!$B9,'Raw Data'!$D:$D,'파트별 아이템별 차트'!$D9,'Raw Data'!$A:$A,'파트별 아이템별 차트'!$C9,'Raw Data'!$B:$B,'파트별 아이템별 차트'!H$2) -> 1 | I9: =COUNTIFS('Raw Data'!$C:$C,'파트별 아이템별 차트'!$B9,'Raw Data'!$D:$D,'파트별 아이템별 차트'!$D9,'Raw Data'!$A:$A,'파트별 아이템별 차트'!$C9,'Raw Data'!$B:$B,'파트별 아이템별 차트'!I$2) -> 5 | J9: =COUNTIFS('Raw Data'!$C:$C,'파트별 아이템별 차트'!$B9,'Raw Data'!$D:$D,'파트별 아이템별 차트'!$D9,'Raw Data'!$A:$A,'파트별 아이템별 차트'!$C9,'Raw Data'!$B:$B,'파트별 아이템별 차트'!J$2) -> 5 | K9: =COUNTIFS('Raw Data'!$C:$C,'파트별 아이템별 차트'!$B9,'Raw Data'!$D:$D,'파트별 아이템별 차트'!$D9,'Raw Data'!$A:$A,'파트별 아이템별 차트'!$C9,'Raw Data'!$B:$B,'파트별 아이템별 차트'!K$2) -> 4 | L9: =COUNTIFS('Raw Data'!$C:$C,'파트별 아이템별 차트'!$B9,'Raw Data'!$D:$D,'파트별 아이템별 차트'!$D9,'Raw Data'!$A:$A,'파트별 아이템별 차트'!$C9,'Raw Data'!$B:$B,'파트별 아이템별 차트'!L$2) -> 1 | ... P9: =COUNTIFS('Raw Data'!$C:$C,'파트별 아이템별 차트'!$B9,'Raw Data'!$D:$D,'파트별 아이템별 차트'!$D9,'Raw Data'!$A:$A,'파트별 아이템별 차트'!$C9,'Raw Data'!$B:$B,'파트별 아이템별 차트'!P$2) -> 1 | Q9: =SUM(E9:P9) -> 33
A10: =A9 -> 3 | B10: =_xlfn.XLOOKUP($A10,'BACK DATA'!$A:$A,'BACK DATA'!$B:$B) -> ichroma | C10: 2023 | D10: =_xlfn.XLOOKUP($A10,'BACK DATA'!$A:$A,'BACK DATA'!$C:$C) -> TSH | E10: =COUNTIFS('Raw Data'!$C:$C,'파트별 아이템별 차트'!$B10,'Raw Data'!$D:$D,'파트별 아이템별 차트'!$D10,'Raw Data'!$A:$A,'파트별 아이템별 차트'!$C10,'Raw Data'!$B:$B,'파트별 아이템별 차트'!E$2) -> 1 | F10: =COUNTIFS('Raw Data'!$C:$C,'파트별 아이템별 차트'!$B10,'Raw Data'!$D:$D,'파트별 아이템별 차트'!$D10,'Raw Data'!$A:$A,'파트별 아이템별 차트'!$C10,'Raw Data'!$B:$B,'파트별 아이템별 차트'!F$2) -> 3 | G10: =COUNTIFS('Raw Data'!$C:$C,'파트별 아이템별 차트'!$B10,'Raw Data'!$D:$D,'파트별 아이템별 차트'!$D10,'Raw Data'!$A:$A,'파트별 아이템별 차트'!$C10,'Raw Data'!$B:$B,'파트별 아이템별 차트'!G$2) -> 3 | H10: =COUNTIFS('Raw Data'!$C:$C,'파트별 아이템별 차트'!$B10,'Raw Data'!$D:$D,'파트별 아이템별 차트'!$D10,'Raw Data'!$A:$A,'파트별 아이템별 차트'!$C10,'Raw Data'!$B:$B,'파트별 아이템별 차트'!H$2) -> 1 | I10: =COUNTIFS('Raw Data'!$C:$C,'파트별 아이템별 차트'!$B10,'Raw Data'!$D:$D,'파트별 아이템별 차트'!$D10,'Raw Data'!$A:$A,'파트별 아이템별 차트'!$C10,'Raw Data'!$B:$B,'파트별 아이템별 차트'!I$2) -> 9 | J10: =COUNTIFS('Raw Data'!$C:$C,'파트별 아이템별 차트'!$B10,'Raw Data'!$D:$D,'파트별 아이템별 차트'!$D10,'Raw Data'!$A:$A,'파트별 아이템별 차트'!$C10,'Raw Data'!$B:$B,'파트별 아이템별 차트'!J$2) -> 1 | K10: =COUNTIFS('Raw Data'!$C:$C,'파트별 아이템별 차트'!$B10,'Raw Data'!$D:$D,'파트별 아이템별 차트'!$D10,'Raw Data'!$A:$A,'파트별 아이템별 차트'!$C10,'Raw Data'!$B:$B,'파트별 아이템별 차트'!K$2) -> 4 | L10: =COUNTIFS('Raw Data'!$C:$C,'파트별 아이템별 차트'!$B10,'Raw Data'!$D:$D,'파트별 아이템별 차트'!$D10,'Raw Data'!$A:$A,'파트별 아이템별 차트'!$C10,'Raw Data'!$B:$B,'파트별 아이템별 차트'!L$2) -> 1 | ... P10: =COUNTIFS('Raw Data'!$C:$C,'파트별 아이템별 차트'!$B10,'Raw Data'!$D:$D,'파트별 아이템별 차트'!$D10,'Raw Data'!$A:$A,'파트별 아이템별 차트'!$C10,'Raw Data'!$B:$B,'파트별 아이템별 차트'!P$2) -> 13 | Q10: =SUM(E10:P10) -> 50
A11: =A9+1 -> 4 | B11: =_xlfn.XLOOKUP($A11,'BACK DATA'!$A:$A,'BACK DATA'!$B:$B) -> ichroma | C11: 2022 | D11: =_xlfn.XLOOKUP($A11,'BACK DATA'!$A:$A,'BACK DATA'!$C:$C) -> Vitamin D | E11: =COUNTIFS('Raw Data'!$C:$C,'파트별 아이템별 차트'!$B11,'Raw Data'!$D:$D,'파트별 아이템별 차트'!$D11,'Raw Data'!$A:$A,'파트별 아이템별 차트'!$C11,'Raw Data'!$B:$B,'파트별 아이템별 차트'!E$2) -> 3 | F11: =COUNTIFS('Raw Data'!$C:$C,'파트별 아이템별 차트'!$B11,'Raw Data'!$D:$D,'파트별 아이템별 차트'!$D11,'Raw Data'!$A:$A,'파트별 아이템별 차트'!$C11,'Raw Data'!$B:$B,'파트별 아이템별 차트'!F$2) -> 2 | G11: =COUNTIFS('Raw Data'!$C:$C,'파트별 아이템별 차트'!$B11,'Raw Data'!$D:$D,'파트별 아이템별 차트'!$D11,'Raw Data'!$A:$A,'파트별 아이템별 차트'!$C11,'Raw Data'!$B:$B,'파트별 아이템별 차트'!G$2) -> 0 | H11: =COUNTIFS('Raw Data'!$C:$C,'파트별 아이템별 차트'!$B11,'Raw Data'!$D:$D,'파트별 아이템별 차트'!$D11,'Raw Data'!$A:$A,'파트별 아이템별 차트'!$C11,'Raw Data'!$B:$B,'파트별 아이템별 차트'!H$2) -> 0 | I11: =COUNTIFS('Raw Data'!$C:$C,'파트별 아이템별 차트'!$B11,'Raw Data'!$D:$D,'파트별 아이템별 차트'!$D11,'Raw Data'!$A:$A,'파트별 아이템별 차트'!$C11,'Raw Data'!$B:$B,'파트별 아이템별 차트'!I$2) -> 1 | J11: =COUNTIFS('Raw Data'!$C:$C,'파트별 아이템별 차트'!$B11,'Raw Data'!$D:$D,'파트별 아이템별 차트'!$D11,'Raw Data'!$A:$A,'파트별 아이템별 차트'!$C11,'Raw Data'!$B:$B,'파트별 아이템별 차트'!J$2) -> 0 | K11: =COUNTIFS('Raw Data'!$C:$C,'파트별 아이템별 차트'!$B11,'Raw Data'!$D:$D,'파트별 아이템별 차트'!$D11,'Raw Data'!$A:$A,'파트별 아이템별 차트'!$C11,'Raw Data'!$B:$B,'파트별 아이템별 차트'!K$2) -> 3 | L11: =COUNTIFS('Raw Data'!$C:$C,'파트별 아이템별 차트'!$B11,'Raw Data'!$D:$D,'파트별 아이템별 차트'!$D11,'Raw Data'!$A:$A,'파트별 아이템별 차트'!$C11,'Raw Data'!$B:$B,'파트별 아이템별 차트'!L$2) -> 3 | ... P11: =COUNTIFS('Raw Data'!$C:$C,'파트별 아이템별 차트'!$B11,'Raw Data'!$D:$D,'파트별 아이템별 차트'!$D11,'Raw Data'!$A:$A,'파트별 아이템별 차트'!$C11,'Raw Data'!$B:$B,'파트별 아이템별 차트'!P$2) -> 3 | Q11: =SUM(E11:P11) -> 24
A12: =A11 -> 4 | B12: =_xlfn.XLOOKUP($A12,'BACK DATA'!$A:$A,'BACK DATA'!$B:$B) -> ichroma | C12: 2023 | D12: =_xlfn.XLOOKUP($A12,'BACK DATA'!$A:$A,'BACK DATA'!$C:$C) -> Vitamin D | E12: =COUNTIFS('Raw Data'!$C:$C,'파트별 아이템별 차트'!$B12,'Raw Data'!$D:$D,'파트별 아이템별 차트'!$D12,'Raw Data'!$A:$A,'파트별 아이템별 차트'!$C12,'Raw Data'!$B:$B,'파트별 아이템별 차트'!E$2) -> 2 | F12: =COUNTIFS('Raw Data'!$C:$C,'파트별 아이템별 차트'!$B12,'Raw Data'!$D:$D,'파트별 아이템별 차트'!$D12,'Raw Data'!$A:$A,'파트별 아이템별 차트'!$C12,'Raw Data'!$B:$B,'파트별 아이템별 차트'!F$2) -> 4 | G12: =COUNTIFS('Raw Data'!$C:$C,'파트별 아이템별 차트'!$B12,'Raw Data'!$D:$D,'파트별 아이템별 차트'!$D12,'Raw Data'!$A:$A,'파트별 아이템별 차트'!$C12,'Raw Data'!$B:$B,'파트별 아이템별 차트'!G$2) -> 1 | H12: =COUNTIFS('Raw Data'!$C:$C,'파트별 아이템별 차트'!$B12,'Raw Data'!$D:$D,'파트별 아이템별 차트'!$D12,'Raw Data'!$A:$A,'파트별 아이템별 차트'!$C12,'Raw Data'!$B:$B,'파트별 아이템별 차트'!H$2) -> 1 | I12: =COUNTIFS('Raw Data'!$C:$C,'파트별 아이템별 차트'!$B12,'Raw Data'!$D:$D,'파트별 아이템별 차트'!$D12,'Raw Data'!$A:$A,'파트별 아이템별 차트'!$C12,'Raw Data'!$B:$B,'파트별 아이템별 차트'!I$2) -> 1 | J12: =COUNTIFS('Raw Data'!$C:$C,'파트별 아이템별 차트'!$B12,'Raw Data'!$D:$D,'파트별 아이템별 차트'!$D12,'Raw Data'!$A:$A,'파트별 아이템별 차트'!$C12,'Raw Data'!$B:$B,'파트별 아이템별 차트'!J$2) -> 4 | K12: =COUNTIFS('Raw Data'!$C:$C,'파트별 아이템별 차트'!$B12,'Raw Data'!$D:$D,'파트별 아이템별 차트'!$D12,'Raw Data'!$A:$A,'파트별 아이템별 차트'!$C12,'Raw Data'!$B:$B,'파트별 아이템별 차트'!K$2) -> 6 | L12: =COUNTIFS('Raw Data'!$C:$C,'파트별 아이템별 차트'!$B12,'Raw Data'!$D:$D,'파트별 아이템별 차트'!$D12,'Raw Data'!$A:$A,'파트별 아이템별 차트'!$C12,'Raw Data'!$B:$B,'파트별 아이템별 차트'!L$2) -> 4 | ... P12: =COUNTIFS('Raw Data'!$C:$C,'파트별 아이템별 차트'!$B12,'Raw Data'!$D:$D,'파트별 아이템별 차트'!$D12,'Raw Data'!$A:$A,'파트별 아이템별 차트'!$C12,'Raw Data'!$B:$B,'파트별 아이템별 차트'!P$2) -> 2 | Q12: =SUM(E12:P12) -> 28
A13: =A11+1 -> 5 | B13: =_xlfn.XLOOKUP($A13,'BACK DATA'!$A:$A,'BACK DATA'!$B:$B) -> ichroma | C13: 2022 | D13: =_xlfn.XLOOKUP($A13,'BACK DATA'!$A:$A,'BACK DATA'!$C:$C) -> Free T4 | E13: =COUNTIFS('Raw Data'!$C:$C,'파트별 아이템별 차트'!$B13,'Raw Data'!$D:$D,'파트별 아이템별 차트'!$D13,'Raw Data'!$A:$A,'파트별 아이템별 차트'!$C13,'Raw Data'!$B:$B,'파트별 아이템별 차트'!E$2) -> 0 | F13: =COUNTIFS('Raw Data'!$C:$C,'파트별 아이템별 차트'!$B13,'Raw Data'!$D:$D,'파트별 아이템별 차트'!$D13,'Raw Data'!$A:$A,'파트별 아이템별 차트'!$C13,'Raw Data'!$B:$B,'파트별 아이템별 차트'!F$2) -> 0 | G13: =COUNTIFS('Raw Data'!$C:$C,'파트별 아이템별 차트'!$B13,'Raw Data'!$D:$D,'파트별 아이템별 차트'!$D13,'Raw Data'!$A:$A,'파트별 아이템별 차트'!$C13,'Raw Data'!$B:$B,'파트별 아이템별 차트'!G$2) -> 0 | H13: =COUNTIFS('Raw Data'!$C:$C,'파트별 아이템별 차트'!$B13,'Raw Data'!$D:$D,'파트별 아이템별 차트'!$D13,'Raw Data'!$A:$A,'파트별 아이템별 차트'!$C13,'Raw Data'!$B:$B,'파트별 아이템별 차트'!H$2) -> 0 | I13: =COUNTIFS('Raw Data'!$C:$C,'파트별 아이템별 차트'!$B13,'Raw Data'!$D:$D,'파트별 아이템별 차트'!$D13,'Raw Data'!$A:$A,'파트별 아이템별 차트'!$C13,'Raw Data'!$B:$B,'파트별 아이템별 차트'!I$2) -> 0 | J13: =COUNTIFS('Raw Data'!$C:$C,'파트별 아이템별 차트'!$B13,'Raw Data'!$D:$D,'파트별 아이템별 차트'!$D13,'Raw Data'!$A:$A,'파트별 아이템별 차트'!$C13,'Raw Data'!$B:$B,'파트별 아이템별 차트'!J$2) -> 0 | K13: =COUNTIFS('Raw Data'!$C:$C,'파트별 아이템별 차트'!$B13,'Raw Data'!$D:$D,'파트별 아이템별 차트'!$D13,'Raw Data'!$A:$A,'파트별 아이템별 차트'!$C13,'Raw Data'!$B:$B,'파트별 아이템별 차트'!K$2) -> 0 | L13: =COUNTIFS('Raw Data'!$C:$C,'파트별 아이템별 차트'!$B13,'Raw Data'!$D:$D,'파트별 아이템별 차트'!$D13,'Raw Data'!$A:$A,'파트별 아이템별 차트'!$C13,'Raw Data'!$B:$B,'파트별 아이템별 차트'!L$2) -> 0 | ... P13: =COUNTIFS('Raw Data'!$C:$C,'파트별 아이템별 차트'!$B13,'Raw Data'!$D:$D,'파트별 아이템별 차트'!$D13,'Raw Data'!$A:$A,'파트별 아이템별 차트'!$C13,'Raw Data'!$B:$B,'파트별 아이템별 차트'!P$2) -> 0 | Q13: =SUM(E13:P13) -> 0
A14: =A13 -> 5 | B14: =_xlfn.XLOOKUP($A14,'BACK DATA'!$A:$A,'BACK DATA'!$B:$B) -> ichroma | C14: 2023 | D14: =_xlfn.XLOOKUP($A14,'BACK DATA'!$A:$A,'BACK DATA'!$C:$C) -> Free T4 | E14: =COUNTIFS('Raw Data'!$C:$C,'파트별 아이템별 차트'!$B14,'Raw Data'!$D:$D,'파트별 아이템별 차트'!$D14,'Raw Data'!$A:$A,'파트별 아이템별 차트'!$C14,'Raw Data'!$B:$B,'파트별 아이템별 차트'!E$2) -> 0 | F14: =COUNTIFS('Raw Data'!$C:$C,'파트별 아이템별 차트'!$B14,'Raw Data'!$D:$D,'파트별 아이템별 차트'!$D14,'Raw Data'!$A:$A,'파트별 아이템별 차트'!$C14,'Raw Data'!$B:$B,'파트별 아이템별 차트'!F$2) -> 0 | G14: =COUNTIFS('Raw Data'!$C:$C,'파트별 아이템별 차트'!$B14,'Raw Data'!$D:$D,'파트별 아이템별 차트'!$D14,'Raw Data'!$A:$A,'파트별 아이템별 차트'!$C14,'Raw Data'!$B:$B,'파트별 아이템별 차트'!G$2) -> 0 | H14: =COUNTIFS('Raw Data'!$C:$C,'파트별 아이템별 차트'!$B14,'Raw Data'!$D:$D,'파트별 아이템별 차트'!$D14,'Raw Data'!$A:$A,'파트별 아이템별 차트'!$C14,'Raw Data'!$B:$B,'파트별 아이템별 차트'!H$2) -> 0 | I14: =COUNTIFS('Raw Data'!$C:$C,'파트별 아이템별 차트'!$B14,'Raw Data'!$D:$D,'파트별 아이템별 차트'!$D14,'Raw Data'!$A:$A,'파트별 아이템별 차트'!$C14,'Raw Data'!$B:$B,'파트별 아이템별 차트'!I$2) -> 1 | J14: =COUNTIFS('Raw Data'!$C:$C,'파트별 아이템별 차트'!$B14,'Raw Data'!$D:$D,'파트별 아이템별 차트'!$D14,'Raw Data'!$A:$A,'파트별 아이템별 차트'!$C14,'Raw Data'!$B:$B,'파트별 아이템별 차트'!J$2) -> 1 | K14: =COUNTIFS('Raw Data'!$C:$C,'파트별 아이템별 차트'!$B14,'Raw Data'!$D:$D,'파트별 아이템별 차트'!$D14,'Raw Data'!$A:$A,'파트별 아이템별 차트'!$C14,'Raw Data'!$B:$B,'파트별 아이템별 차트'!K$2) -> 5 | L14: =COUNTIFS('Raw Data'!$C:$C,'파트별 아이템별 차트'!$B14,'Raw Data'!$D:$D,'파트별 아이템별 차트'!$D14,'Raw Data'!$A:$A,'파트별 아이템별 차트'!$C14,'Raw Data'!$B:$B,'파트별 아이템별 차트'!L$2) -> 4 | ... P14: =COUNTIFS('Raw Data'!$C:$C,'파트별 아이템별 차트'!$B14,'Raw Data'!$D:$D,'파트별 아이템별 차트'!$D14,'Raw Data'!$A:$A,'파트별 아이템별 차트'!$C14,'Raw Data'!$B:$B,'파트별 아이템별 차트'!P$2) -> 4 | Q14: =SUM(E14:P14) -> 21
A15: =A13+1 -> 6 | B15: =_xlfn.XLOOKUP($A15,'BACK DATA'!$A:$A,'BACK DATA'!$B:$B) -> ichroma | C15: 2022 | D15: =_xlfn.XLOOKUP($A15,'BACK DATA'!$A:$A,'BACK DATA'!$C:$C) -> T4 | E15: =COUNTIFS('Raw Data'!$C:$C,'파트별 아이템별 차트'!$B15,'Raw Data'!$D:$D,'파트별 아이템별 차트'!$D15,'Raw Data'!$A:$A,'파트별 아이템별 차트'!$C15,'Raw Data'!$B:$B,'파트별 아이템별 차트'!E$2) -> 5 | F15: =COUNTIFS('Raw Data'!$C:$C,'파트별 아이템별 차트'!$B15,'Raw Data'!$D:$D,'파트별 아이템별 차트'!$D15,'Raw Data'!$A:$A,'파트별 아이템별 차트'!$C15,'Raw Data'!$B:$B,'파트별 아이템별 차트'!F$2) -> 2 | G15: =COUNTIFS('Raw Data'!$C:$C,'파트별 아이템별 차트'!$B15,'Raw Data'!$D:$D,'파트별 아이템별 차트'!$D15,'Raw Data'!$A:$A,'파트별 아이템별 차트'!$C15,'Raw Data'!$B:$B,'파트별 아이템별 차트'!G$2) -> 2 | H15: =COUNTIFS('Raw Data'!$C:$C,'파트별 아이템별 차트'!$B15,'Raw Data'!$D:$D,'파트별 아이템별 차트'!$D15,'Raw Data'!$A:$A,'파트별 아이템별 차트'!$C15,'Raw Data'!$B:$B,'파트별 아이템별 차트'!H$2) -> 5 | I15: =COUNTIFS('Raw Data'!$C:$C,'파트별 아이템별 차트'!$B15,'Raw Data'!$D:$D,'파트별 아이템별 차트'!$D15,'Raw Data'!$A:$A,'파트별 아이템별 차트'!$C15,'Raw Data'!$B:$B,'파트별 아이템별 차트'!I$2) -> 1 | J15: =COUNTIFS('Raw Data'!$C:$C,'파트별 아이템별 차트'!$B15,'Raw Data'!$D:$D,'파트별 아이템별 차트'!$D15,'Raw Data'!$A:$A,'파트별 아이템별 차트'!$C15,'Raw Data'!$B:$B,'파트별 아이템별 차트'!J$2) -> 5 | K15: =COUNTIFS('Raw Data'!$C:$C,'파트별 아이템별 차트'!$B15,'Raw Data'!$D:$D,'파트별 아이템별 차트'!$D15,'Raw Data'!$A:$A,'파트별 아이템별 차트'!$C15,'Raw Data'!$B:$B,'파트별 아이템별 차트'!K$2) -> 3 | L15: =COUNTIFS('Raw Data'!$C:$C,'파트별 아이템별 차트'!$B15,'Raw Data'!$D:$D,'파트별 아이템별 차트'!$D15,'Raw Data'!$A:$A,'파트별 아이템별 차트'!$C15,'Raw Data'!$B:$B,'파트별 아이템별 차트'!L$2) -> 3 | ... P15: =COUNTIFS('Raw Data'!$C:$C,'파트별 아이템별 차트'!$B15,'Raw Data'!$D:$D,'파트별 아이템별 차트'!$D15,'Raw Data'!$A:$A,'파트별 아이템별 차트'!$C15,'Raw Data'!$B:$B,'파트별 아이템별 차트'!P$2) -> 0 | Q15: =SUM(E15:P15) -> 31
A16: =A15 -> 6 | B16: =_xlfn.XLOOKUP($A16,'BACK DATA'!$A:$A,'BACK DATA'!$B:$B) -> ichroma | C16: 2023 | D16: =_xlfn.XLOOKUP($A16,'BACK DATA'!$A:$A,'BACK DATA'!$C:$C) -> T4 | E16: =COUNTIFS('Raw Data'!$C:$C,'파트별 아이템별 차트'!$B16,'Raw Data'!$D:$D,'파트별 아이템별 차트'!$D16,'Raw Data'!$A:$A,'파트별 아이템별 차트'!$C16,'Raw Data'!$B:$B,'파트별 아이템별 차트'!E$2) -> 5 | F16: =COUNTIFS('Raw Data'!$C:$C,'파트별 아이템별 차트'!$B16,'Raw Data'!$D:$D,'파트별 아이템별 차트'!$D16,'Raw Data'!$A:$A,'파트별 아이템별 차트'!$C16,'Raw Data'!$B:$B,'파트별 아이템별 차트'!F$2) -> 3 | G16: =COUNTIFS('Raw Data'!$C:$C,'파트별 아이템별 차트'!$B16,'Raw Data'!$D:$D,'파트별 아이템별 차트'!$D16,'Raw Data'!$A:$A,'파트별 아이템별 차트'!$C16,'Raw Data'!$B:$B,'파트별 아이템별 차트'!G$2) -> 0 | H16: =COUNTIFS('Raw Data'!$C:$C,'파트별 아이템별 차트'!$B16,'Raw Data'!$D:$D,'파트별 아이템별 차트'!$D16,'Raw Data'!$A:$A,'파트별 아이템별 차트'!$C16,'Raw Data'!$B:$B,'파트별 아이템별 차트'!H$2) -> 0 | I16: =COUNTIFS('Raw Data'!$C:$C,'파트별 아이템별 차트'!$B16,'Raw Data'!$D:$D,'파트별 아이템별 차트'!$D16,'Raw Data'!$A:$A,'파트별 아이템별 차트'!$C16,'Raw Data'!$B:$B,'파트별 아이템별 차트'!I$2) -> 2 | J16: =COUNTIFS('Raw Data'!$C:$C,'파트별 아이템별 차트'!$B16,'Raw Data'!$D:$D,'파트별 아이템별 차트'!$D16,'Raw Data'!$A:$A,'파트별 아이템별 차트'!$C16,'Raw Data'!$B:$B,'파트별 아이템별 차트'!J$2) -> 0 | K16: =COUNTIFS('Raw Data'!$C:$C,'파트별 아이템별 차트'!$B16,'Raw Data'!$D:$D,'파트별 아이템별 차트'!$D16,'Raw Data'!$A:$A,'파트별 아이템별 차트'!$C16,'Raw Data'!$B:$B,'파트별 아이템별 차트'!K$2) -> 1 | L16: =COUNTIFS('Raw Data'!$C:$C,'파트별 아이템별 차트'!$B16,'Raw Data'!$D:$D,'파트별 아이템별 차트'!$D16,'Raw Data'!$A:$A,'파트별 아이템별 차트'!$C16,'Raw Data'!$B:$B,'파트별 아이템별 차트'!L$2) -> 1 | ... P16: =COUNTIFS('Raw Data'!$C:$C,'파트별 아이템별 차트'!$B16,'Raw Data'!$D:$D,'파트별 아이템별 차트'!$D16,'Raw Data'!$A:$A,'파트별 아이템별 차트'!$C16,'Raw Data'!$B:$B,'파트별 아이템별 차트'!P$2) -> 0 | Q16: =SUM(E16:P16) -> 19
A17: =A15+1 -> 7 | B17: =_xlfn.XLOOKUP($A17,'BACK DATA'!$A:$A,'BACK DATA'!$B:$B) -> ichroma | C17: 2022 | D17: =_xlfn.XLOOKUP($A17,'BACK DATA'!$A:$A,'BACK DATA'!$C:$C) -> D-Dimer | E17: =COUNTIFS('Raw Data'!$C:$C,'파트별 아이템별 차트'!$B17,'Raw Data'!$D:$D,'파트별 아이템별 차트'!$D17,'Raw Data'!$A:$A,'파트별 아이템별 차트'!$C17,'Raw Data'!$B:$B,'파트별 아이템별 차트'!E$2) -> 1 | F17: =COUNTIFS('Raw Data'!$C:$C,'파트별 아이템별 차트'!$B17,'Raw Data'!$D:$D,'파트별 아이템별 차트'!$D17,'Raw Data'!$A:$A,'파트별 아이템별 차트'!$C17,'Raw Data'!$B:$B,'파트별 아이템별 차트'!F$2) -> 2 | G17: =COUNTIFS('Raw Data'!$C:$C,'파트별 아이템별 차트'!$B17,'Raw Data'!$D:$D,'파트별 아이템별 차트'!$D17,'Raw Data'!$A:$A,'파트별 아이템별 차트'!$C17,'Raw Data'!$B:$B,'파트별 아이템별 차트'!G$2) -> 1 | H17: =COUNTIFS('Raw Data'!$C:$C,'파트별 아이템별 차트'!$B17,'Raw Data'!$D:$D,'파트별 아이템별 차트'!$D17,'Raw Data'!$A:$A,'파트별 아이템별 차트'!$C17,'Raw Data'!$B:$B,'파트별 아이템별 차트'!H$2) -> 1 | I17: =COUNTIFS('Raw Data'!$C:$C,'파트별 아이템별 차트'!$B17,'Raw Data'!$D:$D,'파트별 아이템별 차트'!$D17,'Raw Data'!$A:$A,'파트별 아이템별 차트'!$C17,'Raw Data'!$B:$B,'파트별 아이템별 차트'!I$2) -> 2 | J17: =COUNTIFS('Raw Data'!$C:$C,'파트별 아이템별 차트'!$B17,'Raw Data'!$D:$D,'파트별 아이템별 차트'!$D17,'Raw Data'!$A:$A,'파트별 아이템별 차트'!$C17,'Raw Data'!$B:$B,'파트별 아이템별 차트'!J$2) -> 1 | K17: =COUNTIFS('Raw Data'!$C:$C,'파트별 아이템별 차트'!$B17,'Raw Data'!$D:$D,'파트별 아이템별 차트'!$D17,'Raw Data'!$A:$A,'파트별 아이템별 차트'!$C17,'Raw Data'!$B:$B,'파트별 아이템별 차트'!K$2) -> 3 | L17: =COUNTIFS('Raw Data'!$C:$C,'파트별 아이템별 차트'!$B17,'Raw Data'!$D:$D,'파트별 아이템별 차트'!$D17,'Raw Data'!$A:$A,'파트별 아이템별 차트'!$C17,'Raw Data'!$B:$B,'파트별 아이템별 차트'!L$2) -> 3 | ... P17: =COUNTIFS('Raw Data'!$C:$C,'파트별 아이템별 차트'!$B17,'Raw Data'!$D:$D,'파트별 아이템별 차트'!$D17,'Raw Data'!$A:$A,'파트별 아이템별 차트'!$C17,'Raw Data'!$B:$B,'파트별 아이템별 차트'!P$2) -> 0 | Q17: =SUM(E17:P17) -> 22
A18: =A17 -> 7 | B18: =_xlfn.XLOOKUP($A18,'BACK DATA'!$A:$A,'BACK DATA'!$B:$B) -> ichroma | C18: 2023 | D18: =_xlfn.XLOOKUP($A18,'BACK DATA'!$A:$A,'BACK DATA'!$C:$C) -> D-Dimer | E18: =COUNTIFS('Raw Data'!$C:$C,'파트별 아이템별 차트'!$B18,'Raw Data'!$D:$D,'파트별 아이템별 차트'!$D18,'Raw Data'!$A:$A,'파트별 아이템별 차트'!$C18,'Raw Data'!$B:$B,'파트별 아이템별 차트'!E$2) -> 2 | F18: =COUNTIFS('Raw Data'!$C:$C,'파트별 아이템별 차트'!$B18,'Raw Data'!$D:$D,'파트별 아이템별 차트'!$D18,'Raw Data'!$A:$A,'파트별 아이템별 차트'!$C18,'Raw Data'!$B:$B,'파트별 아이템별 차트'!F$2) -> 1 | G18: =COUNTIFS('Raw Data'!$C:$C,'파트별 아이템별 차트'!$B18,'Raw Data'!$D:$D,'파트별 아이템별 차트'!$D18,'Raw Data'!$A:$A,'파트별 아이템별 차트'!$C18,'Raw Data'!$B:$B,'파트별 아이템별 차트'!G$2) -> 2 | H18: =COUNTIFS('Raw Data'!$C:$C,'파트별 아이템별 차트'!$B18,'Raw Data'!$D:$D,'파트별 아이템별 차트'!$D18,'Raw Data'!$A:$A,'파트별 아이템별 차트'!$C18,'Raw Data'!$B:$B,'파트별 아이템별 차트'!H$2) -> 1 | I18: =COUNTIFS('Raw Data'!$C:$C,'파트별 아이템별 차트'!$B18,'Raw Data'!$D:$D,'파트별 아이템별 차트'!$D18,'Raw Data'!$A:$A,'파트별 아이템별 차트'!$C18,'Raw Data'!$B:$B,'파트별 아이템별 차트'!I$2) -> 3 | J18: =COUNTIFS('Raw Data'!$C:$C,'파트별 아이템별 차트'!$B18,'Raw Data'!$D:$D,'파트별 아이템별 차트'!$D18,'Raw Data'!$A:$A,'파트별 아이템별 차트'!$C18,'Raw Data'!$B:$B,'파트별 아이템별 차트'!J$2) -> 1 | K18: =COUNTIFS('Raw Data'!$C:$C,'파트별 아이템별 차트'!$B18,'Raw Data'!$D:$D,'파트별 아이템별 차트'!$D18,'Raw Data'!$A:$A,'파트별 아이템별 차트'!$C18,'Raw Data'!$B:$B,'파트별 아이템별 차트'!K$2) -> 0 | L18: =COUNTIFS('Raw Data'!$C:$C,'파트별 아이템별 차트'!$B18,'Raw Data'!$D:$D,'파트별 아이템별 차트'!$D18,'Raw Data'!$A:$A,'파트별 아이템별 차트'!$C18,'Raw Data'!$B:$B,'파트별 아이템별 차트'!L$2) -> 3 | ... P18: =COUNTIFS('Raw Data'!$C:$C,'파트별 아이템별 차트'!$B18,'Raw Data'!$D:$D,'파트별 아이템별 차트'!$D18,'Raw Data'!$A:$A,'파트별 아이템별 차트'!$C18,'Raw Data'!$B:$B,'파트별 아이템별 차트'!P$2) -> 0 | Q18: =SUM(E18:P18) -> 19
A19: =A17+1 -> 8 | B19: =_xlfn.XLOOKUP($A19,'BACK DATA'!$A:$A,'BACK DATA'!$B:$B) -> ichroma | C19: 2022 | D19: =_xlfn.XLOOKUP($A19,'BACK DATA'!$A:$A,'BACK DATA'!$C:$C) -> β-HCG | E19: =COUNTIFS('Raw Data'!$C:$C,'파트별 아이템별 차트'!$B19,'Raw Data'!$D:$D,'파트별 아이템별 차트'!$D19,'Raw Data'!$A:$A,'파트별 아이템별 차트'!$C19,'Raw Data'!$B:$B,'파트별 아이템별 차트'!E$2) -> 2 | F19: =COUNTIFS('Raw Data'!$C:$C,'파트별 아이템별 차트'!$B19,'Raw Data'!$D:$D,'파트별 아이템별 차트'!$D19,'Raw Data'!$A:$A,'파트별 아이템별 차트'!$C19,'Raw Data'!$B:$B,'파트별 아이템별 차트'!F$2) -> 0 | G19: =COUNTIFS('Raw Data'!$C:$C,'파트별 아이템별 차트'!$B19,'Raw Data'!$D:$D,'파트별 아이템별 차트'!$D19,'Raw Data'!$A:$A,'파트별 아이템별 차트'!$C19,'Raw Data'!$B:$B,'파트별 아이템별 차트'!G$2) -> 1 | H19: =COUNTIFS('Raw Data'!$C:$C,'파트별 아이템별 차트'!$B19,'Raw Data'!$D:$D,'파트별 아이템별 차트'!$D19,'Raw Data'!$A:$A,'파트별 아이템별 차트'!$C19,'Raw Data'!$B:$B,'파트별 아이템별 차트'!H$2) -> 2 | I19: =COUNTIFS('Raw Data'!$C:$C,'파트별 아이템별 차트'!$B19,'Raw Data'!$D:$D,'파트별 아이템별 차트'!$D19,'Raw Data'!$A:$A,'파트별 아이템별 차트'!$C19,'Raw Data'!$B:$B,'파트별 아이템별 차트'!I$2) -> 1 | J19: =COUNTIFS('Raw Data'!$C:$C,'파트별 아이템별 차트'!$B19,'Raw Data'!$D:$D,'파트별 아이템별 차트'!$D19,'Raw Data'!$A:$A,'파트별 아이템별 차트'!$C19,'Raw Data'!$B:$B,'파트별 아이템별 차트'!J$2) -> 1 | K19: =COUNTIFS('Raw Data'!$C:$C,'파트별 아이템별 차트'!$B19,'Raw Data'!$D:$D,'파트별 아이템별 차트'!$D19,'Raw Data'!$A:$A,'파트별 아이템별 차트'!$C19,'Raw Data'!$B:$B,'파트별 아이템별 차트'!K$2) -> 0 | L19: =COUNTIFS('Raw Data'!$C:$C,'파트별 아이템별 차트'!$B19,'Raw Data'!$D:$D,'파트별 아이템별 차트'!$D19,'Raw Data'!$A:$A,'파트별 아이템별 차트'!$C19,'Raw Data'!$B:$B,'파트별 아이템별 차트'!L$2) -> 0 | ... P19: =COUNTIFS('Raw Data'!$C:$C,'파트별 아이템별 차트'!$B19,'Raw Data'!$D:$D,'파트별 아이템별 차트'!$D19,'Raw Data'!$A:$A,'파트별 아이템별 차트'!$C19,'Raw Data'!$B:$B,'파트별 아이템별 차트'!P$2) -> 0 | Q19: =SUM(E19:P19) -> 8
A20: =A19 -> 8 | B20: =_xlfn.XLOOKUP($A20,'BACK DATA'!$A:$A,'BACK DATA'!$B:$B) -> ichroma | C20: 2023 | D20: =_xlfn.XLOOKUP($A20,'BACK DATA'!$A:$A,'BACK DATA'!$C:$C) -> β-HCG | E20: =COUNTIFS('Raw Data'!$C:$C,'파트별 아이템별 차트'!$B20,'Raw Data'!$D:$D,'파트별 아이템별 차트'!$D20,'Raw Data'!$A:$A,'파트별 아이템별 차트'!$C20,'Raw Data'!$B:$B,'파트별 아이템별 차트'!E$2) -> 3 | F20: =COUNTIFS('Raw Data'!$C:$C,'파트별 아이템별 차트'!$B20,'Raw Data'!$D:$D,'파트별 아이템별 차트'!$D20,'Raw Data'!$A:$A,'파트별 아이템별 차트'!$C20,'Raw Data'!$B:$B,'파트별 아이템별 차트'!F$2) -> 2 | G20: =COUNTIFS('Raw Data'!$C:$C,'파트별 아이템별 차트'!$B20,'Raw Data'!$D:$D,'파트별 아이템별 차트'!$D20,'Raw Data'!$A:$A,'파트별 아이템별 차트'!$C20,'Raw Data'!$B:$B,'파트별 아이템별 차트'!G$2) -> 0 | H20: =COUNTIFS('Raw Data'!$C:$C,'파트별 아이템별 차트'!$B20,'Raw Data'!$D:$D,'파트별 아이템별 차트'!$D20,'Raw Data'!$A:$A,'파트별 아이템별 차트'!$C20,'Raw Data'!$B:$B,'파트별 아이템별 차트'!H$2) -> 1 | I20: =COUNTIFS('Raw Data'!$C:$C,'파트별 아이템별 차트'!$B20,'Raw Data'!$D:$D,'파트별 아이템별 차트'!$D20,'Raw Data'!$A:$A,'파트별 아이템별 차트'!$C20,'Raw Data'!$B:$B,'파트별 아이템별 차트'!I$2) -> 0 | J20: =COUNTIFS('Raw Data'!$C:$C,'파트별 아이템별 차트'!$B20,'Raw Data'!$D:$D,'파트별 아이템별 차트'!$D20,'Raw Data'!$A:$A,'파트별 아이템별 차트'!$C20,'Raw Data'!$B:$B,'파트별 아이템별 차트'!J$2) -> 2 | K20: =COUNTIFS('Raw Data'!$C:$C,'파트별 아이템별 차트'!$B20,'Raw Data'!$D:$D,'파트별 아이템별 차트'!$D20,'Raw Data'!$A:$A,'파트별 아이템별 차트'!$C20,'Raw Data'!$B:$B,'파트별 아이템별 차트'!K$2) -> 2 | L20: =COUNTIFS('Raw Data'!$C:$C,'파트별 아이템별 차트'!$B20,'Raw Data'!$D:$D,'파트별 아이템별 차트'!$D20,'Raw Data'!$A:$A,'파트별 아이템별 차트'!$C20,'Raw Data'!$B:$B,'파트별 아이템별 차트'!L$2) -> 1 | ... P20: =COUNTIFS('Raw Data'!$C:$C,'파트별 아이템별 차트'!$B20,'Raw Data'!$D:$D,'파트별 아이템별 차트'!$D20,'Raw Data'!$A:$A,'파트별 아이템별 차트'!$C20,'Raw Data'!$B:$B,'파트별 아이템별 차트'!P$2) -> 0 | Q20: =SUM(E20:P20) -> 18
A21: =A19+1 -> 9 | B21: =_xlfn.XLOOKUP($A21,'BACK DATA'!$A:$A,'BACK DATA'!$B:$B) -> ichroma | C21: 2022 | D21: =_xlfn.XLOOKUP($A21,'BACK DATA'!$A:$A,'BACK DATA'!$C:$C) -> TSH Plus | E21: =COUNTIFS('Raw Data'!$C:$C,'파트별 아이템별 차트'!$B21,'Raw Data'!$D:$D,'파트별 아이템별 차트'!$D21,'Raw Data'!$A:$A,'파트별 아이템별 차트'!$C21,'Raw Data'!$B:$B,'파트별 아이템별 차트'!E$2) -> 0 | F21: =COUNTIFS('Raw Data'!$C:$C,'파트별 아이템별 차트'!$B21,'Raw Data'!$D:$D,'파트별 아이템별 차트'!$D21,'Raw Data'!$A:$A,'파트별 아이템별 차트'!$C21,'Raw Data'!$B:$B,'파트별 아이템별 차트'!F$2) -> 0 | G21: =COUNTIFS('Raw Data'!$C:$C,'파트별 아이템별 차트'!$B21,'Raw Data'!$D:$D,'파트별 아이템별 차트'!$D21,'Raw Data'!$A:$A,'파트별 아이템별 차트'!$C21,'Raw Data'!$B:$B,'파트별 아이템별 차트'!G$2) -> 0 | H21: =COUNTIFS('Raw Data'!$C:$C,'파트별 아이템별 차트'!$B21,'Raw Data'!$D:$D,'파트별 아이템별 차트'!$D21,'Raw Data'!$A:$A,'파트별 아이템별 차트'!$C21,'Raw Data'!$B:$B,'파트별 아이템별 차트'!H$2) -> 0 | I21: =COUNTIFS('Raw Data'!$C:$C,'파트별 아이템별 차트'!$B21,'Raw Data'!$D:$D,'파트별 아이템별 차트'!$D21,'Raw Data'!$A:$A,'파트별 아이템별 차트'!$C21,'Raw Data'!$B:$B,'파트별 아이템별 차트'!I$2) -> 0 | J21: =COUNTIFS('Raw Data'!$C:$C,'파트별 아이템별 차트'!$B21,'Raw Data'!$D:$D,'파트별 아이템별 차트'!$D21,'Raw Data'!$A:$A,'파트별 아이템별 차트'!$C21,'Raw Data'!$B:$B,'파트별 아이템별 차트'!J$2) -> 0 | K21: =COUNTIFS('Raw Data'!$C:$C,'파트별 아이템별 차트'!$B21,'Raw Data'!$D:$D,'파트별 아이템별 차트'!$D21,'Raw Data'!$A:$A,'파트별 아이템별 차트'!$C21,'Raw Data'!$B:$B,'파트별 아이템별 차트'!K$2) -> 0 | L21: =COUNTIFS('Raw Data'!$C:$C,'파트별 아이템별 차트'!$B21,'Raw Data'!$D:$D,'파트별 아이템별 차트'!$D21,'Raw Data'!$A:$A,'파트별 아이템별 차트'!$C21,'Raw Data'!$B:$B,'파트별 아이템별 차트'!L$2) -> 0 | ... P21: =COUNTIFS('Raw Data'!$C:$C,'파트별 아이템별 차트'!$B21,'Raw Data'!$D:$D,'파트별 아이템별 차트'!$D21,'Raw Data'!$A:$A,'파트별 아이템별 차트'!$C21,'Raw Data'!$B:$B,'파트별 아이템별 차트'!P$2) -> 0 | Q21: =SUM(E21:P21) -> 1
A22: =A21 -> 9 | B22: =_xlfn.XLOOKUP($A22,'BACK DATA'!$A:$A,'BACK DATA'!$B:$B) -> ichroma | C22: 2023 | D22: =_xlfn.XLOOKUP($A22,'BACK DATA'!$A:$A,'BACK DATA'!$C:$C) -> TSH Plus | E22: =COUNTIFS('Raw Data'!$C:$C,'파트별 아이템별 차트'!$B22,'Raw Data'!$D:$D,'파트별 아이템별 차트'!$D22,'Raw Data'!$A:$A,'파트별 아이템별 차트'!$C22,'Raw Data'!$B:$B,'파트별 아이템별 차트'!E$2) -> 0 | F22: =COUNTIFS('Raw Data'!$C:$C,'파트별 아이템별 차트'!$B22,'Raw Data'!$D:$D,'파트별 아이템별 차트'!$D22,'Raw Data'!$A:$A,'파트별 아이템별 차트'!$C22,'Raw Data'!$B:$B,'파트별 아이템별 차트'!F$2) -> 1 | G22: =COUNTIFS('Raw Data'!$C:$C,'파트별 아이템별 차트'!$B22,'Raw Data'!$D:$D,'파트별 아이템별 차트'!$D22,'Raw Data'!$A:$A,'파트별 아이템별 차트'!$C22,'Raw Data'!$B:$B,'파트별 아이템별 차트'!G$2) -> 2 | H22: =COUNTIFS('Raw Data'!$C:$C,'파트별 아이템별 차트'!$B22,'Raw Data'!$D:$D,'파트별 아이템별 차트'!$D22,'Raw Data'!$A:$A,'파트별 아이템별 차트'!$C22,'Raw Data'!$B:$B,'파트별 아이템별 차트'!H$2) -> 1 | I22: =COUNTIFS('Raw Data'!$C:$C,'파트별 아이템별 차트'!$B22,'Raw Data'!$D:$D,'파트별 아이템별 차트'!$D22,'Raw Data'!$A:$A,'파트별 아이템별 차트'!$C22,'Raw Data'!$B:$B,'파트별 아이템별 차트'!I$2) -> 1 | J22: =COUNTIFS('Raw Data'!$C:$C,'파트별 아이템별 차트'!$B22,'Raw Data'!$D:$D,'파트별 아이템별 차트'!$D22,'Raw Data'!$A:$A,'파트별 아이템별 차트'!$C22,'Raw Data'!$B:$B,'파트별 아이템별 차트'!J$2) -> 2 | K22: =COUNTIFS('Raw Data'!$C:$C,'파트별 아이템별 차트'!$B22,'Raw Data'!$D:$D,'파트별 아이템별 차트'!$D22,'Raw Data'!$A:$A,'파트별 아이템별 차트'!$C22,'Raw Data'!$B:$B,'파트별 아이템별 차트'!K$2) -> 4 | L22: =COUNTIFS('Raw Data'!$C:$C,'파트별 아이템별 차트'!$B22,'Raw Data'!$D:$D,'파트별 아이템별 차트'!$D22,'Raw Data'!$A:$A,'파트별 아이템별 차트'!$C22,'Raw Data'!$B:$B,'파트별 아이템별 차트'!L$2) -> 1 | ... P22: =COUNTIFS('Raw Data'!$C:$C,'파트별 아이템별 차트'!$B22,'Raw Data'!$D:$D,'파트별 아이템별 차트'!$D22,'Raw Data'!$A:$A,'파트별 아이템별 차트'!$C22,'Raw Data'!$B:$B,'파트별 아이템별 차트'!P$2) -> 1 | Q22: =SUM(E22:P22) -> 18
A23: =A21+1 -> 10 | B23: =_xlfn.XLOOKUP($A23,'BACK DATA'!$A:$A,'BACK DATA'!$B:$B) -> ichroma | C23: 2022 | D23: =_xlfn.XLOOKUP($A23,'BACK DATA'!$A:$A,'BACK DATA'!$C:$C) -> Testosterone | E23: =COUNTIFS('Raw Data'!$C:$C,'파트별 아이템별 차트'!$B23,'Raw Data'!$D:$D,'파트별 아이템별 차트'!$D23,'Raw Data'!$A:$A,'파트별 아이템별 차트'!$C23,'Raw Data'!$B:$B,'파트별 아이템별 차트'!E$2) -> 0 | F23: =COUNTIFS('Raw Data'!$C:$C,'파트별 아이템별 차트'!$B23,'Raw Data'!$D:$D,'파트별 아이템별 차트'!$D23,'Raw Data'!$A:$A,'파트별 아이템별 차트'!$C23,'Raw Data'!$B:$B,'파트별 아이템별 차트'!F$2) -> 0 | G23: =COUNTIFS('Raw Data'!$C:$C,'파트별 아이템별 차트'!$B23,'Raw Data'!$D:$D,'파트별 아이템별 차트'!$D23,'Raw Data'!$A:$A,'파트별 아이템별 차트'!$C23,'Raw Data'!$B:$B,'파트별 아이템별 차트'!G$2) -> 1 | H23: =COUNTIFS('Raw Data'!$C:$C,'파트별 아이템별 차트'!$B23,'Raw Data'!$D:$D,'파트별 아이템별 차트'!$D23,'Raw Data'!$A:$A,'파트별 아이템별 차트'!$C23,'Raw Data'!$B:$B,'파트별 아이템별 차트'!H$2) -> 1 | I23: =COUNTIFS('Raw Data'!$C:$C,'파트별 아이템별 차트'!$B23,'Raw Data'!$D:$D,'파트별 아이템별 차트'!$D23,'Raw Data'!$A:$A,'파트별 아이템별 차트'!$C23,'Raw Data'!$B:$B,'파트별 아이템별 차트'!I$2) -> 0 | J23: =COUNTIFS('Raw Data'!$C:$C,'파트별 아이템별 차트'!$B23,'Raw Data'!$D:$D,'파트별 아이템별 차트'!$D23,'Raw Data'!$A:$A,'파트별 아이템별 차트'!$C23,'Raw Data'!$B:$B,'파트별 아이템별 차트'!J$2) -> 3 | K23: =COUNTIFS('Raw Data'!$C:$C,'파트별 아이템별 차트'!$B23,'Raw Data'!$D:$D,'파트별 아이템별 차트'!$D23,'Raw Data'!$A:$A,'파트별 아이템별 차트'!$C23,'Raw Data'!$B:$B,'파트별 아이템별 차트'!K$2) -> 1 | L23: =COUNTIFS('Raw Data'!$C:$C,'파트별 아이템별 차트'!$B23,'Raw Data'!$D:$D,'파트별 아이템별 차트'!$D23,'Raw Data'!$A:$A,'파트별 아이템별 차트'!$C23,'Raw Data'!$B:$B,'파트별 아이템별 차트'!L$2) -> 0 | ... P23: =COUNTIFS('Raw Data'!$C:$C,'파트별 아이템별 차트'!$B23,'Raw Data'!$D:$D,'파트별 아이템별 차트'!$D23,'Raw Data'!$A:$A,'파트별 아이템별 차트'!$C23,'Raw Data'!$B:$B,'파트별 아이템별 차트'!P$2) -> 0 | Q23: =SUM(E23:P23) -> 7
A24: =A23 -> 10 | B24: =_xlfn.XLOOKUP($A24,'BACK DATA'!$A:$A,'BACK DATA'!$B:$B) -> ichroma | C24: 2023 | D24: =_xlfn.XLOOKUP($A24,'BACK DATA'!$A:$A,'BACK DATA'!$C:$C) -> Testosterone | E24: =COUNTIFS('Raw Data'!$C:$C,'파트별 아이템별 차트'!$B24,'Raw Data'!$D:$D,'파트별 아이템별 차트'!$D24,'Raw Data'!$A:$A,'파트별 아이템별 차트'!$C24,'Raw Data'!$B:$B,'파트별 아이템별 차트'!E$2) -> 1 | F24: =COUNTIFS('Raw Data'!$C:$C,'파트별 아이템별 차트'!$B24,'Raw Data'!$D:$D,'파트별 아이템별 차트'!$D24,'Raw Data'!$A:$A,'파트별 아이템별 차트'!$C24,'Raw Data'!$B:$B,'파트별 아이템별 차트'!F$2) -> 0 | G24: =COUNTIFS('Raw Data'!$C:$C,'파트별 아이템별 차트'!$B24,'Raw Data'!$D:$D,'파트별 아이템별 차트'!$D24,'Raw Data'!$A:$A,'파트별 아이템별 차트'!$C24,'Raw Data'!$B:$B,'파트별 아이템별 차트'!G$2) -> 1 | H24: =COUNTIFS('Raw Data'!$C:$C,'파트별 아이템별 차트'!$B24,'Raw Data'!$D:$D,'파트별 아이템별 차트'!$D24,'Raw Data'!$A:$A,'파트별 아이템별 차트'!$C24,'Raw Data'!$B:$B,'파트별 아이템별 차트'!H$2) -> 1 | I24: =COUNTIFS('Raw Data'!$C:$C,'파트별 아이템별 차트'!$B24,'Raw Data'!$D:$D,'파트별 아이템별 차트'!$D24,'Raw Data'!$A:$A,'파트별 아이템별 차트'!$C24,'Raw Data'!$B:$B,'파트별 아이템별 차트'!I$2) -> 0 | J24: =COUNTIFS('Raw Data'!$C:$C,'파트별 아이템별 차트'!$B24,'Raw Data'!$D:$D,'파트별 아이템별 차트'!$D24,'Raw Data'!$A:$A,'파트별 아이템별 차트'!$C24,'Raw Data'!$B:$B,'파트별 아이템별 차트'!J$2) -> 2 | K24: =COUNTIFS('Raw Data'!$C:$C,'파트별 아이템별 차트'!$B24,'Raw Data'!$D:$D,'파트별 아이템별 차트'!$D24,'Raw Data'!$A:$A,'파트별 아이템별 차트'!$C24,'Raw Data'!$B:$B,'파트별 아이템별 차트'!K$2) -> 3 | L24: =COUNTIFS('Raw Data'!$C:$C,'파트별 아이템별 차트'!$B24,'Raw Data'!$D:$D,'파트별 아이템별 차트'!$D24,'Raw Data'!$A:$A,'파트별 아이템별 차트'!$C24,'Raw Data'!$B:$B,'파트별 아이템별 차트'!L$2) -> 4 | ... P24: =COUNTIFS('Raw Data'!$C:$C,'파트별 아이템별 차트'!$B24,'Raw Data'!$D:$D,'파트별 아이템별 차트'!$D24,'Raw Data'!$A:$A,'파트별 아이템별 차트'!$C24,'Raw Data'!$B:$B,'파트별 아이템별 차트'!P$2) -> 0 | Q24: =SUM(E24:P24) -> 17
A25: =A23+1 -> 11 | B25: =_xlfn.XLOOKUP($A25,'BACK DATA'!$A:$A,'BACK DATA'!$B:$B) -> ichroma | C25: 2022 | D25: =_xlfn.XLOOKUP($A25,'BACK DATA'!$A:$A,'BACK DATA'!$C:$C) -> NT-proBNP | E25: =COUNTIFS('Raw Data'!$C:$C,'파트별 아이템별 차트'!$B25,'Raw Data'!$D:$D,'파트별 아이템별 차트'!$D25,'Raw Data'!$A:$A,'파트별 아이템별 차트'!$C25,'Raw Data'!$B:$B,'파트별 아이템별 차트'!E$2) -> 0 | F25: =COUNTIFS('Raw Data'!$C:$C,'파트별 아이템별 차트'!$B25,'Raw Data'!$D:$D,'파트별 아이템별 차트'!$D25,'Raw Data'!$A:$A,'파트별 아이템별 차트'!$C25,'Raw Data'!$B:$B,'파트별 아이템별 차트'!F$2) -> 0 | G25: =COUNTIFS('Raw Data'!$C:$C,'파트별 아이템별 차트'!$B25,'Raw Data'!$D:$D,'파트별 아이템별 차트'!$D25,'Raw Data'!$A:$A,'파트별 아이템별 차트'!$C25,'Raw Data'!$B:$B,'파트별 아이템별 차트'!G$2) -> 0 | H25: =COUNTIFS('Raw Data'!$C:$C,'파트별 아이템별 차트'!$B25,'Raw Data'!$D:$D,'파트별 아이템별 차트'!$D25,'Raw Data'!$A:$A,'파트별 아이템별 차트'!$C25,'Raw Data'!$B:$B,'파트별 아이템별 차트'!H$2) -> 0 | I25: =COUNTIFS('Raw Data'!$C:$C,'파트별 아이템별 차트'!$B25,'Raw Data'!$D:$D,'파트별 아이템별 차트'!$D25,'Raw Data'!$A:$A,'파트별 아이템별 차트'!$C25,'Raw Data'!$B:$B,'파트별 아이템별 차트'!I$2) -> 1 | J25: =COUNTIFS('Raw Data'!$C:$C,'파트별 아이템별 차트'!$B25,'Raw Data'!$D:$D,'파트별 아이템별 차트'!$D25,'Raw Data'!$A:$A,'파트별 아이템별 차트'!$C25,'Raw Data'!$B:$B,'파트별 아이템별 차트'!J$2) -> 0 | K25: =COUNTIFS('Raw Data'!$C:$C,'파트별 아이템별 차트'!$B25,'Raw Data'!$D:$D,'파트별 아이템별 차트'!$D25,'Raw Data'!$A:$A,'파트별 아이템별 차트'!$C25,'Raw Data'!$B:$B,'파트별 아이템별 차트'!K$2) -> 2 | L25: =COUNTIFS('Raw Data'!$C:$C,'파트별 아이템별 차트'!$B25,'Raw Data'!$D:$D,'파트별 아이템별 차트'!$D25,'Raw Data'!$A:$A,'파트별 아이템별 차트'!$C25,'Raw Data'!$B:$B,'파트별 아이템별 차트'!L$2) -> 2 | ... P25: =COUNTIFS('Raw Data'!$C:$C,'파트별 아이템별 차트'!$B25,'Raw Data'!$D:$D,'파트별 아이템별 차트'!$D25,'Raw Data'!$A:$A,'파트별 아이템별 차트'!$C25,'Raw Data'!$B:$B,'파트별 아이템별 차트'!P$2) -> 0 | Q25: =SUM(E25:P25) -> 6
A26: =A25 -> 11 | B26: =_xlfn.XLOOKUP($A26,'BACK DATA'!$A:$A,'BACK DATA'!$B:$B) -> ichroma | C26: 2023 | D26: =_xlfn.XLOOKUP($A26,'BACK DATA'!$A:$A,'BACK DATA'!$C:$C) -> NT-proBNP | E26: =COUNTIFS('Raw Data'!$C:$C,'파트별 아이템별 차트'!$B26,'Raw Data'!$D:$D,'파트별 아이템별 차트'!$D26,'Raw Data'!$A:$A,'파트별 아이템별 차트'!$C26,'Raw Data'!$B:$B,'파트별 아이템별 차트'!E$2) -> 1 | F26: =COUNTIFS('Raw Data'!$C:$C,'파트별 아이템별 차트'!$B26,'Raw Data'!$D:$D,'파트별 아이템별 차트'!$D26,'Raw Data'!$A:$A,'파트별 아이템별 차트'!$C26,'Raw Data'!$B:$B,'파트별 아이템별 차트'!F$2) -> 1 | G26: =COUNTIFS('Raw Data'!$C:$C,'파트별 아이템별 차트'!$B26,'Raw Data'!$D:$D,'파트별 아이템별 차트'!$D26,'Raw Data'!$A:$A,'파트별 아이템별 차트'!$C26,'Raw Data'!$B:$B,'파트별 아이템별 차트'!G$2) -> 1 | H26: =COUNTIFS('Raw Data'!$C:$C,'파트별 아이템별 차트'!$B26,'Raw Data'!$D:$D,'파트별 아이템별 차트'!$D26,'Raw Data'!$A:$A,'파트별 아이템별 차트'!$C26,'Raw Data'!$B:$B,'파트별 아이템별 차트'!H$2) -> 0 | I26: =COUNTIFS('Raw Data'!$C:$C,'파트별 아이템별 차트'!$B26,'Raw Data'!$D:$D,'파트별 아이템별 차트'!$D26,'Raw Data'!$A:$A,'파트별 아이템별 차트'!$C26,'Raw Data'!$B:$B,'파트별 아이템별 차트'!I$2) -> 0 | J26: =COUNTIFS('Raw Data'!$C:$C,'파트별 아이템별 차트'!$B26,'Raw Data'!$D:$D,'파트별 아이템별 차트'!$D26,'Raw Data'!$A:$A,'파트별 아이템별 차트'!$C26,'Raw Data'!$B:$B,'파트별 아이템별 차트'!J$2) -> 2 | K26: =COUNTIFS('Raw Data'!$C:$C,'파트별 아이템별 차트'!$B26,'Raw Data'!$D:$D,'파트별 아이템별 차트'!$D26,'Raw Data'!$A:$A,'파트별 아이템별 차트'!$C26,'Raw Data'!$B:$B,'파트별 아이템별 차트'!K$2) -> 1 | L26: =COUNTIFS('Raw Data'!$C:$C,'파트별 아이템별 차트'!$B26,'Raw Data'!$D:$D,'파트별 아이템별 차트'!$D26,'Raw Data'!$A:$A,'파트별 아이템별 차트'!$C26,'Raw Data'!$B:$B,'파트별 아이템별 차트'!L$2) -> 3 | ... P26: =COUNTIFS('Raw Data'!$C:$C,'파트별 아이템별 차트'!$B26,'Raw Data'!$D:$D,'파트별 아이템별 차트'!$D26,'Raw Data'!$A:$A,'파트별 아이템별 차트'!$C26,'Raw Data'!$B:$B,'파트별 아이템별 차트'!P$2) -> 0 | Q26: =SUM(E26:P26) -> 15
A27: =A25+1 -> 12 | B27: =_xlfn.XLOOKUP($A27,'BACK DATA'!$A:$A,'BACK DATA'!$B:$B) -> ichroma | C27: 2022 | D27: =_xlfn.XLOOKUP($A27,'BACK DATA'!$A:$A,'BACK DATA'!$C:$C) -> Calprotectin | E27: =COUNTIFS('Raw Data'!$C:$C,'파트별 아이템별 차트'!$B27,'Raw Data'!$D:$D,'파트별 아이템별 차트'!$D27,'Raw Data'!$A:$A,'파트별 아이템별 차트'!$C27,'Raw Data'!$B:$B,'파트별 아이템별 차트'!E$2) -> 0 | F27: =COUNTIFS('Raw Data'!$C:$C,'파트별 아이템별 차트'!$B27,'Raw Data'!$D:$D,'파트별 아이템별 차트'!$D27,'Raw Data'!$A:$A,'파트별 아이템별 차트'!$C27,'Raw Data'!$B:$B,'파트별 아이템별 차트'!F$2) -> 0 | G27: =COUNTIFS('Raw Data'!$C:$C,'파트별 아이템별 차트'!$B27,'Raw Data'!$D:$D,'파트별 아이템별 차트'!$D27,'Raw Data'!$A:$A,'파트별 아이템별 차트'!$C27,'Raw Data'!$B:$B,'파트별 아이템별 차트'!G$2) -> 0 | H27: =COUNTIFS('Raw Data'!$C:$C,'파트별 아이템별 차트'!$B27,'Raw Data'!$D:$D,'파트별 아이템별 차트'!$D27,'Raw Data'!$A:$A,'파트별 아이템별 차트'!$C27,'Raw Data'!$B:$B,'파트별 아이템별 차트'!H$2) -> 1 | I27: =COUNTIFS('Raw Data'!$C:$C,'파트별 아이템별 차트'!$B27,'Raw Data'!$D:$D,'파트별 아이템별 차트'!$D27,'Raw Data'!$A:$A,'파트별 아이템별 차트'!$C27,'Raw Data'!$B:$B,'파트별 아이템별 차트'!I$2) -> 1 | J27: =COUNTIFS('Raw Data'!$C:$C,'파트별 아이템별 차트'!$B27,'Raw Data'!$D:$D,'파트별 아이템별 차트'!$D27,'Raw Data'!$A:$A,'파트별 아이템별 차트'!$C27,'Raw Data'!$B:$B,'파트별 아이템별 차트'!J$2) -> 0 | K27: =COUNTIFS('Raw Data'!$C:$C,'파트별 아이템별 차트'!$B27,'Raw Data'!$D:$D,'파트별 아이템별 차트'!$D27,'Raw Data'!$A:$A,'파트별 아이템별 차트'!$C27,'Raw Data'!$B:$B,'파트별 아이템별 차트'!K$2) -> 1 | L27: =COUNTIFS('Raw Data'!$C:$C,'파트별 아이템별 차트'!$B27,'Raw Data'!$D:$D,'파트별 아이템별 차트'!$D27,'Raw Data'!$A:$A,'파트별 아이템별 차트'!$C27,'Raw Data'!$B:$B,'파트별 아이템별 차트'!L$2) -> 1 | ... P27: =COUNTIFS('Raw Data'!$C:$C,'파트별 아이템별 차트'!$B27,'Raw Data'!$D:$D,'파트별 아이템별 차트'!$D27,'Raw Data'!$A:$A,'파트별 아이템별 차트'!$C27,'Raw Data'!$B:$B,'파트별 아이템별 차트'!P$2) -> 0 | Q27: =SUM(E27:P27) -> 7
A28: =A27 -> 12 | B28: =_xlfn.XLOOKUP($A28,'BACK DATA'!$A:$A,'BACK DATA'!$B:$B) -> ichroma | C28: 2023 | D28: =_xlfn.XLOOKUP($A28,'BACK DATA'!$A:$A,'BACK DATA'!$C:$C) -> Calprotectin | E28: =COUNTIFS('Raw Data'!$C:$C,'파트별 아이템별 차트'!$B28,'Raw Data'!$D:$D,'파트별 아이템별 차트'!$D28,'Raw Data'!$A:$A,'파트별 아이템별 차트'!$C28,'Raw Data'!$B:$B,'파트별 아이템별 차트'!E$2) -> 4 | F28: =COUNTIFS('Raw Data'!$C:$C,'파트별 아이템별 차트'!$B28,'Raw Data'!$D:$D,'파트별 아이템별 차트'!$D28,'Raw Data'!$A:$A,'파트별 아이템별 차트'!$C28,'Raw Data'!$B:$B,'파트별 아이템별 차트'!F$2) -> 2 | G28: =COUNTIFS('Raw Data'!$C:$C,'파트별 아이템별 차트'!$B28,'Raw Data'!$D:$D,'파트별 아이템별 차트'!$D28,'Raw Data'!$A:$A,'파트별 아이템별 차트'!$C28,'Raw Data'!$B:$B,'파트별 아이템별 차트'!G$2) -> 0 | H28: =COUNTIFS('Raw Data'!$C:$C,'파트별 아이템별 차트'!$B28,'Raw Data'!$D:$D,'파트별 아이템별 차트'!$D28,'Raw Data'!$A:$A,'파트별 아이템별 차트'!$C28,'Raw Data'!$B:$B,'파트별 아이템별 차트'!H$2) -> 1 | I28: =COUNTIFS('Raw Data'!$C:$C,'파트별 아이템별 차트'!$B28,'Raw Data'!$D:$D,'파트별 아이템별 차트'!$D28,'Raw Data'!$A:$A,'파트별 아이템별 차트'!$C28,'Raw Data'!$B:$B,'파트별 아이템별 차트'!I$2) -> 0 | J28: =COUNTIFS('Raw Data'!$C:$C,'파트별 아이템별 차트'!$B28,'Raw Data'!$D:$D,'파트별 아이템별 차트'!$D28,'Raw Data'!$A:$A,'파트별 아이템별 차트'!$C28,'Raw Data'!$B:$B,'파트별 아이템별 차트'!J$2) -> 0 | K28: =COUNTIFS('Raw Data'!$C:$C,'파트별 아이템별 차트'!$B28,'Raw Data'!$D:$D,'파트별 아이템별 차트'!$D28,'Raw Data'!$A:$A,'파트별 아이템별 차트'!$C28,'Raw Data'!$B:$B,'파트별 아이템별 차트'!K$2) -> 1 | L28: =COUNTIFS('Raw Data'!$C:$C,'파트별 아이템별 차트'!$B28,'Raw Data'!$D:$D,'파트별 아이템별 차트'!$D28,'Raw Data'!$A:$A,'파트별 아이템별 차트'!$C28,'Raw Data'!$B:$B,'파트별 아이템별 차트'!L$2) -> 1 | ... P28: =COUNTIFS('Raw Data'!$C:$C,'파트별 아이템별 차트'!$B28,'Raw Data'!$D:$D,'파트별 아이템별 차트'!$D28,'Raw Data'!$A:$A,'파트별 아이템별 차트'!$C28,'Raw Data'!$B:$B,'파트별 아이템별 차트'!P$2) -> 2 | Q28: =SUM(E28:P28) -> 13
A29: =A27+1 -> 13 | B29: =_xlfn.XLOOKUP($A29,'BACK DATA'!$A:$A,'BACK DATA'!$B:$B) -> ichroma | C29: 2022 | D29: =_xlfn.XLOOKUP($A29,'BACK DATA'!$A:$A,'BACK DATA'!$C:$C) -> Progesterone | E29: =COUNTIFS('Raw Data'!$C:$C,'파트별 아이템별 차트'!$B29,'Raw Data'!$D:$D,'파트별 아이템별 차트'!$D29,'Raw Data'!$A:$A,'파트별 아이템별 차트'!$C29,'Raw Data'!$B:$B,'파트별 아이템별 차트'!E$2) -> 0 | F29: =COUNTIFS('Raw Data'!$C:$C,'파트별 아이템별 차트'!$B29,'Raw Data'!$D:$D,'파트별 아이템별 차트'!$D29,'Raw Data'!$A:$A,'파트별 아이템별 차트'!$C29,'Raw Data'!$B:$B,'파트별 아이템별 차트'!F$2) -> 0 | G29: =COUNTIFS('Raw Data'!$C:$C,'파트별 아이템별 차트'!$B29,'Raw Data'!$D:$D,'파트별 아이템별 차트'!$D29,'Raw Data'!$A:$A,'파트별 아이템별 차트'!$C29,'Raw Data'!$B:$B,'파트별 아이템별 차트'!G$2) -> 0 | H29: =COUNTIFS('Raw Data'!$C:$C,'파트별 아이템별 차트'!$B29,'Raw Data'!$D:$D,'파트별 아이템별 차트'!$D29,'Raw Data'!$A:$A,'파트별 아이템별 차트'!$C29,'Raw Data'!$B:$B,'파트별 아이템별 차트'!H$2) -> 1 | I29: =COUNTIFS('Raw Data'!$C:$C,'파트별 아이템별 차트'!$B29,'Raw Data'!$D:$D,'파트별 아이템별 차트'!$D29,'Raw Data'!$A:$A,'파트별 아이템별 차트'!$C29,'Raw Data'!$B:$B,'파트별 아이템별 차트'!I$2) -> 1 | J29: =COUNTIFS('Raw Data'!$C:$C,'파트별 아이템별 차트'!$B29,'Raw Data'!$D:$D,'파트별 아이템별 차트'!$D29,'Raw Data'!$A:$A,'파트별 아이템별 차트'!$C29,'Raw Data'!$B:$B,'파트별 아이템별 차트'!J$2) -> 1 | K29: =COUNTIFS('Raw Data'!$C:$C,'파트별 아이템별 차트'!$B29,'Raw Data'!$D:$D,'파트별 아이템별 차트'!$D29,'Raw Data'!$A:$A,'파트별 아이템별 차트'!$C29,'Raw Data'!$B:$B,'파트별 아이템별 차트'!K$2) -> 3 | L29: =COUNTIFS('Raw Data'!$C:$C,'파트별 아이템별 차트'!$B29,'Raw Data'!$D:$D,'파트별 아이템별 차트'!$D29,'Raw Data'!$A:$A,'파트별 아이템별 차트'!$C29,'Raw Data'!$B:$B,'파트별 아이템별 차트'!L$2) -> 0 | ... P29: =COUNTIFS('Raw Data'!$C:$C,'파트별 아이템별 차트'!$B29,'Raw Data'!$D:$D,'파트별 아이템별 차트'!$D29,'Raw Data'!$A:$A,'파트별 아이템별 차트'!$C29,'Raw Data'!$B:$B,'파트별 아이템별 차트'!P$2) -> 0 | Q29: =SUM(E29:P29) -> 7
A30: =A29 -> 13 | B30: =_xlfn.XLOOKUP($A30,'BACK DATA'!$A:$A,'BACK DATA'!$B:$B) -> ichroma | C30: 2023 | D30: =_xlfn.XLOOKUP($A30,'BACK DATA'!$A:$A,'BACK DATA'!$C:$C) -> Progesterone | E30: =COUNTIFS('Raw Data'!$C:$C,'파트별 아이템별 차트'!$B30,'Raw Data'!$D:$D,'파트별 아이템별 차트'!$D30,'Raw Data'!$A:$A,'파트별 아이템별 차트'!$C30,'Raw Data'!$B:$B,'파트별 아이템별 차트'!E$2) -> 1 | F30: =COUNTIFS('Raw Data'!$C:$C,'파트별 아이템별 차트'!$B30,'Raw Data'!$D:$D,'파트별 아이템별 차트'!$D30,'Raw Data'!$A:$A,'파트별 아이템별 차트'!$C30,'Raw Data'!$B:$B,'파트별 아이템별 차트'!F$2) -> 0 | G30: =COUNTIFS('Raw Data'!$C:$C,'파트별 아이템별 차트'!$B30,'Raw Data'!$D:$D,'파트별 아이템별 차트'!$D30,'Raw Data'!$A:$A,'파트별 아이템별 차트'!$C30,'Raw Data'!$B:$B,'파트별 아이템별 차트'!G$2) -> 4 | H30: =COUNTIFS('Raw Data'!$C:$C,'파트별 아이템별 차트'!$B30,'Raw Data'!$D:$D,'파트별 아이템별 차트'!$D30,'Raw Data'!$A:$A,'파트별 아이템별 차트'!$C30,'Raw Data'!$B:$B,'파트별 아이템별 차트'!H$2) -> 0 | I30: =COUNTIFS('Raw Data'!$C:$C,'파트별 아이템별 차트'!$B30,'Raw Data'!$D:$D,'파트별 아이템별 차트'!$D30,'Raw Data'!$A:$A,'파트별 아이템별 차트'!$C30,'Raw Data'!$B:$B,'파트별 아이템별 차트'!I$2) -> 1 | J30: =COUNTIFS('Raw Data'!$C:$C,'파트별 아이템별 차트'!$B30,'Raw Data'!$D:$D,'파트별 아이템별 차트'!$D30,'Raw Data'!$A:$A,'파트별 아이템별 차트'!$C30,'Raw Data'!$B:$B,'파트별 아이템별 차트'!J$2) -> 0 | K30: =COUNTIFS('Raw Data'!$C:$C,'파트별 아이템별 차트'!$B30,'Raw Data'!$D:$D,'파트별 아이템별 차트'!$D30,'Raw Data'!$A:$A,'파트별 아이템별 차트'!$C30,'Raw Data'!$B:$B,'파트별 아이템별 차트'!K$2) -> 1 | L30: =COUNTIFS('Raw Data'!$C:$C,'파트별 아이템별 차트'!$B30,'Raw Data'!$D:$D,'파트별 아이템별 차트'!$D30,'Raw Data'!$A:$A,'파트별 아이템별 차트'!$C30,'Raw Data'!$B:$B,'파트별 아이템별 차트'!L$2) -> 1 | ... P30: =COUNTIFS('Raw Data'!$C:$C,'파트별 아이템별 차트'!$B30,'Raw Data'!$D:$D,'파트별 아이템별 차트'!$D30,'Raw Data'!$A:$A,'파트별 아이템별 차트'!$C30,'Raw Data'!$B:$B,'파트별 아이템별 차트'!P$2) -> 0 | Q30: =SUM(E30:P30) -> 13
A31: =A29+1 -> 14 | B31: =_xlfn.XLOOKUP($A31,'BACK DATA'!$A:$A,'BACK DATA'!$B:$B) -> ichroma | C31: 2022 | D31: =_xlfn.XLOOKUP($A31,'BACK DATA'!$A:$A,'BACK DATA'!$C:$C) -> Microalbumin | E31: =COUNTIFS('Raw Data'!$C:$C,'파트별 아이템별 차트'!$B31,'Raw Data'!$D:$D,'파트별 아이템별 차트'!$D31,'Raw Data'!$A:$A,'파트별 아이템별 차트'!$C31,'Raw Data'!$B:$B,'파트별 아이템별 차트'!E$2) -> 0 | F31: =COUNTIFS('Raw Data'!$C:$C,'파트별 아이템별 차트'!$B31,'Raw Data'!$D:$D,'파트별 아이템별 차트'!$D31,'Raw Data'!$A:$A,'파트별 아이템별 차트'!$C31,'Raw Data'!$B:$B,'파트별 아이템별 차트'!F$2) -> 0 | G31: =COUNTIFS('Raw Data'!$C:$C,'파트별 아이템별 차트'!$B31,'Raw Data'!$D:$D,'파트별 아이템별 차트'!$D31,'Raw Data'!$A:$A,'파트별 아이템별 차트'!$C31,'Raw Data'!$B:$B,'파트별 아이템별 차트'!G$2) -> 0 | H31: =COUNTIFS('Raw Data'!$C:$C,'파트별 아이템별 차트'!$B31,'Raw Data'!$D:$D,'파트별 아이템별 차트'!$D31,'Raw Data'!$A:$A,'파트별 아이템별 차트'!$C31,'Raw Data'!$B:$B,'파트별 아이템별 차트'!H$2) -> 0 | I31: =COUNTIFS('Raw Data'!$C:$C,'파트별 아이템별 차트'!$B31,'Raw Data'!$D:$D,'파트별 아이템별 차트'!$D31,'Raw Data'!$A:$A,'파트별 아이템별 차트'!$C31,'Raw Data'!$B:$B,'파트별 아이템별 차트'!I$2) -> 0 | J31: =COUNTIFS('Raw Data'!$C:$C,'파트별 아이템별 차트'!$B31,'Raw Data'!$D:$D,'파트별 아이템별 차트'!$D31,'Raw Data'!$A:$A,'파트별 아이템별 차트'!$C31,'Raw Data'!$B:$B,'파트별 아이템별 차트'!J$2) -> 1 | K31: =COUNTIFS('Raw Data'!$C:$C,'파트별 아이템별 차트'!$B31,'Raw Data'!$D:$D,'파트별 아이템별 차트'!$D31,'Raw Data'!$A:$A,'파트별 아이템별 차트'!$C31,'Raw Data'!$B:$B,'파트별 아이템별 차트'!K$2) -> 0 | L31: =COUNTIFS('Raw Data'!$C:$C,'파트별 아이템별 차트'!$B31,'Raw Data'!$D:$D,'파트별 아이템별 차트'!$D31,'Raw Data'!$A:$A,'파트별 아이템별 차트'!$C31,'Raw Data'!$B:$B,'파트별 아이템별 차트'!L$2) -> 0 | ... P31: =COUNTIFS('Raw Data'!$C:$C,'파트별 아이템별 차트'!$B31,'Raw Data'!$D:$D,'파트별 아이템별 차트'!$D31,'Raw Data'!$A:$A,'파트별 아이템별 차트'!$C31,'Raw Data'!$B:$B,'파트별 아이템별 차트'!P$2) -> 0 | Q31: =SUM(E31:P31) -> 1
A32: =A31 -> 14 | B32: =_xlfn.XLOOKUP($A32,'BACK DATA'!$A:$A,'BACK DATA'!$B:$B) -> ichroma | C32: 2023 | D32: =_xlfn.XLOOKUP($A32,'BACK DATA'!$A:$A,'BACK DATA'!$C:$C) -> Microalbumin | E32: =COUNTIFS('Raw Data'!$C:$C,'파트별 아이템별 차트'!$B32,'Raw Data'!$D:$D,'파트별 아이템별 차트'!$D32,'Raw Data'!$A:$A,'파트별 아이템별 차트'!$C32,'Raw Data'!$B:$B,'파트별 아이템별 차트'!E$2) -> 0 | F32: =COUNTIFS('Raw Data'!$C:$C,'파트별 아이템별 차트'!$B32,'Raw Data'!$D:$D,'파트별 아이템별 차트'!$D32,'Raw Data'!$A:$A,'파트별 아이템별 차트'!$C32,'Raw Data'!$B:$B,'파트별 아이템별 차트'!F$2) -> 1 | G32: =COUNTIFS('Raw Data'!$C:$C,'파트별 아이템별 차트'!$B32,'Raw Data'!$D:$D,'파트별 아이템별 차트'!$D32,'Raw Data'!$A:$A,'파트별 아이템별 차트'!$C32,'Raw Data'!$B:$B,'파트별 아이템별 차트'!G$2) -> 0 | H32: =COUNTIFS('Raw Data'!$C:$C,'파트별 아이템별 차트'!$B32,'Raw Data'!$D:$D,'파트별 아이템별 차트'!$D32,'Raw Data'!$A:$A,'파트별 아이템별 차트'!$C32,'Raw Data'!$B:$B,'파트별 아이템별 차트'!H$2) -> 0 | I32: =COUNTIFS('Raw Data'!$C:$C,'파트별 아이템별 차트'!$B32,'Raw Data'!$D:$D,'파트별 아이템별 차트'!$D32,'Raw Data'!$A:$A,'파트별 아이템별 차트'!$C32,'Raw Data'!$B:$B,'파트별 아이템별 차트'!I$2) -> 1 | J32: =COUNTIFS('Raw Data'!$C:$C,'파트별 아이템별 차트'!$B32,'Raw Data'!$D:$D,'파트별 아이템별 차트'!$D32,'Raw Data'!$A:$A,'파트별 아이템별 차트'!$C32,'Raw Data'!$B:$B,'파트별 아이템별 차트'!J$2) -> 0 | K32: =COUNTIFS('Raw Data'!$C:$C,'파트별 아이템별 차트'!$B32,'Raw Data'!$D:$D,'파트별 아이템별 차트'!$D32,'Raw Data'!$A:$A,'파트별 아이템별 차트'!$C32,'Raw Data'!$B:$B,'파트별 아이템별 차트'!K$2) -> 0 | L32: =COUNTIFS('Raw Data'!$C:$C,'파트별 아이템별 차트'!$B32,'Raw Data'!$D:$D,'파트별 아이템별 차트'!$D32,'Raw Data'!$A:$A,'파트별 아이템별 차트'!$C32,'Raw Data'!$B:$B,'파트별 아이템별 차트'!L$2) -> 3 | ... P32: =COUNTIFS('Raw Data'!$C:$C,'파트별 아이템별 차트'!$B32,'Raw Data'!$D:$D,'파트별 아이템별 차트'!$D32,'Raw Data'!$A:$A,'파트별 아이템별 차트'!$C32,'Raw Data'!$B:$B,'파트별 아이템별 차트'!P$2) -> 1 | Q32: =SUM(E32:P32) -> 13
A33: =A31+1 -> 15 | B33: =_xlfn.XLOOKUP($A33,'BACK DATA'!$A:$A,'BACK DATA'!$B:$B) -> ichroma | C33: 2022 | D33: =_xlfn.XLOOKUP($A33,'BACK DATA'!$A:$A,'BACK DATA'!$C:$C) -> PSA | E33: =COUNTIFS('Raw Data'!$C:$C,'파트별 아이템별 차트'!$B33,'Raw Data'!$D:$D,'파트별 아이템별 차트'!$D33,'Raw Data'!$A:$A,'파트별 아이템별 차트'!$C33,'Raw Data'!$B:$B,'파트별 아이템별 차트'!E$2) -> 0 | F33: =COUNTIFS('Raw Data'!$C:$C,'파트별 아이템별 차트'!$B33,'Raw Data'!$D:$D,'파트별 아이템별 차트'!$D33,'Raw Data'!$A:$A,'파트별 아이템별 차트'!$C33,'Raw Data'!$B:$B,'파트별 아이템별 차트'!F$2) -> 0 | G33: =COUNTIFS('Raw Data'!$C:$C,'파트별 아이템별 차트'!$B33,'Raw Data'!$D:$D,'파트별 아이템별 차트'!$D33,'Raw Data'!$A:$A,'파트별 아이템별 차트'!$C33,'Raw Data'!$B:$B,'파트별 아이템별 차트'!G$2) -> 0 | H33: =COUNTIFS('Raw Data'!$C:$C,'파트별 아이템별 차트'!$B33,'Raw Data'!$D:$D,'파트별 아이템별 차트'!$D33,'Raw Data'!$A:$A,'파트별 아이템별 차트'!$C33,'Raw Data'!$B:$B,'파트별 아이템별 차트'!H$2) -> 0 | I33: =COUNTIFS('Raw Data'!$C:$C,'파트별 아이템별 차트'!$B33,'Raw Data'!$D:$D,'파트별 아이템별 차트'!$D33,'Raw Data'!$A:$A,'파트별 아이템별 차트'!$C33,'Raw Data'!$B:$B,'파트별 아이템별 차트'!I$2) -> 0 | J33: =COUNTIFS('Raw Data'!$C:$C,'파트별 아이템별 차트'!$B33,'Raw Data'!$D:$D,'파트별 아이템별 차트'!$D33,'Raw Data'!$A:$A,'파트별 아이템별 차트'!$C33,'Raw Data'!$B:$B,'파트별 아이템별 차트'!J$2) -> 0 | K33: =COUNTIFS('Raw Data'!$C:$C,'파트별 아이템별 차트'!$B33,'Raw Data'!$D:$D,'파트별 아이템별 차트'!$D33,'Raw Data'!$A:$A,'파트별 아이템별 차트'!$C33,'Raw Data'!$B:$B,'파트별 아이템별 차트'!K$2) -> 0 | L33: =COUNTIFS('Raw Data'!$C:$C,'파트별 아이템별 차트'!$B33,'Raw Data'!$D:$D,'파트별 아이템별 차트'!$D33,'Raw Data'!$A:$A,'파트별 아이템별 차트'!$C33,'Raw Data'!$B:$B,'파트별 아이템별 차트'!L$2) -> 0 | ... P33: =COUNTIFS('Raw Data'!$C:$C,'파트별 아이템별 차트'!$B33,'Raw Data'!$D:$D,'파트별 아이템별 차트'!$D33,'Raw Data'!$A:$A,'파트별 아이템별 차트'!$C33,'Raw Data'!$B:$B,'파트별 아이템별 차트'!P$2) -> 0 | Q33: =SUM(E33:P33) -> 0
A34: =A33 -> 15 | B34: =_xlfn.XLOOKUP($A34,'BACK DATA'!$A:$A,'BACK DATA'!$B:$B) -> ichroma | C34: 2023 | D34: =_xlfn.XLOOKUP($A34,'BACK DATA'!$A:$A,'BACK DATA'!$C:$C) -> PSA | E34: =COUNTIFS('Raw Data'!$C:$C,'파트별 아이템별 차트'!$B34,'Raw Data'!$D:$D,'파트별 아이템별 차트'!$D34,'Raw Data'!$A:$A,'파트별 아이템별 차트'!$C34,'Raw Data'!$B:$B,'파트별 아이템별 차트'!E$2) -> 0 | F34: =COUNTIFS('Raw Data'!$C:$C,'파트별 아이템별 차트'!$B34,'Raw Data'!$D:$D,'파트별 아이템별 차트'!$D34,'Raw Data'!$A:$A,'파트별 아이템별 차트'!$C34,'Raw Data'!$B:$B,'파트별 아이템별 차트'!F$2) -> 0 | G34: =COUNTIFS('Raw Data'!$C:$C,'파트별 아이템별 차트'!$B34,'Raw Data'!$D:$D,'파트별 아이템별 차트'!$D34,'Raw Data'!$A:$A,'파트별 아이템별 차트'!$C34,'Raw Data'!$B:$B,'파트별 아이템별 차트'!G$2) -> 0 | H34: =COUNTIFS('Raw Data'!$C:$C,'파트별 아이템별 차트'!$B34,'Raw Data'!$D:$D,'파트별 아이템별 차트'!$D34,'Raw Data'!$A:$A,'파트별 아이템별 차트'!$C34,'Raw Data'!$B:$B,'파트별 아이템별 차트'!H$2) -> 2 | I34: =COUNTIFS('Raw Data'!$C:$C,'파트별 아이템별 차트'!$B34,'Raw Data'!$D:$D,'파트별 아이템별 차트'!$D34,'Raw Data'!$A:$A,'파트별 아이템별 차트'!$C34,'Raw Data'!$B:$B,'파트별 아이템별 차트'!I$2) -> 1 | J34: =COUNTIFS('Raw Data'!$C:$C,'파트별 아이템별 차트'!$B34,'Raw Data'!$D:$D,'파트별 아이템별 차트'!$D34,'Raw Data'!$A:$A,'파트별 아이템별 차트'!$C34,'Raw Data'!$B:$B,'파트별 아이템별 차트'!J$2) -> 1 | K34: =COUNTIFS('Raw Data'!$C:$C,'파트별 아이템별 차트'!$B34,'Raw Data'!$D:$D,'파트별 아이템별 차트'!$D34,'Raw Data'!$A:$A,'파트별 아이템별 차트'!$C34,'Raw Data'!$B:$B,'파트별 아이템별 차트'!K$2) -> 0 | L34: =COUNTIFS('Raw Data'!$C:$C,'파트별 아이템별 차트'!$B34,'Raw Data'!$D:$D,'파트별 아이템별 차트'!$D34,'Raw Data'!$A:$A,'파트별 아이템별 차트'!$C34,'Raw Data'!$B:$B,'파트별 아이템별 차트'!L$2) -> 1 | ... P34: =COUNTIFS('Raw Data'!$C:$C,'파트별 아이템별 차트'!$B34,'Raw Data'!$D:$D,'파트별 아이템별 차트'!$D34,'Raw Data'!$A:$A,'파트별 아이템별 차트'!$C34,'Raw Data'!$B:$B,'파트별 아이템별 차트'!P$2) -> 0 | Q34: =SUM(E34:P34) -> 11
A35: =A33+1 -> 16 | B35: =_xlfn.XLOOKUP($A35,'BACK DATA'!$A:$A,'BACK DATA'!$B:$B) -> ichroma | C35: 2022 | D35: =_xlfn.XLOOKUP($A35,'BACK DATA'!$A:$A,'BACK DATA'!$C:$C) -> iFob Neo | E35: =COUNTIFS('Raw Data'!$C:$C,'파트별 아이템별 차트'!$B35,'Raw Data'!$D:$D,'파트별 아이템별 차트'!$D35,'Raw Data'!$A:$A,'파트별 아이템별 차트'!$C35,'Raw Data'!$B:$B,'파트별 아이템별 차트'!E$2) -> 0 | F35: =COUNTIFS('Raw Data'!$C:$C,'파트별 아이템별 차트'!$B35,'Raw Data'!$D:$D,'파트별 아이템별 차트'!$D35,'Raw Data'!$A:$A,'파트별 아이템별 차트'!$C35,'Raw Data'!$B:$B,'파트별 아이템별 차트'!F$2) -> 0 | G35: =COUNTIFS('Raw Data'!$C:$C,'파트별 아이템별 차트'!$B35,'Raw Data'!$D:$D,'파트별 아이템별 차트'!$D35,'Raw Data'!$A:$A,'파트별 아이템별 차트'!$C35,'Raw Data'!$B:$B,'파트별 아이템별 차트'!G$2) -> 0 | H35: =COUNTIFS('Raw Data'!$C:$C,'파트별 아이템별 차트'!$B35,'Raw Data'!$D:$D,'파트별 아이템별 차트'!$D35,'Raw Data'!$A:$A,'파트별 아이템별 차트'!$C35,'Raw Data'!$B:$B,'파트별 아이템별 차트'!H$2) -> 0 | I35: =COUNTIFS('Raw Data'!$C:$C,'파트별 아이템별 차트'!$B35,'Raw Data'!$D:$D,'파트별 아이템별 차트'!$D35,'Raw Data'!$A:$A,'파트별 아이템별 차트'!$C35,'Raw Data'!$B:$B,'파트별 아이템별 차트'!I$2) -> 1 | J35: =COUNTIFS('Raw Data'!$C:$C,'파트별 아이템별 차트'!$B35,'Raw Data'!$D:$D,'파트별 아이템별 차트'!$D35,'Raw Data'!$A:$A,'파트별 아이템별 차트'!$C35,'Raw Data'!$B:$B,'파트별 아이템별 차트'!J$2) -> 1 | K35: =COUNTIFS('Raw Data'!$C:$C,'파트별 아이템별 차트'!$B35,'Raw Data'!$D:$D,'파트별 아이템별 차트'!$D35,'Raw Data'!$A:$A,'파트별 아이템별 차트'!$C35,'Raw Data'!$B:$B,'파트별 아이템별 차트'!K$2) -> 0 | L35: =COUNTIFS('Raw Data'!$C:$C,'파트별 아이템별 차트'!$B35,'Raw Data'!$D:$D,'파트별 아이템별 차트'!$D35,'Raw Data'!$A:$A,'파트별 아이템별 차트'!$C35,'Raw Data'!$B:$B,'파트별 아이템별 차트'!L$2) -> 0 | ... P35: =COUNTIFS('Raw Data'!$C:$C,'파트별 아이템별 차트'!$B35,'Raw Data'!$D:$D,'파트별 아이템별 차트'!$D35,'Raw Data'!$A:$A,'파트별 아이템별 차트'!$C35,'Raw Data'!$B:$B,'파트별 아이템별 차트'!P$2) -> 0 | Q35: =SUM(E35:P35) -> 2
A36: =A35 -> 16 | B36: =_xlfn.XLOOKUP($A36,'BACK DATA'!$A:$A,'BACK DATA'!$B:$B) -> ichroma | C36: 2023 | D36: =_xlfn.XLOOKUP($A36,'BACK DATA'!$A:$A,'BACK DATA'!$C:$C) -> iFob Neo | E36: =COUNTIFS('Raw Data'!$C:$C,'파트별 아이템별 차트'!$B36,'Raw Data'!$D:$D,'파트별 아이템별 차트'!$D36,'Raw Data'!$A:$A,'파트별 아이템별 차트'!$C36,'Raw Data'!$B:$B,'파트별 아이템별 차트'!E$2) -> 0 | F36: =COUNTIFS('Raw Data'!$C:$C,'파트별 아이템별 차트'!$B36,'Raw Data'!$D:$D,'파트별 아이템별 차트'!$D36,'Raw Data'!$A:$A,'파트별 아이템별 차트'!$C36,'Raw Data'!$B:$B,'파트별 아이템별 차트'!F$2) -> 1 | G36: =COUNTIFS('Raw Data'!$C:$C,'파트별 아이템별 차트'!$B36,'Raw Data'!$D:$D,'파트별 아이템별 차트'!$D36,'Raw Data'!$A:$A,'파트별 아이템별 차트'!$C36,'Raw Data'!$B:$B,'파트별 아이템별 차트'!G$2) -> 1 | H36: =COUNTIFS('Raw Data'!$C:$C,'파트별 아이템별 차트'!$B36,'Raw Data'!$D:$D,'파트별 아이템별 차트'!$D36,'Raw Data'!$A:$A,'파트별 아이템별 차트'!$C36,'Raw Data'!$B:$B,'파트별 아이템별 차트'!H$2) -> 2 | I36: =COUNTIFS('Raw Data'!$C:$C,'파트별 아이템별 차트'!$B36,'Raw Data'!$D:$D,'파트별 아이템별 차트'!$D36,'Raw Data'!$A:$A,'파트별 아이템별 차트'!$C36,'Raw Data'!$B:$B,'파트별 아이템별 차트'!I$2) -> 0 | J36: =COUNTIFS('Raw Data'!$C:$C,'파트별 아이템별 차트'!$B36,'Raw Data'!$D:$D,'파트별 아이템별 차트'!$D36,'Raw Data'!$A:$A,'파트별 아이템별 차트'!$C36,'Raw Data'!$B:$B,'파트별 아이템별 차트'!J$2) -> 1 | K36: =COUNTIFS('Raw Data'!$C:$C,'파트별 아이템별 차트'!$B36,'Raw Data'!$D:$D,'파트별 아이템별 차트'!$D36,'Raw Data'!$A:$A,'파트별 아이템별 차트'!$C36,'Raw Data'!$B:$B,'파트별 아이템별 차트'!K$2) -> 0 | L36: =COUNTIFS('Raw Data'!$C:$C,'파트별 아이템별 차트'!$B36,'Raw Data'!$D:$D,'파트별 아이템별 차트'!$D36,'Raw Data'!$A:$A,'파트별 아이템별 차트'!$C36,'Raw Data'!$B:$B,'파트별 아이템별 차트'!L$2) -> 0 | ... P36: =COUNTIFS('Raw Data'!$C:$C,'파트별 아이템별 차트'!$B36,'Raw Data'!$D:$D,'파트별 아이템별 차트'!$D36,'Raw Data'!$A:$A,'파트별 아이템별 차트'!$C36,'Raw Data'!$B:$B,'파트별 아이템별 차트'!P$2) -> 0 | Q36: =SUM(E36:P36) -> 9
