Workbook

Sheet Sheet1
B2: 구분 | C2: 사용연월 | D2: 일자 | E2: 사용자 | F2: 내용 | G2: 금액 | H2: 품의 | I2: 품의여부 | J2: 품의번호 | K2: 비고
D3: =IF(COUNTIF(D$2:D2, D2) < COUNTIF(Sheet2!C:C, D2), D2, IF(D2=MAX(Sheet2!C:C),"", _xlfn.MINIFS(Sheet2!C:C,Sheet2!C:C, ">" & IF(ISNUMBER(D2), D2,0) ) ) ) -> 44928 | E3: =IF($D3="", "", INDEX( Sheet2!B:B, 1/_xlfn.AGGREGATE(14,6, (Sheet2!$C$1:$C$100=$D3)/ROW(Sheet2!$C$1:$C$100), COUNTIF(Sheet1!$D$2:$D3, $D3) ), ) ) -> 미지 | F3: =IF($D3="", "", INDEX( Sheet2!E:E, 1/_xlfn.AGGREGATE(14,6, (Sheet2!$C$1:$C$100=$D3)/ROW(Sheet2!$C$1:$C$100), COUNTIF(Sheet1!$D$2:$D3, $D3) ), ) ) -> 법인인감증명서 | G3: =IF($D3="", "", INDEX( Sheet2!F:F, 1/_xlfn.AGGREGATE(14,6, (Sheet2!$C$1:$C$100=$D3)/ROW(Sheet2!$C$1:$C$100), COUNTIF(Sheet1!$D$2:$D3, $D3) ), ) ) -> 2000 | J3: =IF($D3="", "", INDEX( Sheet2!I:I, 1/_xlfn.AGGREGATE(14,6, (Sheet2!$C$1:$C$100=$D3)/ROW(Sheet2!$C$1:$C$100), COUNTIF(Sheet1!$D$2:$D3, $D3) ), ) ) -> 01-008
D4: =IF(COUNTIF(D$2:D3, D3) < COUNTIF(Sheet2!C:C, D3), D3, IF(D3=MAX(Sheet2!C:C),"", _xlfn.MINIFS(Sheet2!C:C,Sheet2!C:C, ">" & IF(ISNUMBER(D3), D3,0) ) ) ) -> 44930 | E4: =IF($D4="", "", INDEX( Sheet2!B:B, 1/_xlfn.AGGREGATE(14,6, (Sheet2!$C$1:$C$100=$D4)/ROW(Sheet2!$C$1:$C$100), COUNTIF(Sheet1!$D$2:$D4, $D4) ), ) ) -> 김준 | F4: =IF($D4="", "", INDEX( Sheet2!E:E, 1/_xlfn.AGGREGATE(14,6, (Sheet2!$C$1:$C$100=$D4)/ROW(Sheet2!$C$1:$C$100), COUNTIF(Sheet1!$D$2:$D4, $D4) ), ) ) -> 우편발송 | G4: =IF($D4="", "", INDEX( Sheet2!F:F, 1/_xlfn.AGGREGATE(14,6, (Sheet2!$C$1:$C$100=$D4)/ROW(Sheet2!$C$1:$C$100), COUNTIF(Sheet1!$D$2:$D4, $D4) ), ) ) -> 3860 | J4: =IF($D4="", "", INDEX( Sheet2!I:I, 1/_xlfn.AGGREGATE(14,6, (Sheet2!$C$1:$C$100=$D4)/ROW(Sheet2!$C$1:$C$100), COUNTIF(Sheet1!$D$2:$D4, $D4) ), ) ) -> 01-032
D5: =IF(COUNTIF(D$2:D4, D4) < COUNTIF(Sheet2!C:C, D4), D4, IF(D4=MAX(Sheet2!C:C),"", _xlfn.MINIFS(Sheet2!C:C,Sheet2!C:C, ">" & IF(ISNUMBER(D4), D4,0) ) ) ) -> 44935 | E5: =IF($D5="", "", INDEX( Sheet2!B:B, 1/_xlfn.AGGREGATE(14,6, (Sheet2!$C$1:$C$100=$D5)/ROW(Sheet2!$C$1:$C$100), COUNTIF(Sheet1!$D$2:$D5, $D5) ), ) ) -> 미지 | F5: =IF($D5="", "", INDEX( Sheet2!E:E, 1/_xlfn.AGGREGATE(14,6, (Sheet2!$C$1:$C$100=$D5)/ROW(Sheet2!$C$1:$C$100), COUNTIF(Sheet1!$D$2:$D5, $D5) ), ) ) -> 우편발송 | G5: =IF($D5="", "", INDEX( Sheet2!F:F, 1/_xlfn.AGGREGATE(14,6, (Sheet2!$C$1:$C$100=$D5)/ROW(Sheet2!$C$1:$C$100), COUNTIF(Sheet1!$D$2:$D5, $D5) ), ) ) -> 1290 | J5: =IF($D5="", "", INDEX( Sheet2!I:I, 1/_xlfn.AGGREGATE(14,6, (Sheet2!$C$1:$C$100=$D5)/ROW(Sheet2!$C$1:$C$100), COUNTIF(Sheet1!$D$2:$D5, $D5) ), ) ) -> 01-060
D6: =IF(COUNTIF(D$2:D5, D5) < COUNTIF(Sheet2!C:C, D5), D5, IF(D5=MAX(Sheet2!C:C),"", _xlfn.MINIFS(Sheet2!C:C,Sheet2!C:C, ">" & IF(ISNUMBER(D5), D5,0) ) ) ) -> 44939 | E6: =IF($D6="", "", INDEX( Sheet2!B:B, 1/_xlfn.AGGREGATE(14,6, (Sheet2!$C$1:$C$100=$D6)/ROW(Sheet2!$C$1:$C$100), COUNTIF(Sheet1!$D$2:$D6, $D6) ), ) ) -> 김태철 | F6: =IF($D6="", "", INDEX( Sheet2!E:E, 1/_xlfn.AGGREGATE(14,6, (Sheet2!$C$1:$C$100=$D6)/ROW(Sheet2!$C$1:$C$100), COUNTIF(Sheet1!$D$2:$D6, $D6) ), ) ) -> 자석 | G6: =IF($D6="", "", INDEX( Sheet2!F:F, 1/_xlfn.AGGREGATE(14,6, (Sheet2!$C$1:$C$100=$D6)/ROW(Sheet2!$C$1:$C$100), COUNTIF(Sheet1!$D$2:$D6, $D6) ), ) ) -> 10000 | J6: =IF($D6="", "", INDEX( Sheet2!I:I, 1/_xlfn.AGGREGATE(14,6, (Sheet2!$C$1:$C$100=$D6)/ROW(Sheet2!$C$1:$C$100), COUNTIF(Sheet1!$D$2:$D6, $D6) ), ) ) -> 01-105
D7: =IF(COUNTIF(D$2:D6, D6) < COUNTIF(Sheet2!C:C, D6), D6, IF(D6=MAX(Sheet2!C:C),"", _xlfn.MINIFS(Sheet2!C:C,Sheet2!C:C, ">" & IF(ISNUMBER(D6), D6,0) ) ) ) -> 44943 | E7: =IF($D7="", "", INDEX( Sheet2!B:B, 1/_xlfn.AGGREGATE(14,6, (Sheet2!$C$1:$C$100=$D7)/ROW(Sheet2!$C$1:$C$100), COUNTIF(Sheet1!$D$2:$D7, $D7) ), ) ) -> 김태철 | F7: =IF($D7="", "", INDEX( Sheet2!E:E, 1/_xlfn.AGGREGATE(14,6, (Sheet2!$C$1:$C$100=$D7)/ROW(Sheet2!$C$1:$C$100), COUNTIF(Sheet1!$D$2:$D7, $D7) ), ) ) -> 3 | G7: =IF($D7="", "", INDEX( Sheet2!F:F, 1/_xlfn.AGGREGATE(14,6, (Sheet2!$C$1:$C$100=$D7)/ROW(Sheet2!$C$1:$C$100), COUNTIF(Sheet1!$D$2:$D7, $D7) ), ) ) -> 184800 | J7: =IF($D7="", "", INDEX( Sheet2!I:I, 1/_xlfn.AGGREGATE(14,6, (Sheet2!$C$1:$C$100=$D7)/ROW(Sheet2!$C$1:$C$100), COUNTIF(Sheet1!$D$2:$D7, $D7) ), ) ) -> 02-016
D8: =IF(COUNTIF(D$2:D7, D7) < COUNTIF(Sheet2!C:C, D7), D7, IF(D7=MAX(Sheet2!C:C),"", _xlfn.MINIFS(Sheet2!C:C,Sheet2!C:C, ">" & IF(ISNUMBER(D7), D7,0) ) ) ) -> 44944 | E8: =IF($D8="", "", INDEX( Sheet2!B:B, 1/_xlfn.AGGREGATE(14,6, (Sheet2!$C$1:$C$100=$D8)/ROW(Sheet2!$C$1:$C$100), COUNTIF(Sheet1!$D$2:$D8, $D8) ), ) ) -> 최진경 | F8: =IF($D8="", "", INDEX( Sheet2!E:E, 1/_xlfn.AGGREGATE(14,6, (Sheet2!$C$1:$C$100=$D8)/ROW(Sheet2!$C$1:$C$100), COUNTIF(Sheet1!$D$2:$D8, $D8) ), ) ) -> 4 | G8: =IF($D8="", "", INDEX( Sheet2!F:F, 1/_xlfn.AGGREGATE(14,6, (Sheet2!$C$1:$C$100=$D8)/ROW(Sheet2!$C$1:$C$100), COUNTIF(Sheet1!$D$2:$D8, $D8) ), ) ) -> 3860 | J8: =IF($D8="", "", INDEX( Sheet2!I:I, 1/_xlfn.AGGREGATE(14,6, (Sheet2!$C$1:$C$100=$D8)/ROW(Sheet2!$C$1:$C$100), COUNTIF(Sheet1!$D$2:$D8, $D8) ), ) ) -> 01-141
D9: =IF(COUNTIF(D$2:D8, D8) < COUNTIF(Sheet2!C:C, D8), D8, IF(D8=MAX(Sheet2!C:C),"", _xlfn.MINIFS(Sheet2!C:C,Sheet2!C:C, ">" & IF(ISNUMBER(D8), D8,0) ) ) ) -> 44951 | E9: =IF($D9="", "", INDEX( Sheet2!B:B, 1/_xlfn.AGGREGATE(14,6, (Sheet2!$C$1:$C$100=$D9)/ROW(Sheet2!$C$1:$C$100), COUNTIF(Sheet1!$D$2:$D9, $D9) ), ) ) -> 김태철 | F9: =IF($D9="", "", INDEX( Sheet2!E:E, 1/_xlfn.AGGREGATE(14,6, (Sheet2!$C$1:$C$100=$D9)/ROW(Sheet2!$C$1:$C$100), COUNTIF(Sheet1!$D$2:$D9, $D9) ), ) ) -> 5 | G9: =IF($D9="", "", INDEX( Sheet2!F:F, 1/_xlfn.AGGREGATE(14,6, (Sheet2!$C$1:$C$100=$D9)/ROW(Sheet2!$C$1:$C$100), COUNTIF(Sheet1!$D$2:$D9, $D9) ), ) ) -> 44000 | J9: =IF($D9="", "", INDEX( Sheet2!I:I, 1/_xlfn.AGGREGATE(14,6, (Sheet2!$C$1:$C$100=$D9)/ROW(Sheet2!$C$1:$C$100), COUNTIF(Sheet1!$D$2:$D9, $D9) ), ) ) -> 01-164
D10: =IF(COUNTIF(D$2:D9, D9) < COUNTIF(Sheet2!C:C, D9), D9, IF(D9=MAX(Sheet2!C:C),"", _xlfn.MINIFS(Sheet2!C:C,Sheet2!C:C, ">" & IF(ISNUMBER(D9), D9,0) ) ) ) -> 44951 | E10: =IF($D10="", "", INDEX( Sheet2!B:B, 1/_xlfn.AGGREGATE(14,6, (Sheet2!$C$1:$C$100=$D10)/ROW(Sheet2!$C$1:$C$100), COUNTIF(Sheet1!$D$2:$D10, $D10) ), ) ) -> 미지 | F10: =IF($D10="", "", INDEX( Sheet2!E:E, 1/_xlfn.AGGREGATE(14,6, (Sheet2!$C$1:$C$100=$D10)/ROW(Sheet2!$C$1:$C$100), COUNTIF(Sheet1!$D$2:$D10, $D10) ), ) ) -> 6 | G10: =IF($D10="", "", INDEX( Sheet2!F:F, 1/_xlfn.AGGREGATE(14,6, (Sheet2!$C$1:$C$100=$D10)/ROW(Sheet2!$C$1:$C$100), COUNTIF(Sheet1!$D$2:$D10, $D10) ), ) ) -> 1000 | J10: =IF($D10="", "", INDEX( Sheet2!I:I, 1/_xlfn.AGGREGATE(14,6, (Sheet2!$C$1:$C$100=$D10)/ROW(Sheet2!$C$1:$C$100), COUNTIF(Sheet1!$D$2:$D10, $D10) ), ) ) -> 01-167
D11: =IF(COUNTIF(D$2:D10, D10) < COUNTIF(Sheet2!C:C, D10), D10, IF(D10=MAX(Sheet2!C:C),"", _xlfn.MINIFS(Sheet2!C:C,Sheet2!C:C, ">" & IF(ISNUMBER(D10), D10,0) ) ) ) -> 44951 | E11: =IF($D11="", "", INDEX( Sheet2!B:B, 1/_xlfn.AGGREGATE(14,6, (Sheet2!$C$1:$C$100=$D11)/ROW(Sheet2!$C$1:$C$100), COUNTIF(Sheet1!$D$2:$D11, $D11) ), ) ) -> 미지 | F11: =IF($D11="", "", INDEX( Sheet2!E:E, 1/_xlfn.AGGREGATE(14,6, (Sheet2!$C$1:$C$100=$D11)/ROW(Sheet2!$C$1:$C$100), COUNTIF(Sheet1!$D$2:$D11, $D11) ), ) ) -> 7 | G11: =IF($D11="", "", INDEX( Sheet2!F:F, 1/_xlfn.AGGREGATE(14,6, (Sheet2!$C$1:$C$100=$D11)/ROW(Sheet2!$C$1:$C$100), COUNTIF(Sheet1!$D$2:$D11, $D11) ), ) ) -> 4000 | J11: =IF($D11="", "", INDEX( Sheet2!I:I, 1/_xlfn.AGGREGATE(14,6, (Sheet2!$C$1:$C$100=$D11)/ROW(Sheet2!$C$1:$C$100), COUNTIF(Sheet1!$D$2:$D11, $D11) ), ) ) -> 01-167
D12: =IF(COUNTIF(D$2:D11, D11) < COUNTIF(Sheet2!C:C, D11), D11, IF(D11=MAX(Sheet2!C:C),"", _xlfn.MINIFS(Sheet2!C:C,Sheet2!C:C, ">" & IF(ISNUMBER(D11), D11,0) ) ) ) | E12: =IF($D12="", "", INDEX( Sheet2!B:B, 1/_xlfn.AGGREGATE(14,6, (Sheet2!$C$1:$C$100=$D12)/ROW(Sheet2!$C$1:$C$100), COUNTIF(Sheet1!$D$2:$D12, $D12) ), ) ) | F12: =IF($D12="", "", INDEX( Sheet2!E:E, 1/_xlfn.AGGREGATE(14,6, (Sheet2!$C$1:$C$100=$D12)/ROW(Sheet2!$C$1:$C$100), COUNTIF(Sheet1!$D$2:$D12, $D12) ), ) ) | G12: =IF($D12="", "", INDEX( Sheet2!F:F, 1/_xlfn.AGGREGATE(14,6, (Sheet2!$C$1:$C$100=$D12)/ROW(Sheet2!$C$1:$C$100), COUNTIF(Sheet1!$D$2:$D12, $D12) ), ) ) | J12: =IF($D12="", "", INDEX( Sheet2!I:I, 1/_xlfn.AGGREGATE(14,6, (Sheet2!$C$1:$C$100=$D12)/ROW(Sheet2!$C$1:$C$100), COUNTIF(Sheet1!$D$2:$D12, $D12) ), ) )
D13: =IF(COUNTIF(D$2:D12, D12) < COUNTIF(Sheet2!C:C, D12), D12, IF(D12=MAX(Sheet2!C:C),"", _xlfn.MINIFS(Sheet2!C:C,Sheet2!C:C, ">" & IF(ISNUMBER(D12), D12,0) ) ) ) | E13: =IF($D13="", "", INDEX( Sheet2!B:B, 1/_xlfn.AGGREGATE(14,6, (Sheet2!$C$1:$C$100=$D13)/ROW(Sheet2!$C$1:$C$100), COUNTIF(Sheet1!$D$2:$D13, $D13) ), ) ) | F13: =IF($D13="", "", INDEX( Sheet2!E:E, 1/_xlfn.AGGREGATE(14,6, (Sheet2!$C$1:$C$100=$D13)/ROW(Sheet2!$C$1:$C$100), COUNTIF(Sheet1!$D$2:$D13, $D13) ), ) ) | G13: =IF($D13="", "", INDEX( Sheet2!F:F, 1/_xlfn.AGGREGATE(14,6, (Sheet2!$C$1:$C$100=$D13)/ROW(Sheet2!$C$1:$C$100), COUNTIF(Sheet1!$D$2:$D13, $D13) ), ) ) | J13: =IF($D13="", "", INDEX( Sheet2!I:I, 1/_xlfn.AGGREGATE(14,6, (Sheet2!$C$1:$C$100=$D13)/ROW(Sheet2!$C$1:$C$100), COUNTIF(Sheet1!$D$2:$D13, $D13) ), ) )
D14: =IF(COUNTIF(D$2:D13, D13) < COUNTIF(Sheet2!C:C, D13), D13, IF(D13=MAX(Sheet2!C:C),"", _xlfn.MINIFS(Sheet2!C:C,Sheet2!C:C, ">" & IF(ISNUMBER(D13), D13,0) ) ) ) | E14: =IF($D14="", "", INDEX( Sheet2!B:B, 1/_xlfn.AGGREGATE(14,6, (Sheet2!$C$1:$C$100=$D14)/ROW(Sheet2!$C$1:$C$100), COUNTIF(Sheet1!$D$2:$D14, $D14) ), ) ) | F14: =IF($D14="", "", INDEX( Sheet2!E:E, 1/_xlfn.AGGREGATE(14,6, (Sheet2!$C$1:$C$100=$D14)/ROW(Sheet2!$C$1:$C$100), COUNTIF(Sheet1!$D$2:$D14, $D14) ), ) ) | G14: =IF($D14="", "", INDEX( Sheet2!F:F, 1/_xlfn.AGGREGATE(14,6, (Sheet2!$C$1:$C$100=$D14)/ROW(Sheet2!$C$1:$C$100), COUNTIF(Sheet1!$D$2:$D14, $D14) ), ) ) | J14: =IF($D14="", "", INDEX( Sheet2!I:I, 1/_xlfn.AGGREGATE(14,6, (Sheet2!$C$1:$C$100=$D14)/ROW(Sheet2!$C$1:$C$100), COUNTIF(Sheet1!$D$2:$D14, $D14) ), ) )
... D19: =IF(COUNTIF(D$2:D18, D18) < COUNTIF(Sheet2!C:C, D18), D18, IF(D18=MAX(Sheet2!C:C),"", _xlfn.MINIFS(Sheet2!C:C,Sheet2!C:C, ">" & IF(ISNUMBER(D18), D18,0) ) ) ) | E19: =IF($D19="", "", INDEX( Sheet2!B:B, 1/_xlfn.AGGREGATE(14,6, (Sheet2!$C$1:$C$100=$D19)/ROW(Sheet2!$C$1:$C$100), COUNTIF(Sheet1!$D$2:$D19, $D19) ), ) ) | F19: =IF($D19="", "", INDEX( Sheet2!E:E, 1/_xlfn.AGGREGATE(14,6, (Sheet2!$C$1:$C$100=$D19)/ROW(Sheet2!$C$1:$C$100), COUNTIF(Sheet1!$D$2:$D19, $D19) ), ) ) | G19: =IF($D19="", "", INDEX( Sheet2!F:F, 1/_xlfn.AGGREGATE(14,6, (Sheet2!$C$1:$C$100=$D19)/ROW(Sheet2!$C$1:$C$100), COUNTIF(Sheet1!$D$2:$D19, $D19) ), ) ) | J19: =IF($D19="", "", INDEX( Sheet2!I:I, 1/_xlfn.AGGREGATE(14,6, (Sheet2!$C$1:$C$100=$D19)/ROW(Sheet2!$C$1:$C$100), COUNTIF(Sheet1!$D$2:$D19, $D19) ), ) )

Sheet Sheet2
B1: 사용자 | C1: 일자 | D1: 계정 | E1: 내용 | F1: 금액 | G1: 이용점명 | H1: 세액공제 | I1: 품의번호
B2: 미지 | C2: 44928 | D2: 지급수수료 | E2: 법인인감증명서 | F2: 2000 | G2: 법원행정처 | H2: X | I2: 01-008
B3: 김준 | C3: 44930 | D3: 통신비 | E3: 우편발송 | F3: 3860 | G3: 우정사업보눕 | H3: X | I3: 01-032
B4: 미지 | C4: 44935 | D4: 통신비 | E4: 우편발송 | F4: 1290 | G4: 우체국 | H4: X | I4: 01-060
B5: 김태철 | C5: 44939 | D5: 소모품비 | E5: 자석 | F5: 10000 | G5: 공구 | H5: O | I5: 01-105
B6: 김태철 | C6: 44943 | D6: 소모품비 | E6: 3 | F6: 184800 | G6: 지마켓 | H6: O | I6: 02-016
B7: 최진경 | C7: 44944 | D7: 통신비 | E7: 4 | F7: 3860 | G7: 우체국 | H7: X | I7: 01-141
B8: 김태철 | C8: 44951 | D8: 소모품비 | E8: 5 | F8: 44000 | G8: 나노철물 | H8: O | I8: 01-164
B9: 미지 | C9: 44951 | D9: 지급수수료 | E9: 6 | F9: 1000 | G9: 법원행정처 | H9: X | I9: 01-167
B10: 미지 | C10: 44951 | D10: 지급수수료 | E10: 7 | F10: 4000 | G10: 법원행저엋 | H10: X | I10: 01-167
