Workbook

Sheet Sheet1
B2: 구분 | C2: 사용연월 | D2: 일자 | E2: 사용자 | F2: 내용 | G2: 금액 | H2: 품의 | I2: 품의여부 | J2: 품의번호 | K2: 비고
D3: 44928 | E3: 미지 | F3: {=INDEX(Sheet2!$E$2:$E$10,MATCH(1,(Sheet1!D3=Sheet2!$C$2:$C$10)*(Sheet1!E3=Sheet2!$B$2:$B$10),0))} -> 법인인감증명서 | G3: {=INDEX(Sheet2!$F$2:$F$10,MATCH(1,(Sheet1!D3=Sheet2!$C$2:$C$10)*(Sheet1!E3=Sheet2!$B$2:$B$10),0))} -> 2000 | J3: {=INDEX(Sheet2!$I$2:$I$10,MATCH(1,(Sheet1!D3=Sheet2!$C$2:$C$10)*(Sheet1!E3=Sheet2!$B$2:$B$10),0))} -> 01-008
D4: 44930 | E4: 김준 | F4: {=INDEX(Sheet2!$E$2:$E$10,MATCH(1,(Sheet1!D4=Sheet2!$C$2:$C$10)*(Sheet1!E4=Sheet2!$B$2:$B$10),0))} -> 우편발송 | G4: {=INDEX(Sheet2!$F$2:$F$10,MATCH(1,(Sheet1!D4=Sheet2!$C$2:$C$10)*(Sheet1!E4=Sheet2!$B$2:$B$10),0))} -> 3860 | J4: {=INDEX(Sheet2!$I$2:$I$10,MATCH(1,(Sheet1!D4=Sheet2!$C$2:$C$10)*(Sheet1!E4=Sheet2!$B$2:$B$10),0))} -> 01-032
D5: 44935 | E5: 미지 | F5: {=INDEX(Sheet2!$E$2:$E$10,MATCH(1,(Sheet1!D5=Sheet2!$C$2:$C$10)*(Sheet1!E5=Sheet2!$B$2:$B$10),0))} -> 우편발송 | G5: {=INDEX(Sheet2!$F$2:$F$10,MATCH(1,(Sheet1!D5=Sheet2!$C$2:$C$10)*(Sheet1!E5=Sheet2!$B$2:$B$10),0))} -> 1290 | J5: {=INDEX(Sheet2!$I$2:$I$10,MATCH(1,(Sheet1!D5=Sheet2!$C$2:$C$10)*(Sheet1!E5=Sheet2!$B$2:$B$10),0))} -> 01-060
D6: 44939 | E6: 김태철 | F6: {=INDEX(Sheet2!$E$2:$E$10,MATCH(1,(Sheet1!D6=Sheet2!$C$2:$C$10)*(Sheet1!E6=Sheet2!$B$2:$B$10),0))} -> 자석 | G6: {=INDEX(Sheet2!$F$2:$F$10,MATCH(1,(Sheet1!D6=Sheet2!$C$2:$C$10)*(Sheet1!E6=Sheet2!$B$2:$B$10),0))} -> 10000 | J6: {=INDEX(Sheet2!$I$2:$I$10,MATCH(1,(Sheet1!D6=Sheet2!$C$2:$C$10)*(Sheet1!E6=Sheet2!$B$2:$B$10),0))} -> 01-105
D7: 44943 | E7: 김태철 | F7: {=INDEX(Sheet2!$E$2:$E$10,MATCH(1,(Sheet1!D7=Sheet2!$C$2:$C$10)*(Sheet1!E7=Sheet2!$B$2:$B$10),0))} -> 3 | G7: {=INDEX(Sheet2!$F$2:$F$10,MATCH(1,(Sheet1!D7=Sheet2!$C$2:$C$10)*(Sheet1!E7=Sheet2!$B$2:$B$10),0))} -> 184800 | J7: {=INDEX(Sheet2!$I$2:$I$10,MATCH(1,(Sheet1!D7=Sheet2!$C$2:$C$10)*(Sheet1!E7=Sheet2!$B$2:$B$10),0))} -> 02-016
D8: 44944 | E8: 최진경 | F8: {=INDEX(Sheet2!$E$2:$E$10,MATCH(1,(Sheet1!D8=Sheet2!$C$2:$C$10)*(Sheet1!E8=Sheet2!$B$2:$B$10),0))} -> 4 | G8: {=INDEX(Sheet2!$F$2:$F$10,MATCH(1,(Sheet1!D8=Sheet2!$C$2:$C$10)*(Sheet1!E8=Sheet2!$B$2:$B$10),0))} -> 3860 | J8: {=INDEX(Sheet2!$I$2:$I$10,MATCH(1,(Sheet1!D8=Sheet2!$C$2:$C$10)*(Sheet1!E8=Sheet2!$B$2:$B$10),0))} -> 01-141
D9: 44951 | E9: 김태철 | F9: {=INDEX(Sheet2!$E$2:$E$10,MATCH(1,(Sheet1!D9=Sheet2!$C$2:$C$10)*(Sheet1!E9=Sheet2!$B$2:$B$10),0))} -> 5 | G9: {=INDEX(Sheet2!$F$2:$F$10,MATCH(1,(Sheet1!D9=Sheet2!$C$2:$C$10)*(Sheet1!E9=Sheet2!$B$2:$B$10),0))} -> 44000 | J9: {=INDEX(Sheet2!$I$2:$I$10,MATCH(1,(Sheet1!D9=Sheet2!$C$2:$C$10)*(Sheet1!E9=Sheet2!$B$2:$B$10),0))} -> 01-164
D10: 44951 | E10: 미지 | F10: {=INDEX(Sheet2!$E$2:$E$10,MATCH(1,(Sheet1!D10=Sheet2!$C$2:$C$10)*(Sheet1!E10=Sheet2!$B$2:$B$10),0))} -> 6 | G10: {=INDEX(Sheet2!$F$2:$F$10,MATCH(1,(Sheet1!D10=Sheet2!$C$2:$C$10)*(Sheet1!E10=Sheet2!$B$2:$B$10),0))} -> 1000 | J10: {=INDEX(Sheet2!$I$2:$I$10,MATCH(1,(Sheet1!D10=Sheet2!$C$2:$C$10)*(Sheet1!E10=Sheet2!$B$2:$B$10),0))} -> 01-167
D11: 44951 | E11: 미지 | F11: {=INDEX(Sheet2!$E$2:$E$10,MATCH(1,(Sheet1!D11=Sheet2!$C$2:$C$10)*(Sheet1!E11=Sheet2!$B$2:$B$10),0))} -> 6 | G11: {=INDEX(Sheet2!$F$2:$F$10,MATCH(1,(Sheet1!D11=Sheet2!$C$2:$C$10)*(Sheet1!E11=Sheet2!$B$2:$B$10),0))} -> 1000 | J11: {=INDEX(Sheet2!$I$2:$I$10,MATCH(1,(Sheet1!D11=Sheet2!$C$2:$C$10)*(Sheet1!E11=Sheet2!$B$2:$B$10),0))} -> 01-167

Sheet Sheet2
B1: 사용자 | C1: 일자 | D1: 계정 | E1: 내용 | F1: 금액 | G1: 이용점명 | H1: 세액공제 | I1: 품의번호
B2: 미지 | C2: 44928 | D2: 지급수수료 | E2: 법인인감증명서 | F2: 2000 | G2: 법원행정처 | H2: X | I2: 01-008
B3: 김준 | C3: 44930 | D3: 통신비 | E3: 우편발송 | F3: 3860 | G3: 우정사업보눕 | H3: X | I3: 01-032
B4: 미지 | C4: 44935 | D4: 통신비 | E4: 우편발송 | F4: 1290 | G4: 우체국 | H4: X | I4: 01-060
B5: 김태철 | C5: 44939 | D5: 소모품비 | E5: 자석 | F5: 10000 | G5: 공구 | H5: O | I5: 01-105
B6: 김태철 | C6: 44943 | D6: 소모품비 | E6: 3 | F6: 184800 | G6: 지마켓 | H6: O | I6: 02-016
B7: 최진경 | C7: 44944 | D7: 통신비 | E7: 4 | F7: 3860 | G7: 우체국 | H7: X | I7: 01-141
B8: 김태철 | C8: 44951 | D8: 소모품비 | E8: 5 | F8: 44000 | G8: 나노철물 | H8: O | I8: 01-164
B9: 미지 | C9: 44951 | D9: 지급수수료 | E9: 6 | F9: 1000 | G9: 법원행정처 | H9: X | I9: 01-167
B10: 미지 | C10: 44951 | D10: 지급수수료 | E10: 7 | F10: 4000 | G10: 법원행저엋 | H10: X | I10: 01-167
