Workbook
Name 산출표_부대: '산출표(부대)'!$D$6:$V$33
Name 산출표_주차장: '산출표(주차장)'!$D$6:$V$33

Sheet 기본정보작성
A3: 전체층수 | F3: 층수(지하) | J3: 2 | K3: 층수(지상) | M3: 29

Sheet 산출표(동총괄)
D1: 소방시설(기준·일람)산출표
D2: 현장명 : | F2: =기본정보작성!#REF! -> #REF! | L2: =기본정보작성!#REF! -> #REF!
D3: 시설별 | P3: 소방용수설비 | T3: 피난ㆍ방화설비
A4: {=_xlfn.SEQUENCE(기본정보작성!J3,1,-기본정보작성!J3,1)} -> -2 | H4: 송수구 | I4: 옥내소화전 | J4: 스프링클러 | K4: 자동화재탐지 | N4: 비상조명등 | P4: 상수도소화용수 | Q4: 소화수조 | R4: 저수조 | S4: 기타 | T4: 방화셔터 | U4: 회로 | V4: 감지기
A5: -1 | D5: 동구분 | F5: 구 분 / 종 별 | G5: 바닥면적 (㎡) | J5: 송수구 | K5: 수신기 | L5: 회로수 | M5: 시각경보기 | N5: 비상조명등 | O5: 휴대용비상조명
F6: 기준수량(합계) | G6: =IF(SUMIF($F$8:$G$139,$F$8,G8:G139)=0,"",SUMIF($F$8:$G$139,$F$8,G8:G139)) -> 71515.98 | H6: =IF(SUMIF($F$8:$G$139,$F$8,H8:H139)=0,"",SUMIF($F$8:$G$139,$F$8,H8:H139)) | I6: =IF(SUMIF($F$8:$G$139,$F$8,I8:I139)=0,"",SUMIF($F$8:$G$139,$F$8,I8:I139)) | J6: =IF(SUMIF($F$8:$G$139,$F$8,J8:J139)=0,"",SUMIF($F$8:$G$139,$F$8,J8:J139)) | K6: =IF(SUMIF($F$8:$G$139,$F$8,K8:K139)=0,"",SUMIF($F$8:$G$139,$F$8,K8:K139)) | L6: =IF(SUMIF($F$8:$G$139,$F$8,L8:L139)=0,"",SUMIF($F$8:$G$139,$F$8,L8:L139)) -> 4 | M6: =IF(SUMIF($F$8:$G$139,$F$8,M8:M139)=0,"",SUMIF($F$8:$G$139,$F$8,M8:M139)) | N6: =IF(SUMIF($F$8:$G$139,$F$8,N8:N139)=0,"",SUMIF($F$8:$G$139,$F$8,N8:N139)) | ... V6: =IF(SUMIF($F$8:$G$139,$F$8,V8:V139)=0,"",SUMIF($F$8:$G$139,$F$8,V8:V139))
F7: 현재수량(합계) | G7: =IF(SUMIF($F$8:$F$139,$F$9,G8:G139)=0,"",SUMIF($F$8:$F$139,$F$9,G8:G139)) -> 166 | H7: =IF(SUMIF($F$8:$F$139,$F$9,H8:H139)=0,"",SUMIF($F$8:$F$139,$F$9,H8:H139)) | I7: =IF(SUMIF($F$8:$F$139,$F$9,I8:I139)=0,"",SUMIF($F$8:$F$139,$F$9,I8:I139)) | J7: =IF(SUMIF($F$8:$F$139,$F$9,J8:J139)=0,"",SUMIF($F$8:$F$139,$F$9,J8:J139)) | K7: =IF(SUMIF($F$8:$F$139,$F$9,K8:K139)=0,"",SUMIF($F$8:$F$139,$F$9,K8:K139)) | L7: =IF(SUMIF($F$8:$F$139,$F$9,L8:L139)=0,"",SUMIF($F$8:$F$139,$F$9,L8:L139)) | M7: =IF(SUMIF($F$8:$F$139,$F$9,M8:M139)=0,"",SUMIF($F$8:$F$139,$F$9,M8:M139)) | N7: =IF(SUMIF($F$8:$F$139,$F$9,N8:N139)=0,"",SUMIF($F$8:$F$139,$F$9,N8:N139)) | ... V7: =IF(SUMIF($F$8:$F$139,$F$9,V8:V139)=0,"",SUMIF($F$8:$F$139,$F$9,V8:V139))
B8: {=IF(_xlfn._xlws.SORT(A4:A90)=0,"",_xlfn._xlws.SORT(A4:A90))} -> -2 | C8: =IF(B8="","",B8) -> -2 | D8: =IF('산출표(101동)'!$G$6=0,"",'산출표(101동)'!$D$6) -> 101동 | F8: =IF(D8="","","기준수량") -> 기준수량 | G8: ='산출표(101동)'!G$6 -> 8747.19 | H8: ='산출표(101동)'!H$6 | I8: ='산출표(101동)'!I$6 | J8: ='산출표(101동)'!J$6 | K8: ='산출표(101동)'!K$6 | L8: ='산출표(101동)'!L$6 -> 4 | M8: ='산출표(101동)'!M$6 | N8: ='산출표(101동)'!N$6 | ... V8: ='산출표(101동)'!V$6
B9: -1 | C9: =C8 -> -2 | F9: =IF(D8="","","현재수량") -> 현재수량 | G9: ='산출표(101동)'!G$7 -> 24 | H9: ='산출표(101동)'!H$7 | I9: ='산출표(101동)'!I$7 | J9: ='산출표(101동)'!J$7 | K9: ='산출표(101동)'!K$7 | L9: ='산출표(101동)'!L$7 | M9: ='산출표(101동)'!M$7 | N9: ='산출표(101동)'!N$7 | ... V9: ='산출표(101동)'!V$7
C10: =IF(B9="","",B9) -> -1 | D10: =IF('산출표(102동)'!$G$6=0,"",'산출표(102동)'!$D$6) -> 102동 | F10: =IF(D10="","","기준수량") -> 기준수량 | G10: ='산출표(102동)'!G$6 -> 15863.39 | H10: ='산출표(102동)'!H$6 | I10: ='산출표(102동)'!I$6 | J10: ='산출표(102동)'!J$6 | K10: ='산출표(102동)'!K$6 | L10: ='산출표(102동)'!L$6 | M10: ='산출표(102동)'!M$6 | N10: ='산출표(102동)'!N$6 | ... V10: ='산출표(102동)'!V$6
C11: =C10 -> -1 | F11: =IF(D10="","","현재수량") -> 현재수량 | G11: ='산출표(102동)'!G$7 -> 16 | H11: ='산출표(102동)'!H$7 | I11: ='산출표(102동)'!I$7 | J11: ='산출표(102동)'!J$7 | K11: ='산출표(102동)'!K$7 | L11: ='산출표(102동)'!L$7 | M11: ='산출표(102동)'!M$7 | N11: ='산출표(102동)'!N$7 | ... V11: ='산출표(102동)'!V$7
C12: =IF(B6="","",B6) | D12: =IF('산출표(주차장)'!$G$6=0,"",'산출표(주차장)'!$D$6) -> 주차장 | F12: =IF(D12="","","기준수량") -> 기준수량 | G12: ='산출표(주차장)'!G$6 -> 44165.29 | H12: ='산출표(주차장)'!H$6 | I12: ='산출표(주차장)'!I$6 | J12: ='산출표(주차장)'!J$6 | K12: ='산출표(주차장)'!K$6 | L12: ='산출표(주차장)'!L$6 | M12: ='산출표(주차장)'!M$6 | N12: ='산출표(주차장)'!N$6 | ... V12: ='산출표(주차장)'!V$6
C13: =C12 | F13: =IF(D12="","","현재수량") -> 현재수량 | G13: ='산출표(주차장)'!G$7 -> 0 | H13: ='산출표(주차장)'!H$7 | I13: ='산출표(주차장)'!I$7 | J13: ='산출표(주차장)'!J$7 | K13: ='산출표(주차장)'!K$7 | L13: ='산출표(주차장)'!L$7 | M13: ='산출표(주차장)'!M$7 | N13: ='산출표(주차장)'!N$7 | ... V13: ='산출표(주차장)'!V$7
C14: =IF(B7="","",B7) | D14: =IF('산출표(부대)'!$G$6=0,"",'산출표(부대)'!$D$6) -> 부대복리 | F14: =IF(D14="","","기준수량") -> 기준수량 | G14: ='산출표(부대)'!G$6 -> 2300.38 | H14: ='산출표(부대)'!H$6 -> 0 | I14: ='산출표(부대)'!I$6 -> 0 | J14: ='산출표(부대)'!J$6 -> 0 | K14: ='산출표(부대)'!K$6 -> 0 | L14: ='산출표(부대)'!L$6 -> 0 | M14: ='산출표(부대)'!M$6 -> 0 | N14: ='산출표(부대)'!N$6 -> 0 | ... V14: ='산출표(부대)'!V$6 -> 0
C15: =C14 | F15: =IF(D14="","","현재수량") -> 현재수량 | G15: ='산출표(부대)'!G$7 -> 108 | H15: ='산출표(부대)'!H$7 -> 0 | I15: ='산출표(부대)'!I$7 -> 0 | J15: ='산출표(부대)'!J$7 -> 0 | K15: ='산출표(부대)'!K$7 -> 0 | L15: ='산출표(부대)'!L$7 -> 0 | M15: ='산출표(부대)'!M$7 -> 0 | N15: ='산출표(부대)'!N$7 -> 0 | ... V15: ='산출표(부대)'!V$7 -> 0
C16: =IF(B8="","",B8) -> -2 | D16: =IF('산출표(근생)'!$G$6=0,"",'산출표(근생)'!$D$6) -> 근린생활시설 | F16: =IF(D16="","","기준수량") -> 기준수량 | G16: ='산출표(근생)'!G$6 -> 439.73 | H16: ='산출표(근생)'!H$6 -> 0 | I16: ='산출표(근생)'!I$6 -> 0 | J16: ='산출표(근생)'!J$6 -> 0 | K16: ='산출표(근생)'!K$6 -> 0 | L16: ='산출표(근생)'!L$6 -> 0 | M16: ='산출표(근생)'!M$6 -> 0 | N16: ='산출표(근생)'!N$6 -> 0 | ... V16: ='산출표(근생)'!V$6 -> 0
C17: =C16 -> -2 | F17: =IF(D16="","","현재수량") -> 현재수량 | G17: ='산출표(근생)'!G$7 -> 18 | H17: ='산출표(근생)'!H$7 -> 0 | I17: ='산출표(근생)'!I$7 -> 0 | J17: ='산출표(근생)'!J$7 -> 0 | K17: ='산출표(근생)'!K$7 -> 0 | L17: ='산출표(근생)'!L$7 -> 0 | M17: ='산출표(근생)'!M$7 -> 0 | N17: ='산출표(근생)'!N$7 -> 0 | ... V17: ='산출표(근생)'!V$7 -> 0
C30: =IF(B19="","",B19) | F30: =IF(D30="","","기준수량")
C31: =C30 | F31: =IF(D30="","","현재수량")
C32: =IF(B20="","",B20) | F32: =IF(D32="","","기준수량")
C33: =C32 | F33: =IF(D32="","","현재수량")
C34: =IF(B21="","",B21) | F34: =IF(D34="","","기준수량")
C35: =C34 | F35: =IF(D34="","","현재수량")
C36: =IF(B22="","",B22) | F36: =IF(D36="","","기준수량")
C37: =C36 | F37: =IF(D36="","","현재수량")
C38: =IF(B23="","",B23) | F38: =IF(D38="","","기준수량")
C39: =C38 | F39: =IF(D38="","","현재수량")
C40: =IF(B24="","",B24) | F40: =IF(D40="","","기준수량")
C41: =C40 | F41: =IF(D40="","","현재수량")
C42: =IF(B25="","",B25) | F42: =IF(D42="","","기준수량")
C43: =C42 | F43: =IF(D42="","","현재수량")
C44: =IF(B26="","",B26) | F44: =IF(D44="","","기준수량")
C45: =C44 | F45: =IF(D44="","","현재수량")
C46: =IF(B27="","",B27) | F46: =IF(D46="","","기준수량")
C47: =C46 | F47: =IF(D46="","","현재수량")
C48: =IF(B28="","",B28) | F48: =IF(D48="","","기준수량")
C49: =C48 | F49: =IF(D48="","","현재수량")
C50: =IF(B29="","",B29) | F50: =IF(D50="","","기준수량")
C51: =C50 | F51: =IF(D50="","","현재수량")
C52: =IF(B30="","",B30) | F52: =IF(D52="","","기준수량")
...

Sheet 산출표(층총괄)
D1: 소방시설(기준·일람)산출표
D2: 현장명 : | F2: =기본정보작성!#REF! -> #REF! | K2: =기본정보작성!#REF! -> #REF!
D3: 시설별 | O3: 소방용수설비 | S3: 피난ㆍ방화설비
A4: {=_xlfn.SEQUENCE(기본정보작성!J3,1,-기본정보작성!J3,1)} -> -2 | H4: 송수구 | I4: ='산출표(동총괄)'!I4 -> 옥내소화전 | J4: 자동화재탐지 | M4: ='산출표(동총괄)'!N4 -> 비상조명등 | O4: ='산출표(동총괄)'!P4 -> 상수도소화용수 | P4: ='산출표(동총괄)'!Q4 -> 소화수조 | Q4: ='산출표(동총괄)'!R4 -> 저수조 | R4: ='산출표(동총괄)'!S4 -> 기타 | S4: 방화셔터 | T4: 회로 | U4: 감지기
A5: -1 | D5: 층구분 | F5: 구 분 / 종 별 | G5: 바닥면적 (㎡) | J5: 수신기 | K5: 회로수 | L5: ='산출표(동총괄)'!M5 -> 시각경보기 | M5: ='산출표(동총괄)'!N5 -> 비상조명등 | N5: ='산출표(동총괄)'!O5 -> 휴대용비상조명
F6: 기준수량(합계) | G6: =IF(SUMIF($F$8:$G$139,$F$8,G8:G139)=0,"",SUMIF($F$8:$G$139,$F$8,G8:G139)) -> 71515.98 | H6: =IF(SUMIF($F$8:$G$139,$F$8,H8:H139)=0,"",SUMIF($F$8:$G$139,$F$8,H8:H139)) | I6: =IF(SUMIF($F$8:$G$139,$F$8,I8:I139)=0,"",SUMIF($F$8:$G$139,$F$8,I8:I139)) | J6: =IF(SUMIF($F$8:$G$139,$F$8,J8:J139)=0,"",SUMIF($F$8:$G$139,$F$8,J8:J139)) | K6: =IF(SUMIF($F$8:$G$139,$F$8,K8:K139)=0,"",SUMIF($F$8:$G$139,$F$8,K8:K139)) | L6: =IF(SUMIF($F$8:$G$139,$F$8,L8:L139)=0,"",SUMIF($F$8:$G$139,$F$8,L8:L139)) -> 4 | M6: =IF(SUMIF($F$8:$G$139,$F$8,M8:M139)=0,"",SUMIF($F$8:$G$139,$F$8,M8:M139)) | N6: =IF(SUMIF($F$8:$G$139,$F$8,N8:N139)=0,"",SUMIF($F$8:$G$139,$F$8,N8:N139)) | ... U6: =IF(SUMIF($F$8:$G$139,$F$8,U8:U139)=0,"",SUMIF($F$8:$G$139,$F$8,U8:U139))
F7: 현재수량(합계) | G7: =IF(SUMIF($F$8:$F$139,$F$9,G8:G139)=0,"",SUMIF($F$8:$F$139,$F$9,G8:G139)) -> 174 | H7: =IF(SUMIF($F$8:$F$139,$F$9,H8:H139)=0,"",SUMIF($F$8:$F$139,$F$9,H8:H139)) | I7: =IF(SUMIF($F$8:$F$139,$F$9,I8:I139)=0,"",SUMIF($F$8:$F$139,$F$9,I8:I139)) | J7: =IF(SUMIF($F$8:$F$139,$F$9,J8:J139)=0,"",SUMIF($F$8:$F$139,$F$9,J8:J139)) | K7: =IF(SUMIF($F$8:$F$139,$F$9,K8:K139)=0,"",SUMIF($F$8:$F$139,$F$9,K8:K139)) | L7: =IF(SUMIF($F$8:$F$139,$F$9,L8:L139)=0,"",SUMIF($F$8:$F$139,$F$9,L8:L139)) | M7: =IF(SUMIF($F$8:$F$139,$F$9,M8:M139)=0,"",SUMIF($F$8:$F$139,$F$9,M8:M139)) | N7: =IF(SUMIF($F$8:$F$139,$F$9,N8:N139)=0,"",SUMIF($F$8:$F$139,$F$9,N8:N139)) | ... U7: =IF(SUMIF($F$8:$F$139,$F$9,U8:U139)=0,"",SUMIF($F$8:$F$139,$F$9,U8:U139))
B8: {=IF(_xlfn._xlws.SORT(A4:A90)=0,"",_xlfn._xlws.SORT(A4:A90))} -> -2 | C8: =IF(B8="","",B8) -> -2 | D8: =IF(C8="",(IF(AND(C6<>"",D6<>"")=TRUE,"지붕층",IF(AND(C6="",D6="지붕층")=TRUE,"옥탑층",""))),C8) -> -2 | F8: =IF(D8="","","기준수량") -> 기준수량 | G8: =SUM('산출표(101동):산출표(근생)'!G8) -> 8099.88 | H8: =SUM('산출표(101동):산출표(근생)'!H8) -> 0 | I8: =SUM('산출표(101동):산출표(근생)'!I8) -> 0 | J8: =SUM('산출표(101동):산출표(근생)'!J8) -> 0 | K8: =SUM('산출표(101동):산출표(근생)'!K8) -> 0 | L8: =SUM('산출표(101동):산출표(근생)'!L8) -> 4 | M8: =SUM('산출표(101동):산출표(근생)'!M8) -> 0 | N8: =SUM('산출표(101동):산출표(근생)'!N8) -> 0 | ... U8: =SUM('산출표(101동):산출표(근생)'!U8) -> 0
B9: -1 | C9: =C8 -> -2 | F9: =IF(D8="","","현재수량") -> 현재수량 | G9: =SUM('산출표(101동):산출표(근생)'!G9) -> 18 | H9: =SUM('산출표(101동):산출표(근생)'!H9) -> 0 | I9: =SUM('산출표(101동):산출표(근생)'!I9) -> 0 | J9: =SUM('산출표(101동):산출표(근생)'!J9) -> 0 | K9: =SUM('산출표(101동):산출표(근생)'!K9) -> 0 | L9: =SUM('산출표(101동):산출표(근생)'!L9) -> 0 | M9: =SUM('산출표(101동):산출표(근생)'!M9) -> 0 | N9: =SUM('산출표(101동):산출표(근생)'!N9) -> 0 | ... U9: =SUM('산출표(101동):산출표(근생)'!U9) -> 0
B10: 1 | C10: =IF(B9="","",B9) -> -1 | D10: =IF(C10="",(IF(AND(C8<>"",D8<>"")=TRUE,"지붕층",IF(AND(C8="",D8="지붕층")=TRUE,"옥탑층",""))),C10) -> -1 | F10: =IF(D10="","","기준수량") -> 기준수량 | G10: =SUM('산출표(101동):산출표(근생)'!G10) -> 26407.44 | H10: =SUM('산출표(101동):산출표(근생)'!H10) -> 0 | I10: =SUM('산출표(101동):산출표(근생)'!I10) -> 0 | J10: =SUM('산출표(101동):산출표(근생)'!J10) -> 0 | K10: =SUM('산출표(101동):산출표(근생)'!K10) -> 0 | L10: =SUM('산출표(101동):산출표(근생)'!L10) -> 0 | M10: =SUM('산출표(101동):산출표(근생)'!M10) -> 0 | N10: =SUM('산출표(101동):산출표(근생)'!N10) -> 0 | ... U10: =SUM('산출표(101동):산출표(근생)'!U10) -> 0
B11: 2 | C11: =C10 -> -1 | F11: =IF(D10="","","현재수량") -> 현재수량 | G11: =SUM('산출표(101동):산출표(근생)'!G11) -> 18 | H11: =SUM('산출표(101동):산출표(근생)'!H11) -> 0 | I11: =SUM('산출표(101동):산출표(근생)'!I11) -> 0 | J11: =SUM('산출표(101동):산출표(근생)'!J11) -> 0 | K11: =SUM('산출표(101동):산출표(근생)'!K11) -> 0 | L11: =SUM('산출표(101동):산출표(근생)'!L11) -> 0 | M11: =SUM('산출표(101동):산출표(근생)'!M11) -> 0 | N11: =SUM('산출표(101동):산출표(근생)'!N11) -> 0 | ... U11: =SUM('산출표(101동):산출표(근생)'!U11) -> 0
B12: 3 | C12: =IF(B10="","",B10) -> 1 | D12: =IF(C12="",(IF(AND(C10<>"",D10<>"")=TRUE,"지붕층",IF(AND(C10="",D10="지붕층")=TRUE,"옥탑층",""))),C12) -> 1 | F12: =IF(D12="","","기준수량") -> 기준수량 | G12: =SUM('산출표(101동):산출표(근생)'!G12) -> 10801.82 | H12: =SUM('산출표(101동):산출표(근생)'!H12) -> 0 | I12: =SUM('산출표(101동):산출표(근생)'!I12) -> 0 | J12: =SUM('산출표(101동):산출표(근생)'!J12) -> 0 | K12: =SUM('산출표(101동):산출표(근생)'!K12) -> 0 | L12: =SUM('산출표(101동):산출표(근생)'!L12) -> 0 | M12: =SUM('산출표(101동):산출표(근생)'!M12) -> 0 | N12: =SUM('산출표(101동):산출표(근생)'!N12) -> 0 | ... U12: =SUM('산출표(101동):산출표(근생)'!U12) -> 0
B13: 4 | C13: =C12 -> 1 | F13: =IF(D12="","","현재수량") -> 현재수량 | G13: =SUM('산출표(101동):산출표(근생)'!G13) -> 20 | H13: =SUM('산출표(101동):산출표(근생)'!H13) -> 0 | I13: =SUM('산출표(101동):산출표(근생)'!I13) -> 0 | J13: =SUM('산출표(101동):산출표(근생)'!J13) -> 0 | K13: =SUM('산출표(101동):산출표(근생)'!K13) -> 0 | L13: =SUM('산출표(101동):산출표(근생)'!L13) -> 0 | M13: =SUM('산출표(101동):산출표(근생)'!M13) -> 0 | N13: =SUM('산출표(101동):산출표(근생)'!N13) -> 0 | ... U13: =SUM('산출표(101동):산출표(근생)'!U13) -> 0
B14: 5 | C14: =IF(B11="","",B11) -> 2 | D14: =IF(C14="",(IF(AND(C12<>"",D12<>"")=TRUE,"지붕층",IF(AND(C12="",D12="지붕층")=TRUE,"옥탑층",""))),C14) -> 2 | F14: =IF(D14="","","기준수량") -> 기준수량 | G14: =SUM('산출표(101동):산출표(근생)'!G14) -> 1104.12 | H14: =SUM('산출표(101동):산출표(근생)'!H14) -> 0 | I14: =SUM('산출표(101동):산출표(근생)'!I14) -> 0 | J14: =SUM('산출표(101동):산출표(근생)'!J14) -> 0 | K14: =SUM('산출표(101동):산출표(근생)'!K14) -> 0 | L14: =SUM('산출표(101동):산출표(근생)'!L14) -> 0 | M14: =SUM('산출표(101동):산출표(근생)'!M14) -> 0 | N14: =SUM('산출표(101동):산출표(근생)'!N14) -> 0 | ... U14: =SUM('산출표(101동):산출표(근생)'!U14) -> 0
A15: {=_xlfn.SEQUENCE(기본정보작성!M3,1,1,1)} -> 1 | B15: 6 | C15: =C14 -> 2 | F15: =IF(D14="","","현재수량") -> 현재수량 | G15: =SUM('산출표(101동):산출표(근생)'!G15) -> 10 | H15: =SUM('산출표(101동):산출표(근생)'!H15) -> 0 | I15: =SUM('산출표(101동):산출표(근생)'!I15) -> 0 | J15: =SUM('산출표(101동):산출표(근생)'!J15) -> 0 | K15: =SUM('산출표(101동):산출표(근생)'!K15) -> 0 | L15: =SUM('산출표(101동):산출표(근생)'!L15) -> 0 | M15: =SUM('산출표(101동):산출표(근생)'!M15) -> 0 | N15: =SUM('산출표(101동):산출표(근생)'!N15) -> 0 | ... U15: =SUM('산출표(101동):산출표(근생)'!U15) -> 0
A16: 2 | B16: 7 | C16: =IF(B12="","",B12) -> 3 | D16: =IF(C16="",(IF(AND(C14<>"",D14<>"")=TRUE,"지붕층",IF(AND(C14="",D14="지붕층")=TRUE,"옥탑층",""))),C16) -> 3 | F16: =IF(D16="","","기준수량") -> 기준수량 | G16: =SUM('산출표(101동):산출표(근생)'!G16) -> 1101.84 | H16: =SUM('산출표(101동):산출표(근생)'!H16) -> 0 | I16: =SUM('산출표(101동):산출표(근생)'!I16) -> 0 | J16: =SUM('산출표(101동):산출표(근생)'!J16) -> 0 | K16: =SUM('산출표(101동):산출표(근생)'!K16) -> 0 | L16: =SUM('산출표(101동):산출표(근생)'!L16) -> 0 | M16: =SUM('산출표(101동):산출표(근생)'!M16) -> 0 | N16: =SUM('산출표(101동):산출표(근생)'!N16) -> 0 | ... U16: =SUM('산출표(101동):산출표(근생)'!U16) -> 0
A17: 3 | B17: 8 | C17: =C16 -> 3 | F17: =IF(D16="","","현재수량") -> 현재수량 | G17: =SUM('산출표(101동):산출표(근생)'!G17) -> 10 | H17: =SUM('산출표(101동):산출표(근생)'!H17) -> 0 | I17: =SUM('산출표(101동):산출표(근생)'!I17) -> 0 | J17: =SUM('산출표(101동):산출표(근생)'!J17) -> 0 | K17: =SUM('산출표(101동):산출표(근생)'!K17) -> 0 | L17: =SUM('산출표(101동):산출표(근생)'!L17) -> 0 | M17: =SUM('산출표(101동):산출표(근생)'!M17) -> 0 | N17: =SUM('산출표(101동):산출표(근생)'!N17) -> 0 | ... U17: =SUM('산출표(101동):산출표(근생)'!U17) -> 0
A18: 4 | B18: 9 | C18: =IF(B13="","",B13) -> 4 | D18: =IF(C18="",(IF(AND(C16<>"",D16<>"")=TRUE,"지붕층",IF(AND(C16="",D16="지붕층")=TRUE,"옥탑층",""))),C18) -> 4 | F18: =IF(D18="","","기준수량") -> 기준수량 | G18: =SUM('산출표(101동):산출표(근생)'!G18) -> 1135.69 | H18: =SUM('산출표(101동):산출표(근생)'!H18) -> 0 | I18: =SUM('산출표(101동):산출표(근생)'!I18) -> 0 | J18: =SUM('산출표(101동):산출표(근생)'!J18) -> 0 | K18: =SUM('산출표(101동):산출표(근생)'!K18) -> 0 | L18: =SUM('산출표(101동):산출표(근생)'!L18) -> 0 | M18: =SUM('산출표(101동):산출표(근생)'!M18) -> 0 | N18: =SUM('산출표(101동):산출표(근생)'!N18) -> 0 | ... U18: =SUM('산출표(101동):산출표(근생)'!U18) -> 0
A19: 5 | B19: 10 | C19: =C18 -> 4 | F19: =IF(D18="","","현재수량") -> 현재수량 | G19: =SUM('산출표(101동):산출표(근생)'!G19) -> 9 | H19: =SUM('산출표(101동):산출표(근생)'!H19) -> 0 | I19: =SUM('산출표(101동):산출표(근생)'!I19) -> 0 | J19: =SUM('산출표(101동):산출표(근생)'!J19) -> 0 | K19: =SUM('산출표(101동):산출표(근생)'!K19) -> 0 | L19: =SUM('산출표(101동):산출표(근생)'!L19) -> 0 | M19: =SUM('산출표(101동):산출표(근생)'!M19) -> 0 | N19: =SUM('산출표(101동):산출표(근생)'!N19) -> 0 | ... U19: =SUM('산출표(101동):산출표(근생)'!U19) -> 0
A20: 6 | B20: 11 | C20: =IF(B14="","",B14) -> 5 | D20: =IF(C20="",(IF(AND(C18<>"",D18<>"")=TRUE,"지붕층",IF(AND(C18="",D18="지붕층")=TRUE,"옥탑층",""))),C20) -> 5 | F20: =IF(D20="","","기준수량") -> 기준수량 | G20: =SUM('산출표(101동):산출표(근생)'!G20) -> 1132.16 | H20: =SUM('산출표(101동):산출표(근생)'!H20) -> 0 | I20: =SUM('산출표(101동):산출표(근생)'!I20) -> 0 | J20: =SUM('산출표(101동):산출표(근생)'!J20) -> 0 | K20: =SUM('산출표(101동):산출표(근생)'!K20) -> 0 | L20: =SUM('산출표(101동):산출표(근생)'!L20) -> 0 | M20: =SUM('산출표(101동):산출표(근생)'!M20) -> 0 | N20: =SUM('산출표(101동):산출표(근생)'!N20) -> 0 | ... U20: =SUM('산출표(101동):산출표(근생)'!U20) -> 0
A21: 7 | B21: 12 | C21: =C20 -> 5 | F21: =IF(D20="","","현재수량") -> 현재수량 | G21: =SUM('산출표(101동):산출표(근생)'!G21) -> 9 | H21: =SUM('산출표(101동):산출표(근생)'!H21) -> 0 | I21: =SUM('산출표(101동):산출표(근생)'!I21) -> 0 | J21: =SUM('산출표(101동):산출표(근생)'!J21) -> 0 | K21: =SUM('산출표(101동):산출표(근생)'!K21) -> 0 | L21: =SUM('산출표(101동):산출표(근생)'!L21) -> 0 | M21: =SUM('산출표(101동):산출표(근생)'!M21) -> 0 | N21: =SUM('산출표(101동):산출표(근생)'!N21) -> 0 | ... U21: =SUM('산출표(101동):산출표(근생)'!U21) -> 0
A22: 8 | B22: 13 | C22: =IF(B15="","",B15) -> 6 | D22: =IF(C22="",(IF(AND(C20<>"",D20<>"")=TRUE,"지붕층",IF(AND(C20="",D20="지붕층")=TRUE,"옥탑층",""))),C22) -> 6 | F22: =IF(D22="","","기준수량") -> 기준수량 | G22: =SUM('산출표(101동):산출표(근생)'!G22) -> 2002.11 | H22: =SUM('산출표(101동):산출표(근생)'!H22) -> 0 | I22: =SUM('산출표(101동):산출표(근생)'!I22) -> 0 | J22: =SUM('산출표(101동):산출표(근생)'!J22) -> 0 | K22: =SUM('산출표(101동):산출표(근생)'!K22) -> 0 | L22: =SUM('산출표(101동):산출표(근생)'!L22) -> 0 | M22: =SUM('산출표(101동):산출표(근생)'!M22) -> 0 | N22: =SUM('산출표(101동):산출표(근생)'!N22) -> 0 | ... U22: =SUM('산출표(101동):산출표(근생)'!U22) -> 0
A23: 9 | B23: 14 | C23: =C22 -> 6 | F23: =IF(D22="","","현재수량") -> 현재수량 | G23: =SUM('산출표(101동):산출표(근생)'!G23) -> 9 | H23: =SUM('산출표(101동):산출표(근생)'!H23) -> 0 | I23: =SUM('산출표(101동):산출표(근생)'!I23) -> 0 | J23: =SUM('산출표(101동):산출표(근생)'!J23) -> 0 | K23: =SUM('산출표(101동):산출표(근생)'!K23) -> 0 | L23: =SUM('산출표(101동):산출표(근생)'!L23) -> 0 | M23: =SUM('산출표(101동):산출표(근생)'!M23) -> 0 | N23: =SUM('산출표(101동):산출표(근생)'!N23) -> 0 | ... U23: =SUM('산출표(101동):산출표(근생)'!U23) -> 0
A24: 10 | B24: 15 | C24: =IF(B16="","",B16) -> 7 | D24: =IF(C24="",(IF(AND(C22<>"",D22<>"")=TRUE,"지붕층",IF(AND(C22="",D22="지붕층")=TRUE,"옥탑층",""))),C24) -> 7 | F24: =IF(D24="","","기준수량") -> 기준수량 | G24: =SUM('산출표(101동):산출표(근생)'!G24) -> 1214.28 | H24: =SUM('산출표(101동):산출표(근생)'!H24) -> 0 | I24: =SUM('산출표(101동):산출표(근생)'!I24) -> 0 | J24: =SUM('산출표(101동):산출표(근생)'!J24) -> 0 | K24: =SUM('산출표(101동):산출표(근생)'!K24) -> 0 | L24: =SUM('산출표(101동):산출표(근생)'!L24) -> 0 | M24: =SUM('산출표(101동):산출표(근생)'!M24) -> 0 | N24: =SUM('산출표(101동):산출표(근생)'!N24) -> 0 | ... U24: =SUM('산출표(101동):산출표(근생)'!U24) -> 0
A25: 11 | B25: 16 | C25: =C24 -> 7 | F25: =IF(D24="","","현재수량") -> 현재수량 | G25: =SUM('산출표(101동):산출표(근생)'!G25) -> 9 | H25: =SUM('산출표(101동):산출표(근생)'!H25) -> 0 | I25: =SUM('산출표(101동):산출표(근생)'!I25) -> 0 | J25: =SUM('산출표(101동):산출표(근생)'!J25) -> 0 | K25: =SUM('산출표(101동):산출표(근생)'!K25) -> 0 | L25: =SUM('산출표(101동):산출표(근생)'!L25) -> 0 | M25: =SUM('산출표(101동):산출표(근생)'!M25) -> 0 | N25: =SUM('산출표(101동):산출표(근생)'!N25) -> 0 | ... U25: =SUM('산출표(101동):산출표(근생)'!U25) -> 0
A26: 12 | B26: 17 | C26: =IF(B17="","",B17) -> 8 | D26: =IF(C26="",(IF(AND(C24<>"",D24<>"")=TRUE,"지붕층",IF(AND(C24="",D24="지붕층")=TRUE,"옥탑층",""))),C26) -> 8 | F26: =IF(D26="","","기준수량") -> 기준수량 | G26: =SUM('산출표(101동):산출표(근생)'!G26) -> 1240.59 | H26: =SUM('산출표(101동):산출표(근생)'!H26) -> 0 | I26: =SUM('산출표(101동):산출표(근생)'!I26) -> 0 | J26: =SUM('산출표(101동):산출표(근생)'!J26) -> 0 | K26: =SUM('산출표(101동):산출표(근생)'!K26) -> 0 | L26: =SUM('산출표(101동):산출표(근생)'!L26) -> 0 | M26: =SUM('산출표(101동):산출표(근생)'!M26) -> 0 | N26: =SUM('산출표(101동):산출표(근생)'!N26) -> 0 | ... U26: =SUM('산출표(101동):산출표(근생)'!U26) -> 0
A27: 13 | B27: 18 | C27: =C26 -> 8 | F27: =IF(D26="","","현재수량") -> 현재수량 | G27: =SUM('산출표(101동):산출표(근생)'!G27) -> 9 | H27: =SUM('산출표(101동):산출표(근생)'!H27) -> 0 | I27: =SUM('산출표(101동):산출표(근생)'!I27) -> 0 | J27: =SUM('산출표(101동):산출표(근생)'!J27) -> 0 | K27: =SUM('산출표(101동):산출표(근생)'!K27) -> 0 | L27: =SUM('산출표(101동):산출표(근생)'!L27) -> 0 | M27: =SUM('산출표(101동):산출표(근생)'!M27) -> 0 | N27: =SUM('산출표(101동):산출표(근생)'!N27) -> 0 | ... U27: =SUM('산출표(101동):산출표(근생)'!U27) -> 0
A28: 14 | B28: 19 | C28: =IF(B18="","",B18) -> 9 | D28: =IF(C28="",(IF(AND(C26<>"",D26<>"")=TRUE,"지붕층",IF(AND(C26="",D26="지붕층")=TRUE,"옥탑층",""))),C28) -> 9 | F28: =IF(D28="","","기준수량") -> 기준수량 | G28: =SUM('산출표(101동):산출표(근생)'!G28) -> 1453 | H28: =SUM('산출표(101동):산출표(근생)'!H28) -> 0 | I28: =SUM('산출표(101동):산출표(근생)'!I28) -> 0 | J28: =SUM('산출표(101동):산출표(근생)'!J28) -> 0 | K28: =SUM('산출표(101동):산출표(근생)'!K28) -> 0 | L28: =SUM('산출표(101동):산출표(근생)'!L28) -> 0 | M28: =SUM('산출표(101동):산출표(근생)'!M28) -> 0 | N28: =SUM('산출표(101동):산출표(근생)'!N28) -> 0 | ... U28: =SUM('산출표(101동):산출표(근생)'!U28) -> 0
A29: 15 | B29: 20 | C29: =C28 -> 9 | F29: =IF(D28="","","현재수량") -> 현재수량 | G29: =SUM('산출표(101동):산출표(근생)'!G29) -> 9 | H29: =SUM('산출표(101동):산출표(근생)'!H29) -> 0 | I29: =SUM('산출표(101동):산출표(근생)'!I29) -> 0 | J29: =SUM('산출표(101동):산출표(근생)'!J29) -> 0 | K29: =SUM('산출표(101동):산출표(근생)'!K29) -> 0 | L29: =SUM('산출표(101동):산출표(근생)'!L29) -> 0 | M29: =SUM('산출표(101동):산출표(근생)'!M29) -> 0 | N29: =SUM('산출표(101동):산출표(근생)'!N29) -> 0 | ... U29: =SUM('산출표(101동):산출표(근생)'!U29) -> 0
A30: 16 | B30: 21 | C30: =IF(B19="","",B19) -> 10 | D30: =IF(C30="",(IF(AND(C28<>"",D28<>"")=TRUE,"지붕층",IF(AND(C28="",D28="지붕층")=TRUE,"옥탑층",""))),C30) -> 10 | F30: =IF(D30="","","기준수량") -> 기준수량 | G30: =SUM('산출표(101동):산출표(근생)'!G30) -> 1339.99 | H30: =SUM('산출표(101동):산출표(근생)'!H30) -> 0 | I30: =SUM('산출표(101동):산출표(근생)'!I30) -> 0 | J30: =SUM('산출표(101동):산출표(근생)'!J30) -> 0 | K30: =SUM('산출표(101동):산출표(근생)'!K30) -> 0 | L30: =SUM('산출표(101동):산출표(근생)'!L30) -> 0 | M30: =SUM('산출표(101동):산출표(근생)'!M30) -> 0 | N30: =SUM('산출표(101동):산출표(근생)'!N30) -> 0 | ... U30: =SUM('산출표(101동):산출표(근생)'!U30) -> 0
A31: 17 | B31: 22 | C31: =C30 -> 10 | F31: =IF(D30="","","현재수량") -> 현재수량 | G31: =SUM('산출표(101동):산출표(근생)'!G31) -> 9 | H31: =SUM('산출표(101동):산출표(근생)'!H31) -> 0 | I31: =SUM('산출표(101동):산출표(근생)'!I31) -> 0 | J31: =SUM('산출표(101동):산출표(근생)'!J31) -> 0 | K31: =SUM('산출표(101동):산출표(근생)'!K31) -> 0 | L31: =SUM('산출표(101동):산출표(근생)'!L31) -> 0 | M31: =SUM('산출표(101동):산출표(근생)'!M31) -> 0 | N31: =SUM('산출표(101동):산출표(근생)'!N31) -> 0 | ... U31: =SUM('산출표(101동):산출표(근생)'!U31) -> 0
A32: 18 | B32: 23 | C32: =IF(B20="","",B20) -> 11 | D32: =IF(C32="",(IF(AND(C30<>"",D30<>"")=TRUE,"지붕층",IF(AND(C30="",D30="지붕층")=TRUE,"옥탑층",""))),C32) -> 11 | F32: =IF(D32="","","기준수량") -> 기준수량 | G32: =SUM('산출표(101동):산출표(근생)'!G32) -> 1069.94 | H32: =SUM('산출표(101동):산출표(근생)'!H32) -> 0 | I32: =SUM('산출표(101동):산출표(근생)'!I32) -> 0 | J32: =SUM('산출표(101동):산출표(근생)'!J32) -> 0 | K32: =SUM('산출표(101동):산출표(근생)'!K32) -> 0 | L32: =SUM('산출표(101동):산출표(근생)'!L32) -> 0 | M32: =SUM('산출표(101동):산출표(근생)'!M32) -> 0 | N32: =SUM('산출표(101동):산출표(근생)'!N32) -> 0 | ... U32: =SUM('산출표(101동):산출표(근생)'!U32) -> 0
A33: 19 | B33: 24 | C33: =C32 -> 11 | F33: =IF(D32="","","현재수량") -> 현재수량 | G33: =SUM('산출표(101동):산출표(근생)'!G33) -> 0 | H33: =SUM('산출표(101동):산출표(근생)'!H33) -> 0 | I33: =SUM('산출표(101동):산출표(근생)'!I33) -> 0 | J33: =SUM('산출표(101동):산출표(근생)'!J33) -> 0 | K33: =SUM('산출표(101동):산출표(근생)'!K33) -> 0 | L33: =SUM('산출표(101동):산출표(근생)'!L33) -> 0 | M33: =SUM('산출표(101동):산출표(근생)'!M33) -> 0 | N33: =SUM('산출표(101동):산출표(근생)'!N33) -> 0 | ... U33: =SUM('산출표(101동):산출표(근생)'!U33) -> 0
A34: 20 | B34: 25 | C34: =IF(B21="","",B21) -> 12 | D34: =IF(C34="",(IF(AND(C32<>"",D32<>"")=TRUE,"지붕층",IF(AND(C32="",D32="지붕층")=TRUE,"옥탑층",""))),C34) -> 12 | F34: =IF(D34="","","기준수량") -> 기준수량 | G34: =SUM('산출표(101동):산출표(근생)'!G34) -> 1069.94 | H34: =SUM('산출표(101동):산출표(근생)'!H34) -> 0 | I34: =SUM('산출표(101동):산출표(근생)'!I34) -> 0 | J34: =SUM('산출표(101동):산출표(근생)'!J34) -> 0 | K34: =SUM('산출표(101동):산출표(근생)'!K34) -> 0 | L34: =SUM('산출표(101동):산출표(근생)'!L34) -> 0 | M34: =SUM('산출표(101동):산출표(근생)'!M34) -> 0 | N34: =SUM('산출표(101동):산출표(근생)'!N34) -> 0 | ... U34: =SUM('산출표(101동):산출표(근생)'!U34) -> 0
A35: 21 | B35: 26 | C35: =C34 -> 12 | F35: =IF(D34="","","현재수량") -> 현재수량 | G35: =SUM('산출표(101동):산출표(근생)'!G35) -> 0 | H35: =SUM('산출표(101동):산출표(근생)'!H35) -> 0 | I35: =SUM('산출표(101동):산출표(근생)'!I35) -> 0 | J35: =SUM('산출표(101동):산출표(근생)'!J35) -> 0 | K35: =SUM('산출표(101동):산출표(근생)'!K35) -> 0 | L35: =SUM('산출표(101동):산출표(근생)'!L35) -> 0 | M35: =SUM('산출표(101동):산출표(근생)'!M35) -> 0 | N35: =SUM('산출표(101동):산출표(근생)'!N35) -> 0 | ... U35: =SUM('산출표(101동):산출표(근생)'!U35) -> 0
A36: 22 | B36: 27 | C36: =IF(B22="","",B22) -> 13 | D36: =IF(C36="",(IF(AND(C34<>"",D34<>"")=TRUE,"지붕층",IF(AND(C34="",D34="지붕층")=TRUE,"옥탑층",""))),C36) -> 13 | F36: =IF(D36="","","기준수량") -> 기준수량 | G36: =SUM('산출표(101동):산출표(근생)'!G36) -> 1069.94 | H36: =SUM('산출표(101동):산출표(근생)'!H36) -> 0 | I36: =SUM('산출표(101동):산출표(근생)'!I36) -> 0 | J36: =SUM('산출표(101동):산출표(근생)'!J36) -> 0 | K36: =SUM('산출표(101동):산출표(근생)'!K36) -> 0 | L36: =SUM('산출표(101동):산출표(근생)'!L36) -> 0 | M36: =SUM('산출표(101동):산출표(근생)'!M36) -> 0 | N36: =SUM('산출표(101동):산출표(근생)'!N36) -> 0 | ... U36: =SUM('산출표(101동):산출표(근생)'!U36) -> 0
A37: 23 | B37: 28 | C37: =C36 -> 13 | F37: =IF(D36="","","현재수량") -> 현재수량 | G37: =SUM('산출표(101동):산출표(근생)'!G37) -> 0 | H37: =SUM('산출표(101동):산출표(근생)'!H37) -> 0 | I37: =SUM('산출표(101동):산출표(근생)'!I37) -> 0 | J37: =SUM('산출표(101동):산출표(근생)'!J37) -> 0 | K37: =SUM('산출표(101동):산출표(근생)'!K37) -> 0 | L37: =SUM('산출표(101동):산출표(근생)'!L37) -> 0 | M37: =SUM('산출표(101동):산출표(근생)'!M37) -> 0 | N37: =SUM('산출표(101동):산출표(근생)'!N37) -> 0 | ... U37: =SUM('산출표(101동):산출표(근생)'!U37) -> 0
A38: 24 | B38: 29 | C38: =IF(B23="","",B23) -> 14 | D38: =IF(C38="",(IF(AND(C36<>"",D36<>"")=TRUE,"지붕층",IF(AND(C36="",D36="지붕층")=TRUE,"옥탑층",""))),C38) -> 14 | F38: =IF(D38="","","기준수량") -> 기준수량 | G38: =SUM('산출표(101동):산출표(근생)'!G38) -> 1069.94 | H38: =SUM('산출표(101동):산출표(근생)'!H38) -> 0 | I38: =SUM('산출표(101동):산출표(근생)'!I38) -> 0 | J38: =SUM('산출표(101동):산출표(근생)'!J38) -> 0 | K38: =SUM('산출표(101동):산출표(근생)'!K38) -> 0 | L38: =SUM('산출표(101동):산출표(근생)'!L38) -> 0 | M38: =SUM('산출표(101동):산출표(근생)'!M38) -> 0 | N38: =SUM('산출표(101동):산출표(근생)'!N38) -> 0 | ... U38: =SUM('산출표(101동):산출표(근생)'!U38) -> 0
A39: 25 | C39: =C38 -> 14 | F39: =IF(D38="","","현재수량") -> 현재수량 | G39: =SUM('산출표(101동):산출표(근생)'!G39) -> 0 | H39: =SUM('산출표(101동):산출표(근생)'!H39) -> 0 | I39: =SUM('산출표(101동):산출표(근생)'!I39) -> 0 | J39: =SUM('산출표(101동):산출표(근생)'!J39) -> 0 | K39: =SUM('산출표(101동):산출표(근생)'!K39) -> 0 | L39: =SUM('산출표(101동):산출표(근생)'!L39) -> 0 | M39: =SUM('산출표(101동):산출표(근생)'!M39) -> 0 | N39: =SUM('산출표(101동):산출표(근생)'!N39) -> 0 | ... U39: =SUM('산출표(101동):산출표(근생)'!U39) -> 0
A40: 26 | C40: =IF(B24="","",B24) -> 15 | D40: =IF(C40="",(IF(AND(C38<>"",D38<>"")=TRUE,"지붕층",IF(AND(C38="",D38="지붕층")=TRUE,"옥탑층",""))),C40) -> 15 | F40: =IF(D40="","","기준수량") -> 기준수량 | G40: =SUM('산출표(101동):산출표(근생)'!G40) -> 1069.94 | H40: =SUM('산출표(101동):산출표(근생)'!H40) -> 0 | I40: =SUM('산출표(101동):산출표(근생)'!I40) -> 0 | J40: =SUM('산출표(101동):산출표(근생)'!J40) -> 0 | K40: =SUM('산출표(101동):산출표(근생)'!K40) -> 0 | L40: =SUM('산출표(101동):산출표(근생)'!L40) -> 0 | M40: =SUM('산출표(101동):산출표(근생)'!M40) -> 0 | N40: =SUM('산출표(101동):산출표(근생)'!N40) -> 0 | ... U40: =SUM('산출표(101동):산출표(근생)'!U40) -> 0
...

Sheet 산출표(101동)
D1: 101
D2: 현장명 : | F2: =기본정보작성!#REF! -> #REF! | L2: =기본정보작성!#REF! -> #REF!
D3: 시설별 | P3: 소방용수설비 | T3: 피난ㆍ방화설비
A4: {=_xlfn.SEQUENCE(기본정보작성!J3,1,-기본정보작성!J3,1)} -> -2 | H4: 송수구 | I4: 옥내소화전 | J4: 스프링클러 | K4: 자동화재탐지 | N4: 비상조명등 | P4: 상수도소화용수 | Q4: 소화수조 | R4: 저수조 | S4: 기타 | T4: 방화셔터 | U4: 회로 | V4: 감지기
A5: -1 | D5: 층구분 | F5: 구 분 / 종 별 | G5: 바닥면적 (㎡) | J5: 송수구 | K5: 수신기 | L5: 회로수 | M5: 시각경보기 | N5: 비상조명등 | O5: 휴대용비상조명
D6: 101동 | F6: 기준수량(합계) | G6: =SUMIF(F8:$G$139,F8,G8:G139) -> 8747.19 | H6: =IF(SUMIF($F8:G$139,$F$8,H8:H139)=0,"",SUMIF($F8:G$139,$F$8,H8:H139)) | I6: =IF(SUMIF($F8:G$139,$F$8,I8:I139)=0,"",SUMIF($F8:G$139,$F$8,I8:I139)) | J6: =IF(SUMIF($F8:H$139,$F$8,J8:J139)=0,"",SUMIF($F8:H$139,$F$8,J8:J139)) | K6: =IF(SUMIF($F8:J$139,$F$8,K8:K139)=0,"",SUMIF($F8:J$139,$F$8,K8:K139)) | L6: =IF(SUMIF($F8:K$139,$F$8,L8:L139)=0,"",SUMIF($F8:K$139,$F$8,L8:L139)) -> 4 | M6: =IF(SUMIF($F8:K$139,$F$8,M8:M139)=0,"",SUMIF($F8:K$139,$F$8,M8:M139)) | N6: =IF(SUMIF($F8:M$139,$F$8,N8:N139)=0,"",SUMIF($F8:M$139,$F$8,N8:N139)) | O6: =IF(SUMIF($F8:M$139,$F$8,O8:O139)=0,"",SUMIF($F8:M$139,$F$8,O8:O139)) | P6: =IF(SUMIF($F8:N$139,$F$8,P8:P139)=0,"",SUMIF($F8:N$139,$F$8,P8:P139)) | Q6: =IF(SUMIF($F8:O$139,$F$8,Q8:Q139)=0,"",SUMIF($F8:O$139,$F$8,Q8:Q139)) | R6: =IF(SUMIF($F8:P$139,$F$8,R8:R139)=0,"",SUMIF($F8:P$139,$F$8,R8:R139)) | S6: =IF(SUMIF($F8:Q$139,$F$8,S8:S139)=0,"",SUMIF($F8:Q$139,$F$8,S8:S139)) | T6: =IF(SUMIF($F8:S$139,$F$8,T8:T139)=0,"",SUMIF($F8:S$139,$F$8,T8:T139)) | U6: =IF(SUMIF($F8:S$139,$F$8,U8:U139)=0,"",SUMIF($F8:S$139,$F$8,U8:U139)) | V6: =IF(SUMIF($F8:T$139,$F$8,V8:V139)=0,"",SUMIF($F8:T$139,$F$8,V8:V139))
F7: 현재수량(합계) | G7: =SUMIF($F$9:$F$139,$F$8,G8:G139) -> 24 | H7: =IF(SUMIF($F$8:$F$139,$F$9,H8:H139)=0,"",SUMIF($F$8:$F$139,$F$9,H8:H139)) | I7: =IF(SUMIF($F$8:$F$139,$F$9,I8:I139)=0,"",SUMIF($F$8:$F$139,$F$9,I8:I139)) | J7: =IF(SUMIF($F$8:$F$139,$F$9,J8:J139)=0,"",SUMIF($F$8:$F$139,$F$9,J8:J139)) | K7: =IF(SUMIF($F$8:$F$139,$F$9,K8:K139)=0,"",SUMIF($F$8:$F$139,$F$9,K8:K139)) | L7: =IF(SUMIF($F$8:$F$139,$F$9,L8:L139)=0,"",SUMIF($F$8:$F$139,$F$9,L8:L139)) | M7: =IF(SUMIF($F$8:$F$139,$F$9,M8:M139)=0,"",SUMIF($F$8:$F$139,$F$9,M8:M139)) | N7: =IF(SUMIF($F$8:$F$139,$F$9,N8:N139)=0,"",SUMIF($F$8:$F$139,$F$9,N8:N139)) | O7: =IF(SUMIF($F$8:$F$139,$F$9,O8:O139)=0,"",SUMIF($F$8:$F$139,$F$9,O8:O139)) | ... V7: =IF(SUMIF($F$8:$F$139,$F$9,V8:V139)=0,"",SUMIF($F$8:$F$139,$F$9,V8:V139))
B8: {=IF(_xlfn._xlws.SORT(A4:A90)=0,"",_xlfn._xlws.SORT(A4:A90))} -> -2 | C8: =IF(B8="","",B8) -> -2 | D8: =IF(C8="",(IF(AND(C6<>"",D6<>"")=TRUE,"지붕층",IF(AND(C6="",D6="지붕층")=TRUE,"옥탑층",""))),C8) -> -2 | F8: =IF(D8="","","기준수량") -> 기준수량 | L8: 4
B9: -1 | C9: =C8 -> -2 | F9: =IF(D8="","","현재수량") -> 현재수량
B10: 1 | C10: =IF(B9="","",B9) -> -1 | D10: =IF(C10="",(IF(AND(C8<>"",D8<>"")=TRUE,"지붕층",IF(AND(C8="",D8="지붕층")=TRUE,"옥탑층",""))),C10) -> -1 | F10: =IF(D10="","","기준수량") -> 기준수량
B11: 2 | C11: =C10 -> -1 | F11: =IF(D10="","","현재수량") -> 현재수량
B12: 3 | C12: =IF(B10="","",B10) -> 1 | D12: =IF(C12="",(IF(AND(C10<>"",D10<>"")=TRUE,"지붕층",IF(AND(C10="",D10="지붕층")=TRUE,"옥탑층",""))),C12) -> 1 | F12: =IF(D12="","","기준수량") -> 기준수량 | G12: 364.36
B13: 4 | C13: =C12 -> 1 | F13: =IF(D12="","","현재수량") -> 현재수량 | G13: 1
B14: 5 | C14: =IF(B11="","",B11) -> 2 | D14: =IF(C14="",(IF(AND(C12<>"",D12<>"")=TRUE,"지붕층",IF(AND(C12="",D12="지붕층")=TRUE,"옥탑층",""))),C14) -> 2 | F14: =IF(D14="","","기준수량") -> 기준수량 | G14: 445.25
A15: {=_xlfn.SEQUENCE(기본정보작성!M3,1,1,1)} -> 1 | B15: 6 | C15: =C14 -> 2 | F15: =IF(D14="","","현재수량") -> 현재수량 | G15: 1
A16: 2 | B16: 7 | C16: =IF(B12="","",B12) -> 3 | D16: =IF(C16="",(IF(AND(C14<>"",D14<>"")=TRUE,"지붕층",IF(AND(C14="",D14="지붕층")=TRUE,"옥탑층",""))),C16) -> 3 | F16: =IF(D16="","","기준수량") -> 기준수량 | G16: 445.25
A17: 3 | B17: 8 | C17: =C16 -> 3 | F17: =IF(D16="","","현재수량") -> 현재수량 | G17: 1
A18: 4 | B18: 9 | C18: =IF(B13="","",B13) -> 4 | D18: =IF(C18="",(IF(AND(C16<>"",D16<>"")=TRUE,"지붕층",IF(AND(C16="",D16="지붕층")=TRUE,"옥탑층",""))),C18) -> 4 | F18: =IF(D18="","","기준수량") -> 기준수량 | G18: 445.25
A19: 5 | B19: 10 | C19: =C18 -> 4 | F19: =IF(D18="","","현재수량") -> 현재수량
A20: 6 | B20: 11 | C20: =IF(B14="","",B14) -> 5 | D20: =IF(C20="",(IF(AND(C18<>"",D18<>"")=TRUE,"지붕층",IF(AND(C18="",D18="지붕층")=TRUE,"옥탑층",""))),C20) -> 5 | F20: =IF(D20="","","기준수량") -> 기준수량 | G20: 445.25
A21: 7 | B21: 12 | C21: =C20 -> 5 | F21: =IF(D20="","","현재수량") -> 현재수량
A22: 8 | B22: 13 | C22: =IF(B15="","",B15) -> 6 | D22: =IF(C22="",(IF(AND(C20<>"",D20<>"")=TRUE,"지붕층",IF(AND(C20="",D20="지붕층")=TRUE,"옥탑층",""))),C22) -> 6 | F22: =IF(D22="","","기준수량") -> 기준수량 | G22: 445.25
A23: 9 | B23: 14 | C23: =C22 -> 6 | F23: =IF(D22="","","현재수량") -> 현재수량
A24: 10 | B24: 15 | C24: =IF(B16="","",B16) -> 7 | D24: =IF(C24="",(IF(AND(C22<>"",D22<>"")=TRUE,"지붕층",IF(AND(C22="",D22="지붕층")=TRUE,"옥탑층",""))),C24) -> 7 | F24: =IF(D24="","","기준수량") -> 기준수량 | G24: 445.25
A25: 11 | B25: 16 | C25: =C24 -> 7 | F25: =IF(D24="","","현재수량") -> 현재수량
A26: 12 | B26: 17 | C26: =IF(B17="","",B17) -> 8 | D26: =IF(C26="",(IF(AND(C24<>"",D24<>"")=TRUE,"지붕층",IF(AND(C24="",D24="지붕층")=TRUE,"옥탑층",""))),C26) -> 8 | F26: =IF(D26="","","기준수량") -> 기준수량 | G26: 445.25
A27: 13 | B27: 18 | C27: =C26 -> 8 | F27: =IF(D26="","","현재수량") -> 현재수량
A28: 14 | B28: 19 | C28: =IF(B18="","",B18) -> 9 | D28: =IF(C28="",(IF(AND(C26<>"",D26<>"")=TRUE,"지붕층",IF(AND(C26="",D26="지붕층")=TRUE,"옥탑층",""))),C28) -> 9 | F28: =IF(D28="","","기준수량") -> 기준수량 | G28: 445.25
A29: 15 | B29: 20 | C29: =C28 -> 9 | F29: =IF(D28="","","현재수량") -> 현재수량
A30: 16 | B30: 21 | C30: =IF(B19="","",B19) -> 10 | D30: =IF(C30="",(IF(AND(C28<>"",D28<>"")=TRUE,"지붕층",IF(AND(C28="",D28="지붕층")=TRUE,"옥탑층",""))),C30) -> 10 | F30: =IF(D30="","","기준수량") -> 기준수량 | G30: 445.25
A31: 17 | B31: 22 | C31: =C30 -> 10 | F31: =IF(D30="","","현재수량") -> 현재수량
A32: 18 | B32: 23 | C32: =IF(B20="","",B20) -> 11 | D32: =IF(C32="",(IF(AND(C30<>"",D30<>"")=TRUE,"지붕층",IF(AND(C30="",D30="지붕층")=TRUE,"옥탑층",""))),C32) -> 11 | F32: =IF(D32="","","기준수량") -> 기준수량 | G32: 445.25
A33: 19 | B33: 24 | C33: =C32 -> 11 | F33: =IF(D32="","","현재수량") -> 현재수량
A34: 20 | B34: 25 | C34: =IF(B21="","",B21) -> 12 | D34: =IF(C34="",(IF(AND(C32<>"",D32<>"")=TRUE,"지붕층",IF(AND(C32="",D32="지붕층")=TRUE,"옥탑층",""))),C34) -> 12 | F34: =IF(D34="","","기준수량") -> 기준수량 | G34: 445.25
A35: 21 | B35: 26 | C35: =C34 -> 12 | F35: =IF(D34="","","현재수량") -> 현재수량
A36: 22 | B36: 27 | C36: =IF(B22="","",B22) -> 13 | D36: =IF(C36="",(IF(AND(C34<>"",D34<>"")=TRUE,"지붕층",IF(AND(C34="",D34="지붕층")=TRUE,"옥탑층",""))),C36) -> 13 | F36: =IF(D36="","","기준수량") -> 기준수량 | G36: 445.25
A37: 23 | B37: 28 | C37: =C36 -> 13 | F37: =IF(D36="","","현재수량") -> 현재수량
A38: 24 | B38: 29 | C38: =IF(B23="","",B23) -> 14 | D38: =IF(C38="",(IF(AND(C36<>"",D36<>"")=TRUE,"지붕층",IF(AND(C36="",D36="지붕층")=TRUE,"옥탑층",""))),C38) -> 14 | F38: =IF(D38="","","기준수량") -> 기준수량 | G38: 445.25
A39: 25 | C39: =C38 -> 14 | F39: =IF(D38="","","현재수량") -> 현재수량
A40: 26 | C40: =IF(B24="","",B24) -> 15 | D40: =IF(C40="",(IF(AND(C38<>"",D38<>"")=TRUE,"지붕층",IF(AND(C38="",D38="지붕층")=TRUE,"옥탑층",""))),C40) -> 15 | F40: =IF(D40="","","기준수량") -> 기준수량 | G40: 445.25
...

Sheet 산출표(102동)
D1: 101
D2: 현장명 : | F2: =기본정보작성!#REF! -> #REF! | L2: =기본정보작성!#REF! -> #REF!
D3: 시설별 | P3: 소방용수설비 | T3: 피난ㆍ방화설비
A4: {=_xlfn.SEQUENCE(기본정보작성!J3,1,-기본정보작성!J3,1)} -> -2 | H4: 송수구 | I4: ='산출표(동총괄)'!I4 -> 옥내소화전 | J4: 스프링클러 | K4: 자동화재탐지 | N4: ='산출표(동총괄)'!N4 -> 비상조명등 | P4: ='산출표(동총괄)'!P4 -> 상수도소화용수 | Q4: ='산출표(동총괄)'!Q4 -> 소화수조 | R4: ='산출표(동총괄)'!R4 -> 저수조 | S4: ='산출표(동총괄)'!S4 -> 기타 | T4: 방화셔터 | U4: 회로 | V4: 감지기
A5: -1 | D5: 층구분 | F5: 구 분 / 종 별 | G5: 바닥면적 (㎡) | J5: 송수구 | K5: 수신기 | L5: 회로수 | M5: ='산출표(동총괄)'!M5 -> 시각경보기 | N5: ='산출표(동총괄)'!N5 -> 비상조명등 | O5: ='산출표(동총괄)'!O5 -> 휴대용비상조명
D6: 102동 | F6: 기준수량(합계) | G6: =SUMIF(F8:$G$139,F8,G8:G139) -> 15863.39 | H6: =IF(SUMIF($F8:G$139,$F$8,H8:H139)=0,"",SUMIF($F8:G$139,$F$8,H8:H139)) | I6: =IF(SUMIF($F8:G$139,$F$8,I8:I139)=0,"",SUMIF($F8:G$139,$F$8,I8:I139)) | J6: =IF(SUMIF($F8:H$139,$F$8,J8:J139)=0,"",SUMIF($F8:H$139,$F$8,J8:J139)) | K6: =IF(SUMIF($F8:J$139,$F$8,K8:K139)=0,"",SUMIF($F8:J$139,$F$8,K8:K139)) | L6: =IF(SUMIF($F8:K$139,$F$8,L8:L139)=0,"",SUMIF($F8:K$139,$F$8,L8:L139)) | M6: =IF(SUMIF($F8:K$139,$F$8,M8:M139)=0,"",SUMIF($F8:K$139,$F$8,M8:M139)) | N6: =IF(SUMIF($F8:M$139,$F$8,N8:N139)=0,"",SUMIF($F8:M$139,$F$8,N8:N139)) | O6: =IF(SUMIF($F8:M$139,$F$8,O8:O139)=0,"",SUMIF($F8:M$139,$F$8,O8:O139)) | P6: =IF(SUMIF($F8:N$139,$F$8,P8:P139)=0,"",SUMIF($F8:N$139,$F$8,P8:P139)) | Q6: =IF(SUMIF($F8:O$139,$F$8,Q8:Q139)=0,"",SUMIF($F8:O$139,$F$8,Q8:Q139)) | R6: =IF(SUMIF($F8:P$139,$F$8,R8:R139)=0,"",SUMIF($F8:P$139,$F$8,R8:R139)) | S6: =IF(SUMIF($F8:Q$139,$F$8,S8:S139)=0,"",SUMIF($F8:Q$139,$F$8,S8:S139)) | T6: =IF(SUMIF($F8:S$139,$F$8,T8:T139)=0,"",SUMIF($F8:S$139,$F$8,T8:T139)) | U6: =IF(SUMIF($F8:S$139,$F$8,U8:U139)=0,"",SUMIF($F8:S$139,$F$8,U8:U139)) | V6: =IF(SUMIF($F8:T$139,$F$8,V8:V139)=0,"",SUMIF($F8:T$139,$F$8,V8:V139))
F7: 현재수량(합계) | G7: =SUMIF($F$9:$F$139,$F$8,G8:G139) -> 16 | H7: =IF(SUMIF($F$8:$F$139,$F$9,H8:H139)=0,"",SUMIF($F$8:$F$139,$F$9,H8:H139)) | I7: =IF(SUMIF($F$8:$F$139,$F$9,I8:I139)=0,"",SUMIF($F$8:$F$139,$F$9,I8:I139)) | J7: =IF(SUMIF($F$8:$F$139,$F$9,J8:J139)=0,"",SUMIF($F$8:$F$139,$F$9,J8:J139)) | K7: =IF(SUMIF($F$8:$F$139,$F$9,K8:K139)=0,"",SUMIF($F$8:$F$139,$F$9,K8:K139)) | L7: =IF(SUMIF($F$8:$F$139,$F$9,L8:L139)=0,"",SUMIF($F$8:$F$139,$F$9,L8:L139)) | M7: =IF(SUMIF($F$8:$F$139,$F$9,M8:M139)=0,"",SUMIF($F$8:$F$139,$F$9,M8:M139)) | N7: =IF(SUMIF($F$8:$F$139,$F$9,N8:N139)=0,"",SUMIF($F$8:$F$139,$F$9,N8:N139)) | O7: =IF(SUMIF($F$8:$F$139,$F$9,O8:O139)=0,"",SUMIF($F$8:$F$139,$F$9,O8:O139)) | ... V7: =IF(SUMIF($F$8:$F$139,$F$9,V8:V139)=0,"",SUMIF($F$8:$F$139,$F$9,V8:V139))
B8: {=IF(_xlfn._xlws.SORT(A4:A90)=0,"",_xlfn._xlws.SORT(A4:A90))} -> -2 | C8: =IF(B8="","",B8) -> -2 | D8: =IF(C8="",(IF(AND(C6<>"",D6<>"")=TRUE,"지붕층",IF(AND(C6="",D6="지붕층")=TRUE,"옥탑층",""))),C8) -> -2 | F8: =IF(D8="","","기준수량") -> 기준수량
B9: -1 | C9: =C8 -> -2 | F9: =IF(D8="","","현재수량") -> 현재수량
B10: 1 | C10: =IF(B9="","",B9) -> -1 | D10: =IF(C10="",(IF(AND(C8<>"",D8<>"")=TRUE,"지붕층",IF(AND(C8="",D8="지붕층")=TRUE,"옥탑층",""))),C10) -> -1 | F10: =IF(D10="","","기준수량") -> 기준수량
B11: 2 | C11: =C10 -> -1 | F11: =IF(D10="","","현재수량") -> 현재수량
B12: 3 | C12: =IF(B10="","",B10) -> 1 | D12: =IF(C12="",(IF(AND(C10<>"",D10<>"")=TRUE,"지붕층",IF(AND(C10="",D10="지붕층")=TRUE,"옥탑층",""))),C12) -> 1 | F12: =IF(D12="","","기준수량") -> 기준수량 | G12: 133.7
B13: 4 | C13: =C12 -> 1 | F13: =IF(D12="","","현재수량") -> 현재수량 | G13: 2
B14: 5 | C14: =IF(B11="","",B11) -> 2 | D14: =IF(C14="",(IF(AND(C12<>"",D12<>"")=TRUE,"지붕층",IF(AND(C12="",D12="지붕층")=TRUE,"옥탑층",""))),C14) -> 2 | F14: =IF(D14="","","기준수량") -> 기준수량 | G14: 624.69
A15: {=_xlfn.SEQUENCE(기본정보작성!M3,1,1,1)} -> 1 | B15: 6 | C15: =C14 -> 2 | F15: =IF(D14="","","현재수량") -> 현재수량
A16: 2 | B16: 7 | C16: =IF(B12="","",B12) -> 3 | D16: =IF(C16="",(IF(AND(C14<>"",D14<>"")=TRUE,"지붕층",IF(AND(C14="",D14="지붕층")=TRUE,"옥탑층",""))),C16) -> 3 | F16: =IF(D16="","","기준수량") -> 기준수량 | G16: 624.69
A17: 3 | B17: 8 | C17: =C16 -> 3 | F17: =IF(D16="","","현재수량") -> 현재수량
A18: 4 | B18: 9 | C18: =IF(B13="","",B13) -> 4 | D18: =IF(C18="",(IF(AND(C16<>"",D16<>"")=TRUE,"지붕층",IF(AND(C16="",D16="지붕층")=TRUE,"옥탑층",""))),C18) -> 4 | F18: =IF(D18="","","기준수량") -> 기준수량 | G18: 624.69
A19: 5 | B19: 10 | C19: =C18 -> 4 | F19: =IF(D18="","","현재수량") -> 현재수량
A20: 6 | B20: 11 | C20: =IF(B14="","",B14) -> 5 | D20: =IF(C20="",(IF(AND(C18<>"",D18<>"")=TRUE,"지붕층",IF(AND(C18="",D18="지붕층")=TRUE,"옥탑층",""))),C20) -> 5 | F20: =IF(D20="","","기준수량") -> 기준수량 | G20: 624.69
A21: 7 | B21: 12 | C21: =C20 -> 5 | F21: =IF(D20="","","현재수량") -> 현재수량
A22: 8 | B22: 13 | C22: =IF(B15="","",B15) -> 6 | D22: =IF(C22="",(IF(AND(C20<>"",D20<>"")=TRUE,"지붕층",IF(AND(C20="",D20="지붕층")=TRUE,"옥탑층",""))),C22) -> 6 | F22: =IF(D22="","","기준수량") -> 기준수량 | G22: 624.69
A23: 9 | B23: 14 | C23: =C22 -> 6 | F23: =IF(D22="","","현재수량") -> 현재수량
A24: 10 | B24: 15 | C24: =IF(B16="","",B16) -> 7 | D24: =IF(C24="",(IF(AND(C22<>"",D22<>"")=TRUE,"지붕층",IF(AND(C22="",D22="지붕층")=TRUE,"옥탑층",""))),C24) -> 7 | F24: =IF(D24="","","기준수량") -> 기준수량 | G24: 624.69
A25: 11 | B25: 16 | C25: =C24 -> 7 | F25: =IF(D24="","","현재수량") -> 현재수량
A26: 12 | B26: 17 | C26: =IF(B17="","",B17) -> 8 | D26: =IF(C26="",(IF(AND(C24<>"",D24<>"")=TRUE,"지붕층",IF(AND(C24="",D24="지붕층")=TRUE,"옥탑층",""))),C26) -> 8 | F26: =IF(D26="","","기준수량") -> 기준수량 | G26: 624.69
A27: 13 | B27: 18 | C27: =C26 -> 8 | F27: =IF(D26="","","현재수량") -> 현재수량
A28: 14 | B28: 19 | C28: =IF(B18="","",B18) -> 9 | D28: =IF(C28="",(IF(AND(C26<>"",D26<>"")=TRUE,"지붕층",IF(AND(C26="",D26="지붕층")=TRUE,"옥탑층",""))),C28) -> 9 | F28: =IF(D28="","","기준수량") -> 기준수량 | G28: 624.69
A29: 15 | B29: 20 | C29: =C28 -> 9 | F29: =IF(D28="","","현재수량") -> 현재수량
A30: 16 | B30: 21 | C30: =IF(B19="","",B19) -> 10 | D30: =IF(C30="",(IF(AND(C28<>"",D28<>"")=TRUE,"지붕층",IF(AND(C28="",D28="지붕층")=TRUE,"옥탑층",""))),C30) -> 10 | F30: =IF(D30="","","기준수량") -> 기준수량 | G30: 624.69
A31: 17 | B31: 22 | C31: =C30 -> 10 | F31: =IF(D30="","","현재수량") -> 현재수량
A32: 18 | B32: 23 | C32: =IF(B20="","",B20) -> 11 | D32: =IF(C32="",(IF(AND(C30<>"",D30<>"")=TRUE,"지붕층",IF(AND(C30="",D30="지붕층")=TRUE,"옥탑층",""))),C32) -> 11 | F32: =IF(D32="","","기준수량") -> 기준수량 | G32: 624.69
A33: 19 | B33: 24 | C33: =C32 -> 11 | F33: =IF(D32="","","현재수량") -> 현재수량
A34: 20 | B34: 25 | C34: =IF(B21="","",B21) -> 12 | D34: =IF(C34="",(IF(AND(C32<>"",D32<>"")=TRUE,"지붕층",IF(AND(C32="",D32="지붕층")=TRUE,"옥탑층",""))),C34) -> 12 | F34: =IF(D34="","","기준수량") -> 기준수량 | G34: 624.69
A35: 21 | B35: 26 | C35: =C34 -> 12 | F35: =IF(D34="","","현재수량") -> 현재수량
A36: 22 | B36: 27 | C36: =IF(B22="","",B22) -> 13 | D36: =IF(C36="",(IF(AND(C34<>"",D34<>"")=TRUE,"지붕층",IF(AND(C34="",D34="지붕층")=TRUE,"옥탑층",""))),C36) -> 13 | F36: =IF(D36="","","기준수량") -> 기준수량 | G36: 624.69
A37: 23 | B37: 28 | C37: =C36 -> 13 | F37: =IF(D36="","","현재수량") -> 현재수량
A38: 24 | B38: 29 | C38: =IF(B23="","",B23) -> 14 | D38: =IF(C38="",(IF(AND(C36<>"",D36<>"")=TRUE,"지붕층",IF(AND(C36="",D36="지붕층")=TRUE,"옥탑층",""))),C38) -> 14 | F38: =IF(D38="","","기준수량") -> 기준수량 | G38: 624.69
A39: 25 | C39: =C38 -> 14 | F39: =IF(D38="","","현재수량") -> 현재수량
A40: 26 | C40: =IF(B24="","",B24) -> 15 | D40: =IF(C40="",(IF(AND(C38<>"",D38<>"")=TRUE,"지붕층",IF(AND(C38="",D38="지붕층")=TRUE,"옥탑층",""))),C40) -> 15 | F40: =IF(D40="","","기준수량") -> 기준수량 | G40: 624.69
...

Sheet 산출표(주차장)
D1: 소방시설(기준·일람)산출표
D2: 현장명 : | F2: =기본정보작성!#REF! -> #REF! | L2: =기본정보작성!#REF! -> #REF!
D3: 시설별 | P3: 소방용수설비 | T3: 피난ㆍ방화설비
A4: {=_xlfn.SEQUENCE(기본정보작성!J3,1,-기본정보작성!J3,1)} -> -2 | H4: 송수구 | I4: ='산출표(동총괄)'!I4 -> 옥내소화전 | J4: 스프링클러 | K4: 자동화재탐지 | N4: ='산출표(동총괄)'!N4 -> 비상조명등 | P4: ='산출표(동총괄)'!P4 -> 상수도소화용수 | Q4: ='산출표(동총괄)'!Q4 -> 소화수조 | R4: ='산출표(동총괄)'!R4 -> 저수조 | S4: ='산출표(동총괄)'!S4 -> 기타 | T4: 방화셔터 | U4: 회로 | V4: 감지기
A5: -1 | D5: 층구분 | F5: 구 분 / 종 별 | G5: 바닥면적 (㎡) | J5: 송수구 | K5: 수신기 | L5: 회로수 | M5: ='산출표(동총괄)'!M5 -> 시각경보기 | N5: ='산출표(동총괄)'!N5 -> 비상조명등 | O5: ='산출표(동총괄)'!O5 -> 휴대용비상조명
D6: 주차장 | F6: 기준수량(합계) | G6: =SUMIF(F8:$G$79,F8,G8:G79) -> 44165.29 | H6: =IF(SUMIF($F8:G$79,$F$8,H8:H79)=0,"",SUMIF($F8:G$79,$F$8,H8:H79)) | I6: =IF(SUMIF($F8:G$79,$F$8,I8:I79)=0,"",SUMIF($F8:G$79,$F$8,I8:I79)) | J6: =IF(SUMIF($F8:H$79,$F$8,J8:J79)=0,"",SUMIF($F8:H$79,$F$8,J8:J79)) | K6: =IF(SUMIF($F8:J$79,$F$8,K8:K79)=0,"",SUMIF($F8:J$79,$F$8,K8:K79)) | L6: =IF(SUMIF($F8:K$79,$F$8,L8:L79)=0,"",SUMIF($F8:K$79,$F$8,L8:L79)) | M6: =IF(SUMIF($F8:K$79,$F$8,M8:M79)=0,"",SUMIF($F8:K$79,$F$8,M8:M79)) | N6: =IF(SUMIF($F8:M$79,$F$8,N8:N79)=0,"",SUMIF($F8:M$79,$F$8,N8:N79)) | O6: =IF(SUMIF($F8:M$79,$F$8,O8:O79)=0,"",SUMIF($F8:M$79,$F$8,O8:O79)) | P6: =IF(SUMIF($F8:N$79,$F$8,P8:P79)=0,"",SUMIF($F8:N$79,$F$8,P8:P79)) | Q6: =IF(SUMIF($F8:O$79,$F$8,Q8:Q79)=0,"",SUMIF($F8:O$79,$F$8,Q8:Q79)) | R6: =IF(SUMIF($F8:P$79,$F$8,R8:R79)=0,"",SUMIF($F8:P$79,$F$8,R8:R79)) | S6: =IF(SUMIF($F8:Q$79,$F$8,S8:S79)=0,"",SUMIF($F8:Q$79,$F$8,S8:S79)) | T6: =IF(SUMIF($F8:S$79,$F$8,T8:T79)=0,"",SUMIF($F8:S$79,$F$8,T8:T79)) | U6: =IF(SUMIF($F8:S$79,$F$8,U8:U79)=0,"",SUMIF($F8:S$79,$F$8,U8:U79)) | V6: =IF(SUMIF($F8:T$79,$F$8,V8:V79)=0,"",SUMIF($F8:T$79,$F$8,V8:V79))
F7: 현재수량(합계) | G7: =SUMIF($F$9:$F$79,$F$8,G8:G79) -> 0 | H7: =IF(SUMIF($F$8:$F$79,$F$9,H8:H79)=0,"",SUMIF($F$8:$F$79,$F$9,H8:H79)) | I7: =IF(SUMIF($F$8:$F$79,$F$9,I8:I79)=0,"",SUMIF($F$8:$F$79,$F$9,I8:I79)) | J7: =IF(SUMIF($F$8:$F$79,$F$9,J8:J79)=0,"",SUMIF($F$8:$F$79,$F$9,J8:J79)) | K7: =IF(SUMIF($F$8:$F$79,$F$9,K8:K79)=0,"",SUMIF($F$8:$F$79,$F$9,K8:K79)) | L7: =IF(SUMIF($F$8:$F$79,$F$9,L8:L79)=0,"",SUMIF($F$8:$F$79,$F$9,L8:L79)) | M7: =IF(SUMIF($F$8:$F$79,$F$9,M8:M79)=0,"",SUMIF($F$8:$F$79,$F$9,M8:M79)) | N7: =IF(SUMIF($F$8:$F$79,$F$9,N8:N79)=0,"",SUMIF($F$8:$F$79,$F$9,N8:N79)) | O7: =IF(SUMIF($F$8:$F$79,$F$9,O8:O79)=0,"",SUMIF($F$8:$F$79,$F$9,O8:O79)) | ... V7: =IF(SUMIF($F$8:$F$79,$F$9,V8:V79)=0,"",SUMIF($F$8:$F$79,$F$9,V8:V79))
B8: {=IF(_xlfn._xlws.SORT(A4:A33)=0,"",_xlfn._xlws.SORT(A4:A33))} -> -2 | C8: =IF(B8="","",B8) -> -2 | D8: 지하2층 | F8: =IF(D8="","","기준수량") -> 기준수량 | G8: 7890.44
B9: -1 | C9: =C8 -> -2 | D9: (109동) | F9: =IF(D8="","","현재수량") -> 현재수량
B10: 1 | C10: =IF(B9="","",B9) -> -1 | D10: 지하1층 | F10: =IF(D10="","","기준수량") -> 기준수량 | G10: 26040.62
B11: 2 | C11: =C10 -> -1 | D11: (110동) | F11: =IF(D10="","","현재수량") -> 현재수량
B12: 3 | C12: =IF(B10="","",B10) -> 1 | D12: 지상1층 | F12: =IF(D12="","","기준수량") -> 기준수량 | G12: 10234.23
B13: 4 | C13: =C12 -> 1 | D13: (111동) | F13: =IF(D12="","","현재수량") -> 현재수량 | G13: 8
B14: 5 | C14: =IF(B11="","",B11) -> 2
A15: {=_xlfn.SEQUENCE(기본정보작성!M3,1,1,1)} -> 1 | B15: 6 | C15: =C14 -> 2
A16: 2 | B16: 7 | C16: =IF(B12="","",B12) -> 3
A17: 3 | B17: 8 | C17: =C16 -> 3
A18: 4 | B18: 9
A19: 5 | B19: 10
A20: 6 | B20: 11
A21: 7 | B21: 12
A22: 8 | B22: 13
A23: 9 | B23: 14
A24: 10 | B24: 15
A25: 11 | B25: 16
A26: 12 | B26: 17
A27: 13 | B27: 18
A28: 14 | B28: 19
A29: 15
A30: 16
A31: 17
A32: 18
A33: 19
A34: 20
A35: 21
A36: 22
A37: 23
A38: 24
A39: 25
A40: 26
...

Sheet 산출표(부대)
D1: 소방시설(기준·일람)산출표
D2: 현장명 : | F2: =기본정보작성!#REF! -> #REF! | L2: =기본정보작성!#REF! -> #REF!
D3: 시설별 | P3: 소방용수설비 | T3: 피난ㆍ방화설비
A4: {=_xlfn.SEQUENCE(기본정보작성!J3,1,-기본정보작성!J3,1)} -> -2 | H4: 송수구 | I4: ='산출표(동총괄)'!I4 -> 옥내소화전 | J4: 스프링클러 | K4: 자동화재탐지 | N4: ='산출표(동총괄)'!N4 -> 비상조명등 | P4: ='산출표(동총괄)'!P4 -> 상수도소화용수 | Q4: ='산출표(동총괄)'!Q4 -> 소화수조 | R4: ='산출표(동총괄)'!R4 -> 저수조 | S4: ='산출표(동총괄)'!S4 -> 기타 | T4: 방화셔터 | U4: 회로 | V4: 감지기
A5: -1 | D5: 층구분 | F5: 구 분 / 종 별 | G5: 바닥면적 (㎡) | J5: 송수구 | K5: 수신기 | L5: 회로수 | M5: ='산출표(동총괄)'!M5 -> 시각경보기 | N5: ='산출표(동총괄)'!N5 -> 비상조명등 | O5: ='산출표(동총괄)'!O5 -> 휴대용비상조명
D6: 부대복리 | F6: 기준수량(합계) | G6: {=SUM(ISEVEN(ROW(G8:G31))*G8:G31)} -> 2300.38 | H6: {=SUM(ISEVEN(ROW(H8:H31))*H8:H31)} -> 0 | I6: {=SUM(ISEVEN(ROW(I8:I31))*I8:I31)} -> 0 | J6: {=SUM(ISEVEN(ROW(J8:J31))*J8:J31)} -> 0 | K6: {=SUM(ISEVEN(ROW(K8:K31))*K8:K31)} -> 0 | L6: {=SUM(ISEVEN(ROW(L8:L31))*L8:L31)} -> 0 | M6: {=SUM(ISEVEN(ROW(M8:M31))*M8:M31)} -> 0 | N6: {=SUM(ISEVEN(ROW(N8:N31))*N8:N31)} -> 0 | ... V6: {=SUM(ISEVEN(ROW(V8:V31))*V8:V31)} -> 0
F7: 현재수량(합계) | G7: {=SUM(ISODD(ROW(G8:G31))*G8:G31)} -> 108 | H7: {=SUM(ISODD(ROW(H8:H31))*H8:H31)} -> 0 | I7: {=SUM(ISODD(ROW(I8:I31))*I8:I31)} -> 0 | J7: {=SUM(ISODD(ROW(J8:J31))*J8:J31)} -> 0 | K7: {=SUM(ISODD(ROW(K8:K31))*K8:K31)} -> 0 | L7: {=SUM(ISODD(ROW(L8:L31))*L8:L31)} -> 0 | M7: {=SUM(ISODD(ROW(M8:M31))*M8:M31)} -> 0 | N7: {=SUM(ISODD(ROW(N8:N31))*N8:N31)} -> 0 | ... V7: {=SUM(ISODD(ROW(V8:V31))*V8:V31)} -> 0
C8: =IF(B33="","",B33) | D8: 지하2층 | F8: =IF(D8="","","기준수량") -> 기준수량
C9: =C8 | D9: 사무실 | F9: =IF(D8="","","현재수량") -> 현재수량 | G9: 9
C10: =IF(B8="","",B8) | D10: 지하1층 | F10: =IF(D10="","","기준수량") -> 기준수량 | G10: 136.53
C11: =C10 | D11: 관리사무소 | F11: =IF(D10="","","현재수량") -> 현재수량 | G11: 9
C12: =IF(B9="","",B9) | D12: 지하1층 | F12: =IF(D12="","","기준수량") -> 기준수량 | G12: 69.53
A13: {=_xlfn.SEQUENCE(기본정보작성!#REF!,1,1,1)} -> #REF! | C13: =C12 | D13: 근로자휴게실 | F13: =IF(D12="","","현재수량") -> 현재수량 | G13: 9
C14: =IF(B10="","",B10) | D14: 지하1층 | F14: =IF(D14="","","기준수량") -> 기준수량 | G14: 34.18
C15: =C14 | D15: 경비실 | F15: =IF(D14="","","현재수량") -> 현재수량 | G15: 9
C16: =IF(B11="","",B11) | D16: 지상1층 | F16: =IF(D16="","","기준수량") -> 기준수량 | G16: 31.9
C17: =C16 | D17: 경비실 | F17: =IF(D16="","","현재수량") -> 현재수량 | G17: 9
B18: {=IF(_xlfn._xlws.SORT(A4:A31)=0,"",_xlfn._xlws.SORT(A4:A31))} -> -2 | C18: =IF(B18="","",B18) -> -2 | D18: 지하1층 | F18: =IF(D18="","","기준수량") -> 기준수량 | G18: 65.75
B19: -1 | C19: =C18 -> -2 | D19: MDF | F19: =IF(D18="","","현재수량") -> 현재수량 | G19: 9
B20: 1 | C20: =IF(B19="","",B19) -> -1 | D20: 지하1층 | F20: =IF(D20="","","기준수량") -> 기준수량 | G20: 62.22
B21: 2 | C21: =C20 -> -1 | D21: 방재실 | F21: =IF(D20="","","현재수량") -> 현재수량 | G21: 9
B22: 3 | C22: =IF(B20="","",B20) -> 1 | D22: 지하1층 | F22: =IF(D22="","","기준수량") -> 기준수량 | G22: 932.17
B23: 4 | C23: =C22 -> 1 | D23: 주민공동시설 | F23: =IF(D22="","","현재수량") -> 현재수량 | G23: 9
B24: 5 | C24: =IF(B21="","",B21) -> 2 | D24: 지하1층 | F24: =IF(D24="","","기준수량") -> 기준수량 | G24: 144.34
A25: {=_xlfn.SEQUENCE(기본정보작성!M3,1,1,1)} -> 1 | B25: 6 | C25: =C24 -> 2 | D25: 작은도서관 | F25: =IF(D24="","","현재수량") -> 현재수량 | G25: 9
A26: 2 | B26: 7 | C26: =IF(B22="","",B22) -> 3 | D26: 지상1층 | F26: =IF(D26="","","기준수량") -> 기준수량 | G26: 170.65
A27: 3 | B27: #REF! | C27: =C26 -> 3 | D27: 경로당 | F27: =IF(D26="","","현재수량") -> 현재수량 | G27: 9
A28: 4 | C28: =IF(B21="","",B21) -> 2 | D28: 지상1층 | F28: =IF(D28="","","기준수량") -> 기준수량 | G28: 383.06
A29: 5 | C29: =C28 -> 2 | D29: 어린이집 | F29: =IF(D28="","","현재수량") -> 현재수량 | G29: 9
A30: 6 | C30: =IF(B23="","",B23) -> 4 | D30: 지상2층 | F30: =IF(D30="","","기준수량") -> 기준수량 | G30: 270.05
A31: 7 | C31: =C30 -> 4 | D31: 다함께돌봄센터 | F31: =IF(D30="","","현재수량") -> 현재수량 | G31: 9
A32: 8
A33: 9
A34: 10
A35: 11
A36: 12
A37: 13
A38: 14
A39: 15
A40: 16
...

Sheet 산출표(근생)
D1: 소방시설(기준·일람)산출표
D2: 현장명 : | F2: =기본정보작성!#REF! -> #REF! | L2: =기본정보작성!#REF! -> #REF!
D3: 시설별 | P3: 소방용수설비 | T3: 피난ㆍ방화설비
A4: {=_xlfn.SEQUENCE(기본정보작성!J3,1,-기본정보작성!J3,1)} -> -2 | H4: 송수구 | I4: ='산출표(동총괄)'!I4 -> 옥내소화전 | J4: 스프링클러 | K4: 자동화재탐지 | N4: ='산출표(동총괄)'!N4 -> 비상조명등 | P4: ='산출표(동총괄)'!P4 -> 상수도소화용수 | Q4: ='산출표(동총괄)'!Q4 -> 소화수조 | R4: ='산출표(동총괄)'!R4 -> 저수조 | S4: ='산출표(동총괄)'!S4 -> 기타 | T4: 방화셔터 | U4: 회로 | V4: 감지기
A5: -1 | D5: 층구분 | F5: 구 분 / 종 별 | G5: 바닥면적 (㎡) | J5: 송수구 | K5: 수신기 | L5: 회로수 | M5: ='산출표(동총괄)'!M5 -> 시각경보기 | N5: ='산출표(동총괄)'!N5 -> 비상조명등 | O5: ='산출표(동총괄)'!O5 -> 휴대용비상조명
D6: 근린생활시설 | F6: 기준수량(합계) | G6: {=SUM(ISEVEN(ROW(G8:G33))*G8:G33)} -> 439.73 | H6: {=SUM(ISEVEN(ROW(H8:H33))*H8:H33)} -> 0 | I6: {=SUM(ISEVEN(ROW(I8:I33))*I8:I33)} -> 0 | J6: {=SUM(ISEVEN(ROW(J8:J33))*J8:J33)} -> 0 | K6: {=SUM(ISEVEN(ROW(K8:K33))*K8:K33)} -> 0 | L6: {=SUM(ISEVEN(ROW(L8:L33))*L8:L33)} -> 0 | M6: {=SUM(ISEVEN(ROW(M8:M33))*M8:M33)} -> 0 | N6: {=SUM(ISEVEN(ROW(N8:N33))*N8:N33)} -> 0 | ... V6: {=SUM(ISEVEN(ROW(V8:V33))*V8:V33)} -> 0
F7: 현재수량(합계) | G7: {=SUM(ISODD(ROW(G8:G33))*G8:G33)} -> 18 | H7: {=SUM(ISODD(ROW(H8:H33))*H8:H33)} -> 0 | I7: {=SUM(ISODD(ROW(I8:I33))*I8:I33)} -> 0 | J7: {=SUM(ISODD(ROW(J8:J33))*J8:J33)} -> 0 | K7: {=SUM(ISODD(ROW(K8:K33))*K8:K33)} -> 0 | L7: {=SUM(ISODD(ROW(L8:L33))*L8:L33)} -> 0 | M7: {=SUM(ISODD(ROW(M8:M33))*M8:M33)} -> 0 | N7: {=SUM(ISODD(ROW(N8:N33))*N8:N33)} -> 0 | ... V7: {=SUM(ISODD(ROW(V8:V33))*V8:V33)} -> 0
B8: {=IF(_xlfn._xlws.SORT(#REF!)=0,"",_xlfn._xlws.SORT(#REF!))} -> #REF! | C8: =IF(B8="","",B8) -> #REF! | D8: 지상1층 | F8: =IF(D8="","","기준수량") -> 기준수량 | G8: 209.44
C9: =C8 -> #REF! | F9: =IF(D8="","","현재수량") -> 현재수량 | G9: 9
C10: =IF(B9="","",B9) | D10: 지상2층 | F10: =IF(D10="","","기준수량") -> 기준수량 | G10: 230.29
C11: =C10 | F11: =IF(D10="","","현재수량") -> 현재수량 | G11: 9
C12: =IF(B10="","",B10) | F12: =IF(D12="","","기준수량")
C13: =C12 | F13: =IF(D12="","","현재수량")
C14: =IF(B11="","",B11) | F14: =IF(D14="","","기준수량")
A15: {=_xlfn.SEQUENCE(기본정보작성!#REF!,1,1,1)} -> #REF! | C15: =C14 | F15: =IF(D14="","","현재수량")
C16: =IF(B12="","",B12) | F16: =IF(D16="","","기준수량")
C17: =C16 | F17: =IF(D16="","","현재수량")
C18: =IF(B13="","",B13) | F18: =IF(D18="","","기준수량")
C19: =C18 | F19: =IF(D18="","","현재수량")
B20: {=IF(_xlfn._xlws.SORT(A4:A33)=0,"",_xlfn._xlws.SORT(A4:A33))} -> -2 | C20: =IF(B20="","",B20) -> -2 | F20: =IF(D20="","","기준수량")
B21: -1 | C21: =C20 -> -2 | F21: =IF(D20="","","현재수량")
B22: 1 | C22: =IF(B21="","",B21) -> -1 | F22: =IF(D22="","","기준수량")
B23: 2 | C23: =C22 -> -1 | F23: =IF(D22="","","현재수량")
B24: 3 | C24: =IF(B22="","",B22) -> 1 | F24: =IF(D24="","","기준수량")
B25: 4 | C25: =C24 -> 1 | F25: =IF(D24="","","현재수량")
B26: 5 | C26: =IF(B23="","",B23) -> 2 | F26: =IF(D26="","","기준수량")
A27: {=_xlfn.SEQUENCE(기본정보작성!M3,1,1,1)} -> 1 | B27: 6 | C27: =C26 -> 2 | F27: =IF(D26="","","현재수량")
A28: 2 | B28: 7 | C28: =IF(B24="","",B24) -> 3 | F28: =IF(D28="","","기준수량")
A29: 3 | B29: #REF! | C29: =C28 -> 3 | F29: =IF(D28="","","현재수량")
A30: 4 | C30: =IF(B23="","",B23) -> 2 | F30: =IF(D30="","","기준수량")
A31: 5 | C31: =C30 -> 2 | F31: =IF(D30="","","현재수량")
A32: 6 | C32: =IF(B25="","",B25) -> 4 | F32: =IF(D32="","","기준수량")
A33: 7 | C33: =C32 -> 4 | F33: =IF(D32="","","현재수량")
A34: 8
A35: 9
A36: 10
A37: 11
A38: 12
A39: 13
A40: 14
...
