Workbook
Name 산출표_부대: '산출표(부대)'!$D$6:$V$33
Name 산출표_주차장: '산출표(주차장)'!$D$6:$V$33

Sheet 기본정보작성
A3: 전체층수 | F3: 층수(지하) | J3: 2 | K3: 층수(지상) | M3: 29

Sheet 산출표(동총괄)
D1: 소방시설(기준·일람)산출표
D2: 현장명 : | F2: =기본정보작성!#REF! -> #REF! | L2: =기본정보작성!#REF! -> #REF!
D3: 시설별 | P3: 소방용수설비 | T3: 피난ㆍ방화설비
A4: {=_xlfn.SEQUENCE(기본정보작성!J3,1,-기본정보작성!J3,1)} -> -2 | H4: 송수구 | I4: 옥내소화전 | J4: 스프링클러 | K4: 자동화재탐지 | N4: 비상조명등 | P4: 상수도소화용수 | Q4: 소화수조 | R4: 저수조 | S4: 기타 | T4: 방화셔터 | U4: 회로 | V4: 감지기
A5: -1 | D5: 동구분 | F5: 구 분 / 종 별 | G5: 바닥면적 (㎡) | J5: 송수구 | K5: 수신기 | L5: 회로수 | M5: 시각경보기 | N5: 비상조명등 | O5: 휴대용비상조명
F6: 기준수량(합계) | G6: =IF(SUMIF($F$8:$G$139,$F$8,G8:G139)=0,"",SUMIF($F$8:$G$139,$F$8,G8:G139)) -> 71515.98 | H6: =IF(SUMIF($F$8:$G$139,$F$8,H8:H139)=0,"",SUMIF($F$8:$G$139,$F$8,H8:H139)) | I6: =IF(SUMIF($F$8:$G$139,$F$8,I8:I139)=0,"",SUMIF($F$8:$G$139,$F$8,I8:I139)) | J6: =IF(SUMIF($F$8:$G$139,$F$8,J8:J139)=0,"",SUMIF($F$8:$G$139,$F$8,J8:J139)) | K6: =IF(SUMIF($F$8:$G$139,$F$8,K8:K139)=0,"",SUMIF($F$8:$G$139,$F$8,K8:K139)) | L6: =IF(SUMIF($F$8:$G$139,$F$8,L8:L139)=0,"",SUMIF($F$8:$G$139,$F$8,L8:L139)) -> 4 | M6: =IF(SUMIF($F$8:$G$139,$F$8,M8:M139)=0,"",SUMIF($F$8:$G$139,$F$8,M8:M139)) | N6: =IF(SUMIF($F$8:$G$139,$F$8,N8:N139)=0,"",SUMIF($F$8:$G$139,$F$8,N8:N139)) | ... V6: =IF(SUMIF($F$8:$G$139,$F$8,V8:V139)=0,"",SUMIF($F$8:$G$139,$F$8,V8:V139))
F7: 현재수량(합계) | G7: =IF(SUMIF($F$8:$F$139,$F$9,G8:G139)=0,"",SUMIF($F$8:$F$139,$F$9,G8:G139)) -> 166 | H7: =IF(SUMIF($F$8:$F$139,$F$9,H8:H139)=0,"",SUMIF($F$8:$F$139,$F$9,H8:H139)) | I7: =IF(SUMIF($F$8:$F$139,$F$9,I8:I139)=0,"",SUMIF($F$8:$F$139,$F$9,I8:I139)) | J7: =IF(SUMIF($F$8:$F$139,$F$9,J8:J139)=0,"",SUMIF($F$8:$F$139,$F$9,J8:J139)) | K7: =IF(SUMIF($F$8:$F$139,$F$9,K8:K139)=0,"",SUMIF($F$8:$F$139,$F$9,K8:K139)) | L7: =IF(SUMIF($F$8:$F$139,$F$9,L8:L139)=0,"",SUMIF($F$8:$F$139,$F$9,L8:L139)) | M7: =IF(SUMIF($F$8:$F$139,$F$9,M8:M139)=0,"",SUMIF($F$8:$F$139,$F$9,M8:M139)) | N7: =IF(SUMIF($F$8:$F$139,$F$9,N8:N139)=0,"",SUMIF($F$8:$F$139,$F$9,N8:N139)) | ... V7: =IF(SUMIF($F$8:$F$139,$F$9,V8:V139)=0,"",SUMIF($F$8:$F$139,$F$9,V8:V139))
B8: {=IF(_xlfn._xlws.SORT(A4:A90)=0,"",_xlfn._xlws.SORT(A4:A90))} -> -2 | C8: =IF(B8="","",B8) -> -2 | D8: =IF('산출표(101동)'!$G$6=0,"",'산출표(101동)'!$D$6) -> 101동 | F8: =IF(D8="","","기준수량") -> 기준수량 | G8: ='산출표(101동)'!G$6 -> 8747.19 | H8: ='산출표(101동)'!H$6 | I8: ='산출표(101동)'!I$6 | J8: ='산출표(101동)'!J$6 | K8: ='산출표(101동)'!K$6 | L8: ='산출표(101동)'!L$6 -> 4 | M8: ='산출표(101동)'!M$6 | N8: ='산출표(101동)'!N$6 | ... V8: ='산출표(101동)'!V$6
B9: -1 | C9: =C8 -> -2 | F9: =IF(D8="","","현재수량") -> 현재수량 | G9: ='산출표(101동)'!G$7 -> 24 | H9: ='산출표(101동)'!H$7 | I9: ='산출표(101동)'!I$7 | J9: ='산출표(101동)'!J$7 | K9: ='산출표(101동)'!K$7 | L9: ='산출표(101동)'!L$7 | M9: ='산출표(101동)'!M$7 | N9: ='산출표(101동)'!N$7 | ... V9: ='산출표(101동)'!V$7
C10: =IF(B9="","",B9) -> -1 | D10: =IF('산출표(102동)'!$G$6=0,"",'산출표(102동)'!$D$6) -> 102동 | F10: =IF(D10="","","기준수량") -> 기준수량 | G10: ='산출표(102동)'!G$6 -> 15863.39 | H10: ='산출표(102동)'!H$6 | I10: ='산출표(102동)'!I$6 | J10: ='산출표(102동)'!J$6 | K10: ='산출표(102동)'!K$6 | L10: ='산출표(102동)'!L$6 | M10: ='산출표(102동)'!M$6 | N10: ='산출표(102동)'!N$6 | ... V10: ='산출표(102동)'!V$6
C11: =C10 -> -1 | F11: =IF(D10="","","현재수량") -> 현재수량 | G11: ='산출표(102동)'!G$7 -> 16 | H11: ='산출표(102동)'!H$7 | I11: ='산출표(102동)'!I$7 | J11: ='산출표(102동)'!J$7 | K11: ='산출표(102동)'!K$7 | L11: ='산출표(102동)'!L$7 | M11: ='산출표(102동)'!M$7 | N11: ='산출표(102동)'!N$7 | ... V11: ='산출표(102동)'!V$7
C12: =IF(B6="","",B6) | D12: =IF('산출표(주차장)'!$G$6=0,"",'산출표(주차장)'!$D$6) -> 주차장 | F12: =IF(D12="","","기준수량") -> 기준수량 | G12: ='산출표(주차장)'!G$6 -> 44165.29 | H12: ='산출표(주차장)'!H$6 | I12: ='산출표(주차장)'!I$6 | J12: ='산출표(주차장)'!J$6 | K12: ='산출표(주차장)'!K$6 | L12: ='산출표(주차장)'!L$6 | M12: ='산출표(주차장)'!M$6 | N12: ='산출표(주차장)'!N$6 | ... V12: ='산출표(주차장)'!V$6
C13: =C12 | F13: =IF(D12="","","현재수량") -> 현재수량 | G13: ='산출표(주차장)'!G$7 -> 0 | H13: ='산출표(주차장)'!H$7 | I13: ='산출표(주차장)'!I$7 | J13: ='산출표(주차장)'!J$7 | K13: ='산출표(주차장)'!K$7 | L13: ='산출표(주차장)'!L$7 | M13: ='산출표(주차장)'!M$7 | N13: ='산출표(주차장)'!N$7 | ... V13: ='산출표(주차장)'!V$7
C14: =IF(B7="","",B7) | D14: =IF('산출표(부대)'!$G$6=0,"",'산출표(부대)'!$D$6) -> 부대복리 | F14: =IF(D14="","","기준수량") -> 기준수량 | G14: ='산출표(부대)'!G$6 -> 2300.38 | H14: ='산출표(부대)'!H$6 -> 0 | I14: ='산출표(부대)'!I$6 -> 0 | J14: ='산출표(부대)'!J$6 -> 0 | K14: ='산출표(부대)'!K$6 -> 0 | L14: ='산출표(부대)'!L$6 -> 0 | M14: ='산출표(부대)'!M$6 -> 0 | N14: ='산출표(부대)'!N$6 -> 0 | ... V14: ='산출표(부대)'!V$6 -> 0
C15: =C14 | F15: =IF(D14="","","현재수량") -> 현재수량 | G15: ='산출표(부대)'!G$7 -> 108 | H15: ='산출표(부대)'!H$7 -> 0 | I15: ='산출표(부대)'!I$7 -> 0 | J15: ='산출표(부대)'!J$7 -> 0 | K15: ='산출표(부대)'!K$7 -> 0 | L15: ='산출표(부대)'!L$7 -> 0 | M15: ='산출표(부대)'!M$7 -> 0 | N15: ='산출표(부대)'!N$7 -> 0 | ... V15: ='산출표(부대)'!V$7 -> 0
C16: =IF(B8="","",B8) -> -2 | D16: =IF('산출표(근생)'!$G$6=0,"",'산출표(근생)'!$D$6) -> 근린생활시설 | F16: =IF(D16="","","기준수량") -> 기준수량 | G16: ='산출표(근생)'!G$6 -> 439.73 | H16: ='산출표(근생)'!H$6 -> 0 | I16: ='산출표(근생)'!I$6 -> 0 | J16: ='산출표(근생)'!J$6 -> 0 | K16: ='산출표(근생)'!K$6 -> 0 | L16: ='산출표(근생)'!L$6 -> 0 | M16: ='산출표(근생)'!M$6 -> 0 | N16: ='산출표(근생)'!N$6 -> 0 | ... V16: ='산출표(근생)'!V$6 -> 0
C17: =C16 -> -2 | F17: =IF(D16="","","현재수량") -> 현재수량 | G17: ='산출표(근생)'!G$7 -> 18 | H17: ='산출표(근생)'!H$7 -> 0 | I17: ='산출표(근생)'!I$7 -> 0 | J17: ='산출표(근생)'!J$7 -> 0 | K17: ='산출표(근생)'!K$7 -> 0 | L17: ='산출표(근생)'!L$7 -> 0 | M17: ='산출표(근생)'!M$7 -> 0 | N17: ='산출표(근생)'!N$7 -> 0 | ... V17: ='산출표(근생)'!V$7 -> 0
C30: =IF(B19="","",B19) | F30: =IF(D30="","","기준수량")
C31: =C30 | F31: =IF(D30="","","현재수량")
C32: =IF(B20="","",B20) | F32: =IF(D32="","","기준수량")
C33: =C32 | F33: =IF(D32="","","현재수량")
C34: =IF(B21="","",B21) | F34: =IF(D34="","","기준수량")
C35: =C34 | F35: =IF(D34="","","현재수량")
C36: =IF(B22="","",B22) | F36: =IF(D36="","","기준수량")
C37: =C36 | F37: =IF(D36="","","현재수량")
C38: =IF(B23="","",B23) | F38: =IF(D38="","","기준수량")
C39: =C38 | F39: =IF(D38="","","현재수량")
C40: =IF(B24="","",B24) | F40: =IF(D40="","","기준수량")
C41: =C40 | F41: =IF(D40="","","현재수량")
C42: =IF(B25="","",B25) | F42: =IF(D42="","","기준수량")
C43: =C42 | F43: =IF(D42="","","현재수량")
C44: =IF(B26="","",B26) | F44: =IF(D44="","","기준수량")
C45: =C44 | F45: =IF(D44="","","현재수량")
C46: =IF(B27="","",B27) | F46: =IF(D46="","","기준수량")
C47: =C46 | F47: =IF(D46="","","현재수량")
C48: =IF(B28="","",B28) | F48: =IF(D48="","","기준수량")
C49: =C48 | F49: =IF(D48="","","현재수량")
C50: =IF(B29="","",B29) | F50: =IF(D50="","","기준수량")
C51: =C50 | F51: =IF(D50="","","현재수량")
C52: =IF(B30="","",B30) | F52: =IF(D52="","","기준수량")
C53: =C52 | F53: =IF(D52="","","현재수량")
C54: =IF(B31="","",B31)
C55: =C54
C56: =IF(B32="","",B32)
C57: =C56
C58: =IF(B33="","",B33)
C59: =C58
C60: =IF(B34="","",B34)
C61: =C60
C62: =IF(B35="","",B35)
C63: =C62
C64: =IF(B36="","",B36)
C65: =C64
C66: =IF(B37="","",B37)
C67: =C66
C68: =IF(B38="","",B38)
C69: =C68
C70: =IF(B39="","",B39)
C71: =C70
C72: =IF(B40="","",B40)
C73: =C72
C74: =IF(B41="","",B41)
C75: =C74
C76: =IF(B42="","",B42)
C77: =C76
C78: =IF(B43="","",B43)
C79: =C78
C80: =IF(B44="","",B44)
C81: =C80
C82: =IF(B45="","",B45)
C83: =C82
C84: =IF(B46="","",B46) | D84: =IF(C84="",(IF(AND(C82<>"",D82<>"")=TRUE,"지붕층",IF(AND(C82="",D82="지붕층")=TRUE,"옥탑층",""))),C84) | F84: =IF(D84="","","기준수량")
C85: =C84 | F85: =IF(D84="","","현재수량")
C86: =IF(B47="","",B47) | D86: =IF(C86="",(IF(AND(C84<>"",D84<>"")=TRUE,"지붕층",IF(AND(C84="",D84="지붕층")=TRUE,"옥탑층",""))),C86) | F86: =IF(D86="","","기준수량")
C87: =C86 | F87: =IF(D86="","","현재수량")
C88: =IF(B48="","",B48) | D88: =IF(C88="",(IF(AND(C86<>"",D86<>"")=TRUE,"지붕층",IF(AND(C86="",D86="지붕층")=TRUE,"옥탑층",""))),C88) | F88: =IF(D88="","","기준수량")
C89: =C88 | F89: =IF(D88="","","현재수량")
C90: =IF(B49="","",B49) | F90: =IF(D90="","","기준수량")
C91: =C90 | F91: =IF(D90="","","현재수량")
C92: =IF(B50="","",B50) | D92: =IF(C92="",(IF(AND(C90<>"",D90<>"")=TRUE,"지붕층",IF(AND(C90="",D90="지붕층")=TRUE,"옥탑층",""))),C92) | F92: =IF(D92="","","기준수량")
C93: =C92 | F93: =IF(D92="","","현재수량")
C94: =IF(B51="","",B51) | D94: =IF(C94="",(IF(AND(C92<>"",D92<>"")=TRUE,"지붕층",IF(AND(C92="",D92="지붕층")=TRUE,"옥탑층",""))),C94) | F94: =IF(D94="","","기준수량")
C95: =C94 | F95: =IF(D94="","","현재수량")
C96: =IF(B52="","",B52) | D96: =IF(C96="",(IF(AND(C94<>"",D94<>"")=TRUE,"지붕층",IF(AND(C94="",D94="지붕층")=TRUE,"옥탑층",""))),C96) | F96: =IF(D96="","","기준수량")
C97: =C96 | F97: =IF(D96="","","현재수량")
C98: =IF(B53="","",B53) | D98: =IF(C98="",(IF(AND(C96<>"",D96<>"")=TRUE,"지붕층",IF(AND(C96="",D96="지붕층")=TRUE,"옥탑층",""))),C98) | F98: =IF(D98="","","기준수량")
C99: =C98 | F99: =IF(D98="","","현재수량")
C100: =IF(B54="","",B54) | D100: =IF(C100="",(IF(AND(C98<>"",D98<>"")=TRUE,"지붕층",IF(AND(C98="",D98="지붕층")=TRUE,"옥탑층",""))),C100) | F100: =IF(D100="","","기준수량")
C101: =C100 | F101: =IF(D100="","","현재수량")
C102: =IF(B55="","",B55) | D102: =IF(C102="",(IF(AND(C100<>"",D100<>"")=TRUE,"지붕층",IF(AND(C100="",D100="지붕층")=TRUE,"옥탑층",""))),C102) | F102: =IF(D102="","","기준수량")
C103: =C102 | F103: =IF(D102="","","현재수량")
C104: =IF(B56="","",B56) | D104: =IF(C104="",(IF(AND(C102<>"",D102<>"")=TRUE,"지붕층",IF(AND(C102="",D102="지붕층")=TRUE,"옥탑층",""))),C104) | F104: =IF(D104="","","기준수량")
C105: =C104 | F105: =IF(D104="","","현재수량")
C106: =IF(B57="","",B57) | D106: =IF(C106="",(IF(AND(C104<>"",D104<>"")=TRUE,"지붕층",IF(AND(C104="",D104="지붕층")=TRUE,"옥탑층",""))),C106) | F106: =IF(D106="","","기준수량")
C107: =C106 | F107: =IF(D106="","","현재수량")
C108: =IF(B58="","",B58) | D108: =IF(C108="",(IF(AND(C106<>"",D106<>"")=TRUE,"지붕층",IF(AND(C106="",D106="지붕층")=TRUE,"옥탑층",""))),C108) | F108: =IF(D108="","","기준수량")
C109: =C108 | F109: =IF(D108="","","현재수량")
C110: =IF(B59="","",B59) | D110: =IF(C110="",(IF(AND(C108<>"",D108<>"")=TRUE,"지붕층",IF(AND(C108="",D108="지붕층")=TRUE,"옥탑층",""))),C110) | F110: =IF(D110="","","기준수량")
C111: =C110 | F111: =IF(D110="","","현재수량")
C112: =IF(B60="","",B60) | D112: =IF(C112="",(IF(AND(C110<>"",D110<>"")=TRUE,"지붕층",IF(AND(C110="",D110="지붕층")=TRUE,"옥탑층",""))),C112) | F112: =IF(D112="","","기준수량")
...

Sheet 산출표(층총괄)
D1: 소방시설(기준·일람)산출표
D2: 현장명 : | F2: =기본정보작성!#REF! -> #REF! | K2: =기본정보작성!#REF! -> #REF!
D3: 시설별 | O3: 소방용수설비 | S3: 피난ㆍ방화설비
A4: {=_xlfn.SEQUENCE(기본정보작성!J3,1,-기본정보작성!J3,1)} -> -2 | H4: 송수구 | I4: ='산출표(동총괄)'!I4 -> 옥내소화전 | J4: 자동화재탐지 | M4: ='산출표(동총괄)'!N4 -> 비상조명등 | O4: ='산출표(동총괄)'!P4 -> 상수도소화용수 | P4: ='산출표(동총괄)'!Q4 -> 소화수조 | Q4: ='산출표(동총괄)'!R4 -> 저수조 | R4: ='산출표(동총괄)'!S4 -> 기타 | S4: 방화셔터 | T4: 회로 | U4: 감지기
A5: -1 | D5: 층구분 | F5: 구 분 / 종 별 | G5: 바닥면적 (㎡) | J5: 수신기 | K5: 회로수 | L5: ='산출표(동총괄)'!M5 -> 시각경보기 | M5: ='산출표(동총괄)'!N5 -> 비상조명등 | N5: ='산출표(동총괄)'!O5 -> 휴대용비상조명
F6: 기준수량(합계) | G6: =IF(SUMIF($F$8:$G$139,$F$8,G8:G139)=0,"",SUMIF($F$8:$G$139,$F$8,G8:G139)) -> 71515.98 | H6: =IF(SUMIF($F$8:$G$139,$F$8,H8:H139)=0,"",SUMIF($F$8:$G$139,$F$8,H8:H139)) | I6: =IF(SUMIF($F$8:$G$139,$F$8,I8:I139)=0,"",SUMIF($F$8:$G$139,$F$8,I8:I139)) | J6: =IF(SUMIF($F$8:$G$139,$F$8,J8:J139)=0,"",SUMIF($F$8:$G$139,$F$8,J8:J139)) | K6: =IF(SUMIF($F$8:$G$139,$F$8,K8:K139)=0,"",SUMIF($F$8:$G$139,$F$8,K8:K139)) | L6: =IF(SUMIF($F$8:$G$139,$F$8,L8:L139)=0,"",SUMIF($F$8:$G$139,$F$8,L8:L139)) -> 4 | M6: =IF(SUMIF($F$8:$G$139,$F$8,M8:M139)=0,"",SUMIF($F$8:$G$139,$F$8,M8:M139)) | N6: =IF(SUMIF($F$8:$G$139,$F$8,N8:N139)=0,"",SUMIF($F$8:$G$139,$F$8,N8:N139)) | ... U6: =IF(SUMIF($F$8:$G$139,$F$8,U8:U139)=0,"",SUMIF($F$8:$G$139,$F$8,U8:U139))
F7: 현재수량(합계) | G7: =IF(SUMIF($F$8:$F$139,$F$9,G8:G139)=0,"",SUMIF($F$8:$F$139,$F$9,G8:G139)) -> 174 | H7: =IF(SUMIF($F$8:$F$139,$F$9,H8:H139)=0,"",SUMIF($F$8:$F$139,$F$9,H8:H139)) | I7: =IF(SUMIF($F$8:$F$139,$F$9,I8:I139)=0,"",SUMIF($F$8:$F$139,$F$9,I8:I139)) | J7: =IF(SUMIF($F$8:$F$139,$F$9,J8:J139)=0,"",SUMIF($F$8:$F$139,$F$9,J8:J139)) | K7: =IF(SUMIF($F$8:$F$139,$F$9,K8:K139)=0,"",SUMIF($F$8:$F$139,$F$9,K8:K139)) | L7: =IF(SUMIF($F$8:$F$139,$F$9,L8:L139)=0,"",SUMIF($F$8:$F$139,$F$9,L8:L139)) | M7: =IF(SUMIF($F$8:$F$139,$F$9,M8:M139)=0,"",SUMIF($F$8:$F$139,$F$9,M8:M139)) | N7: =IF(SUMIF($F$8:$F$139,$F$9,N8:N139)=0,"",SUMIF($F$8:$F$139,$F$9,N8:N139)) | ... U7: =IF(SUMIF($F$8:$F$139,$F$9,U8:U139)=0,"",SUMIF($F$8:$F$139,$F$9,U8:U139))
B8: {=IF(_xlfn._xlws.SORT(A4:A90)=0,"",_xlfn._xlws.SORT(A4:A90))} -> -2 | C8: =IF(B8="","",B8) -> -2 | D8: =IF(C8="",(IF(AND(C6<>"",D6<>"")=TRUE,"지붕층",IF(AND(C6="",D6="지붕층")=TRUE,"옥탑층",""))),C8) -> -2 | F8: =IF(D8="","","기준수량") -> 기준수량 | G8: =SUM('산출표(101동):산출표(근생)'!G8) -> 8099.88 | H8: =SUM('산출표(101동):산출표(근생)'!H8) -> 0 | I8: =SUM('산출표(101동):산출표(근생)'!I8) -> 0 | J8: =SUM('산출표(101동):산출표(근생)'!J8) -> 0 | K8: =SUM('산출표(101동):산출표(근생)'!K8) -> 0 | L8: =SUM('산출표(101동):산출표(근생)'!L8) -> 4 | M8: =SUM('산출표(101동):산출표(근생)'!M8) -> 0 | N8: =SUM('산출표(101동):산출표(근생)'!N8) -> 0 | ... U8: =SUM('산출표(101동):산출표(근생)'!U8) -> 0
B9: -1 | C9: =C8 -> -2 | F9: =IF(D8="","","현재수량") -> 현재수량 | G9: =SUM('산출표(101동):산출표(근생)'!G9) -> 18 | H9: =SUM('산출표(101동):산출표(근생)'!H9) -> 0 | I9: =SUM('산출표(101동):산출표(근생)'!I9) -> 0 | J9: =SUM('산출표(101동):산출표(근생)'!J9) -> 0 | K9: =SUM('산출표(101동):산출표(근생)'!K9) -> 0 | L9: =SUM('산출표(101동):산출표(근생)'!L9) -> 0 | M9: =SUM('산출표(101동):산출표(근생)'!M9) -> 0 | N9: =SUM('산출표(101동):산출표(근생)'!N9) -> 0 | ... U9: =SUM('산출표(101동):산출표(근생)'!U9) -> 0
B10: 1 | C10: =IF(B9="","",B9) -> -1 | D10: =IF(C10="",(IF(AND(C8<>"",D8<>"")=TRUE,"지붕층",IF(AND(C8="",D8="지붕층")=TRUE,"옥탑층",""))),C10) -> -1 | F10: =IF(D10="","","기준수량") -> 기준수량 | G10: =SUM('산출표(101동):산출표(근생)'!G10) -> 26407.44 | H10: =SUM('산출표(101동):산출표(근생)'!H10) -> 0 | I10: =SUM('산출표(101동):산출표(근생)'!I10) -> 0 | J10: =SUM('산출표(101동):산출표(근생)'!J10) -> 0 | K10: =SUM('산출표(101동):산출표(근생)'!K10) -> 0 | L10: =SUM('산출표(101동):산출표(근생)'!L10) -> 0 | M10: =SUM('산출표(101동):산출표(근생)'!M10) -> 0 | N10: =SUM('산출표(101동):산출표(근생)'!N10) -> 0 | ... U10: =SUM('산출표(101동):산출표(근생)'!U10) -> 0
B11: 2 | C11: =C10 -> -1 | F11: =IF(D10="","","현재수량") -> 현재수량 | G11: =SUM('산출표(101동):산출표(근생)'!G11) -> 18 | H11: =SUM('산출표(101동):산출표(근생)'!H11) -> 0 | I11: =SUM('산출표(101동):산출표(근생)'!I11) -> 0 | J11: =SUM('산출표(101동):산출표(근생)'!J11) -> 0 | K11: =SUM('산출표(101동):산출표(근생)'!K11) -> 0 | L11: =SUM('산출표(101동):산출표(근생)'!L11) -> 0 | M11: =SUM('산출표(101동):산출표(근생)'!M11) -> 0 | N11: =SUM('산출표(101동):산출표(근생)'!N11) -> 0 | ... U11: =SUM('산출표(101동):산출표(근생)'!U11) -> 0
B12: 3 | C12: =IF(B10="","",B10) -> 1 | D12: =IF(C12="",(IF(AND(C10<>"",D10<>"")=TRUE,"지붕층",IF(AND(C10="",D10="지붕층")=TRUE,"옥탑층",""))),C12) -> 1 | F12: =IF(D12="","","기준수량") -> 기준수량 | G12: =SUM('산출표(101동):산출표(근생)'!G12) -> 10801.82 | H12: =SUM('산출표(101동):산출표(근생)'!H12) -> 0 | I12: =SUM('산출표(101동):산출표(근생)'!I12) -> 0 | J12: =SUM('산출표(101동):산출표(근생)'!J12) -> 0 | K12: =SUM('산출표(101동):산출표(근생)'!K12) -> 0 | L12: =SUM('산출표(101동):산출표(근생)'!L12) -> 0 | M12: =SUM('산출표(101동):산출표(근생)'!M12) -> 0 | N12: =SUM('산출표(101동):산출표(근생)'!N12) -> 0 | ... U12: =SUM('산출표(101동):산출표(근생)'!U12) -> 0
B13: 4 | C13: =C12 -> 1 | F13: =IF(D12="","","현재수량") -> 현재수량 | G13: =SUM('산출표(101동):산출표(근생)'!G13) -> 20 | H13: =SUM('산출표(101동):산출표(근생)'!H13) -> 0 | I13: =SUM('산출표(101동):산출표(근생)'!I13) -> 0 | J13: =SUM('산출표(101동):산출표(근생)'!J13) -> 0 | K13: =SUM('산출표(101동):산출표(근생)'!K13) -> 0 | L13: =SUM('산출표(101동):산출표(근생)'!L13) -> 0 | M13: =SUM('산출표(101동):산출표(근생)'!M13) -> 0 | N13: =SUM('산출표(101동):산출표(근생)'!N13) -> 0 | ... U13: =SUM('산출표(101동):산출표(근생)'!U13) -> 0
B14: 5 | C14: =IF(B11="","",B11) -> 2 | D14: =IF(C14="",(IF(AND(C12<>"",D12<>"")=TRUE,"지붕층",IF(AND(C12="",D12="지붕층")=TRUE,"옥탑층",""))),C14) -> 2 | F14: =IF(D14="","","기준수량") -> 기준수량 | G14: =SUM('산출표(101동):산출표(근생)'!G14) -> 1104.12 | H14: =SUM('산출표(101동):산출표(근생)'!H14) -> 0 | I14: =SUM('산출표(101동):산출표(근생)'!I14) -> 0 | J14: =SUM('산출표(101동):산출표(근생)'!J14) -> 0 | K14: =SUM('산출표(101동):산출표(근생)'!K14) -> 0 | L14: =SUM('산출표(101동):산출표(근생)'!L14) -> 0 | M14: =SUM('산출표(101동):산출표(근생)'!M14) -> 0 | N14: =SUM('산출표(101동):산출표(근생)'!N14) -> 0 | ... U14: =SUM('산출표(101동):산출표(근생)'!U14) -> 0
A15: {=_xlfn.SEQUENCE(기본정보작성!M3,1,1,1)} -> 1 | B15: 6 | C15: =C14 -> 2 | F15: =IF(D14="","","현재수량") -> 현재수량 | G15: =SUM('산출표(101동):산출표(근생)'!G15) -> 10 | H15: =SUM('산출표(101동):산출표(근생)'!H15) -> 0 | I15: =SUM('산출표(101동):산출표(근생)'!I15) -> 0 | J15: =SUM('산출표(101동):산출표(근생)'!J15) -> 0 | K15: =SUM('산출표(101동):산출표(근생)'!K15) -> 0 | L15: =SUM('산출표(101동):산출표(근생)'!L15) -> 0 | M15: =SUM('산출표(101동):산출표(근생)'!M15) -> 0 | N15: =SUM('산출표(101동):산출표(근생)'!N15) -> 0 | ... U15: =SUM('산출표(101동):산출표(근생)'!U15) -> 0
A16: 2 | B16: 7 | C16: =IF(B12="","",B12) -> 3 | D16: =IF(C16="",(IF(AND(C14<>"",D14<>"")=TRUE,"지붕층",IF(AND(C14="",D14="지붕층")=TRUE,"옥탑층",""))),C16) -> 3 | F16: =IF(D16="","","기준수량") -> 기준수량 | G16: =SUM('산출표(101동):산출표(근생)'!G16) -> 1101.84 | H16: =SUM('산출표(101동):산출표(근생)'!H16) -> 0 | I16: =SUM('산출표(101동):산출표(근생)'!I16) -> 0 | J16: =SUM('산출표(101동):산출표(근생)'!J16) -> 0 | K16: =SUM('산출표(101동):산출표(근생)'!K16) -> 0 | L16: =SUM('산출표(101동):산출표(근생)'!L16) -> 0 | M16: =SUM('산출표(101동):산출표(근생)'!M16) -> 0 | N16: =SUM('산출표(101동):산출표(근생)'!N16) -> 0 | ... U16: =SUM('산출표(101동):산출표(근생)'!U16) -> 0
A17: 3 | B17: 8 | C17: =C16 -> 3 | F17: =IF(D16="","","현재수량") -> 현재수량 | G17: =SUM('산출표(101동):산출표(근생)'!G17) -> 10 | H17: =SUM('산출표(101동):산출표(근생)'!H17) -> 0 | I17: =SUM('산출표(101동):산출표(근생)'!I17) -> 0 | J17: =SUM('산출표(101동):산출표(근생)'!J17) -> 0 | K17: =SUM('산출표(101동):산출표(근생)'!K17) -> 0 | L17: =SUM('산출표(101동):산출표(근생)'!L17) -> 0 | M17: =SUM('산출표(101동):산출표(근생)'!M17) -> 0 | N17: =SUM('산출표(101동):산출표(근생)'!N17) -> 0 | ... U17: =SUM('산출표(101동):산출표(근생)'!U17) -> 0
A18: 4 | B18: 9 | C18: =IF(B13="","",B13) -> 4 | D18: =IF(C18="",(IF(AND(C16<>"",D16<>"")=TRUE,"지붕층",IF(AND(C16="",D16="지붕층")=TRUE,"옥탑층",""))),C18) -> 4 | F18: =IF(D18="","","기준수량") -> 기준수량 | G18: =SUM('산출표(101동):산출표(근생)'!G18) -> 1135.69 | H18: =SUM('산출표(101동):산출표(근생)'!H18) -> 0 | I18: =SUM('산출표(101동):산출표(근생)'!I18) -> 0 | J18: =SUM('산출표(101동):산출표(근생)'!J18) -> 0 | K18: =SUM('산출표(101동):산출표(근생)'!K18) -> 0 | L18: =SUM('산출표(101동):산출표(근생)'!L18) -> 0 | M18: =SUM('산출표(101동):산출표(근생)'!M18) -> 0 | N18: =SUM('산출표(101동):산출표(근생)'!N18) -> 0 | ... U18: =SUM('산출표(101동):산출표(근생)'!U18) -> 0
A19: 5 | B19: 10 | C19: =C18 -> 4 | F19: =IF(D18="","","현재수량") -> 현재수량 | G19: =SUM('산출표(101동):산출표(근생)'!G19) -> 9 | H19: =SUM('산출표(101동):산출표(근생)'!H19) -> 0 | I19: =SUM('산출표(101동):산출표(근생)'!I19) -> 0 | J19: =SUM('산출표(101동):산출표(근생)'!J19) -> 0 | K19: =SUM('산출표(101동):산출표(근생)'!K19) -> 0 | L19: =SUM('산출표(101동):산출표(근생)'!L19) -> 0 | M19: =SUM('산출표(101동):산출표(근생)'!M19) -> 0 | N19: =SUM('산출표(101동):산출표(근생)'!N19) -> 0 | ... U19: =SUM('산출표(101동):산출표(근생)'!U19) -> 0
A20: 6 | B20: 11 | C20: =IF(B14="","",B14) -> 5 | D20: =IF(C20="",(IF(AND(C18<>"",D18<>"")=TRUE,"지붕층",IF(AND(C18="",D18="지붕층")=TRUE,"옥탑층",""))),C20) -> 5 | F20: =IF(D20="","","기준수량") -> 기준수량 | G20: =SUM('산출표(101동):산출표(근생)'!G20) -> 1132.16 | H20: =SUM('산출표(101동):산출표(근생)'!H20) -> 0 | I20: =SUM('산출표(101동):산출표(근생)'!I20) -> 0 | J20: =SUM('산출표(101동):산출표(근생)'!J20) -> 0 | K20: =SUM('산출표(101동):산출표(근생)'!K20) -> 0 | L20: =SUM('산출표(101동):산출표(근생)'!L20) -> 0 | M20: =SUM('산출표(101동):산출표(근생)'!M20) -> 0 | N20: =SUM('산출표(101동):산출표(근생)'!N20) -> 0 | ... U20: =SUM('산출표(101동):산출표(근생)'!U20) -> 0
A21: 7 | B21: 12 | C21: =C20 -> 5 | F21: =IF(D20="","","현재수량") -> 현재수량 | G21: =SUM('산출표(101동):산출표(근생)'!G21) -> 9 | H21: =SUM('산출표(101동):산출표(근생)'!H21) -> 0 | I21: =SUM('산출표(101동):산출표(근생)'!I21) -> 0 | J21: =SUM('산출표(101동):산출표(근생)'!J21) -> 0 | K21: =SUM('산출표(101동):산출표(근생)'!K21) -> 0 | L21: =SUM('산출표(101동):산출표(근생)'!L21) -> 0 | M21: =SUM('산출표(101동):산출표(근생)'!M21) -> 0 | N21: =SUM('산출표(101동):산출표(근생)'!N21) -> 0 | ... U21: =SUM('산출표(101동):산출표(근생)'!U21) -> 0
A22: 8 | B22: 13 | C22: =IF(B15="","",B15) -> 6 | D22: =IF(C22="",(IF(AND(C20<>"",D20<>"")=TRUE,"지붕층",IF(AND(C20="",D20="지붕층")=TRUE,"옥탑층",""))),C22) -> 6 | F22: =IF(D22="","","기준수량") -> 기준수량 | G22: =SUM('산출표(101동):산출표(근생)'!G22) -> 2002.11 | H22: =SUM('산출표(101동):산출표(근생)'!H22) -> 0 | I22: =SUM('산출표(101동):산출표(근생)'!I22) -> 0 | J22: =SUM('산출표(101동):산출표(근생)'!J22) -> 0 | K22: =SUM('산출표(101동):산출표(근생)'!K22) -> 0 | L22: =SUM('산출표(101동):산출표(근생)'!L22) -> 0 | M22: =SUM('산출표(101동):산출표(근생)'!M22) -> 0 | N22: =SUM('산출표(101동):산출표(근생)'!N22) -> 0 | ... U22: =SUM('산출표(101동):산출표(근생)'!U22) -> 0
A23: 9 | B23: 14 | C23: =C22 -> 6 | F23: =IF(D22="","","현재수량") -> 현재수량 | G23: =SUM('산출표(101동):산출표(근생)'!G23) -> 9 | H23: =SUM('산출표(101동):산출표(근생)'!H23) -> 0 | I23: =SUM('산출표(101동):산출표(근생)'!I23) -> 0 | J23: =SUM('산출표(101동):산출표(근생)'!J23) -> 0 | K23: =SUM('산출표(101동):산출표(근생)'!K23) -> 0 | L23: =SUM('산출표(101동):산출표(근생)'!L23) -> 0 | M23: =SUM('산출표(101동):산출표(근생)'!M23) -> 0 | N23: =SUM('산출표(101동):산출표(근생)'!N23) -> 0 | ... U23: =SUM('산출표(101동):산출표(근생)'!U23) -> 0
A24: 10 | B24: 15 | C24: =IF(B16="","",B16) -> 7 | D24: =IF(C24="",(IF(AND(C22<>"",D22<>"")=TRUE,"지붕층",IF(AND(C22="",D22="지붕층")=TRUE,"옥탑층",""))),C24) -> 7 | F24: =IF(D24="","","기준수량") -> 기준수량 | G24: =SUM('산출표(101동):산출표(근생)'!G24) -> 1214.28 | H24: =SUM('산출표(101동):산출표(근생)'!H24) -> 0 | I24: =SUM('산출표(101동):산출표(근생)'!I24) -> 0 | J24: =SUM('산출표(101동):산출표(근생)'!J24) -> 0 | K24: =SUM('산출표(101동):산출표(근생)'!K24) -> 0 | L24: =SUM('산출표(101동):산출표(근생)'!L24) -> 0 | M24: =SUM('산출표(101동):산출표(근생)'!M24) -> 0 | N24: =SUM('산출표(101동):산출표(근생)'!N24) -> 0 | ... U24: =SUM('산출표(101동):산출표(근생)'!U24) -> 0
A25: 11 | B25: 16 | C25: =C24 -> 7 | F25: =IF(D24="","","현재수량") -> 현재수량 | G25: =SUM('산출표(101동):산출표(근생)'!G25) -> 9 | H25: =SUM('산출표(101동):산출표(근생)'!H25) -> 0 | I25: =SUM('산출표(101동):산출표(근생)'!I25) -> 0 | J25: =SUM('산출표(101동):산출표(근생)'!J25) -> 0 | K25: =SUM('산출표(101동):산출표(근생)'!K25) -> 0 | L25: =SUM('산출표(101동):산출표(근생)'!L25) -> 0 | M25: =SUM('산출표(101동):산출표(근생)'!M25) -> 0 | N25: =SUM('산출표(101동):산출표(근생)'!N25) -> 0 | ... U25: =SUM('산출표(101동):산출표(근생)'!U25) -> 0
A26: 12 | B26: 17 | C26: =IF(B17="","",B17) -> 8 | D26: =IF(C26="",(IF(AND(C24<>"",D24<>"")=TRUE,"지붕층",IF(AND(C24="",D24="지붕층")=TRUE,"옥탑층",""))),C26) -> 8 | F26: =IF(D26="","","기준수량") -> 기준수량 | G26: =SUM('산출표(101동):산출표(근생)'!G26) -> 1240.59 | H26: =SUM('산출표(101동):산출표(근생)'!H26) -> 0 | I26: =SUM('산출표(101동):산출표(근생)'!I26) -> 0 | J26: =SUM('산출표(101동):산출표(근생)'!J26) -> 0 | K26: =SUM('산출표(101동):산출표(근생)'!K26) -> 0 | L26: =SUM('산출표(101동):산출표(근생)'!L26) -> 0 | M26: =SUM('산출표(101동):산출표(근생)'!M26) -> 0 | N26: =SUM('산출표(101동):산출표(근생)'!N26) -> 0 | ... U26: =SUM('산출표(101동):산출표(근생)'!U26) -> 0
A27: 13 | B27: 18 | C27: =C26 -> 8 | F27: =IF(D26="","","현재수량") -> 현재수량 | G27: =SUM('산출표(101동):산출표(근생)'!G27) -> 9 | H27: =SUM('산출표(101동):산출표(근생)'!H27) -> 0 | I27: =SUM('산출표(101동):산출표(근생)'!I27) -> 0 | J27: =SUM('산출표(101동):산출표(근생)'!J27) -> 0 | K27: =SUM('산출표(101동):산출표(근생)'!K27) -> 0 | L27: =SUM('산출표(101동):산출표(근생)'!L27) -> 0 | M27: =SUM('산출표(101동):산출표(근생)'!M27) -> 0 | N27: =SUM('산출표(101동):산출표(근생)'!N27) -> 0 | ... U27: =SUM('산출표(101동):산출표(근생)'!U27) -> 0
A28: 14 | B28: 19 | C28: =IF(B18="","",B18) -> 9 | D28: =IF(C28="",(IF(AND(C26<>"",D26<>"")=TRUE,"지붕층",IF(AND(C26="",D26="지붕층")=TRUE,"옥탑층",""))),C28) -> 9 | F28: =IF(D28="","","기준수량") -> 기준수량 | G28: =SUM('산출표(101동):산출표(근생)'!G28) -> 1453 | H28: =SUM('산출표(101동):산출표(근생)'!H28) -> 0 | I28: =SUM('산출표(101동):산출표(근생)'!I28) -> 0 | J28: =SUM('산출표(101동):산출표(근생)'!J28) -> 0 | K28: =SUM('산출표(101동):산출표(근생)'!K28) -> 0 | L28: =SUM('산출표(101동):산출표(근생)'!L28) -> 0 | M28: =SUM('산출표(101동):산출표(근생)'!M28) -> 0 | N28: =SUM('산출표(101동):산출표(근생)'!N28) -> 0 | ... U28: =SUM('산출표(101동):산출표(근생)'!U28) -> 0
A29: 15 | B29: 20 | C29: =C28 -> 9 | F29: =IF(D28="","","현재수량") -> 현재수량 | G29: =SUM('산출표(101동):산출표(근생)'!G29) -> 9 | H29: =SUM('산출표(101동):산출표(근생)'!H29) -> 0 | I29: =SUM('산출표(101동):산출표(근생)'!I29) -> 0 | J29: =SUM('산출표(101동):산출표(근생)'!J29) -> 0 | K29: =SUM('산출표(101동):산출표(근생)'!K29) -> 0 | L29: =SUM('산출표(101동):산출표(근생)'!L29) -> 0 | M29: =SUM('산출표(101동):산출표(근생)'!M29) -> 0 | N29: =SUM('산출표(101동):산출표(근생)'!N29) -> 0 | ... U29: =SUM('산출표(101동):산출표(근생)'!U29) -> 0
A30: 16 | B30: 21 | C30: =IF(B19="","",B19) -> 10 | D30: =IF(C30="",(IF(AND(C28<>"",D28<>"")=TRUE,"지붕층",IF(AND(C28="",D28="지붕층")=TRUE,"옥탑층",""))),C30) -> 10 | F30: =IF(D30="","","기준수량") -> 기준수량 | G30: =SUM('산출표(101동):산출표(근생)'!G30) -> 1339.99 | H30: =SUM('산출표(101동):산출표(근생)'!H30) -> 0 | I30: =SUM('산출표(101동):산출표(근생)'!I30) -> 0 | J30: =SUM('산출표(101동):산출표(근생)'!J30) -> 0 | K30: =SUM('산출표(101동):산출표(근생)'!K30) -> 0 | L30: =SUM('산출표(101동):산출표(근생)'!L30) -> 0 | M30: =SUM('산출표(101동):산출표(근생)'!M30) -> 0 | N30: =SUM('산출표(101동):산출표(근생)'!N30) -> 0 | ... U30: =SUM('산출표(101동):산출표(근생)'!U30) -> 0
A31: 17 | B31: 22 | C31: =C30 -> 10 | F31: =IF(D30="","","현재수량") -> 현재수량 | G31: =SUM('산출표(101동):산출표(근생)'!G31) -> 9 | H31: =SUM('산출표(101동):산출표(근생)'!H31) -> 0 | I31: =SUM('산출표(101동):산출표(근생)'!I31) -> 0 | J31: =SUM('산출표(101동):산출표(근생)'!J31) -> 0 | K31: =SUM('산출표(101동):산출표(근생)'!K31) -> 0 | L31: =SUM('산출표(101동):산출표(근생)'!L31) -> 0 | M31: =SUM('산출표(101동):산출표(근생)'!M31) -> 0 | N31: =SUM('산출표(101동):산출표(근생)'!N31) -> 0 | ... U31: =SUM('산출표(101동):산출표(근생)'!U31) -> 0
A32: 18 | B32: 23 | C32: =IF(B20="","",B20) -> 11 | D32: =IF(C32="",(IF(AND(C30<>"",D30<>"")=TRUE,"지붕층",IF(AND(C30="",D30="지붕층")=TRUE,"옥탑층",""))),C32) -> 11 | F32: =IF(D32="","","기준수량") -> 기준수량 | G32: =SUM('산출표(101동):산출표(근생)'!G32) -> 1069.94 | H32: =SUM('산출표(101동):산출표(근생)'!H32) -> 0 | I32: =SUM('산출표(101동):산출표(근생)'!I32) -> 0 | J32: =SUM('산출표(101동):산출표(근생)'!J32) -> 0 | K32: =SUM('산출표(101동):산출표(근생)'!K32) -> 0 | L32: =SUM('산출표(101동):산출표(근생)'!L32) -> 0 | M32: =SUM('산출표(101동):산출표(근생)'!M32) -> 0 | N32: =SUM('산출표(101동):산출표(근생)'!N32) -> 0 | ... U32: =SUM('산출표(101동):산출표(근생)'!U32) -> 0
A33: 19 | B33: 24 | C33: =C32 -> 11 | F33: =IF(D32="","","현재수량") -> 현재수량 | G33: =SUM('산출표(101동):산출표(근생)'!G33) -> 0 | H33: =SUM('산출표(101동):산출표(근생)'!H33) -> 0 | I33: =SUM('산출표(101동):산출표(근생)'!I33) -> 0 | J33: =SUM('산출표(101동):산출표(근생)'!J33) -> 0 | K33: =SUM('산출표(101동):산출표(근생)'!K33) -> 0 | L33: =SUM('산출표(101동):산출표(근생)'!L33) -> 0 | M33: =SUM('산출표(101동):산출표(근생)'!M33) -> 0 | N33: =SUM('산출표(101동):산출표(근생)'!N33) -> 0 | ... U33: =SUM('산출표(101동):산출표(근생)'!U33) -> 0
A34: 20 | B34: 25 | C34: =IF(B21="","",B21) -> 12 | D34: =IF(C34="",(IF(AND(C32<>"",D32<>"")=TRUE,"지붕층",IF(AND(C32="",D32="지붕층")=TRUE,"옥탑층",""))),C34) -> 12 | F34: =IF(D34="","","기준수량") -> 기준수량 | G34: =SUM('산출표(101동):산출표(근생)'!G34) -> 1069.94 | H34: =SUM('산출표(101동):산출표(근생)'!H34) -> 0 | I34: =SUM('산출표(101동):산출표(근생)'!I34) -> 0 | J34: =SUM('산출표(101동):산출표(근생)'!J34) -> 0 | K34: =SUM('산출표(101동):산출표(근생)'!K34) -> 0 | L34: =SUM('산출표(101동):산출표(근생)'!L34) -> 0 | M34: =SUM('산출표(101동):산출표(근생)'!M34) -> 0 | N34: =SUM('산출표(101동):산출표(근생)'!N34) -> 0 | ... U34: =SUM('산출표(101동):산출표(근생)'!U34) -> 0
A35: 21 | B35: 26 | C35: =C34 -> 12 | F35: =IF(D34="","","현재수량") -> 현재수량 | G35: =SUM('산출표(101동):산출표(근생)'!G35) -> 0 | H35: =SUM('산출표(101동):산출표(근생)'!H35) -> 0 | I35: =SUM('산출표(101동):산출표(근생)'!I35) -> 0 | J35: =SUM('산출표(101동):산출표(근생)'!J35) -> 0 | K35: =SUM('산출표(101동):산출표(근생)'!K35) -> 0 | L35: =SUM('산출표(101동):산출표(근생)'!L35) -> 0 | M35: =SUM('산출표(101동):산출표(근생)'!M35) -> 0 | N35: =SUM('산출표(101동):산출표(근생)'!N35) -> 0 | ... U35: =SUM('산출표(101동):산출표(근생)'!U35) -> 0
A36: 22 | B36: 27 | C36: =IF(B22="","",B22) -> 13 | D36: =IF(C36="",(IF(AND(C34<>"",D34<>"")=TRUE,"지붕층",IF(AND(C34="",D34="지붕층")=TRUE,"옥탑층",""))),C36) -> 13 | F36: =IF(D36="","","기준수량") -> 기준수량 | G36: =SUM('산출표(101동):산출표(근생)'!G36) -> 1069.94 | H36: =SUM('산출표(101동):산출표(근생)'!H36) -> 0 | I36: =SUM('산출표(101동):산출표(근생)'!I36) -> 0 | J36: =SUM('산출표(101동):산출표(근생)'!J36) -> 0 | K36: =SUM('산출표(101동):산출표(근생)'!K36) -> 0 | L36: =SUM('산출표(101동):산출표(근생)'!L36) -> 0 | M36: =SUM('산출표(101동):산출표(근생)'!M36) -> 0 | N36: =SUM('산출표(101동):산출표(근생)'!N36) -> 0 | ... U36: =SUM('산출표(101동):산출표(근생)'!U36) -> 0
A37: 23 | B37: 28 | C37: =C36 -> 13 | F37: =IF(D36="","","현재수량") -> 현재수량 | G37: =SUM('산출표(101동):산출표(근생)'!G37) -> 0 | H37: =SUM('산출표(101동):산출표(근생)'!H37) -> 0 | I37: =SUM('산출표(101동):산출표(근생)'!I37) -> 0 | J37: =SUM('산출표(101동):산출표(근생)'!J37) -> 0 | K37: =SUM('산출표(101동):산출표(근생)'!K37) -> 0 | L37: =SUM('산출표(101동):산출표(근생)'!L37) -> 0 | M37: =SUM('산출표(101동):산출표(근생)'!M37) -> 0 | N37: =SUM('산출표(101동):산출표(근생)'!N37) -> 0 | ... U37: =SUM('산출표(101동):산출표(근생)'!U37) -> 0
A38: 24 | B38: 29 | C38: =IF(B23="","",B23) -> 14 | D38: =IF(C38="",(IF(AND(C36<>"",D36<>"")=TRUE,"지붕층",IF(AND(C36="",D36="지붕층")=TRUE,"옥탑층",""))),C38) -> 14 | F38: =IF(D38="","","기준수량") -> 기준수량 | G38: =SUM('산출표(101동):산출표(근생)'!G38) -> 1069.94 | H38: =SUM('산출표(101동):산출표(근생)'!H38) -> 0 | I38: =SUM('산출표(101동):산출표(근생)'!I38) -> 0 | J38: =SUM('산출표(101동):산출표(근생)'!J38) -> 0 | K38: =SUM('산출표(101동):산출표(근생)'!K38) -> 0 | L38: =SUM('산출표(101동):산출표(근생)'!L38) -> 0 | M38: =SUM('산출표(101동):산출표(근생)'!M38) -> 0 | N38: =SUM('산출표(101동):산출표(근생)'!N38) -> 0 | ... U38: =SUM('산출표(101동):산출표(근생)'!U38) -> 0
A39: 25 | C39: =C38 -> 14 | F39: =IF(D38="","","현재수량") -> 현재수량 | G39: =SUM('산출표(101동):산출표(근생)'!G39) -> 0 | H39: =SUM('산출표(101동):산출표(근생)'!H39) -> 0 | I39: =SUM('산출표(101동):산출표(근생)'!I39) -> 0 | J39: =SUM('산출표(101동):산출표(근생)'!J39) -> 0 | K39: =SUM('산출표(101동):산출표(근생)'!K39) -> 0 | L39: =SUM('산출표(101동):산출표(근생)'!L39) -> 0 | M39: =SUM('산출표(101동):산출표(근생)'!M39) -> 0 | N39: =SUM('산출표(101동):산출표(근생)'!N39) -> 0 | ... U39: =SUM('산출표(101동):산출표(근생)'!U39) -> 0
A40: 26 | C40: =IF(B24="","",B24) -> 15 | D40: =IF(C40="",(IF(AND(C38<>"",D38<>"")=TRUE,"지붕층",IF(AND(C38="",D38="지붕층")=TRUE,"옥탑층",""))),C40) -> 15 | F40: =IF(D40="","","기준수량") -> 기준수량 | G40: =SUM('산출표(101동):산출표(근생)'!G40) -> 1069.94 | H40: =SUM('산출표(101동):산출표(근생)'!H40) -> 0 | I40: =SUM('산출표(101동):산출표(근생)'!I40) -> 0 | J40: =SUM('산출표(101동):산출표(근생)'!J40) -> 0 | K40: =SUM('산출표(101동):산출표(근생)'!K40) -> 0 | L40: =SUM('산출표(101동):산출표(근생)'!L40) -> 0 | M40: =SUM('산출표(101동):산출표(근생)'!M40) -> 0 | N40: =SUM('산출표(101동):산출표(근생)'!N40) -> 0 | ... U40: =SUM('산출표(101동):산출표(근생)'!U40) -> 0
A41: 27 | C41: =C40 -> 15 | F41: =IF(D40="","","현재수량") -> 현재수량 | G41: =SUM('산출표(101동):산출표(근생)'!G41) -> 0 | H41: =SUM('산출표(101동):산출표(근생)'!H41) -> 0 | I41: =SUM('산출표(101동):산출표(근생)'!I41) -> 0 | J41: =SUM('산출표(101동):산출표(근생)'!J41) -> 0 | K41: =SUM('산출표(101동):산출표(근생)'!K41) -> 0 | L41: =SUM('산출표(101동):산출표(근생)'!L41) -> 0 | M41: =SUM('산출표(101동):산출표(근생)'!M41) -> 0 | N41: =SUM('산출표(101동):산출표(근생)'!N41) -> 0 | ... U41: =SUM('산출표(101동):산출표(근생)'!U41) -> 0
A42: 28 | C42: =IF(B25="","",B25) -> 16 | D42: =IF(C42="",(IF(AND(C40<>"",D40<>"")=TRUE,"지붕층",IF(AND(C40="",D40="지붕층")=TRUE,"옥탑층",""))),C42) -> 16 | F42: =IF(D42="","","기준수량") -> 기준수량 | G42: =SUM('산출표(101동):산출표(근생)'!G42) -> 1069.94 | H42: =SUM('산출표(101동):산출표(근생)'!H42) -> 0 | I42: =SUM('산출표(101동):산출표(근생)'!I42) -> 0 | J42: =SUM('산출표(101동):산출표(근생)'!J42) -> 0 | K42: =SUM('산출표(101동):산출표(근생)'!K42) -> 0 | L42: =SUM('산출표(101동):산출표(근생)'!L42) -> 0 | M42: =SUM('산출표(101동):산출표(근생)'!M42) -> 0 | N42: =SUM('산출표(101동):산출표(근생)'!N42) -> 0 | ... U42: =SUM('산출표(101동):산출표(근생)'!U42) -> 0
A43: 29 | C43: =C42 -> 16 | F43: =IF(D42="","","현재수량") -> 현재수량 | G43: =SUM('산출표(101동):산출표(근생)'!G43) -> 0 | H43: =SUM('산출표(101동):산출표(근생)'!H43) -> 0 | I43: =SUM('산출표(101동):산출표(근생)'!I43) -> 0 | J43: =SUM('산출표(101동):산출표(근생)'!J43) -> 0 | K43: =SUM('산출표(101동):산출표(근생)'!K43) -> 0 | L43: =SUM('산출표(101동):산출표(근생)'!L43) -> 0 | M43: =SUM('산출표(101동):산출표(근생)'!M43) -> 0 | N43: =SUM('산출표(101동):산출표(근생)'!N43) -> 0 | ... U43: =SUM('산출표(101동):산출표(근생)'!U43) -> 0
C44: =IF(B26="","",B26) -> 17 | D44: =IF(C44="",(IF(AND(C42<>"",D42<>"")=TRUE,"지붕층",IF(AND(C42="",D42="지붕층")=TRUE,"옥탑층",""))),C44) -> 17 | F44: =IF(D44="","","기준수량") -> 기준수량 | G44: =SUM('산출표(101동):산출표(근생)'!G44) -> 1032.2 | H44: =SUM('산출표(101동):산출표(근생)'!H44) -> 0 | I44: =SUM('산출표(101동):산출표(근생)'!I44) -> 0 | J44: =SUM('산출표(101동):산출표(근생)'!J44) -> 0 | K44: =SUM('산출표(101동):산출표(근생)'!K44) -> 0 | L44: =SUM('산출표(101동):산출표(근생)'!L44) -> 0 | M44: =SUM('산출표(101동):산출표(근생)'!M44) -> 0 | N44: =SUM('산출표(101동):산출표(근생)'!N44) -> 0 | ... U44: =SUM('산출표(101동):산출표(근생)'!U44) -> 0
C45: =C44 -> 17 | F45: =IF(D44="","","현재수량") -> 현재수량 | G45: =SUM('산출표(101동):산출표(근생)'!G45) -> 1 | H45: =SUM('산출표(101동):산출표(근생)'!H45) -> 0 | I45: =SUM('산출표(101동):산출표(근생)'!I45) -> 0 | J45: =SUM('산출표(101동):산출표(근생)'!J45) -> 0 | K45: =SUM('산출표(101동):산출표(근생)'!K45) -> 0 | L45: =SUM('산출표(101동):산출표(근생)'!L45) -> 0 | M45: =SUM('산출표(101동):산출표(근생)'!M45) -> 0 | N45: =SUM('산출표(101동):산출표(근생)'!N45) -> 0 | ... U45: =SUM('산출표(101동):산출표(근생)'!U45) -> 0
C46: =IF(B27="","",B27) -> 18 | D46: =IF(C46="",(IF(AND(C44<>"",D44<>"")=TRUE,"지붕층",IF(AND(C44="",D44="지붕층")=TRUE,"옥탑층",""))),C46) -> 18 | F46: =IF(D46="","","기준수량") -> 기준수량 | G46: =SUM('산출표(101동):산출표(근생)'!G46) -> 846.93 | H46: =SUM('산출표(101동):산출표(근생)'!H46) -> 0 | I46: =SUM('산출표(101동):산출표(근생)'!I46) -> 0 | J46: =SUM('산출표(101동):산출표(근생)'!J46) -> 0 | K46: =SUM('산출표(101동):산출표(근생)'!K46) -> 0 | L46: =SUM('산출표(101동):산출표(근생)'!L46) -> 0 | M46: =SUM('산출표(101동):산출표(근생)'!M46) -> 0 | N46: =SUM('산출표(101동):산출표(근생)'!N46) -> 0 | ... U46: =SUM('산출표(101동):산출표(근생)'!U46) -> 0
C47: =C46 -> 18 | F47: =IF(D46="","","현재수량") -> 현재수량 | G47: =SUM('산출표(101동):산출표(근생)'!G47) -> 15 | H47: =SUM('산출표(101동):산출표(근생)'!H47) -> 0 | I47: =SUM('산출표(101동):산출표(근생)'!I47) -> 0 | J47: =SUM('산출표(101동):산출표(근생)'!J47) -> 0 | K47: =SUM('산출표(101동):산출표(근생)'!K47) -> 0 | L47: =SUM('산출표(101동):산출표(근생)'!L47) -> 0 | M47: =SUM('산출표(101동):산출표(근생)'!M47) -> 0 | N47: =SUM('산출표(101동):산출표(근생)'!N47) -> 0 | ... U47: =SUM('산출표(101동):산출표(근생)'!U47) -> 0
C48: =IF(B28="","",B28) -> 19 | D48: =IF(C48="",(IF(AND(C46<>"",D46<>"")=TRUE,"지붕층",IF(AND(C46="",D46="지붕층")=TRUE,"옥탑층",""))),C48) -> 19 | F48: =IF(D48="","","기준수량") -> 기준수량 | G48: =SUM('산출표(101동):산출표(근생)'!G48) -> 846.93 | H48: =SUM('산출표(101동):산출표(근생)'!H48) -> 0 | I48: =SUM('산출표(101동):산출표(근생)'!I48) -> 0 | J48: =SUM('산출표(101동):산출표(근생)'!J48) -> 0 | K48: =SUM('산출표(101동):산출표(근생)'!K48) -> 0 | L48: =SUM('산출표(101동):산출표(근생)'!L48) -> 0 | M48: =SUM('산출표(101동):산출표(근생)'!M48) -> 0 | N48: =SUM('산출표(101동):산출표(근생)'!N48) -> 0 | ... U48: =SUM('산출표(101동):산출표(근생)'!U48) -> 0
C49: =C48 -> 19 | F49: =IF(D48="","","현재수량") -> 현재수량 | G49: =SUM('산출표(101동):산출표(근생)'!G49) -> 1 | H49: =SUM('산출표(101동):산출표(근생)'!H49) -> 0 | I49: =SUM('산출표(101동):산출표(근생)'!I49) -> 0 | J49: =SUM('산출표(101동):산출표(근생)'!J49) -> 0 | K49: =SUM('산출표(101동):산출표(근생)'!K49) -> 0 | L49: =SUM('산출표(101동):산출표(근생)'!L49) -> 0 | M49: =SUM('산출표(101동):산출표(근생)'!M49) -> 0 | N49: =SUM('산출표(101동):산출표(근생)'!N49) -> 0 | ... U49: =SUM('산출표(101동):산출표(근생)'!U49) -> 0
C50: =IF(B29="","",B29) -> 20 | D50: =IF(C50="",(IF(AND(C48<>"",D48<>"")=TRUE,"지붕층",IF(AND(C48="",D48="지붕층")=TRUE,"옥탑층",""))),C50) -> 20 | F50: =IF(D50="","","기준수량") -> 기준수량 | G50: =SUM('산출표(101동):산출표(근생)'!G50) -> 846.93 | H50: =SUM('산출표(101동):산출표(근생)'!H50) -> 0 | I50: =SUM('산출표(101동):산출표(근생)'!I50) -> 0 | J50: =SUM('산출표(101동):산출표(근생)'!J50) -> 0 | K50: =SUM('산출표(101동):산출표(근생)'!K50) -> 0 | L50: =SUM('산출표(101동):산출표(근생)'!L50) -> 0 | M50: =SUM('산출표(101동):산출표(근생)'!M50) -> 0 | N50: =SUM('산출표(101동):산출표(근생)'!N50) -> 0 | ... U50: =SUM('산출표(101동):산출표(근생)'!U50) -> 0
C51: =C50 -> 20 | F51: =IF(D50="","","현재수량") -> 현재수량 | G51: =SUM('산출표(101동):산출표(근생)'!G51) -> 1 | H51: =SUM('산출표(101동):산출표(근생)'!H51) -> 0 | I51: =SUM('산출표(101동):산출표(근생)'!I51) -> 0 | J51: =SUM('산출표(101동):산출표(근생)'!J51) -> 0 | K51: =SUM('산출표(101동):산출표(근생)'!K51) -> 0 | L51: =SUM('산출표(101동):산출표(근생)'!L51) -> 0 | M51: =SUM('산출표(101동):산출표(근생)'!M51) -> 0 | N51: =SUM('산출표(101동):산출표(근생)'!N51) -> 0 | ... U51: =SUM('산출표(101동):산출표(근생)'!U51) -> 0
C52: =IF(B30="","",B30) -> 21 | D52: =IF(C52="",(IF(AND(C50<>"",D50<>"")=TRUE,"지붕층",IF(AND(C50="",D50="지붕층")=TRUE,"옥탑층",""))),C52) -> 21 | F52: =IF(D52="","","기준수량") -> 기준수량 | G52: =SUM('산출표(101동):산출표(근생)'!G52) -> 846.93 | H52: =SUM('산출표(101동):산출표(근생)'!H52) -> 0 | I52: =SUM('산출표(101동):산출표(근생)'!I52) -> 0 | J52: =SUM('산출표(101동):산출표(근생)'!J52) -> 0 | K52: =SUM('산출표(101동):산출표(근생)'!K52) -> 0 | L52: =SUM('산출표(101동):산출표(근생)'!L52) -> 0 | M52: =SUM('산출표(101동):산출표(근생)'!M52) -> 0 | N52: =SUM('산출표(101동):산출표(근생)'!N52) -> 0 | ... U52: =SUM('산출표(101동):산출표(근생)'!U52) -> 0
C53: =C52 -> 21 | F53: =IF(D52="","","현재수량") -> 현재수량 | G53: =SUM('산출표(101동):산출표(근생)'!G53) -> 1 | H53: =SUM('산출표(101동):산출표(근생)'!H53) -> 0 | I53: =SUM('산출표(101동):산출표(근생)'!I53) -> 0 | J53: =SUM('산출표(101동):산출표(근생)'!J53) -> 0 | K53: =SUM('산출표(101동):산출표(근생)'!K53) -> 0 | L53: =SUM('산출표(101동):산출표(근생)'!L53) -> 0 | M53: =SUM('산출표(101동):산출표(근생)'!M53) -> 0 | N53: =SUM('산출표(101동):산출표(근생)'!N53) -> 0 | ... U53: =SUM('산출표(101동):산출표(근생)'!U53) -> 0
C54: =IF(B31="","",B31) -> 22 | D54: =IF(C54="",(IF(AND(C52<>"",D52<>"")=TRUE,"지붕층",IF(AND(C52="",D52="지붕층")=TRUE,"옥탑층",""))),C54) -> 22 | F54: =IF(D54="","","기준수량") -> 기준수량 | G54: =SUM('산출표(101동):산출표(근생)'!G54) -> 846.93 | H54: =SUM('산출표(101동):산출표(근생)'!H54) -> 0 | I54: =SUM('산출표(101동):산출표(근생)'!I54) -> 0 | J54: =SUM('산출표(101동):산출표(근생)'!J54) -> 0 | K54: =SUM('산출표(101동):산출표(근생)'!K54) -> 0 | L54: =SUM('산출표(101동):산출표(근생)'!L54) -> 0 | M54: =SUM('산출표(101동):산출표(근생)'!M54) -> 0 | N54: =SUM('산출표(101동):산출표(근생)'!N54) -> 0 | ... U54: =SUM('산출표(101동):산출표(근생)'!U54) -> 0
C55: =C54 -> 22 | F55: =IF(D54="","","현재수량") -> 현재수량 | G55: =SUM('산출표(101동):산출표(근생)'!G55) -> 3 | H55: =SUM('산출표(101동):산출표(근생)'!H55) -> 0 | I55: =SUM('산출표(101동):산출표(근생)'!I55) -> 0 | J55: =SUM('산출표(101동):산출표(근생)'!J55) -> 0 | K55: =SUM('산출표(101동):산출표(근생)'!K55) -> 0 | L55: =SUM('산출표(101동):산출표(근생)'!L55) -> 0 | M55: =SUM('산출표(101동):산출표(근생)'!M55) -> 0 | N55: =SUM('산출표(101동):산출표(근생)'!N55) -> 0 | ... U55: =SUM('산출표(101동):산출표(근생)'!U55) -> 0
C56: =IF(B32="","",B32) -> 23 | D56: =IF(C56="",(IF(AND(C54<>"",D54<>"")=TRUE,"지붕층",IF(AND(C54="",D54="지붕층")=TRUE,"옥탑층",""))),C56) -> 23 | F56: =IF(D56="","","기준수량") -> 기준수량 | G56: =SUM('산출표(101동):산출표(근생)'!G56) -> 777.52 | H56: =SUM('산출표(101동):산출표(근생)'!H56) -> 0 | I56: =SUM('산출표(101동):산출표(근생)'!I56) -> 0 | J56: =SUM('산출표(101동):산출표(근생)'!J56) -> 0 | K56: =SUM('산출표(101동):산출표(근생)'!K56) -> 0 | L56: =SUM('산출표(101동):산출표(근생)'!L56) -> 0 | M56: =SUM('산출표(101동):산출표(근생)'!M56) -> 0 | N56: =SUM('산출표(101동):산출표(근생)'!N56) -> 0 | ... U56: =SUM('산출표(101동):산출표(근생)'!U56) -> 0
C57: =C56 -> 23 | F57: =IF(D56="","","현재수량") -> 현재수량 | G57: =SUM('산출표(101동):산출표(근생)'!G57) -> 3 | H57: =SUM('산출표(101동):산출표(근생)'!H57) -> 0 | I57: =SUM('산출표(101동):산출표(근생)'!I57) -> 0 | J57: =SUM('산출표(101동):산출표(근생)'!J57) -> 0 | K57: =SUM('산출표(101동):산출표(근생)'!K57) -> 0 | L57: =SUM('산출표(101동):산출표(근생)'!L57) -> 0 | M57: =SUM('산출표(101동):산출표(근생)'!M57) -> 0 | N57: =SUM('산출표(101동):산출표(근생)'!N57) -> 0 | ... U57: =SUM('산출표(101동):산출표(근생)'!U57) -> 0
C58: =IF(B33="","",B33) -> 24 | D58: =IF(C58="",(IF(AND(C56<>"",D56<>"")=TRUE,"지붕층",IF(AND(C56="",D56="지붕층")=TRUE,"옥탑층",""))),C58) -> 24 | F58: =IF(D58="","","기준수량") -> 기준수량 | G58: =SUM('산출표(101동):산출표(근생)'!G58) -> 416.58 | H58: =SUM('산출표(101동):산출표(근생)'!H58) -> 0 | I58: =SUM('산출표(101동):산출표(근생)'!I58) -> 0 | J58: =SUM('산출표(101동):산출표(근생)'!J58) -> 0 | K58: =SUM('산출표(101동):산출표(근생)'!K58) -> 0 | L58: =SUM('산출표(101동):산출표(근생)'!L58) -> 0 | M58: =SUM('산출표(101동):산출표(근생)'!M58) -> 0 | N58: =SUM('산출표(101동):산출표(근생)'!N58) -> 0 | ... U58: =SUM('산출표(101동):산출표(근생)'!U58) -> 0
C59: =C58 -> 24 | F59: =IF(D58="","","현재수량") -> 현재수량 | G59: =SUM('산출표(101동):산출표(근생)'!G59) -> 2 | H59: =SUM('산출표(101동):산출표(근생)'!H59) -> 0 | I59: =SUM('산출표(101동):산출표(근생)'!I59) -> 0 | J59: =SUM('산출표(101동):산출표(근생)'!J59) -> 0 | K59: =SUM('산출표(101동):산출표(근생)'!K59) -> 0 | L59: =SUM('산출표(101동):산출표(근생)'!L59) -> 0 | M59: =SUM('산출표(101동):산출표(근생)'!M59) -> 0 | N59: =SUM('산출표(101동):산출표(근생)'!N59) -> 0 | ... U59: =SUM('산출표(101동):산출표(근생)'!U59) -> 0
C60: =IF(B34="","",B34) -> 25 | D60: =IF(C60="",(IF(AND(C58<>"",D58<>"")=TRUE,"지붕층",IF(AND(C58="",D58="지붕층")=TRUE,"옥탑층",""))),C60) -> 25 | F60: =IF(D60="","","기준수량") -> 기준수량 | G60: =SUM('산출표(101동):산출표(근생)'!G60) -> 416.58 | H60: =SUM('산출표(101동):산출표(근생)'!H60) -> 0 | I60: =SUM('산출표(101동):산출표(근생)'!I60) -> 0 | J60: =SUM('산출표(101동):산출표(근생)'!J60) -> 0 | K60: =SUM('산출표(101동):산출표(근생)'!K60) -> 0 | L60: =SUM('산출표(101동):산출표(근생)'!L60) -> 0 | M60: =SUM('산출표(101동):산출표(근생)'!M60) -> 0 | N60: =SUM('산출표(101동):산출표(근생)'!N60) -> 0 | ... U60: =SUM('산출표(101동):산출표(근생)'!U60) -> 0
C61: =C60 -> 25 | F61: =IF(D60="","","현재수량") -> 현재수량 | G61: =SUM('산출표(101동):산출표(근생)'!G61) -> 2 | H61: =SUM('산출표(101동):산출표(근생)'!H61) -> 0 | I61: =SUM('산출표(101동):산출표(근생)'!I61) -> 0 | J61: =SUM('산출표(101동):산출표(근생)'!J61) -> 0 | K61: =SUM('산출표(101동):산출표(근생)'!K61) -> 0 | L61: =SUM('산출표(101동):산출표(근생)'!L61) -> 0 | M61: =SUM('산출표(101동):산출표(근생)'!M61) -> 0 | N61: =SUM('산출표(101동):산출표(근생)'!N61) -> 0 | ... U61: =SUM('산출표(101동):산출표(근생)'!U61) -> 0
C62: =IF(B35="","",B35) -> 26 | D62: =IF(C62="",(IF(AND(C60<>"",D60<>"")=TRUE,"지붕층",IF(AND(C60="",D60="지붕층")=TRUE,"옥탑층",""))),C62) -> 26 | F62: =IF(D62="","","기준수량") -> 기준수량 | G62: =SUM('산출표(101동):산출표(근생)'!G62) -> 416.58 | H62: =SUM('산출표(101동):산출표(근생)'!H62) -> 0 | I62: =SUM('산출표(101동):산출표(근생)'!I62) -> 0 | J62: =SUM('산출표(101동):산출표(근생)'!J62) -> 0 | K62: =SUM('산출표(101동):산출표(근생)'!K62) -> 0 | L62: =SUM('산출표(101동):산출표(근생)'!L62) -> 0 | M62: =SUM('산출표(101동):산출표(근생)'!M62) -> 0 | N62: =SUM('산출표(101동):산출표(근생)'!N62) -> 0 | ... U62: =SUM('산출표(101동):산출표(근생)'!U62) -> 0
C63: =C62 -> 26 | F63: =IF(D62="","","현재수량") -> 현재수량 | G63: =SUM('산출표(101동):산출표(근생)'!G63) -> 2 | H63: =SUM('산출표(101동):산출표(근생)'!H63) -> 0 | I63: =SUM('산출표(101동):산출표(근생)'!I63) -> 0 | J63: =SUM('산출표(101동):산출표(근생)'!J63) -> 0 | K63: =SUM('산출표(101동):산출표(근생)'!K63) -> 0 | L63: =SUM('산출표(101동):산출표(근생)'!L63) -> 0 | M63: =SUM('산출표(101동):산출표(근생)'!M63) -> 0 | N63: =SUM('산출표(101동):산출표(근생)'!N63) -> 0 | ... U63: =SUM('산출표(101동):산출표(근생)'!U63) -> 0
C64: =IF(B36="","",B36) -> 27 | D64: =IF(C64="",(IF(AND(C62<>"",D62<>"")=TRUE,"지붕층",IF(AND(C62="",D62="지붕층")=TRUE,"옥탑층",""))),C64) -> 27 | F64: =IF(D64="","","기준수량") -> 기준수량 | G64: =SUM('산출표(101동):산출표(근생)'!G64) -> 416.58 | H64: =SUM('산출표(101동):산출표(근생)'!H64) -> 0 | I64: =SUM('산출표(101동):산출표(근생)'!I64) -> 0 | J64: =SUM('산출표(101동):산출표(근생)'!J64) -> 0 | K64: =SUM('산출표(101동):산출표(근생)'!K64) -> 0 | L64: =SUM('산출표(101동):산출표(근생)'!L64) -> 0 | M64: =SUM('산출표(101동):산출표(근생)'!M64) -> 0 | N64: =SUM('산출표(101동):산출표(근생)'!N64) -> 0 | ... U64: =SUM('산출표(101동):산출표(근생)'!U64) -> 0
C65: =C64 -> 27 | F65: =IF(D64="","","현재수량") -> 현재수량 | G65: =SUM('산출표(101동):산출표(근생)'!G65) -> 2 | H65: =SUM('산출표(101동):산출표(근생)'!H65) -> 0 | I65: =SUM('산출표(101동):산출표(근생)'!I65) -> 0 | J65: =SUM('산출표(101동):산출표(근생)'!J65) -> 0 | K65: =SUM('산출표(101동):산출표(근생)'!K65) -> 0 | L65: =SUM('산출표(101동):산출표(근생)'!L65) -> 0 | M65: =SUM('산출표(101동):산출표(근생)'!M65) -> 0 | N65: =SUM('산출표(101동):산출표(근생)'!N65) -> 0 | ... U65: =SUM('산출표(101동):산출표(근생)'!U65) -> 0
C66: =IF(B37="","",B37) -> 28 | D66: =IF(C66="",(IF(AND(C64<>"",D64<>"")=TRUE,"지붕층",IF(AND(C64="",D64="지붕층")=TRUE,"옥탑층",""))),C66) -> 28 | F66: =IF(D66="","","기준수량") -> 기준수량 | G66: =SUM('산출표(101동):산출표(근생)'!G66) -> 352.73 | H66: =SUM('산출표(101동):산출표(근생)'!H66) -> 0 | I66: =SUM('산출표(101동):산출표(근생)'!I66) -> 0 | J66: =SUM('산출표(101동):산출표(근생)'!J66) -> 0 | K66: =SUM('산출표(101동):산출표(근생)'!K66) -> 0 | L66: =SUM('산출표(101동):산출표(근생)'!L66) -> 0 | M66: =SUM('산출표(101동):산출표(근생)'!M66) -> 0 | N66: =SUM('산출표(101동):산출표(근생)'!N66) -> 0 | ... U66: =SUM('산출표(101동):산출표(근생)'!U66) -> 0
C67: =C66 -> 28 | F67: =IF(D66="","","현재수량") -> 현재수량 | G67: =SUM('산출표(101동):산출표(근생)'!G67) -> 2 | H67: =SUM('산출표(101동):산출표(근생)'!H67) -> 0 | I67: =SUM('산출표(101동):산출표(근생)'!I67) -> 0 | J67: =SUM('산출표(101동):산출표(근생)'!J67) -> 0 | K67: =SUM('산출표(101동):산출표(근생)'!K67) -> 0 | L67: =SUM('산출표(101동):산출표(근생)'!L67) -> 0 | M67: =SUM('산출표(101동):산출표(근생)'!M67) -> 0 | N67: =SUM('산출표(101동):산출표(근생)'!N67) -> 0 | ... U67: =SUM('산출표(101동):산출표(근생)'!U67) -> 0
C68: =IF(B38="","",B38) -> 29 | D68: =IF(C68="",(IF(AND(C66<>"",D66<>"")=TRUE,"지붕층",IF(AND(C66="",D66="지붕층")=TRUE,"옥탑층",""))),C68) -> 29 | F68: =IF(D68="","","기준수량") -> 기준수량 | G68: =SUM('산출표(101동):산출표(근생)'!G68) -> 0 | H68: =SUM('산출표(101동):산출표(근생)'!H68) -> 0 | I68: =SUM('산출표(101동):산출표(근생)'!I68) -> 0 | J68: =SUM('산출표(101동):산출표(근생)'!J68) -> 0 | K68: =SUM('산출표(101동):산출표(근생)'!K68) -> 0 | L68: =SUM('산출표(101동):산출표(근생)'!L68) -> 0 | M68: =SUM('산출표(101동):산출표(근생)'!M68) -> 0 | N68: =SUM('산출표(101동):산출표(근생)'!N68) -> 0 | ... U68: =SUM('산출표(101동):산출표(근생)'!U68) -> 0
C69: =C68 -> 29 | F69: =IF(D68="","","현재수량") -> 현재수량 | G69: =SUM('산출표(101동):산출표(근생)'!G69) -> 0 | H69: =SUM('산출표(101동):산출표(근생)'!H69) -> 0 | I69: =SUM('산출표(101동):산출표(근생)'!I69) -> 0 | J69: =SUM('산출표(101동):산출표(근생)'!J69) -> 0 | K69: =SUM('산출표(101동):산출표(근생)'!K69) -> 0 | L69: =SUM('산출표(101동):산출표(근생)'!L69) -> 0 | M69: =SUM('산출표(101동):산출표(근생)'!M69) -> 0 | N69: =SUM('산출표(101동):산출표(근생)'!N69) -> 0 | ... U69: =SUM('산출표(101동):산출표(근생)'!U69) -> 0
C70: =IF(B39="","",B39) | D70: =IF(C70="",(IF(AND(C68<>"",D68<>"")=TRUE,"지붕층",IF(AND(C68="",D68="지붕층")=TRUE,"옥탑층",""))),C70) -> 지붕층 | F70: =IF(D70="","","기준수량") -> 기준수량 | G70: =SUM('산출표(101동):산출표(근생)'!G70) -> 0 | H70: =SUM('산출표(101동):산출표(근생)'!H70) -> 0 | I70: =SUM('산출표(101동):산출표(근생)'!I70) -> 0 | J70: =SUM('산출표(101동):산출표(근생)'!J70) -> 0 | K70: =SUM('산출표(101동):산출표(근생)'!K70) -> 0 | L70: =SUM('산출표(101동):산출표(근생)'!L70) -> 0 | M70: =SUM('산출표(101동):산출표(근생)'!M70) -> 0 | N70: =SUM('산출표(101동):산출표(근생)'!N70) -> 0 | ... U70: =SUM('산출표(101동):산출표(근생)'!U70) -> 0
C71: =C70 | F71: =IF(D70="","","현재수량") -> 현재수량 | G71: =SUM('산출표(101동):산출표(근생)'!G71) -> 0 | H71: =SUM('산출표(101동):산출표(근생)'!H71) -> 0 | I71: =SUM('산출표(101동):산출표(근생)'!I71) -> 0 | J71: =SUM('산출표(101동):산출표(근생)'!J71) -> 0 | K71: =SUM('산출표(101동):산출표(근생)'!K71) -> 0 | L71: =SUM('산출표(101동):산출표(근생)'!L71) -> 0 | M71: =SUM('산출표(101동):산출표(근생)'!M71) -> 0 | N71: =SUM('산출표(101동):산출표(근생)'!N71) -> 0 | ... U71: =SUM('산출표(101동):산출표(근생)'!U71) -> 0
C72: =IF(B40="","",B40) | D72: =IF(C72="",(IF(AND(C70<>"",D70<>"")=TRUE,"지붕층",IF(AND(C70="",D70="지붕층")=TRUE,"옥탑층",""))),C72) -> 옥탑층 | F72: =IF(D72="","","기준수량") -> 기준수량 | G72: =SUM('산출표(101동):산출표(근생)'!G72) -> 0 | H72: =SUM('산출표(101동):산출표(근생)'!H72) -> 0 | I72: =SUM('산출표(101동):산출표(근생)'!I72) -> 0 | J72: =SUM('산출표(101동):산출표(근생)'!J72) -> 0 | K72: =SUM('산출표(101동):산출표(근생)'!K72) -> 0 | L72: =SUM('산출표(101동):산출표(근생)'!L72) -> 0 | M72: =SUM('산출표(101동):산출표(근생)'!M72) -> 0 | N72: =SUM('산출표(101동):산출표(근생)'!N72) -> 0 | ... U72: =SUM('산출표(101동):산출표(근생)'!U72) -> 0
C73: =C72 | F73: =IF(D72="","","현재수량") -> 현재수량 | G73: =SUM('산출표(101동):산출표(근생)'!G73) -> 0 | H73: =SUM('산출표(101동):산출표(근생)'!H73) -> 0 | I73: =SUM('산출표(101동):산출표(근생)'!I73) -> 0 | J73: =SUM('산출표(101동):산출표(근생)'!J73) -> 0 | K73: =SUM('산출표(101동):산출표(근생)'!K73) -> 0 | L73: =SUM('산출표(101동):산출표(근생)'!L73) -> 0 | M73: =SUM('산출표(101동):산출표(근생)'!M73) -> 0 | N73: =SUM('산출표(101동):산출표(근생)'!N73) -> 0 | ... U73: =SUM('산출표(101동):산출표(근생)'!U73) -> 0
C74: =IF(B41="","",B41) | G74: =SUM('산출표(101동):산출표(근생)'!G74) -> 0 | H74: =SUM('산출표(101동):산출표(근생)'!H74) -> 0 | I74: =SUM('산출표(101동):산출표(근생)'!I74) -> 0 | J74: =SUM('산출표(101동):산출표(근생)'!J74) -> 0 | K74: =SUM('산출표(101동):산출표(근생)'!K74) -> 0 | L74: =SUM('산출표(101동):산출표(근생)'!L74) -> 0 | M74: =SUM('산출표(101동):산출표(근생)'!M74) -> 0 | N74: =SUM('산출표(101동):산출표(근생)'!N74) -> 0 | ... U74: =SUM('산출표(101동):산출표(근생)'!U74) -> 0
C75: =C74 | G75: =SUM('산출표(101동):산출표(근생)'!G75) -> 0 | H75: =SUM('산출표(101동):산출표(근생)'!H75) -> 0 | I75: =SUM('산출표(101동):산출표(근생)'!I75) -> 0 | J75: =SUM('산출표(101동):산출표(근생)'!J75) -> 0 | K75: =SUM('산출표(101동):산출표(근생)'!K75) -> 0 | L75: =SUM('산출표(101동):산출표(근생)'!L75) -> 0 | M75: =SUM('산출표(101동):산출표(근생)'!M75) -> 0 | N75: =SUM('산출표(101동):산출표(근생)'!N75) -> 0 | ... U75: =SUM('산출표(101동):산출표(근생)'!U75) -> 0
C76: =IF(B42="","",B42) | G76: =SUM('산출표(101동):산출표(근생)'!G76) -> 0 | H76: =SUM('산출표(101동):산출표(근생)'!H76) -> 0 | I76: =SUM('산출표(101동):산출표(근생)'!I76) -> 0 | J76: =SUM('산출표(101동):산출표(근생)'!J76) -> 0 | K76: =SUM('산출표(101동):산출표(근생)'!K76) -> 0 | L76: =SUM('산출표(101동):산출표(근생)'!L76) -> 0 | M76: =SUM('산출표(101동):산출표(근생)'!M76) -> 0 | N76: =SUM('산출표(101동):산출표(근생)'!N76) -> 0 | ... U76: =SUM('산출표(101동):산출표(근생)'!U76) -> 0
C77: =C76 | G77: =SUM('산출표(101동):산출표(근생)'!G77) -> 0 | H77: =SUM('산출표(101동):산출표(근생)'!H77) -> 0 | I77: =SUM('산출표(101동):산출표(근생)'!I77) -> 0 | J77: =SUM('산출표(101동):산출표(근생)'!J77) -> 0 | K77: =SUM('산출표(101동):산출표(근생)'!K77) -> 0 | L77: =SUM('산출표(101동):산출표(근생)'!L77) -> 0 | M77: =SUM('산출표(101동):산출표(근생)'!M77) -> 0 | N77: =SUM('산출표(101동):산출표(근생)'!N77) -> 0 | ... U77: =SUM('산출표(101동):산출표(근생)'!U77) -> 0
C78: =IF(B43="","",B43) | G78: =SUM('산출표(101동):산출표(근생)'!G78) -> 0 | H78: =SUM('산출표(101동):산출표(근생)'!H78) -> 0 | I78: =SUM('산출표(101동):산출표(근생)'!I78) -> 0 | J78: =SUM('산출표(101동):산출표(근생)'!J78) -> 0 | K78: =SUM('산출표(101동):산출표(근생)'!K78) -> 0 | L78: =SUM('산출표(101동):산출표(근생)'!L78) -> 0 | M78: =SUM('산출표(101동):산출표(근생)'!M78) -> 0 | N78: =SUM('산출표(101동):산출표(근생)'!N78) -> 0 | ... U78: =SUM('산출표(101동):산출표(근생)'!U78) -> 0
C79: =C78 | G79: =SUM('산출표(101동):산출표(근생)'!G79) -> 0 | H79: =SUM('산출표(101동):산출표(근생)'!H79) -> 0 | I79: =SUM('산출표(101동):산출표(근생)'!I79) -> 0 | J79: =SUM('산출표(101동):산출표(근생)'!J79) -> 0 | K79: =SUM('산출표(101동):산출표(근생)'!K79) -> 0 | L79: =SUM('산출표(101동):산출표(근생)'!L79) -> 0 | M79: =SUM('산출표(101동):산출표(근생)'!M79) -> 0 | N79: =SUM('산출표(101동):산출표(근생)'!N79) -> 0 | ... U79: =SUM('산출표(101동):산출표(근생)'!U79) -> 0
C80: =IF(B44="","",B44) | G80: =SUM('산출표(101동):산출표(근생)'!G80) -> 0 | H80: =SUM('산출표(101동):산출표(근생)'!H80) -> 0 | I80: =SUM('산출표(101동):산출표(근생)'!I80) -> 0 | J80: =SUM('산출표(101동):산출표(근생)'!J80) -> 0 | K80: =SUM('산출표(101동):산출표(근생)'!K80) -> 0 | L80: =SUM('산출표(101동):산출표(근생)'!L80) -> 0 | M80: =SUM('산출표(101동):산출표(근생)'!M80) -> 0 | N80: =SUM('산출표(101동):산출표(근생)'!N80) -> 0 | ... U80: =SUM('산출표(101동):산출표(근생)'!U80) -> 0
C81: =C80 | G81: =SUM('산출표(101동):산출표(근생)'!G81) -> 0 | H81: =SUM('산출표(101동):산출표(근생)'!H81) -> 0 | I81: =SUM('산출표(101동):산출표(근생)'!I81) -> 0 | J81: =SUM('산출표(101동):산출표(근생)'!J81) -> 0 | K81: =SUM('산출표(101동):산출표(근생)'!K81) -> 0 | L81: =SUM('산출표(101동):산출표(근생)'!L81) -> 0 | M81: =SUM('산출표(101동):산출표(근생)'!M81) -> 0 | N81: =SUM('산출표(101동):산출표(근생)'!N81) -> 0 | ... U81: =SUM('산출표(101동):산출표(근생)'!U81) -> 0
C82: =IF(B45="","",B45) | G82: =SUM('산출표(101동):산출표(근생)'!G82) -> 0 | H82: =SUM('산출표(101동):산출표(근생)'!H82) -> 0 | I82: =SUM('산출표(101동):산출표(근생)'!I82) -> 0 | J82: =SUM('산출표(101동):산출표(근생)'!J82) -> 0 | K82: =SUM('산출표(101동):산출표(근생)'!K82) -> 0 | L82: =SUM('산출표(101동):산출표(근생)'!L82) -> 0 | M82: =SUM('산출표(101동):산출표(근생)'!M82) -> 0 | N82: =SUM('산출표(101동):산출표(근생)'!N82) -> 0 | ... U82: =SUM('산출표(101동):산출표(근생)'!U82) -> 0
C83: =C82 | G83: =SUM('산출표(101동):산출표(근생)'!G83) -> 0 | H83: =SUM('산출표(101동):산출표(근생)'!H83) -> 0 | I83: =SUM('산출표(101동):산출표(근생)'!I83) -> 0 | J83: =SUM('산출표(101동):산출표(근생)'!J83) -> 0 | K83: =SUM('산출표(101동):산출표(근생)'!K83) -> 0 | L83: =SUM('산출표(101동):산출표(근생)'!L83) -> 0 | M83: =SUM('산출표(101동):산출표(근생)'!M83) -> 0 | N83: =SUM('산출표(101동):산출표(근생)'!N83) -> 0 | ... U83: =SUM('산출표(101동):산출표(근생)'!U83) -> 0
C84: =IF(B46="","",B46) | G84: =SUM('산출표(101동):산출표(근생)'!G84) -> 0 | H84: =SUM('산출표(101동):산출표(근생)'!H84) -> 0 | I84: =SUM('산출표(101동):산출표(근생)'!I84) -> 0 | J84: =SUM('산출표(101동):산출표(근생)'!J84) -> 0 | K84: =SUM('산출표(101동):산출표(근생)'!K84) -> 0 | L84: =SUM('산출표(101동):산출표(근생)'!L84) -> 0 | M84: =SUM('산출표(101동):산출표(근생)'!M84) -> 0 | N84: =SUM('산출표(101동):산출표(근생)'!N84) -> 0 | ... U84: =SUM('산출표(101동):산출표(근생)'!U84) -> 0
C85: =C84 | G85: =SUM('산출표(101동):산출표(근생)'!G85) -> 0 | H85: =SUM('산출표(101동):산출표(근생)'!H85) -> 0 | I85: =SUM('산출표(101동):산출표(근생)'!I85) -> 0 | J85: =SUM('산출표(101동):산출표(근생)'!J85) -> 0 | K85: =SUM('산출표(101동):산출표(근생)'!K85) -> 0 | L85: =SUM('산출표(101동):산출표(근생)'!L85) -> 0 | M85: =SUM('산출표(101동):산출표(근생)'!M85) -> 0 | N85: =SUM('산출표(101동):산출표(근생)'!N85) -> 0 | ... U85: =SUM('산출표(101동):산출표(근생)'!U85) -> 0
C86: =IF(B47="","",B47) | G86: =SUM('산출표(101동):산출표(근생)'!G86) -> 0 | H86: =SUM('산출표(101동):산출표(근생)'!H86) -> 0 | I86: =SUM('산출표(101동):산출표(근생)'!I86) -> 0 | J86: =SUM('산출표(101동):산출표(근생)'!J86) -> 0 | K86: =SUM('산출표(101동):산출표(근생)'!K86) -> 0 | L86: =SUM('산출표(101동):산출표(근생)'!L86) -> 0 | M86: =SUM('산출표(101동):산출표(근생)'!M86) -> 0 | N86: =SUM('산출표(101동):산출표(근생)'!N86) -> 0 | ... U86: =SUM('산출표(101동):산출표(근생)'!U86) -> 0
C87: =C86 | G87: =SUM('산출표(101동):산출표(근생)'!G87) -> 0 | H87: =SUM('산출표(101동):산출표(근생)'!H87) -> 0 | I87: =SUM('산출표(101동):산출표(근생)'!I87) -> 0 | J87: =SUM('산출표(101동):산출표(근생)'!J87) -> 0 | K87: =SUM('산출표(101동):산출표(근생)'!K87) -> 0 | L87: =SUM('산출표(101동):산출표(근생)'!L87) -> 0 | M87: =SUM('산출표(101동):산출표(근생)'!M87) -> 0 | N87: =SUM('산출표(101동):산출표(근생)'!N87) -> 0 | ... U87: =SUM('산출표(101동):산출표(근생)'!U87) -> 0
C88: =IF(B48="","",B48) | G88: =SUM('산출표(101동):산출표(근생)'!G88) -> 0 | H88: =SUM('산출표(101동):산출표(근생)'!H88) -> 0 | I88: =SUM('산출표(101동):산출표(근생)'!I88) -> 0 | J88: =SUM('산출표(101동):산출표(근생)'!J88) -> 0 | K88: =SUM('산출표(101동):산출표(근생)'!K88) -> 0 | L88: =SUM('산출표(101동):산출표(근생)'!L88) -> 0 | M88: =SUM('산출표(101동):산출표(근생)'!M88) -> 0 | N88: =SUM('산출표(101동):산출표(근생)'!N88) -> 0 | ... U88: =SUM('산출표(101동):산출표(근생)'!U88) -> 0
C89: =C88 | G89: =SUM('산출표(101동):산출표(근생)'!G89) -> 0 | H89: =SUM('산출표(101동):산출표(근생)'!H89) -> 0 | I89: =SUM('산출표(101동):산출표(근생)'!I89) -> 0 | J89: =SUM('산출표(101동):산출표(근생)'!J89) -> 0 | K89: =SUM('산출표(101동):산출표(근생)'!K89) -> 0 | L89: =SUM('산출표(101동):산출표(근생)'!L89) -> 0 | M89: =SUM('산출표(101동):산출표(근생)'!M89) -> 0 | N89: =SUM('산출표(101동):산출표(근생)'!N89) -> 0 | ... U89: =SUM('산출표(101동):산출표(근생)'!U89) -> 0
C90: =IF(B49="","",B49) | G90: =SUM('산출표(101동):산출표(근생)'!G90) -> 0 | H90: =SUM('산출표(101동):산출표(근생)'!H90) -> 0 | I90: =SUM('산출표(101동):산출표(근생)'!I90) -> 0 | J90: =SUM('산출표(101동):산출표(근생)'!J90) -> 0 | K90: =SUM('산출표(101동):산출표(근생)'!K90) -> 0 | L90: =SUM('산출표(101동):산출표(근생)'!L90) -> 0 | M90: =SUM('산출표(101동):산출표(근생)'!M90) -> 0 | N90: =SUM('산출표(101동):산출표(근생)'!N90) -> 0 | ... U90: =SUM('산출표(101동):산출표(근생)'!U90) -> 0
C91: =C90 | G91: =SUM('산출표(101동):산출표(근생)'!G91) -> 0 | H91: =SUM('산출표(101동):산출표(근생)'!H91) -> 0 | I91: =SUM('산출표(101동):산출표(근생)'!I91) -> 0 | J91: =SUM('산출표(101동):산출표(근생)'!J91) -> 0 | K91: =SUM('산출표(101동):산출표(근생)'!K91) -> 0 | L91: =SUM('산출표(101동):산출표(근생)'!L91) -> 0 | M91: =SUM('산출표(101동):산출표(근생)'!M91) -> 0 | N91: =SUM('산출표(101동):산출표(근생)'!N91) -> 0 | ... U91: =SUM('산출표(101동):산출표(근생)'!U91) -> 0
C92: =IF(B50="","",B50) | G92: =SUM('산출표(101동):산출표(근생)'!G92) -> 0 | H92: =SUM('산출표(101동):산출표(근생)'!H92) -> 0 | I92: =SUM('산출표(101동):산출표(근생)'!I92) -> 0 | J92: =SUM('산출표(101동):산출표(근생)'!J92) -> 0 | K92: =SUM('산출표(101동):산출표(근생)'!K92) -> 0 | L92: =SUM('산출표(101동):산출표(근생)'!L92) -> 0 | M92: =SUM('산출표(101동):산출표(근생)'!M92) -> 0 | N92: =SUM('산출표(101동):산출표(근생)'!N92) -> 0 | ... U92: =SUM('산출표(101동):산출표(근생)'!U92) -> 0
C93: =C92 | G93: =SUM('산출표(101동):산출표(근생)'!G93) -> 0 | H93: =SUM('산출표(101동):산출표(근생)'!H93) -> 0 | I93: =SUM('산출표(101동):산출표(근생)'!I93) -> 0 | J93: =SUM('산출표(101동):산출표(근생)'!J93) -> 0 | K93: =SUM('산출표(101동):산출표(근생)'!K93) -> 0 | L93: =SUM('산출표(101동):산출표(근생)'!L93) -> 0 | M93: =SUM('산출표(101동):산출표(근생)'!M93) -> 0 | N93: =SUM('산출표(101동):산출표(근생)'!N93) -> 0 | ... U93: =SUM('산출표(101동):산출표(근생)'!U93) -> 0
C94: =IF(B51="","",B51) | G94: =SUM('산출표(101동):산출표(근생)'!G94) -> 0 | H94: =SUM('산출표(101동):산출표(근생)'!H94) -> 0 | I94: =SUM('산출표(101동):산출표(근생)'!I94) -> 0 | J94: =SUM('산출표(101동):산출표(근생)'!J94) -> 0 | K94: =SUM('산출표(101동):산출표(근생)'!K94) -> 0 | L94: =SUM('산출표(101동):산출표(근생)'!L94) -> 0 | M94: =SUM('산출표(101동):산출표(근생)'!M94) -> 0 | N94: =SUM('산출표(101동):산출표(근생)'!N94) -> 0 | ... U94: =SUM('산출표(101동):산출표(근생)'!U94) -> 0
C95: =C94 | G95: =SUM('산출표(101동):산출표(근생)'!G95) -> 0 | H95: =SUM('산출표(101동):산출표(근생)'!H95) -> 0 | I95: =SUM('산출표(101동):산출표(근생)'!I95) -> 0 | J95: =SUM('산출표(101동):산출표(근생)'!J95) -> 0 | K95: =SUM('산출표(101동):산출표(근생)'!K95) -> 0 | L95: =SUM('산출표(101동):산출표(근생)'!L95) -> 0 | M95: =SUM('산출표(101동):산출표(근생)'!M95) -> 0 | N95: =SUM('산출표(101동):산출표(근생)'!N95) -> 0 | ... U95: =SUM('산출표(101동):산출표(근생)'!U95) -> 0
C96: =IF(B52="","",B52) | G96: =SUM('산출표(101동):산출표(근생)'!G96) -> 0 | H96: =SUM('산출표(101동):산출표(근생)'!H96) -> 0 | I96: =SUM('산출표(101동):산출표(근생)'!I96) -> 0 | J96: =SUM('산출표(101동):산출표(근생)'!J96) -> 0 | K96: =SUM('산출표(101동):산출표(근생)'!K96) -> 0 | L96: =SUM('산출표(101동):산출표(근생)'!L96) -> 0 | M96: =SUM('산출표(101동):산출표(근생)'!M96) -> 0 | N96: =SUM('산출표(101동):산출표(근생)'!N96) -> 0 | ... U96: =SUM('산출표(101동):산출표(근생)'!U96) -> 0
C97: =C96 | G97: =SUM('산출표(101동):산출표(근생)'!G97) -> 0 | H97: =SUM('산출표(101동):산출표(근생)'!H97) -> 0 | I97: =SUM('산출표(101동):산출표(근생)'!I97) -> 0 | J97: =SUM('산출표(101동):산출표(근생)'!J97) -> 0 | K97: =SUM('산출표(101동):산출표(근생)'!K97) -> 0 | L97: =SUM('산출표(101동):산출표(근생)'!L97) -> 0 | M97: =SUM('산출표(101동):산출표(근생)'!M97) -> 0 | N97: =SUM('산출표(101동):산출표(근생)'!N97) -> 0 | ... U97: =SUM('산출표(101동):산출표(근생)'!U97) -> 0
C98: =IF(B53="","",B53) | G98: =SUM('산출표(101동):산출표(근생)'!G98) -> 0 | H98: =SUM('산출표(101동):산출표(근생)'!H98) -> 0 | I98: =SUM('산출표(101동):산출표(근생)'!I98) -> 0 | J98: =SUM('산출표(101동):산출표(근생)'!J98) -> 0 | K98: =SUM('산출표(101동):산출표(근생)'!K98) -> 0 | L98: =SUM('산출표(101동):산출표(근생)'!L98) -> 0 | M98: =SUM('산출표(101동):산출표(근생)'!M98) -> 0 | N98: =SUM('산출표(101동):산출표(근생)'!N98) -> 0 | ... U98: =SUM('산출표(101동):산출표(근생)'!U98) -> 0
C99: =C98 | G99: =SUM('산출표(101동):산출표(근생)'!G99) -> 0 | H99: =SUM('산출표(101동):산출표(근생)'!H99) -> 0 | I99: =SUM('산출표(101동):산출표(근생)'!I99) -> 0 | J99: =SUM('산출표(101동):산출표(근생)'!J99) -> 0 | K99: =SUM('산출표(101동):산출표(근생)'!K99) -> 0 | L99: =SUM('산출표(101동):산출표(근생)'!L99) -> 0 | M99: =SUM('산출표(101동):산출표(근생)'!M99) -> 0 | N99: =SUM('산출표(101동):산출표(근생)'!N99) -> 0 | ... U99: =SUM('산출표(101동):산출표(근생)'!U99) -> 0
C100: =IF(B54="","",B54) | G100: =SUM('산출표(101동):산출표(근생)'!G100) -> 0 | H100: =SUM('산출표(101동):산출표(근생)'!H100) -> 0 | I100: =SUM('산출표(101동):산출표(근생)'!I100) -> 0 | J100: =SUM('산출표(101동):산출표(근생)'!J100) -> 0 | K100: =SUM('산출표(101동):산출표(근생)'!K100) -> 0 | L100: =SUM('산출표(101동):산출표(근생)'!L100) -> 0 | M100: =SUM('산출표(101동):산출표(근생)'!M100) -> 0 | N100: =SUM('산출표(101동):산출표(근생)'!N100) -> 0 | ... U100: =SUM('산출표(101동):산출표(근생)'!U100) -> 0
...

Sheet 산출표(101동)
D1: 101
D2: 현장명 : | F2: =기본정보작성!#REF! -> #REF! | L2: =기본정보작성!#REF! -> #REF!
D3: 시설별 | P3: 소방용수설비 | T3: 피난ㆍ방화설비
A4: {=_xlfn.SEQUENCE(기본정보작성!J3,1,-기본정보작성!J3,1)} -> -2 | H4: 송수구 | I4: 옥내소화전 | J4: 스프링클러 | K4: 자동화재탐지 | N4: 비상조명등 | P4: 상수도소화용수 | Q4: 소화수조 | R4: 저수조 | S4: 기타 | T4: 방화셔터 | U4: 회로 | V4: 감지기
A5: -1 | D5: 층구분 | F5: 구 분 / 종 별 | G5: 바닥면적 (㎡) | J5: 송수구 | K5: 수신기 | L5: 회로수 | M5: 시각경보기 | N5: 비상조명등 | O5: 휴대용비상조명
D6: 101동 | F6: 기준수량(합계) | G6: =SUMIF(F8:$G$139,F8,G8:G139) -> 8747.19 | H6: =IF(SUMIF($F8:G$139,$F$8,H8:H139)=0,"",SUMIF($F8:G$139,$F$8,H8:H139)) | I6: =IF(SUMIF($F8:G$139,$F$8,I8:I139)=0,"",SUMIF($F8:G$139,$F$8,I8:I139)) | J6: =IF(SUMIF($F8:H$139,$F$8,J8:J139)=0,"",SUMIF($F8:H$139,$F$8,J8:J139)) | K6: =IF(SUMIF($F8:J$139,$F$8,K8:K139)=0,"",SUMIF($F8:J$139,$F$8,K8:K139)) | L6: =IF(SUMIF($F8:K$139,$F$8,L8:L139)=0,"",SUMIF($F8:K$139,$F$8,L8:L139)) -> 4 | M6: =IF(SUMIF($F8:K$139,$F$8,M8:M139)=0,"",SUMIF($F8:K$139,$F$8,M8:M139)) | N6: =IF(SUMIF($F8:M$139,$F$8,N8:N139)=0,"",SUMIF($F8:M$139,$F$8,N8:N139)) | O6: =IF(SUMIF($F8:M$139,$F$8,O8:O139)=0,"",SUMIF($F8:M$139,$F$8,O8:O139)) | P6: =IF(SUMIF($F8:N$139,$F$8,P8:P139)=0,"",SUMIF($F8:N$139,$F$8,P8:P139)) | Q6: =IF(SUMIF($F8:O$139,$F$8,Q8:Q139)=0,"",SUMIF($F8:O$139,$F$8,Q8:Q139)) | R6: =IF(SUMIF($F8:P$139,$F$8,R8:R139)=0,"",SUMIF($F8:P$139,$F$8,R8:R139)) | S6: =IF(SUMIF($F8:Q$139,$F$8,S8:S139)=0,"",SUMIF($F8:Q$139,$F$8,S8:S139)) | T6: =IF(SUMIF($F8:S$139,$F$8,T8:T139)=0,"",SUMIF($F8:S$139,$F$8,T8:T139)) | U6: =IF(SUMIF($F8:S$139,$F$8,U8:U139)=0,"",SUMIF($F8:S$139,$F$8,U8:U139)) | V6: =IF(SUMIF($F8:T$139,$F$8,V8:V139)=0,"",SUMIF($F8:T$139,$F$8,V8:V139))
F7: 현재수량(합계) | G7: =SUMIF($F$9:$F$139,$F$8,G8:G139) -> 24 | H7: =IF(SUMIF($F$8:$F$139,$F$9,H8:H139)=0,"",SUMIF($F$8:$F$139,$F$9,H8:H139)) | I7: =IF(SUMIF($F$8:$F$139,$F$9,I8:I139)=0,"",SUMIF($F$8:$F$139,$F$9,I8:I139)) | J7: =IF(SUMIF($F$8:$F$139,$F$9,J8:J139)=0,"",SUMIF($F$8:$F$139,$F$9,J8:J139)) | K7: =IF(SUMIF($F$8:$F$139,$F$9,K8:K139)=0,"",SUMIF($F$8:$F$139,$F$9,K8:K139)) | L7: =IF(SUMIF($F$8:$F$139,$F$9,L8:L139)=0,"",SUMIF($F$8:$F$139,$F$9,L8:L139)) | M7: =IF(SUMIF($F$8:$F$139,$F$9,M8:M139)=0,"",SUMIF($F$8:$F$139,$F$9,M8:M139)) | N7: =IF(SUMIF($F$8:$F$139,$F$9,N8:N139)=0,"",SUMIF($F$8:$F$139,$F$9,N8:N139)) | O7: =IF(SUMIF($F$8:$F$139,$F$9,O8:O139)=0,"",SUMIF($F$8:$F$139,$F$9,O8:O139)) | ... V7: =IF(SUMIF($F$8:$F$139,$F$9,V8:V139)=0,"",SUMIF($F$8:$F$139,$F$9,V8:V139))
B8: {=IF(_xlfn._xlws.SORT(A4:A90)=0,"",_xlfn._xlws.SORT(A4:A90))} -> -2 | C8: =IF(B8="","",B8) -> -2 | D8: =IF(C8="",(IF(AND(C6<>"",D6<>"")=TRUE,"지붕층",IF(AND(C6="",D6="지붕층")=TRUE,"옥탑층",""))),C8) -> -2 | F8: =IF(D8="","","기준수량") -> 기준수량 | L8: 4
B9: -1 | C9: =C8 -> -2 | F9: =IF(D8="","","현재수량") -> 현재수량
B10: 1 | C10: =IF(B9="","",B9) -> -1 | D10: =IF(C10="",(IF(AND(C8<>"",D8<>"")=TRUE,"지붕층",IF(AND(C8="",D8="지붕층")=TRUE,"옥탑층",""))),C10) -> -1 | F10: =IF(D10="","","기준수량") -> 기준수량
B11: 2 | C11: =C10 -> -1 | F11: =IF(D10="","","현재수량") -> 현재수량
B12: 3 | C12: =IF(B10="","",B10) -> 1 | D12: =IF(C12="",(IF(AND(C10<>"",D10<>"")=TRUE,"지붕층",IF(AND(C10="",D10="지붕층")=TRUE,"옥탑층",""))),C12) -> 1 | F12: =IF(D12="","","기준수량") -> 기준수량 | G12: 364.36
B13: 4 | C13: =C12 -> 1 | F13: =IF(D12="","","현재수량") -> 현재수량 | G13: 1
B14: 5 | C14: =IF(B11="","",B11) -> 2 | D14: =IF(C14="",(IF(AND(C12<>"",D12<>"")=TRUE,"지붕층",IF(AND(C12="",D12="지붕층")=TRUE,"옥탑층",""))),C14) -> 2 | F14: =IF(D14="","","기준수량") -> 기준수량 | G14: 445.25
A15: {=_xlfn.SEQUENCE(기본정보작성!M3,1,1,1)} -> 1 | B15: 6 | C15: =C14 -> 2 | F15: =IF(D14="","","현재수량") -> 현재수량 | G15: 1
A16: 2 | B16: 7 | C16: =IF(B12="","",B12) -> 3 | D16: =IF(C16="",(IF(AND(C14<>"",D14<>"")=TRUE,"지붕층",IF(AND(C14="",D14="지붕층")=TRUE,"옥탑층",""))),C16) -> 3 | F16: =IF(D16="","","기준수량") -> 기준수량 | G16: 445.25
A17: 3 | B17: 8 | C17: =C16 -> 3 | F17: =IF(D16="","","현재수량") -> 현재수량 | G17: 1
A18: 4 | B18: 9 | C18: =IF(B13="","",B13) -> 4 | D18: =IF(C18="",(IF(AND(C16<>"",D16<>"")=TRUE,"지붕층",IF(AND(C16="",D16="지붕층")=TRUE,"옥탑층",""))),C18) -> 4 | F18: =IF(D18="","","기준수량") -> 기준수량 | G18: 445.25
A19: 5 | B19: 10 | C19: =C18 -> 4 | F19: =IF(D18="","","현재수량") -> 현재수량
A20: 6 | B20: 11 | C20: =IF(B14="","",B14) -> 5 | D20: =IF(C20="",(IF(AND(C18<>"",D18<>"")=TRUE,"지붕층",IF(AND(C18="",D18="지붕층")=TRUE,"옥탑층",""))),C20) -> 5 | F20: =IF(D20="","","기준수량") -> 기준수량 | G20: 445.25
A21: 7 | B21: 12 | C21: =C20 -> 5 | F21: =IF(D20="","","현재수량") -> 현재수량
A22: 8 | B22: 13 | C22: =IF(B15="","",B15) -> 6 | D22: =IF(C22="",(IF(AND(C20<>"",D20<>"")=TRUE,"지붕층",IF(AND(C20="",D20="지붕층")=TRUE,"옥탑층",""))),C22) -> 6 | F22: =IF(D22="","","기준수량") -> 기준수량 | G22: 445.25
A23: 9 | B23: 14 | C23: =C22 -> 6 | F23: =IF(D22="","","현재수량") -> 현재수량
A24: 10 | B24: 15 | C24: =IF(B16="","",B16) -> 7 | D24: =IF(C24="",(IF(AND(C22<>"",D22<>"")=TRUE,"지붕층",IF(AND(C22="",D22="지붕층")=TRUE,"옥탑층",""))),C24) -> 7 | F24: =IF(D24="","","기준수량") -> 기준수량 | G24: 445.25
A25: 11 | B25: 16 | C25: =C24 -> 7 | F25: =IF(D24="","","현재수량") -> 현재수량
A26: 12 | B26: 17 | C26: =IF(B17="","",B17) -> 8 | D26: =IF(C26="",(IF(AND(C24<>"",D24<>"")=TRUE,"지붕층",IF(AND(C24="",D24="지붕층")=TRUE,"옥탑층",""))),C26) -> 8 | F26: =IF(D26="","","기준수량") -> 기준수량 | G26: 445.25
A27: 13 | B27: 18 | C27: =C26 -> 8 | F27: =IF(D26="","","현재수량") -> 현재수량
A28: 14 | B28: 19 | C28: =IF(B18="","",B18) -> 9 | D28: =IF(C28="",(IF(AND(C26<>"",D26<>"")=TRUE,"지붕층",IF(AND(C26="",D26="지붕층")=TRUE,"옥탑층",""))),C28) -> 9 | F28: =IF(D28="","","기준수량") -> 기준수량 | G28: 445.25
A29: 15 | B29: 20 | C29: =C28 -> 9 | F29: =IF(D28="","","현재수량") -> 현재수량
A30: 16 | B30: 21 | C30: =IF(B19="","",B19) -> 10 | D30: =IF(C30="",(IF(AND(C28<>"",D28<>"")=TRUE,"지붕층",IF(AND(C28="",D28="지붕층")=TRUE,"옥탑층",""))),C30) -> 10 | F30: =IF(D30="","","기준수량") -> 기준수량 | G30: 445.25
A31: 17 | B31: 22 | C31: =C30 -> 10 | F31: =IF(D30="","","현재수량") -> 현재수량
A32: 18 | B32: 23 | C32: =IF(B20="","",B20) -> 11 | D32: =IF(C32="",(IF(AND(C30<>"",D30<>"")=TRUE,"지붕층",IF(AND(C30="",D30="지붕층")=TRUE,"옥탑층",""))),C32) -> 11 | F32: =IF(D32="","","기준수량") -> 기준수량 | G32: 445.25
A33: 19 | B33: 24 | C33: =C32 -> 11 | F33: =IF(D32="","","현재수량") -> 현재수량
A34: 20 | B34: 25 | C34: =IF(B21="","",B21) -> 12 | D34: =IF(C34="",(IF(AND(C32<>"",D32<>"")=TRUE,"지붕층",IF(AND(C32="",D32="지붕층")=TRUE,"옥탑층",""))),C34) -> 12 | F34: =IF(D34="","","기준수량") -> 기준수량 | G34: 445.25
A35: 21 | B35: 26 | C35: =C34 -> 12 | F35: =IF(D34="","","현재수량") -> 현재수량
A36: 22 | B36: 27 | C36: =IF(B22="","",B22) -> 13 | D36: =IF(C36="",(IF(AND(C34<>"",D34<>"")=TRUE,"지붕층",IF(AND(C34="",D34="지붕층")=TRUE,"옥탑층",""))),C36) -> 13 | F36: =IF(D36="","","기준수량") -> 기준수량 | G36: 445.25
A37: 23 | B37: 28 | C37: =C36 -> 13 | F37: =IF(D36="","","현재수량") -> 현재수량
A38: 24 | B38: 29 | C38: =IF(B23="","",B23) -> 14 | D38: =IF(C38="",(IF(AND(C36<>"",D36<>"")=TRUE,"지붕층",IF(AND(C36="",D36="지붕층")=TRUE,"옥탑층",""))),C38) -> 14 | F38: =IF(D38="","","기준수량") -> 기준수량 | G38: 445.25
A39: 25 | C39: =C38 -> 14 | F39: =IF(D38="","","현재수량") -> 현재수량
A40: 26 | C40: =IF(B24="","",B24) -> 15 | D40: =IF(C40="",(IF(AND(C38<>"",D38<>"")=TRUE,"지붕층",IF(AND(C38="",D38="지붕층")=TRUE,"옥탑층",""))),C40) -> 15 | F40: =IF(D40="","","기준수량") -> 기준수량 | G40: 445.25
A41: 27 | C41: =C40 -> 15 | F41: =IF(D40="","","현재수량") -> 현재수량
A42: 28 | C42: =IF(B25="","",B25) -> 16 | D42: =IF(C42="",(IF(AND(C40<>"",D40<>"")=TRUE,"지붕층",IF(AND(C40="",D40="지붕층")=TRUE,"옥탑층",""))),C42) -> 16 | F42: =IF(D42="","","기준수량") -> 기준수량 | G42: 445.25
A43: 29 | C43: =C42 -> 16 | F43: =IF(D42="","","현재수량") -> 현재수량
C44: =IF(B26="","",B26) -> 17 | D44: =IF(C44="",(IF(AND(C42<>"",D42<>"")=TRUE,"지붕층",IF(AND(C42="",D42="지붕층")=TRUE,"옥탑층",""))),C44) -> 17 | F44: =IF(D44="","","기준수량") -> 기준수량 | G44: 407.51
C45: =C44 -> 17 | F45: =IF(D44="","","현재수량") -> 현재수량 | G45: 1
C46: =IF(B27="","",B27) -> 18 | D46: =IF(C46="",(IF(AND(C44<>"",D44<>"")=TRUE,"지붕층",IF(AND(C44="",D44="지붕층")=TRUE,"옥탑층",""))),C46) -> 18 | F46: =IF(D46="","","기준수량") -> 기준수량 | G46: 222.24
C47: =C46 -> 18 | F47: =IF(D46="","","현재수량") -> 현재수량 | G47: 15
C48: =IF(B28="","",B28) -> 19 | D48: =IF(C48="",(IF(AND(C46<>"",D46<>"")=TRUE,"지붕층",IF(AND(C46="",D46="지붕층")=TRUE,"옥탑층",""))),C48) -> 19 | F48: =IF(D48="","","기준수량") -> 기준수량 | G48: 222.24
C49: =C48 -> 19 | F49: =IF(D48="","","현재수량") -> 현재수량 | G49: 1
C50: =IF(B29="","",B29) -> 20 | D50: =IF(C50="",(IF(AND(C48<>"",D48<>"")=TRUE,"지붕층",IF(AND(C48="",D48="지붕층")=TRUE,"옥탑층",""))),C50) -> 20 | F50: =IF(D50="","","기준수량") -> 기준수량 | G50: 222.24
C51: =C50 -> 20 | F51: =IF(D50="","","현재수량") -> 현재수량 | G51: 1
C52: =IF(B30="","",B30) -> 21 | D52: =IF(C52="",(IF(AND(C50<>"",D50<>"")=TRUE,"지붕층",IF(AND(C50="",D50="지붕층")=TRUE,"옥탑층",""))),C52) -> 21 | F52: =IF(D52="","","기준수량") -> 기준수량 | G52: 222.24
C53: =C52 -> 21 | F53: =IF(D52="","","현재수량") -> 현재수량 | G53: 1
C54: =IF(B31="","",B31) -> 22 | D54: =IF(C54="",(IF(AND(C52<>"",D52<>"")=TRUE,"지붕층",IF(AND(C52="",D52="지붕층")=TRUE,"옥탑층",""))),C54) -> 22 | F54: =IF(D54="","","기준수량") -> 기준수량 | G54: 222.24
C55: =C54 -> 22 | F55: =IF(D54="","","현재수량") -> 현재수량 | G55: 1
C56: =IF(B32="","",B32) -> 23 | D56: =IF(C56="",(IF(AND(C54<>"",D54<>"")=TRUE,"지붕층",IF(AND(C54="",D54="지붕층")=TRUE,"옥탑층",""))),C56) -> 23 | F56: =IF(D56="","","기준수량") -> 기준수량 | G56: 185.37
C57: =C56 -> 23 | F57: =IF(D56="","","현재수량") -> 현재수량 | G57: 1
C58: =IF(B33="","",B33) -> 24 | D58: =IF(C58="",(IF(AND(C56<>"",D56<>"")=TRUE,"지붕층",IF(AND(C56="",D56="지붕층")=TRUE,"옥탑층",""))),C58) -> 24 | F58: =IF(D58="","","기준수량") -> 기준수량
C59: =C58 -> 24 | F59: =IF(D58="","","현재수량") -> 현재수량
C60: =IF(B34="","",B34) -> 25 | D60: =IF(C60="",(IF(AND(C58<>"",D58<>"")=TRUE,"지붕층",IF(AND(C58="",D58="지붕층")=TRUE,"옥탑층",""))),C60) -> 25 | F60: =IF(D60="","","기준수량") -> 기준수량
C61: =C60 -> 25 | F61: =IF(D60="","","현재수량") -> 현재수량
C62: =IF(B35="","",B35) -> 26 | D62: =IF(C62="",(IF(AND(C60<>"",D60<>"")=TRUE,"지붕층",IF(AND(C60="",D60="지붕층")=TRUE,"옥탑층",""))),C62) -> 26 | F62: =IF(D62="","","기준수량") -> 기준수량
C63: =C62 -> 26 | F63: =IF(D62="","","현재수량") -> 현재수량
C64: =IF(B36="","",B36) -> 27 | D64: =IF(C64="",(IF(AND(C62<>"",D62<>"")=TRUE,"지붕층",IF(AND(C62="",D62="지붕층")=TRUE,"옥탑층",""))),C64) -> 27 | F64: =IF(D64="","","기준수량") -> 기준수량
C65: =C64 -> 27 | F65: =IF(D64="","","현재수량") -> 현재수량
C66: =IF(B37="","",B37) -> 28 | D66: =IF(C66="",(IF(AND(C64<>"",D64<>"")=TRUE,"지붕층",IF(AND(C64="",D64="지붕층")=TRUE,"옥탑층",""))),C66) -> 28 | F66: =IF(D66="","","기준수량") -> 기준수량
C67: =C66 -> 28 | F67: =IF(D66="","","현재수량") -> 현재수량
C68: =IF(B38="","",B38) -> 29 | D68: =IF(C68="",(IF(AND(C66<>"",D66<>"")=TRUE,"지붕층",IF(AND(C66="",D66="지붕층")=TRUE,"옥탑층",""))),C68) -> 29 | F68: =IF(D68="","","기준수량") -> 기준수량
C69: =C68 -> 29 | F69: =IF(D68="","","현재수량") -> 현재수량
C70: =IF(B39="","",B39) | D70: =IF(C70="",(IF(AND(C68<>"",D68<>"")=TRUE,"지붕층",IF(AND(C68="",D68="지붕층")=TRUE,"옥탑층",""))),C70) -> 지붕층 | F70: =IF(D70="","","기준수량") -> 기준수량
C71: =C70 | F71: =IF(D70="","","현재수량") -> 현재수량
C72: =IF(B40="","",B40) | D72: =IF(C72="",(IF(AND(C70<>"",D70<>"")=TRUE,"지붕층",IF(AND(C70="",D70="지붕층")=TRUE,"옥탑층",""))),C72) -> 옥탑층 | F72: =IF(D72="","","기준수량") -> 기준수량
C73: =C72 | F73: =IF(D72="","","현재수량") -> 현재수량
C74: =IF(B41="","",B41) | D74: =IF(C74="",(IF(AND(C72<>"",D72<>"")=TRUE,"지붕층",IF(AND(C72="",D72="지붕층")=TRUE,"옥탑층",""))),C74) | F74: =IF(D74="","","기준수량")
C75: =C74 | F75: =IF(D74="","","현재수량")
C76: =IF(B42="","",B42) | D76: =IF(C76="",(IF(AND(C74<>"",D74<>"")=TRUE,"지붕층",IF(AND(C74="",D74="지붕층")=TRUE,"옥탑층",""))),C76) | F76: =IF(D76="","","기준수량")
C77: =C76 | F77: =IF(D76="","","현재수량")
C78: =IF(B43="","",B43) | D78: =IF(C78="",(IF(AND(C76<>"",D76<>"")=TRUE,"지붕층",IF(AND(C76="",D76="지붕층")=TRUE,"옥탑층",""))),C78) | F78: =IF(D78="","","기준수량")
C79: =C78 | F79: =IF(D78="","","현재수량")
C80: =IF(B44="","",B44) | D80: =IF(C80="",(IF(AND(C78<>"",D78<>"")=TRUE,"지붕층",IF(AND(C78="",D78="지붕층")=TRUE,"옥탑층",""))),C80) | F80: =IF(D80="","","기준수량")
C81: =C80 | F81: =IF(D80="","","현재수량")
C82: =IF(B45="","",B45) | D82: =IF(C82="",(IF(AND(C80<>"",D80<>"")=TRUE,"지붕층",IF(AND(C80="",D80="지붕층")=TRUE,"옥탑층",""))),C82) | F82: =IF(D82="","","기준수량")
C83: =C82 | F83: =IF(D82="","","현재수량")
C84: =IF(B46="","",B46) | D84: =IF(C84="",(IF(AND(C82<>"",D82<>"")=TRUE,"지붕층",IF(AND(C82="",D82="지붕층")=TRUE,"옥탑층",""))),C84) | F84: =IF(D84="","","기준수량")
C85: =C84 | F85: =IF(D84="","","현재수량")
C86: =IF(B47="","",B47) | D86: =IF(C86="",(IF(AND(C84<>"",D84<>"")=TRUE,"지붕층",IF(AND(C84="",D84="지붕층")=TRUE,"옥탑층",""))),C86) | F86: =IF(D86="","","기준수량")
C87: =C86 | F87: =IF(D86="","","현재수량")
C88: =IF(B48="","",B48) | D88: =IF(C88="",(IF(AND(C86<>"",D86<>"")=TRUE,"지붕층",IF(AND(C86="",D86="지붕층")=TRUE,"옥탑층",""))),C88) | F88: =IF(D88="","","기준수량")
C89: =C88 | F89: =IF(D88="","","현재수량")
C90: =IF(B49="","",B49) | D90: =IF(C90="",(IF(AND(C88<>"",D88<>"")=TRUE,"지붕층",IF(AND(C88="",D88="지붕층")=TRUE,"옥탑층",""))),C90) | F90: =IF(D90="","","기준수량")
C91: =C90 | F91: =IF(D90="","","현재수량")
C92: =IF(B50="","",B50) | D92: =IF(C92="",(IF(AND(C90<>"",D90<>"")=TRUE,"지붕층",IF(AND(C90="",D90="지붕층")=TRUE,"옥탑층",""))),C92) | F92: =IF(D92="","","기준수량")
C93: =C92 | F93: =IF(D92="","","현재수량")
C94: =IF(B51="","",B51) | D94: =IF(C94="",(IF(AND(C92<>"",D92<>"")=TRUE,"지붕층",IF(AND(C92="",D92="지붕층")=TRUE,"옥탑층",""))),C94) | F94: =IF(D94="","","기준수량")
C95: =C94 | F95: =IF(D94="","","현재수량")
C96: =IF(B52="","",B52) | D96: =IF(C96="",(IF(AND(C94<>"",D94<>"")=TRUE,"지붕층",IF(AND(C94="",D94="지붕층")=TRUE,"옥탑층",""))),C96) | F96: =IF(D96="","","기준수량")
C97: =C96 | F97: =IF(D96="","","현재수량")
C98: =IF(B53="","",B53) | D98: =IF(C98="",(IF(AND(C96<>"",D96<>"")=TRUE,"지붕층",IF(AND(C96="",D96="지붕층")=TRUE,"옥탑층",""))),C98) | F98: =IF(D98="","","기준수량")
C99: =C98 | F99: =IF(D98="","","현재수량")
C100: =IF(B54="","",B54) | D100: =IF(C100="",(IF(AND(C98<>"",D98<>"")=TRUE,"지붕층",IF(AND(C98="",D98="지붕층")=TRUE,"옥탑층",""))),C100) | F100: =IF(D100="","","기준수량")
...

Sheet 산출표(102동)
D1: 101
D2: 현장명 : | F2: =기본정보작성!#REF! -> #REF! | L2: =기본정보작성!#REF! -> #REF!
D3: 시설별 | P3: 소방용수설비 | T3: 피난ㆍ방화설비
A4: {=_xlfn.SEQUENCE(기본정보작성!J3,1,-기본정보작성!J3,1)} -> -2 | H4: 송수구 | I4: ='산출표(동총괄)'!I4 -> 옥내소화전 | J4: 스프링클러 | K4: 자동화재탐지 | N4: ='산출표(동총괄)'!N4 -> 비상조명등 | P4: ='산출표(동총괄)'!P4 -> 상수도소화용수 | Q4: ='산출표(동총괄)'!Q4 -> 소화수조 | R4: ='산출표(동총괄)'!R4 -> 저수조 | S4: ='산출표(동총괄)'!S4 -> 기타 | T4: 방화셔터 | U4: 회로 | V4: 감지기
A5: -1 | D5: 층구분 | F5: 구 분 / 종 별 | G5: 바닥면적 (㎡) | J5: 송수구 | K5: 수신기 | L5: 회로수 | M5: ='산출표(동총괄)'!M5 -> 시각경보기 | N5: ='산출표(동총괄)'!N5 -> 비상조명등 | O5: ='산출표(동총괄)'!O5 -> 휴대용비상조명
D6: 102동 | F6: 기준수량(합계) | G6: =SUMIF(F8:$G$139,F8,G8:G139) -> 15863.39 | H6: =IF(SUMIF($F8:G$139,$F$8,H8:H139)=0,"",SUMIF($F8:G$139,$F$8,H8:H139)) | I6: =IF(SUMIF($F8:G$139,$F$8,I8:I139)=0,"",SUMIF($F8:G$139,$F$8,I8:I139)) | J6: =IF(SUMIF($F8:H$139,$F$8,J8:J139)=0,"",SUMIF($F8:H$139,$F$8,J8:J139)) | K6: =IF(SUMIF($F8:J$139,$F$8,K8:K139)=0,"",SUMIF($F8:J$139,$F$8,K8:K139)) | L6: =IF(SUMIF($F8:K$139,$F$8,L8:L139)=0,"",SUMIF($F8:K$139,$F$8,L8:L139)) | M6: =IF(SUMIF($F8:K$139,$F$8,M8:M139)=0,"",SUMIF($F8:K$139,$F$8,M8:M139)) | N6: =IF(SUMIF($F8:M$139,$F$8,N8:N139)=0,"",SUMIF($F8:M$139,$F$8,N8:N139)) | O6: =IF(SUMIF($F8:M$139,$F$8,O8:O139)=0,"",SUMIF($F8:M$139,$F$8,O8:O139)) | P6: =IF(SUMIF($F8:N$139,$F$8,P8:P139)=0,"",SUMIF($F8:N$139,$F$8,P8:P139)) | Q6: =IF(SUMIF($F8:O$139,$F$8,Q8:Q139)=0,"",SUMIF($F8:O$139,$F$8,Q8:Q139)) | R6: =IF(SUMIF($F8:P$139,$F$8,R8:R139)=0,"",SUMIF($F8:P$139,$F$8,R8:R139)) | S6: =IF(SUMIF($F8:Q$139,$F$8,S8:S139)=0,"",SUMIF($F8:Q$139,$F$8,S8:S139)) | T6: =IF(SUMIF($F8:S$139,$F$8,T8:T139)=0,"",SUMIF($F8:S$139,$F$8,T8:T139)) | U6: =IF(SUMIF($F8:S$139,$F$8,U8:U139)=0,"",SUMIF($F8:S$139,$F$8,U8:U139)) | V6: =IF(SUMIF($F8:T$139,$F$8,V8:V139)=0,"",SUMIF($F8:T$139,$F$8,V8:V139))
F7: 현재수량(합계) | G7: =SUMIF($F$9:$F$139,$F$8,G8:G139) -> 16 | H7: =IF(SUMIF($F$8:$F$139,$F$9,H8:H139)=0,"",SUMIF($F$8:$F$139,$F$9,H8:H139)) | I7: =IF(SUMIF($F$8:$F$139,$F$9,I8:I139)=0,"",SUMIF($F$8:$F$139,$F$9,I8:I139)) | J7: =IF(SUMIF($F$8:$F$139,$F$9,J8:J139)=0,"",SUMIF($F$8:$F$139,$F$9,J8:J139)) | K7: =IF(SUMIF($F$8:$F$139,$F$9,K8:K139)=0,"",SUMIF($F$8:$F$139,$F$9,K8:K139)) | L7: =IF(SUMIF($F$8:$F$139,$F$9,L8:L139)=0,"",SUMIF($F$8:$F$139,$F$9,L8:L139)) | M7: =IF(SUMIF($F$8:$F$139,$F$9,M8:M139)=0,"",SUMIF($F$8:$F$139,$F$9,M8:M139)) | N7: =IF(SUMIF($F$8:$F$139,$F$9,N8:N139)=0,"",SUMIF($F$8:$F$139,$F$9,N8:N139)) | O7: =IF(SUMIF($F$8:$F$139,$F$9,O8:O139)=0,"",SUMIF($F$8:$F$139,$F$9,O8:O139)) | ... V7: =IF(SUMIF($F$8:$F$139,$F$9,V8:V139)=0,"",SUMIF($F$8:$F$139,$F$9,V8:V139))
B8: {=IF(_xlfn._xlws.SORT(A4:A90)=0,"",_xlfn._xlws.SORT(A4:A90))} -> -2 | C8: =IF(B8="","",B8) -> -2 | D8: =IF(C8="",(IF(AND(C6<>"",D6<>"")=TRUE,"지붕층",IF(AND(C6="",D6="지붕층")=TRUE,"옥탑층",""))),C8) -> -2 | F8: =IF(D8="","","기준수량") -> 기준수량
B9: -1 | C9: =C8 -> -2 | F9: =IF(D8="","","현재수량") -> 현재수량
B10: 1 | C10: =IF(B9="","",B9) -> -1 | D10: =IF(C10="",(IF(AND(C8<>"",D8<>"")=TRUE,"지붕층",IF(AND(C8="",D8="지붕층")=TRUE,"옥탑층",""))),C10) -> -1 | F10: =IF(D10="","","기준수량") -> 기준수량
B11: 2 | C11: =C10 -> -1 | F11: =IF(D10="","","현재수량") -> 현재수량
B12: 3 | C12: =IF(B10="","",B10) -> 1 | D12: =IF(C12="",(IF(AND(C10<>"",D10<>"")=TRUE,"지붕층",IF(AND(C10="",D10="지붕층")=TRUE,"옥탑층",""))),C12) -> 1 | F12: =IF(D12="","","기준수량") -> 기준수량 | G12: 133.7
B13: 4 | C13: =C12 -> 1 | F13: =IF(D12="","","현재수량") -> 현재수량 | G13: 2
B14: 5 | C14: =IF(B11="","",B11) -> 2 | D14: =IF(C14="",(IF(AND(C12<>"",D12<>"")=TRUE,"지붕층",IF(AND(C12="",D12="지붕층")=TRUE,"옥탑층",""))),C14) -> 2 | F14: =IF(D14="","","기준수량") -> 기준수량 | G14: 624.69
A15: {=_xlfn.SEQUENCE(기본정보작성!M3,1,1,1)} -> 1 | B15: 6 | C15: =C14 -> 2 | F15: =IF(D14="","","현재수량") -> 현재수량
A16: 2 | B16: 7 | C16: =IF(B12="","",B12) -> 3 | D16: =IF(C16="",(IF(AND(C14<>"",D14<>"")=TRUE,"지붕층",IF(AND(C14="",D14="지붕층")=TRUE,"옥탑층",""))),C16) -> 3 | F16: =IF(D16="","","기준수량") -> 기준수량 | G16: 624.69
A17: 3 | B17: 8 | C17: =C16 -> 3 | F17: =IF(D16="","","현재수량") -> 현재수량
A18: 4 | B18: 9 | C18: =IF(B13="","",B13) -> 4 | D18: =IF(C18="",(IF(AND(C16<>"",D16<>"")=TRUE,"지붕층",IF(AND(C16="",D16="지붕층")=TRUE,"옥탑층",""))),C18) -> 4 | F18: =IF(D18="","","기준수량") -> 기준수량 | G18: 624.69
A19: 5 | B19: 10 | C19: =C18 -> 4 | F19: =IF(D18="","","현재수량") -> 현재수량
A20: 6 | B20: 11 | C20: =IF(B14="","",B14) -> 5 | D20: =IF(C20="",(IF(AND(C18<>"",D18<>"")=TRUE,"지붕층",IF(AND(C18="",D18="지붕층")=TRUE,"옥탑층",""))),C20) -> 5 | F20: =IF(D20="","","기준수량") -> 기준수량 | G20: 624.69
A21: 7 | B21: 12 | C21: =C20 -> 5 | F21: =IF(D20="","","현재수량") -> 현재수량
A22: 8 | B22: 13 | C22: =IF(B15="","",B15) -> 6 | D22: =IF(C22="",(IF(AND(C20<>"",D20<>"")=TRUE,"지붕층",IF(AND(C20="",D20="지붕층")=TRUE,"옥탑층",""))),C22) -> 6 | F22: =IF(D22="","","기준수량") -> 기준수량 | G22: 624.69
A23: 9 | B23: 14 | C23: =C22 -> 6 | F23: =IF(D22="","","현재수량") -> 현재수량
A24: 10 | B24: 15 | C24: =IF(B16="","",B16) -> 7 | D24: =IF(C24="",(IF(AND(C22<>"",D22<>"")=TRUE,"지붕층",IF(AND(C22="",D22="지붕층")=TRUE,"옥탑층",""))),C24) -> 7 | F24: =IF(D24="","","기준수량") -> 기준수량 | G24: 624.69
A25: 11 | B25: 16 | C25: =C24 -> 7 | F25: =IF(D24="","","현재수량") -> 현재수량
A26: 12 | B26: 17 | C26: =IF(B17="","",B17) -> 8 | D26: =IF(C26="",(IF(AND(C24<>"",D24<>"")=TRUE,"지붕층",IF(AND(C24="",D24="지붕층")=TRUE,"옥탑층",""))),C26) -> 8 | F26: =IF(D26="","","기준수량") -> 기준수량 | G26: 624.69
A27: 13 | B27: 18 | C27: =C26 -> 8 | F27: =IF(D26="","","현재수량") -> 현재수량
A28: 14 | B28: 19 | C28: =IF(B18="","",B18) -> 9 | D28: =IF(C28="",(IF(AND(C26<>"",D26<>"")=TRUE,"지붕층",IF(AND(C26="",D26="지붕층")=TRUE,"옥탑층",""))),C28) -> 9 | F28: =IF(D28="","","기준수량") -> 기준수량 | G28: 624.69
A29: 15 | B29: 20 | C29: =C28 -> 9 | F29: =IF(D28="","","현재수량") -> 현재수량
A30: 16 | B30: 21 | C30: =IF(B19="","",B19) -> 10 | D30: =IF(C30="",(IF(AND(C28<>"",D28<>"")=TRUE,"지붕층",IF(AND(C28="",D28="지붕층")=TRUE,"옥탑층",""))),C30) -> 10 | F30: =IF(D30="","","기준수량") -> 기준수량 | G30: 624.69
A31: 17 | B31: 22 | C31: =C30 -> 10 | F31: =IF(D30="","","현재수량") -> 현재수량
A32: 18 | B32: 23 | C32: =IF(B20="","",B20) -> 11 | D32: =IF(C32="",(IF(AND(C30<>"",D30<>"")=TRUE,"지붕층",IF(AND(C30="",D30="지붕층")=TRUE,"옥탑층",""))),C32) -> 11 | F32: =IF(D32="","","기준수량") -> 기준수량 | G32: 624.69
A33: 19 | B33: 24 | C33: =C32 -> 11 | F33: =IF(D32="","","현재수량") -> 현재수량
A34: 20 | B34: 25 | C34: =IF(B21="","",B21) -> 12 | D34: =IF(C34="",(IF(AND(C32<>"",D32<>"")=TRUE,"지붕층",IF(AND(C32="",D32="지붕층")=TRUE,"옥탑층",""))),C34) -> 12 | F34: =IF(D34="","","기준수량") -> 기준수량 | G34: 624.69
A35: 21 | B35: 26 | C35: =C34 -> 12 | F35: =IF(D34="","","현재수량") -> 현재수량
A36: 22 | B36: 27 | C36: =IF(B22="","",B22) -> 13 | D36: =IF(C36="",(IF(AND(C34<>"",D34<>"")=TRUE,"지붕층",IF(AND(C34="",D34="지붕층")=TRUE,"옥탑층",""))),C36) -> 13 | F36: =IF(D36="","","기준수량") -> 기준수량 | G36: 624.69
A37: 23 | B37: 28 | C37: =C36 -> 13 | F37: =IF(D36="","","현재수량") -> 현재수량
A38: 24 | B38: 29 | C38: =IF(B23="","",B23) -> 14 | D38: =IF(C38="",(IF(AND(C36<>"",D36<>"")=TRUE,"지붕층",IF(AND(C36="",D36="지붕층")=TRUE,"옥탑층",""))),C38) -> 14 | F38: =IF(D38="","","기준수량") -> 기준수량 | G38: 624.69
A39: 25 | C39: =C38 -> 14 | F39: =IF(D38="","","현재수량") -> 현재수량
A40: 26 | C40: =IF(B24="","",B24) -> 15 | D40: =IF(C40="",(IF(AND(C38<>"",D38<>"")=TRUE,"지붕층",IF(AND(C38="",D38="지붕층")=TRUE,"옥탑층",""))),C40) -> 15 | F40: =IF(D40="","","기준수량") -> 기준수량 | G40: 624.69
A41: 27 | C41: =C40 -> 15 | F41: =IF(D40="","","현재수량") -> 현재수량
A42: 28 | C42: =IF(B25="","",B25) -> 16 | D42: =IF(C42="",(IF(AND(C40<>"",D40<>"")=TRUE,"지붕층",IF(AND(C40="",D40="지붕층")=TRUE,"옥탑층",""))),C42) -> 16 | F42: =IF(D42="","","기준수량") -> 기준수량 | G42: 624.69
A43: 29 | C43: =C42 -> 16 | F43: =IF(D42="","","현재수량") -> 현재수량
C44: =IF(B26="","",B26) -> 17 | D44: =IF(C44="",(IF(AND(C42<>"",D42<>"")=TRUE,"지붕층",IF(AND(C42="",D42="지붕층")=TRUE,"옥탑층",""))),C44) -> 17 | F44: =IF(D44="","","기준수량") -> 기준수량 | G44: 624.69
C45: =C44 -> 17 | F45: =IF(D44="","","현재수량") -> 현재수량
C46: =IF(B27="","",B27) -> 18 | D46: =IF(C46="",(IF(AND(C44<>"",D44<>"")=TRUE,"지붕층",IF(AND(C44="",D44="지붕층")=TRUE,"옥탑층",""))),C46) -> 18 | F46: =IF(D46="","","기준수량") -> 기준수량 | G46: 624.69
C47: =C46 -> 18 | F47: =IF(D46="","","현재수량") -> 현재수량
C48: =IF(B28="","",B28) -> 19 | D48: =IF(C48="",(IF(AND(C46<>"",D46<>"")=TRUE,"지붕층",IF(AND(C46="",D46="지붕층")=TRUE,"옥탑층",""))),C48) -> 19 | F48: =IF(D48="","","기준수량") -> 기준수량 | G48: 624.69
C49: =C48 -> 19 | F49: =IF(D48="","","현재수량") -> 현재수량
C50: =IF(B29="","",B29) -> 20 | D50: =IF(C50="",(IF(AND(C48<>"",D48<>"")=TRUE,"지붕층",IF(AND(C48="",D48="지붕층")=TRUE,"옥탑층",""))),C50) -> 20 | F50: =IF(D50="","","기준수량") -> 기준수량 | G50: 624.69
C51: =C50 -> 20 | F51: =IF(D50="","","현재수량") -> 현재수량
C52: =IF(B30="","",B30) -> 21 | D52: =IF(C52="",(IF(AND(C50<>"",D50<>"")=TRUE,"지붕층",IF(AND(C50="",D50="지붕층")=TRUE,"옥탑층",""))),C52) -> 21 | F52: =IF(D52="","","기준수량") -> 기준수량 | G52: 624.69
C53: =C52 -> 21 | F53: =IF(D52="","","현재수량") -> 현재수량
C54: =IF(B31="","",B31) -> 22 | D54: =IF(C54="",(IF(AND(C52<>"",D52<>"")=TRUE,"지붕층",IF(AND(C52="",D52="지붕층")=TRUE,"옥탑층",""))),C54) -> 22 | F54: =IF(D54="","","기준수량") -> 기준수량 | G54: 624.69
C55: =C54 -> 22 | F55: =IF(D54="","","현재수량") -> 현재수량 | G55: 2
C56: =IF(B32="","",B32) -> 23 | D56: =IF(C56="",(IF(AND(C54<>"",D54<>"")=TRUE,"지붕층",IF(AND(C54="",D54="지붕층")=TRUE,"옥탑층",""))),C56) -> 23 | F56: =IF(D56="","","기준수량") -> 기준수량 | G56: 592.15
C57: =C56 -> 23 | F57: =IF(D56="","","현재수량") -> 현재수량 | G57: 2
C58: =IF(B33="","",B33) -> 24 | D58: =IF(C58="",(IF(AND(C56<>"",D56<>"")=TRUE,"지붕층",IF(AND(C56="",D56="지붕층")=TRUE,"옥탑층",""))),C58) -> 24 | F58: =IF(D58="","","기준수량") -> 기준수량 | G58: 416.58
C59: =C58 -> 24 | F59: =IF(D58="","","현재수량") -> 현재수량 | G59: 2
C60: =IF(B34="","",B34) -> 25 | D60: =IF(C60="",(IF(AND(C58<>"",D58<>"")=TRUE,"지붕층",IF(AND(C58="",D58="지붕층")=TRUE,"옥탑층",""))),C60) -> 25 | F60: =IF(D60="","","기준수량") -> 기준수량 | G60: 416.58
C61: =C60 -> 25 | F61: =IF(D60="","","현재수량") -> 현재수량 | G61: 2
C62: =IF(B35="","",B35) -> 26 | D62: =IF(C62="",(IF(AND(C60<>"",D60<>"")=TRUE,"지붕층",IF(AND(C60="",D60="지붕층")=TRUE,"옥탑층",""))),C62) -> 26 | F62: =IF(D62="","","기준수량") -> 기준수량 | G62: 416.58
C63: =C62 -> 26 | F63: =IF(D62="","","현재수량") -> 현재수량 | G63: 2
C64: =IF(B36="","",B36) -> 27 | D64: =IF(C64="",(IF(AND(C62<>"",D62<>"")=TRUE,"지붕층",IF(AND(C62="",D62="지붕층")=TRUE,"옥탑층",""))),C64) -> 27 | F64: =IF(D64="","","기준수량") -> 기준수량 | G64: 416.58
C65: =C64 -> 27 | F65: =IF(D64="","","현재수량") -> 현재수량 | G65: 2
C66: =IF(B37="","",B37) -> 28 | D66: =IF(C66="",(IF(AND(C64<>"",D64<>"")=TRUE,"지붕층",IF(AND(C64="",D64="지붕층")=TRUE,"옥탑층",""))),C66) -> 28 | F66: =IF(D66="","","기준수량") -> 기준수량 | G66: 352.73
C67: =C66 -> 28 | F67: =IF(D66="","","현재수량") -> 현재수량 | G67: 2
C68: =IF(B38="","",B38) -> 29 | D68: =IF(C68="",(IF(AND(C66<>"",D66<>"")=TRUE,"지붕층",IF(AND(C66="",D66="지붕층")=TRUE,"옥탑층",""))),C68) -> 29 | F68: =IF(D68="","","기준수량") -> 기준수량
C69: =C68 -> 29 | F69: =IF(D68="","","현재수량") -> 현재수량
C70: =IF(B39="","",B39) | D70: =IF(C70="",(IF(AND(C68<>"",D68<>"")=TRUE,"지붕층",IF(AND(C68="",D68="지붕층")=TRUE,"옥탑층",""))),C70) -> 지붕층 | F70: =IF(D70="","","기준수량") -> 기준수량
C71: =C70 | F71: =IF(D70="","","현재수량") -> 현재수량
C72: =IF(B40="","",B40) | D72: =IF(C72="",(IF(AND(C70<>"",D70<>"")=TRUE,"지붕층",IF(AND(C70="",D70="지붕층")=TRUE,"옥탑층",""))),C72) -> 옥탑층 | F72: =IF(D72="","","기준수량") -> 기준수량
C73: =C72 | F73: =IF(D72="","","현재수량") -> 현재수량
C74: =IF(B41="","",B41) | D74: =IF(C74="",(IF(AND(C72<>"",D72<>"")=TRUE,"지붕층",IF(AND(C72="",D72="지붕층")=TRUE,"옥탑층",""))),C74) | F74: =IF(D74="","","기준수량")
C75: =C74 | F75: =IF(D74="","","현재수량")
C76: =IF(B42="","",B42) | D76: =IF(C76="",(IF(AND(C74<>"",D74<>"")=TRUE,"지붕층",IF(AND(C74="",D74="지붕층")=TRUE,"옥탑층",""))),C76) | F76: =IF(D76="","","기준수량")
C77: =C76 | F77: =IF(D76="","","현재수량")
C78: =IF(B43="","",B43) | D78: =IF(C78="",(IF(AND(C76<>"",D76<>"")=TRUE,"지붕층",IF(AND(C76="",D76="지붕층")=TRUE,"옥탑층",""))),C78) | F78: =IF(D78="","","기준수량")
C79: =C78 | F79: =IF(D78="","","현재수량")
C80: =IF(B44="","",B44) | D80: =IF(C80="",(IF(AND(C78<>"",D78<>"")=TRUE,"지붕층",IF(AND(C78="",D78="지붕층")=TRUE,"옥탑층",""))),C80) | F80: =IF(D80="","","기준수량")
C81: =C80 | F81: =IF(D80="","","현재수량")
C82: =IF(B45="","",B45) | D82: =IF(C82="",(IF(AND(C80<>"",D80<>"")=TRUE,"지붕층",IF(AND(C80="",D80="지붕층")=TRUE,"옥탑층",""))),C82) | F82: =IF(D82="","","기준수량")
C83: =C82 | F83: =IF(D82="","","현재수량")
C84: =IF(B46="","",B46) | D84: =IF(C84="",(IF(AND(C82<>"",D82<>"")=TRUE,"지붕층",IF(AND(C82="",D82="지붕층")=TRUE,"옥탑층",""))),C84) | F84: =IF(D84="","","기준수량")
C85: =C84 | F85: =IF(D84="","","현재수량")
C86: =IF(B47="","",B47) | D86: =IF(C86="",(IF(AND(C84<>"",D84<>"")=TRUE,"지붕층",IF(AND(C84="",D84="지붕층")=TRUE,"옥탑층",""))),C86) | F86: =IF(D86="","","기준수량")
C87: =C86 | F87: =IF(D86="","","현재수량")
C88: =IF(B48="","",B48) | D88: =IF(C88="",(IF(AND(C86<>"",D86<>"")=TRUE,"지붕층",IF(AND(C86="",D86="지붕층")=TRUE,"옥탑층",""))),C88) | F88: =IF(D88="","","기준수량")
C89: =C88 | F89: =IF(D88="","","현재수량")
C90: =IF(B49="","",B49) | D90: =IF(C90="",(IF(AND(C88<>"",D88<>"")=TRUE,"지붕층",IF(AND(C88="",D88="지붕층")=TRUE,"옥탑층",""))),C90) | F90: =IF(D90="","","기준수량")
C91: =C90 | F91: =IF(D90="","","현재수량")
C92: =IF(B50="","",B50) | D92: =IF(C92="",(IF(AND(C90<>"",D90<>"")=TRUE,"지붕층",IF(AND(C90="",D90="지붕층")=TRUE,"옥탑층",""))),C92) | F92: =IF(D92="","","기준수량")
C93: =C92 | F93: =IF(D92="","","현재수량")
C94: =IF(B51="","",B51) | D94: =IF(C94="",(IF(AND(C92<>"",D92<>"")=TRUE,"지붕층",IF(AND(C92="",D92="지붕층")=TRUE,"옥탑층",""))),C94) | F94: =IF(D94="","","기준수량")
C95: =C94 | F95: =IF(D94="","","현재수량")
C96: =IF(B52="","",B52) | D96: =IF(C96="",(IF(AND(C94<>"",D94<>"")=TRUE,"지붕층",IF(AND(C94="",D94="지붕층")=TRUE,"옥탑층",""))),C96) | F96: =IF(D96="","","기준수량")
C97: =C96 | F97: =IF(D96="","","현재수량")
C98: =IF(B53="","",B53) | D98: =IF(C98="",(IF(AND(C96<>"",D96<>"")=TRUE,"지붕층",IF(AND(C96="",D96="지붕층")=TRUE,"옥탑층",""))),C98) | F98: =IF(D98="","","기준수량")
C99: =C98 | F99: =IF(D98="","","현재수량")
C100: =IF(B54="","",B54) | D100: =IF(C100="",(IF(AND(C98<>"",D98<>"")=TRUE,"지붕층",IF(AND(C98="",D98="지붕층")=TRUE,"옥탑층",""))),C100) | F100: =IF(D100="","","기준수량")
...

Sheet 산출표(주차장)
D1: 소방시설(기준·일람)산출표
D2: 현장명 : | F2: =기본정보작성!#REF! -> #REF! | L2: =기본정보작성!#REF! -> #REF!
D3: 시설별 | P3: 소방용수설비 | T3: 피난ㆍ방화설비
A4: {=_xlfn.SEQUENCE(기본정보작성!J3,1,-기본정보작성!J3,1)} -> -2 | H4: 송수구 | I4: ='산출표(동총괄)'!I4 -> 옥내소화전 | J4: 스프링클러 | K4: 자동화재탐지 | N4: ='산출표(동총괄)'!N4 -> 비상조명등 | P4: ='산출표(동총괄)'!P4 -> 상수도소화용수 | Q4: ='산출표(동총괄)'!Q4 -> 소화수조 | R4: ='산출표(동총괄)'!R4 -> 저수조 | S4: ='산출표(동총괄)'!S4 -> 기타 | T4: 방화셔터 | U4: 회로 | V4: 감지기
A5: -1 | D5: 층구분 | F5: 구 분 / 종 별 | G5: 바닥면적 (㎡) | J5: 송수구 | K5: 수신기 | L5: 회로수 | M5: ='산출표(동총괄)'!M5 -> 시각경보기 | N5: ='산출표(동총괄)'!N5 -> 비상조명등 | O5: ='산출표(동총괄)'!O5 -> 휴대용비상조명
D6: 주차장 | F6: 기준수량(합계) | G6: =SUMIF(F8:$G$79,F8,G8:G79) -> 44165.29 | H6: =IF(SUMIF($F8:G$79,$F$8,H8:H79)=0,"",SUMIF($F8:G$79,$F$8,H8:H79)) | I6: =IF(SUMIF($F8:G$79,$F$8,I8:I79)=0,"",SUMIF($F8:G$79,$F$8,I8:I79)) | J6: =IF(SUMIF($F8:H$79,$F$8,J8:J79)=0,"",SUMIF($F8:H$79,$F$8,J8:J79)) | K6: =IF(SUMIF($F8:J$79,$F$8,K8:K79)=0,"",SUMIF($F8:J$79,$F$8,K8:K79)) | L6: =IF(SUMIF($F8:K$79,$F$8,L8:L79)=0,"",SUMIF($F8:K$79,$F$8,L8:L79)) | M6: =IF(SUMIF($F8:K$79,$F$8,M8:M79)=0,"",SUMIF($F8:K$79,$F$8,M8:M79)) | N6: =IF(SUMIF($F8:M$79,$F$8,N8:N79)=0,"",SUMIF($F8:M$79,$F$8,N8:N79)) | O6: =IF(SUMIF($F8:M$79,$F$8,O8:O79)=0,"",SUMIF($F8:M$79,$F$8,O8:O79)) | P6: =IF(SUMIF($F8:N$79,$F$8,P8:P79)=0,"",SUMIF($F8:N$79,$F$8,P8:P79)) | Q6: =IF(SUMIF($F8:O$79,$F$8,Q8:Q79)=0,"",SUMIF($F8:O$79,$F$8,Q8:Q79)) | R6: =IF(SUMIF($F8:P$79,$F$8,R8:R79)=0,"",SUMIF($F8:P$79,$F$8,R8:R79)) | S6: =IF(SUMIF($F8:Q$79,$F$8,S8:S79)=0,"",SUMIF($F8:Q$79,$F$8,S8:S79)) | T6: =IF(SUMIF($F8:S$79,$F$8,T8:T79)=0,"",SUMIF($F8:S$79,$F$8,T8:T79)) | U6: =IF(SUMIF($F8:S$79,$F$8,U8:U79)=0,"",SUMIF($F8:S$79,$F$8,U8:U79)) | V6: =IF(SUMIF($F8:T$79,$F$8,V8:V79)=0,"",SUMIF($F8:T$79,$F$8,V8:V79))
F7: 현재수량(합계) | G7: =SUMIF($F$9:$F$79,$F$8,G8:G79) -> 0 | H7: =IF(SUMIF($F$8:$F$79,$F$9,H8:H79)=0,"",SUMIF($F$8:$F$79,$F$9,H8:H79)) | I7: =IF(SUMIF($F$8:$F$79,$F$9,I8:I79)=0,"",SUMIF($F$8:$F$79,$F$9,I8:I79)) | J7: =IF(SUMIF($F$8:$F$79,$F$9,J8:J79)=0,"",SUMIF($F$8:$F$79,$F$9,J8:J79)) | K7: =IF(SUMIF($F$8:$F$79,$F$9,K8:K79)=0,"",SUMIF($F$8:$F$79,$F$9,K8:K79)) | L7: =IF(SUMIF($F$8:$F$79,$F$9,L8:L79)=0,"",SUMIF($F$8:$F$79,$F$9,L8:L79)) | M7: =IF(SUMIF($F$8:$F$79,$F$9,M8:M79)=0,"",SUMIF($F$8:$F$79,$F$9,M8:M79)) | N7: =IF(SUMIF($F$8:$F$79,$F$9,N8:N79)=0,"",SUMIF($F$8:$F$79,$F$9,N8:N79)) | O7: =IF(SUMIF($F$8:$F$79,$F$9,O8:O79)=0,"",SUMIF($F$8:$F$79,$F$9,O8:O79)) | ... V7: =IF(SUMIF($F$8:$F$79,$F$9,V8:V79)=0,"",SUMIF($F$8:$F$79,$F$9,V8:V79))
B8: {=IF(_xlfn._xlws.SORT(A4:A33)=0,"",_xlfn._xlws.SORT(A4:A33))} -> -2 | C8: =IF(B8="","",B8) -> -2 | D8: 지하2층 | F8: =IF(D8="","","기준수량") -> 기준수량 | G8: 7890.44
B9: -1 | C9: =C8 -> -2 | D9: (109동) | F9: =IF(D8="","","현재수량") -> 현재수량
B10: 1 | C10: =IF(B9="","",B9) -> -1 | D10: 지하1층 | F10: =IF(D10="","","기준수량") -> 기준수량 | G10: 26040.62
B11: 2 | C11: =C10 -> -1 | D11: (110동) | F11: =IF(D10="","","현재수량") -> 현재수량
B12: 3 | C12: =IF(B10="","",B10) -> 1 | D12: 지상1층 | F12: =IF(D12="","","기준수량") -> 기준수량 | G12: 10234.23
B13: 4 | C13: =C12 -> 1 | D13: (111동) | F13: =IF(D12="","","현재수량") -> 현재수량 | G13: 8
B14: 5 | C14: =IF(B11="","",B11) -> 2
A15: {=_xlfn.SEQUENCE(기본정보작성!M3,1,1,1)} -> 1 | B15: 6 | C15: =C14 -> 2
A16: 2 | B16: 7 | C16: =IF(B12="","",B12) -> 3
A17: 3 | B17: 8 | C17: =C16 -> 3
A18: 4 | B18: 9
A19: 5 | B19: 10
A20: 6 | B20: 11
A21: 7 | B21: 12
A22: 8 | B22: 13
A23: 9 | B23: 14
A24: 10 | B24: 15
A25: 11 | B25: 16
A26: 12 | B26: 17
A27: 13 | B27: 18
A28: 14 | B28: 19
A29: 15
A30: 16
A31: 17
A32: 18
A33: 19
A34: 20
A35: 21
A36: 22
A37: 23
A38: 24
A39: 25
A40: 26
... A43: 29

Sheet 산출표(부대)
D1: 소방시설(기준·일람)산출표
D2: 현장명 : | F2: =기본정보작성!#REF! -> #REF! | L2: =기본정보작성!#REF! -> #REF!
D3: 시설별 | P3: 소방용수설비 | T3: 피난ㆍ방화설비
A4: {=_xlfn.SEQUENCE(기본정보작성!J3,1,-기본정보작성!J3,1)} -> -2 | H4: 송수구 | I4: ='산출표(동총괄)'!I4 -> 옥내소화전 | J4: 스프링클러 | K4: 자동화재탐지 | N4: ='산출표(동총괄)'!N4 -> 비상조명등 | P4: ='산출표(동총괄)'!P4 -> 상수도소화용수 | Q4: ='산출표(동총괄)'!Q4 -> 소화수조 | R4: ='산출표(동총괄)'!R4 -> 저수조 | S4: ='산출표(동총괄)'!S4 -> 기타 | T4: 방화셔터 | U4: 회로 | V4: 감지기
A5: -1 | D5: 층구분 | F5: 구 분 / 종 별 | G5: 바닥면적 (㎡) | J5: 송수구 | K5: 수신기 | L5: 회로수 | M5: ='산출표(동총괄)'!M5 -> 시각경보기 | N5: ='산출표(동총괄)'!N5 -> 비상조명등 | O5: ='산출표(동총괄)'!O5 -> 휴대용비상조명
D6: 부대복리 | F6: 기준수량(합계) | G6: {=SUM(ISEVEN(ROW(G8:G31))*G8:G31)} -> 2300.38 | H6: {=SUM(ISEVEN(ROW(H8:H31))*H8:H31)} -> 0 | I6: {=SUM(ISEVEN(ROW(I8:I31))*I8:I31)} -> 0 | J6: {=SUM(ISEVEN(ROW(J8:J31))*J8:J31)} -> 0 | K6: {=SUM(ISEVEN(ROW(K8:K31))*K8:K31)} -> 0 | L6: {=SUM(ISEVEN(ROW(L8:L31))*L8:L31)} -> 0 | M6: {=SUM(ISEVEN(ROW(M8:M31))*M8:M31)} -> 0 | N6: {=SUM(ISEVEN(ROW(N8:N31))*N8:N31)} -> 0 | ... V6: {=SUM(ISEVEN(ROW(V8:V31))*V8:V31)} -> 0
F7: 현재수량(합계) | G7: {=SUM(ISODD(ROW(G8:G31))*G8:G31)} -> 108 | H7: {=SUM(ISODD(ROW(H8:H31))*H8:H31)} -> 0 | I7: {=SUM(ISODD(ROW(I8:I31))*I8:I31)} -> 0 | J7: {=SUM(ISODD(ROW(J8:J31))*J8:J31)} -> 0 | K7: {=SUM(ISODD(ROW(K8:K31))*K8:K31)} -> 0 | L7: {=SUM(ISODD(ROW(L8:L31))*L8:L31)} -> 0 | M7: {=SUM(ISODD(ROW(M8:M31))*M8:M31)} -> 0 | N7: {=SUM(ISODD(ROW(N8:N31))*N8:N31)} -> 0 | ... V7: {=SUM(ISODD(ROW(V8:V31))*V8:V31)} -> 0
C8: =IF(B33="","",B33) | D8: 지하2층 | F8: =IF(D8="","","기준수량") -> 기준수량
C9: =C8 | D9: 사무실 | F9: =IF(D8="","","현재수량") -> 현재수량 | G9: 9
C10: =IF(B8="","",B8) | D10: 지하1층 | F10: =IF(D10="","","기준수량") -> 기준수량 | G10: 136.53
C11: =C10 | D11: 관리사무소 | F11: =IF(D10="","","현재수량") -> 현재수량 | G11: 9
C12: =IF(B9="","",B9) | D12: 지하1층 | F12: =IF(D12="","","기준수량") -> 기준수량 | G12: 69.53
A13: {=_xlfn.SEQUENCE(기본정보작성!#REF!,1,1,1)} -> #REF! | C13: =C12 | D13: 근로자휴게실 | F13: =IF(D12="","","현재수량") -> 현재수량 | G13: 9
C14: =IF(B10="","",B10) | D14: 지하1층 | F14: =IF(D14="","","기준수량") -> 기준수량 | G14: 34.18
C15: =C14 | D15: 경비실 | F15: =IF(D14="","","현재수량") -> 현재수량 | G15: 9
C16: =IF(B11="","",B11) | D16: 지상1층 | F16: =IF(D16="","","기준수량") -> 기준수량 | G16: 31.9
C17: =C16 | D17: 경비실 | F17: =IF(D16="","","현재수량") -> 현재수량 | G17: 9
B18: {=IF(_xlfn._xlws.SORT(A4:A31)=0,"",_xlfn._xlws.SORT(A4:A31))} -> -2 | C18: =IF(B18="","",B18) -> -2 | D18: 지하1층 | F18: =IF(D18="","","기준수량") -> 기준수량 | G18: 65.75
B19: -1 | C19: =C18 -> -2 | D19: MDF | F19: =IF(D18="","","현재수량") -> 현재수량 | G19: 9
B20: 1 | C20: =IF(B19="","",B19) -> -1 | D20: 지하1층 | F20: =IF(D20="","","기준수량") -> 기준수량 | G20: 62.22
B21: 2 | C21: =C20 -> -1 | D21: 방재실 | F21: =IF(D20="","","현재수량") -> 현재수량 | G21: 9
B22: 3 | C22: =IF(B20="","",B20) -> 1 | D22: 지하1층 | F22: =IF(D22="","","기준수량") -> 기준수량 | G22: 932.17
B23: 4 | C23: =C22 -> 1 | D23: 주민공동시설 | F23: =IF(D22="","","현재수량") -> 현재수량 | G23: 9
B24: 5 | C24: =IF(B21="","",B21) -> 2 | D24: 지하1층 | F24: =IF(D24="","","기준수량") -> 기준수량 | G24: 144.34
A25: {=_xlfn.SEQUENCE(기본정보작성!M3,1,1,1)} -> 1 | B25: 6 | C25: =C24 -> 2 | D25: 작은도서관 | F25: =IF(D24="","","현재수량") -> 현재수량 | G25: 9
A26: 2 | B26: 7 | C26: =IF(B22="","",B22) -> 3 | D26: 지상1층 | F26: =IF(D26="","","기준수량") -> 기준수량 | G26: 170.65
A27: 3 | B27: #REF! | C27: =C26 -> 3 | D27: 경로당 | F27: =IF(D26="","","현재수량") -> 현재수량 | G27: 9
A28: 4 | C28: =IF(B21="","",B21) -> 2 | D28: 지상1층 | F28: =IF(D28="","","기준수량") -> 기준수량 | G28: 383.06
A29: 5 | C29: =C28 -> 2 | D29: 어린이집 | F29: =IF(D28="","","현재수량") -> 현재수량 | G29: 9
A30: 6 | C30: =IF(B23="","",B23) -> 4 | D30: 지상2층 | F30: =IF(D30="","","기준수량") -> 기준수량 | G30: 270.05
A31: 7 | C31: =C30 -> 4 | D31: 다함께돌봄센터 | F31: =IF(D30="","","현재수량") -> 현재수량 | G31: 9
A32: 8
A33: 9
A34: 10
A35: 11
A36: 12
A37: 13
A38: 14
A39: 15
A40: 16
A41: 17
A42: 18
A43: 19
... A53: 29

Sheet 산출표(근생)
D1: 소방시설(기준·일람)산출표
D2: 현장명 : | F2: =기본정보작성!#REF! -> #REF! | L2: =기본정보작성!#REF! -> #REF!
D3: 시설별 | P3: 소방용수설비 | T3: 피난ㆍ방화설비
A4: {=_xlfn.SEQUENCE(기본정보작성!J3,1,-기본정보작성!J3,1)} -> -2 | H4: 송수구 | I4: ='산출표(동총괄)'!I4 -> 옥내소화전 | J4: 스프링클러 | K4: 자동화재탐지 | N4: ='산출표(동총괄)'!N4 -> 비상조명등 | P4: ='산출표(동총괄)'!P4 -> 상수도소화용수 | Q4: ='산출표(동총괄)'!Q4 -> 소화수조 | R4: ='산출표(동총괄)'!R4 -> 저수조 | S4: ='산출표(동총괄)'!S4 -> 기타 | T4: 방화셔터 | U4: 회로 | V4: 감지기
A5: -1 | D5: 층구분 | F5: 구 분 / 종 별 | G5: 바닥면적 (㎡) | J5: 송수구 | K5: 수신기 | L5: 회로수 | M5: ='산출표(동총괄)'!M5 -> 시각경보기 | N5: ='산출표(동총괄)'!N5 -> 비상조명등 | O5: ='산출표(동총괄)'!O5 -> 휴대용비상조명
D6: 근린생활시설 | F6: 기준수량(합계) | G6: {=SUM(ISEVEN(ROW(G8:G33))*G8:G33)} -> 439.73 | H6: {=SUM(ISEVEN(ROW(H8:H33))*H8:H33)} -> 0 | I6: {=SUM(ISEVEN(ROW(I8:I33))*I8:I33)} -> 0 | J6: {=SUM(ISEVEN(ROW(J8:J33))*J8:J33)} -> 0 | K6: {=SUM(ISEVEN(ROW(K8:K33))*K8:K33)} -> 0 | L6: {=SUM(ISEVEN(ROW(L8:L33))*L8:L33)} -> 0 | M6: {=SUM(ISEVEN(ROW(M8:M33))*M8:M33)} -> 0 | N6: {=SUM(ISEVEN(ROW(N8:N33))*N8:N33)} -> 0 | ... V6: {=SUM(ISEVEN(ROW(V8:V33))*V8:V33)} -> 0
F7: 현재수량(합계) | G7: {=SUM(ISODD(ROW(G8:G33))*G8:G33)} -> 18 | H7: {=SUM(ISODD(ROW(H8:H33))*H8:H33)} -> 0 | I7: {=SUM(ISODD(ROW(I8:I33))*I8:I33)} -> 0 | J7: {=SUM(ISODD(ROW(J8:J33))*J8:J33)} -> 0 | K7: {=SUM(ISODD(ROW(K8:K33))*K8:K33)} -> 0 | L7: {=SUM(ISODD(ROW(L8:L33))*L8:L33)} -> 0 | M7: {=SUM(ISODD(ROW(M8:M33))*M8:M33)} -> 0 | N7: {=SUM(ISODD(ROW(N8:N33))*N8:N33)} -> 0 | ... V7: {=SUM(ISODD(ROW(V8:V33))*V8:V33)} -> 0
B8: {=IF(_xlfn._xlws.SORT(#REF!)=0,"",_xlfn._xlws.SORT(#REF!))} -> #REF! | C8: =IF(B8="","",B8) -> #REF! | D8: 지상1층 | F8: =IF(D8="","","기준수량") -> 기준수량 | G8: 209.44
C9: =C8 -> #REF! | F9: =IF(D8="","","현재수량") -> 현재수량 | G9: 9
C10: =IF(B9="","",B9) | D10: 지상2층 | F10: =IF(D10="","","기준수량") -> 기준수량 | G10: 230.29
C11: =C10 | F11: =IF(D10="","","현재수량") -> 현재수량 | G11: 9
C12: =IF(B10="","",B10) | F12: =IF(D12="","","기준수량")
C13: =C12 | F13: =IF(D12="","","현재수량")
C14: =IF(B11="","",B11) | F14: =IF(D14="","","기준수량")
A15: {=_xlfn.SEQUENCE(기본정보작성!#REF!,1,1,1)} -> #REF! | C15: =C14 | F15: =IF(D14="","","현재수량")
C16: =IF(B12="","",B12) | F16: =IF(D16="","","기준수량")
C17: =C16 | F17: =IF(D16="","","현재수량")
C18: =IF(B13="","",B13) | F18: =IF(D18="","","기준수량")
C19: =C18 | F19: =IF(D18="","","현재수량")
B20: {=IF(_xlfn._xlws.SORT(A4:A33)=0,"",_xlfn._xlws.SORT(A4:A33))} -> -2 | C20: =IF(B20="","",B20) -> -2 | F20: =IF(D20="","","기준수량")
B21: -1 | C21: =C20 -> -2 | F21: =IF(D20="","","현재수량")
B22: 1 | C22: =IF(B21="","",B21) -> -1 | F22: =IF(D22="","","기준수량")
B23: 2 | C23: =C22 -> -1 | F23: =IF(D22="","","현재수량")
B24: 3 | C24: =IF(B22="","",B22) -> 1 | F24: =IF(D24="","","기준수량")
B25: 4 | C25: =C24 -> 1 | F25: =IF(D24="","","현재수량")
B26: 5 | C26: =IF(B23="","",B23) -> 2 | F26: =IF(D26="","","기준수량")
A27: {=_xlfn.SEQUENCE(기본정보작성!M3,1,1,1)} -> 1 | B27: 6 | C27: =C26 -> 2 | F27: =IF(D26="","","현재수량")
A28: 2 | B28: 7 | C28: =IF(B24="","",B24) -> 3 | F28: =IF(D28="","","기준수량")
A29: 3 | B29: #REF! | C29: =C28 -> 3 | F29: =IF(D28="","","현재수량")
A30: 4 | C30: =IF(B23="","",B23) -> 2 | F30: =IF(D30="","","기준수량")
A31: 5 | C31: =C30 -> 2 | F31: =IF(D30="","","현재수량")
A32: 6 | C32: =IF(B25="","",B25) -> 4 | F32: =IF(D32="","","기준수량")
A33: 7 | C33: =C32 -> 4 | F33: =IF(D32="","","현재수량")
A34: 8
A35: 9
A36: 10
A37: 11
A38: 12
A39: 13
A40: 14
A41: 15
A42: 16
A43: 17
A44: 18
A45: 19
... A55: 29
