Workbook

Sheet Sheet1
B2: 원본
B3: NO | D3: 종류 | I3: 구분 | L3: 수량 | M3: 금액
B4: =IF(L4="","",ROW()-3) -> 1 | D4: =IF(Sheet3!C6="","",Sheet3!C6) -> 과자류 | I4: =IF(Sheet3!D6="","",Sheet3!D6) -> 새우깡 | L4: =IF(Sheet3!E6="","",Sheet3!E6) -> 1 | M4: =IF(Sheet3!F6="","",Sheet3!F6) -> 1500
B5: =IF(L5="","",ROW()-3) -> 2 | D5: =IF(Sheet3!C7="","",Sheet3!C7) -> 과자류2 | I5: =IF(Sheet3!D7="","",Sheet3!D7) -> 새우깡2 | L5: =IF(Sheet3!E7="","",Sheet3!E7) -> 2 | M5: =IF(Sheet3!F7="","",Sheet3!F7) -> 3000
B6: =IF(L6="","",ROW()-3) | D6: =IF(Sheet3!C8="","",Sheet3!C8) | I6: =IF(Sheet3!D8="","",Sheet3!D8) | L6: =IF(Sheet3!E8="","",Sheet3!E8) | M6: =IF(Sheet3!F8="","",Sheet3!F8)
B7: =IF(L7="","",ROW()-3) | D7: =IF(Sheet3!C9="","",Sheet3!C9) | I7: =IF(Sheet3!D9="","",Sheet3!D9) | L7: =IF(Sheet3!E9="","",Sheet3!E9) | M7: =IF(Sheet3!F9="","",Sheet3!F9)
B8: =IF(L8="","",ROW()-3) | D8: =IF(Sheet3!C10="","",Sheet3!C10) | I8: =IF(Sheet3!D10="","",Sheet3!D10) | L8: =IF(Sheet3!E10="","",Sheet3!E10) | M8: =IF(Sheet3!F10="","",Sheet3!F10)
D9: 합 계 | L9: =SUM(L4:L8) -> 3 | P9: 테두리고정
B24: 변경
B25: NO | D25: 종류 | I25: 구분 | L25: 수량 | M25: 금액
B26: 1 | D26: 과자류 | I26: 새우깡 | L26: 1 | M26: 1500
B27: 2 | D27: 과자류2 | I27: 새우2 | L27: 2 | M27: 3000
D28: 합 계 | L28: =SUM(L26:L27) -> 3 | P28: 테두리고정
B29: =IF(L29="","",ROW()-3) | D29: =IF(Sheet3!C30="","",Sheet3!C30) | I29: =IF(Sheet3!D30="","",Sheet3!D30) | L29: =IF(Sheet3!E30="","",Sheet3!E30) | M29: =IF(Sheet3!F30="","",Sheet3!F30)
B30: =IF(L30="","",ROW()-3) | D30: =IF(Sheet3!C31="","",Sheet3!C31) | I30: =IF(Sheet3!D31="","",Sheet3!D31) | L30: =IF(Sheet3!E31="","",Sheet3!E31) | M30: =IF(Sheet3!F31="","",Sheet3!F31)
B31: =IF(L31="","",ROW()-3) | D31: =IF(Sheet3!C32="","",Sheet3!C32) | I31: =IF(Sheet3!D32="","",Sheet3!D32) | L31: =IF(Sheet3!E32="","",Sheet3!E32) | M31: =IF(Sheet3!F32="","",Sheet3!F32)

Sheet Sheet3
C5: 종류 | D5: 구분 | E5: 수량 | F5: 금액
C6: 과자류 | D6: 새우깡 | E6: 1 | F6: 1500
C7: 과자류2 | D7: 새우깡2 | E7: 2 | F7: 3000
