Workbook

Sheet Sheet2
C5: 원본 | F5: 변경
C6: 모델 | D6: 수량 | F6: 모델 | G6: 수량
C7: =Sheet1!C8 -> A | D7: =Sheet1!D8 -> 3 | F7: =Sheet1!C8 -> A | G7: =Sheet1!D8 -> 3
C8: =Sheet1!C9 -> B | D8: =Sheet1!D9 -> 2 | F8: =Sheet1!C9 -> B | G8: =Sheet1!D9 -> 2
C9: =Sheet1!C10 -> C | D9: =Sheet1!D10 -> 4 | F9: =Sheet1!C10 -> C | G9: =Sheet1!D10 -> 4
C10: =Sheet1!C11 -> D | D10: =Sheet1!D11 -> 1 | F10: =Sheet1!C11 -> D | G10: =Sheet1!D11 -> 1
C11: =Sheet1!C12 -> E | D11: =Sheet1!D12 -> 2 | F11: =Sheet1!C12 -> E | G11: =Sheet1!D12 -> 2
C12: =Sheet1!C13 -> F | D12: =Sheet1!D13 -> 5 | F12: =Sheet1!C13 -> F | G12: =Sheet1!D13 -> 5
C13: =Sheet1!C14 -> 0 | D13: =Sheet1!D14 -> 0 | F13: 합계 | G13: =SUM(G7:G12) -> 17
C14: =Sheet1!C15 -> 0 | D14: =Sheet1!D15 -> 0 | F14: =Sheet1!C14 -> 0 | G14: =Sheet1!D14 -> 0
C15: =Sheet1!C16 -> 0 | D15: =Sheet1!D16 -> 0 | F15: =Sheet1!C15 -> 0 | G15: =Sheet1!D15 -> 0
C16: =Sheet1!C17 -> 0 | D16: =Sheet1!D17 -> 0 | F16: =Sheet1!C16 -> 0 | G16: =Sheet1!D16 -> 0
C17: =Sheet1!C18 -> 0 | D17: =Sheet1!D18 -> 0 | F17: =Sheet1!C17 -> 0 | G17: =Sheet1!D17 -> 0
C18: =Sheet1!C19 -> 0 | D18: =Sheet1!D19 -> 0 | F18: =Sheet1!C18 -> 0 | G18: =Sheet1!D18 -> 0
C19: =Sheet1!C20 -> 0 | D19: =Sheet1!D20 -> 0 | F19: =Sheet1!C19 -> 0 | G19: =Sheet1!D19 -> 0
C20: =Sheet1!C21 -> 0 | D20: =Sheet1!D21 -> 0 | F20: =Sheet1!C20 -> 0 | G20: =Sheet1!D20 -> 0
C21: =Sheet1!C22 -> 0 | D21: =Sheet1!D22 -> 0 | F21: =Sheet1!C21 -> 0 | G21: =Sheet1!D21 -> 0
C22: =Sheet1!C23 -> 0 | D22: =Sheet1!D23 -> 0 | F22: =Sheet1!C22 -> 0 | G22: =Sheet1!D22 -> 0
C23: =Sheet1!C24 -> 0 | D23: =Sheet1!D24 -> 0 | F23: =Sheet1!C23 -> 0 | G23: =Sheet1!D23 -> 0
C24: 합계 | D24: =SUM(D7:D23) -> 17 | F24: =Sheet1!F24 -> 0 | G24: =Sheet1!G24 -> 0
D25: =Sheet1!D26 -> 0
D26: =Sheet1!D27 -> 0
D27: =Sheet1!D28 -> 0
D28: =Sheet1!D29 -> 0
D29: =Sheet1!D30 -> 0

Sheet Sheet1
C7: 모델 | D7: 수량
C8: A | D8: 3
C9: B | D9: 2
C10: C | D10: 4
C11: D | D11: 1
C12: E | D12: 2
C13: F | D13: 5
