Workbook

Sheet 사무실(A)
A1: 사무실 창고(A) 재고 현황 | M1: 256 | N1: 160
M2: 5 | N2: 8 | V2: =[1]총괄!P2 -> 44925
M3: =M1*M2 -> 1280 | N3: =N1*N2 -> 1280 | O3: =M3+N3 -> 2560 | P3: 15 | Q3: 4 | S3: =P3+Q3 -> 19 | T3: =O3-S3 -> 2541
A4: NO | B4: 브랜드 | C4: 제품명 | D4: 전일재고 | E4: 당일입고 | M4: 당일출고 | X4: 당일재고 | Y4: 비고
E5: 제조원 | F5: 파워물류 | G5: 레인보우 | H5: 홈쇼핑사 | I5: 기타 | J5: 리필본품화 | K5: 반품(B)선별 | L5: 반품(B)전환 | M5: 직택배 | N5: 고객 A/S | O5: 직송 | P5: 리필본품화 | Q5: 자사몰 | S5: 레인보우 | T5: 방송준비 | U5: 오프라인 | V5: 증정용 | W5: 홈쇼핑
C6: 총계 | D6: =+D170+D182+D196+D199+D209+D268+D157+D154+D136+D133+D131+D128+D123+D119+D116+D112+D106+D89+D101+D96+D42+D84+D71+D63+D48+D38+D56+D23+D31+D20+D17 -> 98424 | E6: =+E170+E182+E196+E199+E209+E268+E157+E154+E136+E133+E131+E128+E123+E119+E116+E112+E106+E89+E101+E96+E42+E84+E71+E63+E48+E38+E56+E23+E31+E20+E17 -> 0 | F6: =+F170+F182+F196+F199+F209+F268+F157+F154+F136+F133+F131+F128+F123+F119+F116+F112+F106+F89+F101+F96+F42+F84+F71+F63+F48+F38+F56+F23+F31+F20+F17 -> 0 | G6: =+G170+G182+G196+G199+G209+G268+G157+G154+G136+G133+G131+G128+G123+G119+G116+G112+G106+G89+G101+G96+G42+G84+G71+G63+G48+G38+G56+G23+G31+G20+G17 -> 15227 | H6: =+H170+H182+H196+H199+H209+H268+H157+H154+H136+H133+H131+H128+H123+H119+H116+H112+H106+H89+H101+H96+H42+H84+H71+H63+H48+H38+H56+H23+H31+H20+H17 -> 0 | I6: =+I170+I182+I196+I199+I209+I268+I157+I154+I136+I133+I131+I128+I123+I119+I116+I112+I106+I89+I101+I96+I42+I84+I71+I63+I48+I38+I56+I23+I31+I20+I17 -> 0 | J6: =+J170+J182+J196+J199+J209+J268+J157+J154+J136+J133+J131+J128+J123+J119+J116+J112+J106+J89+J101+J96+J42+J84+J71+J63+J48+J38+J56+J23+J31+J20+J17 -> 0 | K6: =+K170+K182+K196+K199+K209+K268+K157+K154+K136+K133+K131+K128+K123+K119+K116+K112+K106+K89+K101+K96+K42+K84+K71+K63+K48+K38+K56+K23+K31+K20+K17 -> 235 | ... X6: =+X170+X182+X196+X199+X209+X268+X157+X154+X136+X133+X131+X128+X123+X119+X116+X112+X106+X89+X101+X96+X42+X84+X71+X63+X48+X38+X56+X23+X31+X20+X17 -> 109738
A7: =A6+1 -> 1 | B7: 슬로우 테라피 | C7: 슬로우테라피 구슬 앰플 마스크 유칼립투스 진정(10개입) | D7: 43 | G7: =VLOOKUP(C7,[1]레인보우코리아!C:Q,10,0) -> 28 | H7: =VLOOKUP(C7,[1]신세계!D:O,9,0)+VLOOKUP(C7,[1]홈앤!C:N,9,0)+VLOOKUP(C7,[1]롯데!D:P,9,0)+VLOOKUP(C7,[1]현대!C:N,9,0)+VLOOKUP(C7,[1]GS!D:O,9,0)+VLOOKUP(C7,[1]CJ!D:O,9,0)+VLOOKUP(C7,[1]공영!D:O,9,0) -> 0 | K7: =VLOOKUP(C7,'[1]사무실(B)'!C:M,6,0) -> 0 | L7: =VLOOKUP(C7,'[1]사무실(B)'!C:M,7,0) -> 0 | Q7: 0 | W7: =VLOOKUP(C7,[1]신세계!D:O,4,0)+VLOOKUP(C7,[1]홈앤!C:N,4,0)+VLOOKUP(C7,[1]롯데!D:P,4,0)+VLOOKUP(C7,[1]현대!C:N,4,0)+VLOOKUP(C7,[1]GS!D:O,4,0)+VLOOKUP(C7,[1]CJ!D:O,4,0)+VLOOKUP(C7,[1]공영!D:O,4,0) -> 0 | X7: =D7+E7+F7+H7+G7+I7+J7+K7+L7-M7-N7-O7-P7-Q7-R7-T7-U7-V7-W7-S7 -> 71
A8: =A7+1 -> 2 | B8: 슬로우 테라피 | C8: 슬로우테라피 구슬 앰플 마스크 유칼립투스 진정 | D8: 219 | G8: =VLOOKUP(C8,[1]레인보우코리아!C:Q,10,0) -> 400 | H8: =VLOOKUP(C8,[1]신세계!D:O,9,0)+VLOOKUP(C8,[1]홈앤!C:N,9,0)+VLOOKUP(C8,[1]롯데!D:P,9,0)+VLOOKUP(C8,[1]현대!C:N,9,0)+VLOOKUP(C8,[1]GS!D:O,9,0)+VLOOKUP(C8,[1]CJ!D:O,9,0)+VLOOKUP(C8,[1]공영!D:O,9,0) -> 0 | K8: =VLOOKUP(C8,'[1]사무실(B)'!C:M,6,0) -> 0 | L8: =VLOOKUP(C8,'[1]사무실(B)'!C:M,7,0) -> 0 | Q8: 0 | V8: 3 | W8: =VLOOKUP(C8,[1]신세계!D:O,4,0)+VLOOKUP(C8,[1]홈앤!C:N,4,0)+VLOOKUP(C8,[1]롯데!D:P,4,0)+VLOOKUP(C8,[1]현대!C:N,4,0)+VLOOKUP(C8,[1]GS!D:O,4,0)+VLOOKUP(C8,[1]CJ!D:O,4,0)+VLOOKUP(C8,[1]공영!D:O,4,0) -> 0 | X8: =D8+E8+F8+H8+G8+I8+J8+K8+L8-M8-N8-O8-P8-Q8-R8-T8-U8-V8-W8-S8 -> 616
A9: =A8+1 -> 3 | B9: 슬로우 테라피 | C9: 슬로우테라피 구슬 앰플 마스크 브라이토닝 비타(10개입) | D9: 71 | G9: =VLOOKUP(C9,[1]레인보우코리아!C:Q,10,0) -> 28 | H9: =VLOOKUP(C9,[1]신세계!D:O,9,0)+VLOOKUP(C9,[1]홈앤!C:N,9,0)+VLOOKUP(C9,[1]롯데!D:P,9,0)+VLOOKUP(C9,[1]현대!C:N,9,0)+VLOOKUP(C9,[1]GS!D:O,9,0)+VLOOKUP(C9,[1]CJ!D:O,9,0)+VLOOKUP(C9,[1]공영!D:O,9,0) -> 0 | K9: =VLOOKUP(C9,'[1]사무실(B)'!C:M,6,0) -> 0 | L9: =VLOOKUP(C9,'[1]사무실(B)'!C:M,7,0) -> 0 | Q9: 0 | W9: =VLOOKUP(C9,[1]신세계!D:O,4,0)+VLOOKUP(C9,[1]홈앤!C:N,4,0)+VLOOKUP(C9,[1]롯데!D:P,4,0)+VLOOKUP(C9,[1]현대!C:N,4,0)+VLOOKUP(C9,[1]GS!D:O,4,0)+VLOOKUP(C9,[1]CJ!D:O,4,0)+VLOOKUP(C9,[1]공영!D:O,4,0) -> 0 | X9: =D9+E9+F9+H9+G9+I9+J9+K9+L9-M9-N9-O9-P9-Q9-R9-T9-U9-V9-W9-S9 -> 99
A10: =A9+1 -> 4 | B10: 슬로우 테라피 | C10: 슬로우테라피 구슬 앰플 마스크 브라이토닝 비타 | D10: 27 | G10: =VLOOKUP(C10,[1]레인보우코리아!C:Q,10,0) -> 400 | H10: =VLOOKUP(C10,[1]신세계!D:O,9,0)+VLOOKUP(C10,[1]홈앤!C:N,9,0)+VLOOKUP(C10,[1]롯데!D:P,9,0)+VLOOKUP(C10,[1]현대!C:N,9,0)+VLOOKUP(C10,[1]GS!D:O,9,0)+VLOOKUP(C10,[1]CJ!D:O,9,0)+VLOOKUP(C10,[1]공영!D:O,9,0) -> 0 | K10: =VLOOKUP(C10,'[1]사무실(B)'!C:M,6,0) -> 0 | L10: =VLOOKUP(C10,'[1]사무실(B)'!C:M,7,0) -> 0 | Q10: 0 | V10: 3 | W10: =VLOOKUP(C10,[1]신세계!D:O,4,0)+VLOOKUP(C10,[1]홈앤!C:N,4,0)+VLOOKUP(C10,[1]롯데!D:P,4,0)+VLOOKUP(C10,[1]현대!C:N,4,0)+VLOOKUP(C10,[1]GS!D:O,4,0)+VLOOKUP(C10,[1]CJ!D:O,4,0)+VLOOKUP(C10,[1]공영!D:O,4,0) -> 0 | X10: =D10+E10+F10+H10+G10+I10+J10+K10+L10-M10-N10-O10-P10-Q10-R10-T10-U10-V10-W10-S10 -> 424
A11: =A10+1 -> 5 | B11: 슬로우 테라피 | C11: 슬로우테라피 구슬 앰플 마스크 그린토마토 모공(10개입) | D11: 67 | G11: =VLOOKUP(C11,[1]레인보우코리아!C:Q,10,0) -> 28 | H11: =VLOOKUP(C11,[1]신세계!D:O,9,0)+VLOOKUP(C11,[1]홈앤!C:N,9,0)+VLOOKUP(C11,[1]롯데!D:P,9,0)+VLOOKUP(C11,[1]현대!C:N,9,0)+VLOOKUP(C11,[1]GS!D:O,9,0)+VLOOKUP(C11,[1]CJ!D:O,9,0)+VLOOKUP(C11,[1]공영!D:O,9,0) -> 0 | K11: =VLOOKUP(C11,'[1]사무실(B)'!C:M,6,0) -> 0 | L11: =VLOOKUP(C11,'[1]사무실(B)'!C:M,7,0) -> 0 | Q11: 0 | W11: =VLOOKUP(C11,[1]신세계!D:O,4,0)+VLOOKUP(C11,[1]홈앤!C:N,4,0)+VLOOKUP(C11,[1]롯데!D:P,4,0)+VLOOKUP(C11,[1]현대!C:N,4,0)+VLOOKUP(C11,[1]GS!D:O,4,0)+VLOOKUP(C11,[1]CJ!D:O,4,0)+VLOOKUP(C11,[1]공영!D:O,4,0) -> 0 | X11: =D11+E11+F11+H11+G11+I11+J11+K11+L11-M11-N11-O11-P11-Q11-R11-T11-U11-V11-W11-S11 -> 95
A12: =A11+1 -> 6 | B12: 슬로우 테라피 | C12: 슬로우테라피 구슬 앰플 마스크 그린토마토 모공 | D12: 390 | G12: =VLOOKUP(C12,[1]레인보우코리아!C:Q,10,0) -> 400 | H12: =VLOOKUP(C12,[1]신세계!D:O,9,0)+VLOOKUP(C12,[1]홈앤!C:N,9,0)+VLOOKUP(C12,[1]롯데!D:P,9,0)+VLOOKUP(C12,[1]현대!C:N,9,0)+VLOOKUP(C12,[1]GS!D:O,9,0)+VLOOKUP(C12,[1]CJ!D:O,9,0)+VLOOKUP(C12,[1]공영!D:O,9,0) -> 0 | K12: =VLOOKUP(C12,'[1]사무실(B)'!C:M,6,0) -> 0 | L12: =VLOOKUP(C12,'[1]사무실(B)'!C:M,7,0) -> 0 | Q12: 0 | V12: 3 | W12: =VLOOKUP(C12,[1]신세계!D:O,4,0)+VLOOKUP(C12,[1]홈앤!C:N,4,0)+VLOOKUP(C12,[1]롯데!D:P,4,0)+VLOOKUP(C12,[1]현대!C:N,4,0)+VLOOKUP(C12,[1]GS!D:O,4,0)+VLOOKUP(C12,[1]CJ!D:O,4,0)+VLOOKUP(C12,[1]공영!D:O,4,0) -> 0 | X12: =D12+E12+F12+H12+G12+I12+J12+K12+L12-M12-N12-O12-P12-Q12-R12-T12-U12-V12-W12-S12 -> 787
A13: =A12+1 -> 7 | B13: 슬로우 테라피 | C13: 슬로우테라피 구슬 앰플 마스크 화이트밀크 브라이트닝(10개입) | D13: 52 | G13: =VLOOKUP(C13,[1]레인보우코리아!C:Q,10,0) -> 28 | H13: =VLOOKUP(C13,[1]신세계!D:O,9,0)+VLOOKUP(C13,[1]홈앤!C:N,9,0)+VLOOKUP(C13,[1]롯데!D:P,9,0)+VLOOKUP(C13,[1]현대!C:N,9,0)+VLOOKUP(C13,[1]GS!D:O,9,0)+VLOOKUP(C13,[1]CJ!D:O,9,0)+VLOOKUP(C13,[1]공영!D:O,9,0) -> 0 | K13: =VLOOKUP(C13,'[1]사무실(B)'!C:M,6,0) -> 0 | L13: =VLOOKUP(C13,'[1]사무실(B)'!C:M,7,0) -> 0 | Q13: 0 | W13: =VLOOKUP(C13,[1]신세계!D:O,4,0)+VLOOKUP(C13,[1]홈앤!C:N,4,0)+VLOOKUP(C13,[1]롯데!D:P,4,0)+VLOOKUP(C13,[1]현대!C:N,4,0)+VLOOKUP(C13,[1]GS!D:O,4,0)+VLOOKUP(C13,[1]CJ!D:O,4,0)+VLOOKUP(C13,[1]공영!D:O,4,0) -> 0 | X13: =D13+E13+F13+H13+G13+I13+J13+K13+L13-M13-N13-O13-P13-Q13-R13-T13-U13-V13-W13-S13 -> 80
A14: =A13+1 -> 8 | B14: 슬로우 테라피 | C14: 슬로우테라피 구슬 앰플 마스크 화이트밀크 브라이트닝 | D14: 340 | G14: =VLOOKUP(C14,[1]레인보우코리아!C:Q,10,0) -> 400 | H14: =VLOOKUP(C14,[1]신세계!D:O,9,0)+VLOOKUP(C14,[1]홈앤!C:N,9,0)+VLOOKUP(C14,[1]롯데!D:P,9,0)+VLOOKUP(C14,[1]현대!C:N,9,0)+VLOOKUP(C14,[1]GS!D:O,9,0)+VLOOKUP(C14,[1]CJ!D:O,9,0)+VLOOKUP(C14,[1]공영!D:O,9,0) -> 0 | K14: =VLOOKUP(C14,'[1]사무실(B)'!C:M,6,0) -> 0 | L14: =VLOOKUP(C14,'[1]사무실(B)'!C:M,7,0) -> 0 | Q14: 0 | V14: 3 | W14: =VLOOKUP(C14,[1]신세계!D:O,4,0)+VLOOKUP(C14,[1]홈앤!C:N,4,0)+VLOOKUP(C14,[1]롯데!D:P,4,0)+VLOOKUP(C14,[1]현대!C:N,4,0)+VLOOKUP(C14,[1]GS!D:O,4,0)+VLOOKUP(C14,[1]CJ!D:O,4,0)+VLOOKUP(C14,[1]공영!D:O,4,0) -> 0 | X14: =D14+E14+F14+H14+G14+I14+J14+K14+L14-M14-N14-O14-P14-Q14-R14-T14-U14-V14-W14-S14 -> 737
A15: =A14+1 -> 9 | B15: 슬로우 테라피 | C15: 슬로우테라피 구슬 앰플 마스크 카멜리아 탄력(10개입) | D15: 62 | G15: =VLOOKUP(C15,[1]레인보우코리아!C:Q,10,0) -> 28 | H15: =VLOOKUP(C15,[1]신세계!D:O,9,0)+VLOOKUP(C15,[1]홈앤!C:N,9,0)+VLOOKUP(C15,[1]롯데!D:P,9,0)+VLOOKUP(C15,[1]현대!C:N,9,0)+VLOOKUP(C15,[1]GS!D:O,9,0)+VLOOKUP(C15,[1]CJ!D:O,9,0)+VLOOKUP(C15,[1]공영!D:O,9,0) -> 0 | K15: =VLOOKUP(C15,'[1]사무실(B)'!C:M,6,0) -> 0 | L15: =VLOOKUP(C15,'[1]사무실(B)'!C:M,7,0) -> 0 | Q15: 0 | V15: 3 | W15: =VLOOKUP(C15,[1]신세계!D:O,4,0)+VLOOKUP(C15,[1]홈앤!C:N,4,0)+VLOOKUP(C15,[1]롯데!D:P,4,0)+VLOOKUP(C15,[1]현대!C:N,4,0)+VLOOKUP(C15,[1]GS!D:O,4,0)+VLOOKUP(C15,[1]CJ!D:O,4,0)+VLOOKUP(C15,[1]공영!D:O,4,0) -> 0 | X15: =D15+E15+F15+H15+G15+I15+J15+K15+L15-M15-N15-O15-P15-Q15-R15-T15-U15-V15-W15-S15 -> 87
A16: =A15+1 -> 10 | B16: 슬로우 테라피 | C16: 슬로우테라피 구슬 앰플 마스크 카멜리아 탄력 | D16: 220 | G16: =VLOOKUP(C16,[1]레인보우코리아!C:Q,10,0) -> 400 | H16: =VLOOKUP(C16,[1]신세계!D:O,9,0)+VLOOKUP(C16,[1]홈앤!C:N,9,0)+VLOOKUP(C16,[1]롯데!D:P,9,0)+VLOOKUP(C16,[1]현대!C:N,9,0)+VLOOKUP(C16,[1]GS!D:O,9,0)+VLOOKUP(C16,[1]CJ!D:O,9,0)+VLOOKUP(C16,[1]공영!D:O,9,0) -> 0 | K16: =VLOOKUP(C16,'[1]사무실(B)'!C:M,6,0) -> 0 | L16: =VLOOKUP(C16,'[1]사무실(B)'!C:M,7,0) -> 0 | Q16: 0 | W16: =VLOOKUP(C16,[1]신세계!D:O,4,0)+VLOOKUP(C16,[1]홈앤!C:N,4,0)+VLOOKUP(C16,[1]롯데!D:P,4,0)+VLOOKUP(C16,[1]현대!C:N,4,0)+VLOOKUP(C16,[1]GS!D:O,4,0)+VLOOKUP(C16,[1]CJ!D:O,4,0)+VLOOKUP(C16,[1]공영!D:O,4,0) -> 0 | X16: =D16+E16+F16+H16+G16+I16+J16+K16+L16-M16-N16-O16-P16-Q16-R16-T16-U16-V16-W16-S16 -> 620
C17: 슬로우테라피 구슬앰플 마스크 소계 | D17: 1491 | E17: =SUM(E7:E16) -> 0 | F17: =SUM(F7:F11) -> 0 | G17: =SUM(G7:G16) -> 2140 | H17: =SUM(H7:H16) -> 0 | I17: =SUM(I7:I16) -> 0 | J17: =SUM(J7:J16) -> 0 | K17: =SUM(K7:K16) -> 0 | L17: =SUM(L7:L16) -> 0 | M17: =SUM(M7:M16) -> 0 | N17: =SUM(N7:N16) -> 0 | ... P17: =SUM(P7:P16) -> 0 | Q17: 0 | R17: =SUM(R7:R11) -> 0 | S17: =SUM(S7:S16) -> 0 | T17: =SUM(T7:T16) -> 0 | U17: =SUM(U7:U16) -> 0 | V17: =SUM(V7:V16) -> 15 | W17: =SUM(W7:W16) -> 0 | X17: =SUM(X7:X16) -> 3616
A18: =A16+1 -> 11 | B18: 장로젯 | C18: 장로젯 라부 셀룰라 앰플 엘릭시어 엑스이피018 50미리 | D18: 287 | G18: =VLOOKUP(C18,[1]레인보우코리아!C:Q,10,0) -> 0 | H18: =VLOOKUP(C18,[1]신세계!D:O,9,0)+VLOOKUP(C18,[1]홈앤!C:N,9,0)+VLOOKUP(C18,[1]롯데!D:P,9,0)+VLOOKUP(C18,[1]현대!C:N,9,0)+VLOOKUP(C18,[1]GS!D:O,9,0)+VLOOKUP(C18,[1]CJ!D:O,9,0)+VLOOKUP(C18,[1]공영!D:O,9,0) -> 0 | K18: =VLOOKUP(C18,'[1]사무실(B)'!C:M,6,0) -> 54 | L18: =VLOOKUP(C18,'[1]사무실(B)'!C:M,7,0) -> 3 | N18: 1 | Q18: 0 | V18: 5 | W18: =VLOOKUP(C18,[1]신세계!D:O,4,0)+VLOOKUP(C18,[1]홈앤!C:N,4,0)+VLOOKUP(C18,[1]롯데!D:P,4,0)+VLOOKUP(C18,[1]현대!C:N,4,0)+VLOOKUP(C18,[1]GS!D:O,4,0)+VLOOKUP(C18,[1]CJ!D:O,4,0)+VLOOKUP(C18,[1]공영!D:O,4,0) -> 0 | X18: =D18+E18+F18+H18+G18+I18+J18+K18+L18-M18-N18-O18-P18-Q18-R18-T18-U18-V18-W18-S18 -> 338
A19: =A18+1 -> 12 | B19: 장로젯 | C19: 장로젯 라부 셀룰라 앰플 엘릭시어 엑스이피018 20미리 | D19: 124 | G19: =VLOOKUP(C19,[1]레인보우코리아!C:Q,10,0) -> 0 | H19: =VLOOKUP(C19,[1]신세계!D:O,9,0)+VLOOKUP(C19,[1]홈앤!C:N,9,0)+VLOOKUP(C19,[1]롯데!D:P,9,0)+VLOOKUP(C19,[1]현대!C:N,9,0)+VLOOKUP(C19,[1]GS!D:O,9,0)+VLOOKUP(C19,[1]CJ!D:O,9,0)+VLOOKUP(C19,[1]공영!D:O,9,0) -> 0 | K19: =VLOOKUP(C19,'[1]사무실(B)'!C:M,6,0) -> 0 | L19: =VLOOKUP(C19,'[1]사무실(B)'!C:M,7,0) -> 0 | Q19: 0 | V19: 1 | W19: =VLOOKUP(C19,[1]신세계!D:O,4,0)+VLOOKUP(C19,[1]홈앤!C:N,4,0)+VLOOKUP(C19,[1]롯데!D:P,4,0)+VLOOKUP(C19,[1]현대!C:N,4,0)+VLOOKUP(C19,[1]GS!D:O,4,0)+VLOOKUP(C19,[1]CJ!D:O,4,0)+VLOOKUP(C19,[1]공영!D:O,4,0) -> 0 | X19: =D19+E19+F19+H19+G19+I19+J19+K19+L19-M19-N19-O19-P19-Q19-R19-T19-U19-V19-W19-S19 -> 123
C20: 장로젯 소계 | D20: 411 | E20: =E18+E19 -> 0 | F20: =F18+F19 -> 0 | G20: =G18+G19 -> 0 | H20: =H18+H19 -> 0 | I20: =I18+I19 -> 0 | J20: =J18+J19 -> 0 | K20: =K18+K19 -> 54 | L20: =L18+L19 -> 3 | ... P20: =P18+P19 -> 0 | Q20: 0 | R20: =R18+R19 -> 0 | S20: =S18+S19 -> 0 | T20: =T18+T19 -> 0 | U20: =U18+U19 -> 0 | V20: =V18+V19 -> 6 | W20: =W18+W19 -> 0 | X20: =X18+X19 -> 461
A21: =A19+1 -> 13 | B21: 더마클라센 | C21: 블랙 체인지 샴푸(자연갈색) | D21: 2063 | G21: =VLOOKUP(C21,[1]레인보우코리아!C:Q,10,0) -> 0 | H21: =VLOOKUP(C21,[1]신세계!D:O,9,0)+VLOOKUP(C21,[1]홈앤!C:N,9,0)+VLOOKUP(C21,[1]롯데!D:P,9,0)+VLOOKUP(C21,[1]현대!C:N,9,0)+VLOOKUP(C21,[1]GS!D:O,9,0)+VLOOKUP(C21,[1]CJ!D:O,9,0)+VLOOKUP(C21,[1]공영!D:O,9,0) -> 0 | K21: =VLOOKUP(C21,'[1]사무실(B)'!C:M,6,0) -> 6 | L21: =VLOOKUP(C21,'[1]사무실(B)'!C:M,7,0) -> 0 | M21: 114 | Q21: 0 | W21: =VLOOKUP(C21,[1]신세계!D:O,4,0)+VLOOKUP(C21,[1]홈앤!C:N,4,0)+VLOOKUP(C21,[1]롯데!D:P,4,0)+VLOOKUP(C21,[1]현대!C:N,4,0)+VLOOKUP(C21,[1]GS!D:O,4,0)+VLOOKUP(C21,[1]CJ!D:O,4,0)+VLOOKUP(C21,[1]공영!D:O,4,0) -> 0 | X21: =D21+E21+F21+H21+G21+I21+J21+K21+L21-M21-N21-O21-P21-Q21-R21-T21-U21-V21-W21-S21 -> 1955
A22: =A21+1 -> 14 | B22: 더마클라센 | C22: 블랙 체인지 샴푸(흑갈색) | D22: 32 | G22: =VLOOKUP(C22,[1]레인보우코리아!C:Q,10,0) -> 0 | H22: =VLOOKUP(C22,[1]신세계!D:O,9,0)+VLOOKUP(C22,[1]홈앤!C:N,9,0)+VLOOKUP(C22,[1]롯데!D:P,9,0)+VLOOKUP(C22,[1]현대!C:N,9,0)+VLOOKUP(C22,[1]GS!D:O,9,0)+VLOOKUP(C22,[1]CJ!D:O,9,0)+VLOOKUP(C22,[1]공영!D:O,9,0) -> 0 | K22: =VLOOKUP(C22,'[1]사무실(B)'!C:M,6,0) -> 5 | L22: =VLOOKUP(C22,'[1]사무실(B)'!C:M,7,0) -> 0 | Q22: 0 | W22: =VLOOKUP(C22,[1]신세계!D:O,4,0)+VLOOKUP(C22,[1]홈앤!C:N,4,0)+VLOOKUP(C22,[1]롯데!D:P,4,0)+VLOOKUP(C22,[1]현대!C:N,4,0)+VLOOKUP(C22,[1]GS!D:O,4,0)+VLOOKUP(C22,[1]CJ!D:O,4,0)+VLOOKUP(C22,[1]공영!D:O,4,0) -> 0 | X22: =D22+E22+F22+H22+G22+I22+J22+K22+L22-M22-N22-O22-P22-Q22-R22-T22-U22-V22-W22-S22 -> 37
C23: 블랙 체인지 샴푸 소계 | D23: 2095 | E23: =E21+E22 -> 0 | F23: =F21+F22 -> 0 | G23: =G21+G22 -> 0 | H23: =H21+H22 -> 0 | I23: =I21+I22 -> 0 | J23: =J21+J22 -> 0 | K23: =K21+K22 -> 11 | L23: =L21+L22 -> 0 | ... P23: =P21+P22 -> 0 | Q23: 0 | R23: =R21+R22 -> 0 | S23: =S21+S22 -> 0 | T23: =T21+T22 -> 0 | U23: =U21+U22 -> 0 | V23: =V21+V22 -> 0 | W23: =W21+W22 -> 0 | X23: =X21+X22 -> 1992
A24: =A22+1 -> 15 | B24: 아트델리 | C24: 듀얼웨어 립 글로우밤001 | D24: 153 | G24: =VLOOKUP(C24,[1]레인보우코리아!C:Q,10,0) -> 0 | H24: =VLOOKUP(C24,[1]신세계!D:O,9,0)+VLOOKUP(C24,[1]홈앤!C:N,9,0)+VLOOKUP(C24,[1]롯데!D:P,9,0)+VLOOKUP(C24,[1]현대!C:N,9,0)+VLOOKUP(C24,[1]GS!D:O,9,0)+VLOOKUP(C24,[1]CJ!D:O,9,0)+VLOOKUP(C24,[1]공영!D:O,9,0) -> 0 | K24: =VLOOKUP(C24,'[1]사무실(B)'!C:M,6,0) -> 2 | L24: =VLOOKUP(C24,'[1]사무실(B)'!C:M,7,0) -> 0 | Q24: 0 | U24: 4 | V24: 5 | W24: =VLOOKUP(C24,[1]신세계!D:O,4,0)+VLOOKUP(C24,[1]홈앤!C:N,4,0)+VLOOKUP(C24,[1]롯데!D:P,4,0)+VLOOKUP(C24,[1]현대!C:N,4,0)+VLOOKUP(C24,[1]GS!D:O,4,0)+VLOOKUP(C24,[1]CJ!D:O,4,0)+VLOOKUP(C24,[1]공영!D:O,4,0) -> 0 | X24: =D24+E24+F24+H24+G24+I24+J24+K24+L24-M24-N24-O24-P24-Q24-R24-T24-U24-V24-W24-S24 -> 146
A25: =A24+1 -> 16 | B25: 아트델리 | C25: 듀얼웨어 립 글로우밤002 | D25: 123 | G25: =VLOOKUP(C25,[1]레인보우코리아!C:Q,10,0) -> 0 | H25: =VLOOKUP(C25,[1]신세계!D:O,9,0)+VLOOKUP(C25,[1]홈앤!C:N,9,0)+VLOOKUP(C25,[1]롯데!D:P,9,0)+VLOOKUP(C25,[1]현대!C:N,9,0)+VLOOKUP(C25,[1]GS!D:O,9,0)+VLOOKUP(C25,[1]CJ!D:O,9,0)+VLOOKUP(C25,[1]공영!D:O,9,0) -> 0 | K25: =VLOOKUP(C25,'[1]사무실(B)'!C:M,6,0) -> 2 | L25: =VLOOKUP(C25,'[1]사무실(B)'!C:M,7,0) -> 0 | Q25: 0 | U25: 1 | V25: 5 | W25: =VLOOKUP(C25,[1]신세계!D:O,4,0)+VLOOKUP(C25,[1]홈앤!C:N,4,0)+VLOOKUP(C25,[1]롯데!D:P,4,0)+VLOOKUP(C25,[1]현대!C:N,4,0)+VLOOKUP(C25,[1]GS!D:O,4,0)+VLOOKUP(C25,[1]CJ!D:O,4,0)+VLOOKUP(C25,[1]공영!D:O,4,0) -> 0 | X25: =D25+E25+F25+H25+G25+I25+J25+K25+L25-M25-N25-O25-P25-Q25-R25-T25-U25-V25-W25-S25 -> 119
A26: =A25+1 -> 17 | B26: 아트델리 | C26: 듀얼웨어 립 글로우밤003 | D26: 207 | G26: =VLOOKUP(C26,[1]레인보우코리아!C:Q,10,0) -> 0 | H26: =VLOOKUP(C26,[1]신세계!D:O,9,0)+VLOOKUP(C26,[1]홈앤!C:N,9,0)+VLOOKUP(C26,[1]롯데!D:P,9,0)+VLOOKUP(C26,[1]현대!C:N,9,0)+VLOOKUP(C26,[1]GS!D:O,9,0)+VLOOKUP(C26,[1]CJ!D:O,9,0)+VLOOKUP(C26,[1]공영!D:O,9,0) -> 0 | K26: =VLOOKUP(C26,'[1]사무실(B)'!C:M,6,0) -> 2 | L26: =VLOOKUP(C26,'[1]사무실(B)'!C:M,7,0) -> 0 | Q26: 0 | U26: 3 | V26: 5 | W26: =VLOOKUP(C26,[1]신세계!D:O,4,0)+VLOOKUP(C26,[1]홈앤!C:N,4,0)+VLOOKUP(C26,[1]롯데!D:P,4,0)+VLOOKUP(C26,[1]현대!C:N,4,0)+VLOOKUP(C26,[1]GS!D:O,4,0)+VLOOKUP(C26,[1]CJ!D:O,4,0)+VLOOKUP(C26,[1]공영!D:O,4,0) -> 0 | X26: =D26+E26+F26+H26+G26+I26+J26+K26+L26-M26-N26-O26-P26-Q26-R26-T26-U26-V26-W26-S26 -> 201
A27: =A26+1 -> 18 | B27: 아트델리 | C27: 듀얼웨어 립 글로우밤004 | D27: 373 | G27: =VLOOKUP(C27,[1]레인보우코리아!C:Q,10,0) -> 0 | H27: =VLOOKUP(C27,[1]신세계!D:O,9,0)+VLOOKUP(C27,[1]홈앤!C:N,9,0)+VLOOKUP(C27,[1]롯데!D:P,9,0)+VLOOKUP(C27,[1]현대!C:N,9,0)+VLOOKUP(C27,[1]GS!D:O,9,0)+VLOOKUP(C27,[1]CJ!D:O,9,0)+VLOOKUP(C27,[1]공영!D:O,9,0) -> 0 | K27: =VLOOKUP(C27,'[1]사무실(B)'!C:M,6,0) -> 2 | L27: =VLOOKUP(C27,'[1]사무실(B)'!C:M,7,0) -> 0 | Q27: 0 | V27: 5 | W27: =VLOOKUP(C27,[1]신세계!D:O,4,0)+VLOOKUP(C27,[1]홈앤!C:N,4,0)+VLOOKUP(C27,[1]롯데!D:P,4,0)+VLOOKUP(C27,[1]현대!C:N,4,0)+VLOOKUP(C27,[1]GS!D:O,4,0)+VLOOKUP(C27,[1]CJ!D:O,4,0)+VLOOKUP(C27,[1]공영!D:O,4,0) -> 0 | X27: =D27+E27+F27+H27+G27+I27+J27+K27+L27-M27-N27-O27-P27-Q27-R27-T27-U27-V27-W27-S27 -> 370
A28: =A27+1 -> 19 | B28: 아트델리 | C28: 맥시마이저 립 글로우 밤 001 | D28: 123 | G28: =VLOOKUP(C28,[1]레인보우코리아!C:Q,10,0) -> 0 | H28: =VLOOKUP(C28,[1]신세계!D:O,9,0)+VLOOKUP(C28,[1]홈앤!C:N,9,0)+VLOOKUP(C28,[1]롯데!D:P,9,0)+VLOOKUP(C28,[1]현대!C:N,9,0)+VLOOKUP(C28,[1]GS!D:O,9,0)+VLOOKUP(C28,[1]CJ!D:O,9,0)+VLOOKUP(C28,[1]공영!D:O,9,0) -> 0 | K28: =VLOOKUP(C28,'[1]사무실(B)'!C:M,6,0) -> 2 | L28: =VLOOKUP(C28,'[1]사무실(B)'!C:M,7,0) -> 0 | Q28: 0 | U28: 2 | W28: =VLOOKUP(C28,[1]신세계!D:O,4,0)+VLOOKUP(C28,[1]홈앤!C:N,4,0)+VLOOKUP(C28,[1]롯데!D:P,4,0)+VLOOKUP(C28,[1]현대!C:N,4,0)+VLOOKUP(C28,[1]GS!D:O,4,0)+VLOOKUP(C28,[1]CJ!D:O,4,0)+VLOOKUP(C28,[1]공영!D:O,4,0) -> 0 | X28: =D28+E28+F28+H28+G28+I28+J28+K28+L28-M28-N28-O28-P28-Q28-R28-T28-U28-V28-W28-S28 -> 123
A29: =A28+1 -> 20 | B29: 아트델리 | C29: 맥시마이저 립 글로우 밤 002 | D29: 91 | G29: =VLOOKUP(C29,[1]레인보우코리아!C:Q,10,0) -> 0 | H29: =VLOOKUP(C29,[1]신세계!D:O,9,0)+VLOOKUP(C29,[1]홈앤!C:N,9,0)+VLOOKUP(C29,[1]롯데!D:P,9,0)+VLOOKUP(C29,[1]현대!C:N,9,0)+VLOOKUP(C29,[1]GS!D:O,9,0)+VLOOKUP(C29,[1]CJ!D:O,9,0)+VLOOKUP(C29,[1]공영!D:O,9,0) -> 0 | K29: =VLOOKUP(C29,'[1]사무실(B)'!C:M,6,0) -> 2 | L29: =VLOOKUP(C29,'[1]사무실(B)'!C:M,7,0) -> 0 | Q29: 0 | W29: =VLOOKUP(C29,[1]신세계!D:O,4,0)+VLOOKUP(C29,[1]홈앤!C:N,4,0)+VLOOKUP(C29,[1]롯데!D:P,4,0)+VLOOKUP(C29,[1]현대!C:N,4,0)+VLOOKUP(C29,[1]GS!D:O,4,0)+VLOOKUP(C29,[1]CJ!D:O,4,0)+VLOOKUP(C29,[1]공영!D:O,4,0) -> 0 | X29: =D29+E29+F29+H29+G29+I29+J29+K29+L29-M29-N29-O29-P29-Q29-R29-T29-U29-V29-W29-S29 -> 93
A30: =A29+1 -> 21 | B30: 아트델리 | C30: 맥시마이저 립 글로우 밤 003 | D30: 72 | G30: =VLOOKUP(C30,[1]레인보우코리아!C:Q,10,0) -> 0 | H30: =VLOOKUP(C30,[1]신세계!D:O,9,0)+VLOOKUP(C30,[1]홈앤!C:N,9,0)+VLOOKUP(C30,[1]롯데!D:P,9,0)+VLOOKUP(C30,[1]현대!C:N,9,0)+VLOOKUP(C30,[1]GS!D:O,9,0)+VLOOKUP(C30,[1]CJ!D:O,9,0)+VLOOKUP(C30,[1]공영!D:O,9,0) -> 0 | K30: =VLOOKUP(C30,'[1]사무실(B)'!C:M,6,0) -> 2 | L30: =VLOOKUP(C30,'[1]사무실(B)'!C:M,7,0) -> 0 | Q30: 1 | U30: 38 | W30: =VLOOKUP(C30,[1]신세계!D:O,4,0)+VLOOKUP(C30,[1]홈앤!C:N,4,0)+VLOOKUP(C30,[1]롯데!D:P,4,0)+VLOOKUP(C30,[1]현대!C:N,4,0)+VLOOKUP(C30,[1]GS!D:O,4,0)+VLOOKUP(C30,[1]CJ!D:O,4,0)+VLOOKUP(C30,[1]공영!D:O,4,0) -> 0 | X30: =D30+E30+F30+H30+G30+I30+J30+K30+L30-M30-N30-O30-P30-Q30-R30-T30-U30-V30-W30-S30 -> 35
C31: 립 글로우 밤 소계 | D31: 1142 | E31: =SUM(E24:E30) -> 0 | F31: =SUM(F24:F30) -> 0 | G31: =SUM(G24:G30) -> 0 | H31: =SUM(H24:H30) -> 0 | I31: =SUM(I24:I30) -> 0 | J31: =SUM(J24:J30) -> 0 | K31: =SUM(K24:K30) -> 14 | L31: =SUM(L24:L30) -> 0 | ... P31: =SUM(P24:P30) -> 0 | Q31: 1 | R31: =SUM(R24:R30) -> 0 | S31: =SUM(S24:S30) -> 0 | T31: =SUM(T24:T30) -> 0 | U31: =SUM(U24:U30) -> 48 | V31: =SUM(V24:V30) -> 20 | W31: =SUM(W24:W30) -> 0 | X31: =SUM(X24:X30) -> 1087
A32: =A30+1 -> 22 | B32: 쟈스 멀티밤 | C32: 쟈스 콜라겐 멀티밤 | D32: 1906 | G32: =[1]레인보우코리아!L32 -> 585 | H32: =[1]신세계!L32+[1]홈앤!K32+[1]롯데!L32+[1]현대!K32+[1]GS!L32+[1]CJ!L32 -> 0 | K32: ='[1]사무실(B)'!H32 -> 0 | L32: ='[1]사무실(B)'!I32 -> 0 | Q32: 27 | V32: 15 | W32: =[1]신세계!G32+[1]홈앤!F32+[1]롯데!G32+[1]현대!F32+[1]GS!G32+[1]CJ!G32 -> 0 | X32: =D32+E32+F32+H32+G32+I32+J32+K32+L32-M32-N32-O32-P32-Q32-R32-T32-U32-V32-W32-S32 -> 2449
A33: =A32+1 -> 23 | B33: 쟈스 멀티밤 | C33: 쟈스 후르츠 키스밤(피치코랄) | D33: 33 | G33: =[1]레인보우코리아!L33 -> 117 | H33: =[1]신세계!L33+[1]홈앤!K33+[1]롯데!L33+[1]현대!K33+[1]GS!L33+[1]CJ!L33 -> 0 | K33: ='[1]사무실(B)'!H33 -> 0 | L33: ='[1]사무실(B)'!I33 -> 0 | Q33: 1 | W33: =[1]신세계!G33+[1]홈앤!F33+[1]롯데!G33+[1]현대!F33+[1]GS!G33+[1]CJ!G33 -> 0 | X33: =D33+E33+F33+H33+G33+I33+J33+K33+L33-M33-N33-O33-P33-Q33-R33-T33-U33-V33-W33-S33 -> 149
A34: =A33+1 -> 24 | B34: 쟈스 멀티밤 | C34: 쟈스 콜라겐 세콜지 앰플 미스트 | D34: 171 | G34: =[1]레인보우코리아!L34 -> 385 | H34: =[1]신세계!L34+[1]홈앤!K34+[1]롯데!L34+[1]현대!K34+[1]GS!L34+[1]CJ!L34 -> 0 | K34: ='[1]사무실(B)'!H34 -> 0 | L34: ='[1]사무실(B)'!I34 -> 0 | Q34: 12 | U34: 12 | W34: =[1]신세계!G34+[1]홈앤!F34+[1]롯데!G34+[1]현대!F34+[1]GS!G34+[1]CJ!G34 -> 0 | X34: =D34+E34+F34+H34+G34+I34+J34+K34+L34-M34-N34-O34-P34-Q34-R34-T34-U34-V34-W34-S34 -> 532
A35: =A34+1 -> 25 | B35: 쟈스 멀티밤 | C35: 쟈스 콜라겐 밀키 크림 | D35: 299 | G35: =[1]레인보우코리아!L35 -> 0 | H35: =[1]신세계!L35+[1]홈앤!K35+[1]롯데!L35+[1]현대!K35+[1]GS!L35+[1]CJ!L35 -> 0 | K35: ='[1]사무실(B)'!H35 -> 0 | L35: ='[1]사무실(B)'!I35 -> 0 | Q35: 8 | W35: =[1]신세계!G35+[1]홈앤!F35+[1]롯데!G35+[1]현대!F35+[1]GS!G35+[1]CJ!G35 -> 0 | X35: =D35+E35+F35+H35+G35+I35+J35+K35+L35-M35-N35-O35-P35-Q35-R35-T35-U35-V35-W35-S35 -> 291
A36: =A35+1 -> 26 | B36: 쟈스 멀티밤 | C36: 쟈스 콜라겐 밀키 앰플 | D36: 250 | G36: =[1]레인보우코리아!L36 -> 0 | H36: =[1]신세계!L36+[1]홈앤!K36+[1]롯데!L36+[1]현대!K36+[1]GS!L36+[1]CJ!L36 -> 0 | K36: ='[1]사무실(B)'!H36 -> 0 | L36: ='[1]사무실(B)'!I36 -> 0 | Q36: 4 | W36: =[1]신세계!G36+[1]홈앤!F36+[1]롯데!G36+[1]현대!F36+[1]GS!G36+[1]CJ!G36 -> 0 | X36: =D36+E36+F36+H36+G36+I36+J36+K36+L36-M36-N36-O36-P36-Q36-R36-T36-U36-V36-W36-S36 -> 246
A37: =A36+1 -> 27 | B37: 쟈스 멀티밤 | C37: 쟈스 콜라겐 밀키 아이크림 | D37: 577 | G37: =[1]레인보우코리아!L37 -> 0 | H37: =[1]신세계!L37+[1]홈앤!K37+[1]롯데!L37+[1]현대!K37+[1]GS!L37+[1]CJ!L37 -> 0 | K37: ='[1]사무실(B)'!H37 -> 0 | L37: ='[1]사무실(B)'!I37 -> 0 | Q37: 10 | W37: =[1]신세계!G37+[1]홈앤!F37+[1]롯데!G37+[1]현대!F37+[1]GS!G37+[1]CJ!G37 -> 0 | X37: =D37+E37+F37+H37+G37+I37+J37+K37+L37-M37-N37-O37-P37-Q37-R37-T37-U37-V37-W37-S37 -> 567
B38: 쟈스 멀티밤 | C38: 쟈스 멀티밤 단품 소계 | D38: 3236 | E38: =SUM(E32:E37) -> 0 | F38: =SUM(F32:F37) -> 0 | G38: =SUM(G32:G37) -> 1087 | H38: =SUM(H32:H37) -> 0 | I38: =SUM(I32:I37) -> 0 | J38: =SUM(J32:J37) -> 0 | K38: =SUM(K32:K37) -> 0 | L38: =SUM(L32:L37) -> 0 | ... P38: =SUM(P32:P37) -> 0 | Q38: 62 | R38: =SUM(R32:R37) -> 0 | S38: =SUM(S32:S37) -> 0 | T38: =SUM(T32:T37) -> 0 | U38: =SUM(U32:U37) -> 12 | V38: =SUM(V32:V37) -> 15 | W38: =SUM(W32:W37) -> 0 | X38: =SUM(X32:X37) -> 4234
A39: =A37+1 -> 28 | B39: 쟈스 톤업 스틱 | C39: 쟈스 콜라겐 글로우 업 엔젤 밤 (블랙) | D39: 46 | G39: =[1]레인보우코리아!L39 -> 0 | H39: =[1]신세계!L39+[1]홈앤!K39+[1]롯데!L39+[1]현대!K39+[1]GS!L39+[1]CJ!L39 -> 0 | K39: ='[1]사무실(B)'!H39 -> 0 | L39: ='[1]사무실(B)'!I39 -> 0 | Q39: 3 | W39: =[1]신세계!G39+[1]홈앤!F39+[1]롯데!G39+[1]현대!F39+[1]GS!G39+[1]CJ!G39 -> 0 | X39: =D39+E39+F39+H39+G39+I39+J39+K39+L39-M39-N39-O39-P39-Q39-R39-T39-U39-V39-W39-S39 -> 43
A40: =A39+1 -> 29 | B40: 쟈스 톤업 스틱 | C40: 쟈스 콜라겐 글로우 업 엔젤 밤 (핑크) | D40: 88 | G40: =[1]레인보우코리아!L40 -> 0 | H40: =[1]신세계!L40+[1]홈앤!K40+[1]롯데!L40+[1]현대!K40+[1]GS!L40+[1]CJ!L40 -> 0 | K40: ='[1]사무실(B)'!H40 -> 0 | L40: ='[1]사무실(B)'!I40 -> 0 | Q40: 0 | W40: =[1]신세계!G40+[1]홈앤!F40+[1]롯데!G40+[1]현대!F40+[1]GS!G40+[1]CJ!G40 -> 0 | X40: =D40+E40+F40+H40+G40+I40+J40+K40+L40-M40-N40-O40-P40-Q40-R40-T40-U40-V40-W40-S40 -> 88
A41: =A40+1 -> 30 | B41: 쟈스 톤업 스틱 | C41: 쟈스 콜라겐 글로우 업 엔젤 밤 (오렌지) | D41: 219 | G41: =[1]레인보우코리아!L41 -> 0 | H41: =[1]신세계!L41+[1]홈앤!K41+[1]롯데!L41+[1]현대!K41+[1]GS!L41+[1]CJ!L41 -> 0 | K41: ='[1]사무실(B)'!H41 -> 0 | L41: ='[1]사무실(B)'!I41 -> 0 | Q41: 2 | W41: =[1]신세계!G41+[1]홈앤!F41+[1]롯데!G41+[1]현대!F41+[1]GS!G41+[1]CJ!G41 -> 0 | X41: =D41+E41+F41+H41+G41+I41+J41+K41+L41-M41-N41-O41-P41-Q41-R41-T41-U41-V41-W41-S41 -> 217
B42: 쟈스 톤업 스틱 | C42: 쟈스 엔젤 밤 단품 소계 | D42: 353 | E42: =SUM(E39:E41) -> 0 | F42: =SUM(F39:F41) -> 0 | G42: =SUM(G39:G41) -> 0 | H42: =SUM(H39:H41) -> 0 | I42: =SUM(I39:I41) -> 0 | J42: =SUM(J39:J41) -> 0 | K42: =SUM(K39:K41) -> 0 | L42: =SUM(L39:L41) -> 0 | ... P42: =SUM(P39:P41) -> 0 | Q42: 5 | R42: =SUM(R39:R41) -> 0 | S42: =SUM(S39:S41) -> 0 | T42: =SUM(T39:T41) -> 0 | U42: =SUM(U39:U41) -> 0 | V42: =SUM(V39:V41) -> 0 | W42: =SUM(W39:W41) -> 0 | X42: =SUM(X39:X41) -> 348
A43: =A41+1 -> 31 | B43: 쟈스 선패치 | C43: 쟈스 콜라겐 프로 컷 화이트닝 패치 소형 베이지 (일반) | D43: 1654 | G43: =[1]레인보우코리아!L43 -> 0 | H43: =[1]신세계!L43+[1]홈앤!K43+[1]롯데!L43+[1]현대!K43+[1]GS!L43+[1]CJ!L43 -> 0 | K43: ='[1]사무실(B)'!H43 -> 0 | L43: ='[1]사무실(B)'!I43 -> 0 | Q43: 0 | W43: =[1]신세계!G43+[1]홈앤!F43+[1]롯데!G43+[1]현대!F43+[1]GS!G43+[1]CJ!G43 -> 0 | X43: =D43+E43+F43+H43+G43+I43+J43+K43+L43-M43-N43-O43-P43-Q43-R43-T43-U43-V43-W43-S43 -> 1654
A44: =A43+1 -> 32 | B44: 쟈스 선패치 | C44: 쟈스 콜라겐 프로 컷 화이트닝 패치 소형 (멀티) | D44: 1007 | G44: =[1]레인보우코리아!L44 -> 0 | H44: =[1]신세계!L44+[1]홈앤!K44+[1]롯데!L44+[1]현대!K44+[1]GS!L44+[1]CJ!L44 -> 0 | K44: ='[1]사무실(B)'!H44 -> 0 | L44: ='[1]사무실(B)'!I44 -> 0 | Q44: 70 | W44: =[1]신세계!G44+[1]홈앤!F44+[1]롯데!G44+[1]현대!F44+[1]GS!G44+[1]CJ!G44 -> 0 | X44: =D44+E44+F44+H44+G44+I44+J44+K44+L44-M44-N44-O44-P44-Q44-R44-T44-U44-V44-W44-S44 -> 937
A45: =A44+1 -> 33 | B45: 쟈스 선패치 | C45: 쟈스 콜라겐 프로 컷 화이트닝 패치 대형 | D45: 288 | G45: =[1]레인보우코리아!L45 -> 0 | H45: =[1]신세계!L45+[1]홈앤!K45+[1]롯데!L45+[1]현대!K45+[1]GS!L45+[1]CJ!L45 -> 0 | K45: ='[1]사무실(B)'!H45 -> 0 | L45: ='[1]사무실(B)'!I45 -> 0 | Q45: 0 | U45: 40 | W45: =[1]신세계!G45+[1]홈앤!F45+[1]롯데!G45+[1]현대!F45+[1]GS!G45+[1]CJ!G45 -> 0 | X45: =D45+E45+F45+H45+G45+I45+J45+K45+L45-M45-N45-O45-P45-Q45-R45-T45-U45-V45-W45-S45 -> 248
A46: =A45+1 -> 34 | B46: 쟈스 선패치 | C46: 쟈스 콜라겐 프로 컷 화이트닝 패치 마스크형 | D46: 0 | G46: =[1]레인보우코리아!L46 -> 0 | H46: =[1]신세계!L46+[1]홈앤!K46+[1]롯데!L46+[1]현대!K46+[1]GS!L46+[1]CJ!L46 -> 0 | K46: ='[1]사무실(B)'!H46 -> 0 | L46: ='[1]사무실(B)'!I46 -> 0 | Q46: 0 | W46: =[1]신세계!G46+[1]홈앤!F46+[1]롯데!G46+[1]현대!F46+[1]GS!G46+[1]CJ!G46 -> 0 | X46: =D46+E46+F46+H46+G46+I46+J46+K46+L46-M46-N46-O46-P46-Q46-R46-T46-U46-V46-W46-S46 -> 0
A47: =A46+1 -> 35 | B47: 쟈스 선패치 | C47: 쟈스 콜라겐 프로 컷 화이트닝 패치 소형 베이지 파우치 | D47: 1196 | G47: =[1]레인보우코리아!L47 -> 0 | H47: =[1]신세계!L47+[1]홈앤!K47+[1]롯데!L47+[1]현대!K47+[1]GS!L47+[1]CJ!L47 -> 0 | K47: ='[1]사무실(B)'!H47 -> 0 | L47: ='[1]사무실(B)'!I47 -> 0 | Q47: 99 | W47: =[1]신세계!G47+[1]홈앤!F47+[1]롯데!G47+[1]현대!F47+[1]GS!G47+[1]CJ!G47 -> 0 | X47: =D47+E47+F47+H47+G47+I47+J47+K47+L47-M47-N47-O47-P47-Q47-R47-T47-U47-V47-W47-S47 -> 1097
B48: 쟈스 선패치 | C48: 쟈스 선패치 단품 소계 | D48: 4145 | E48: =SUM(E43:E47) -> 0 | F48: =SUM(F43:F47) -> 0 | G48: =SUM(G43:G47) -> 0 | H48: =SUM(H43:H47) -> 0 | I48: =SUM(I43:I47) -> 0 | J48: =SUM(J43:J47) -> 0 | K48: =SUM(K43:K47) -> 0 | L48: =SUM(L43:L47) -> 0 | ... P48: =SUM(P43:P47) -> 0 | Q48: 169 | R48: =SUM(R43:R47) -> 0 | S48: =SUM(S43:S47) -> 0 | T48: =SUM(T43:T47) -> 0 | U48: =SUM(U43:U47) -> 40 | V48: =SUM(V43:V47) -> 0 | W48: =SUM(W43:W47) -> 0 | X48: =SUM(X43:X47) -> 3936
A49: =A47+1 -> 36 | B49: 멀티쿠션 | C49: 아트델리 아이밤 멀티쿠션 #그린 | D49: 330 | G49: =[1]레인보우코리아!L49 -> 0 | H49: =[1]신세계!L49+[1]홈앤!K49+[1]롯데!L49+[1]현대!K49+[1]GS!L49+[1]CJ!L49 -> 0 | K49: ='[1]사무실(B)'!H49 -> 19 | L49: ='[1]사무실(B)'!I49 -> 0 | Q49: 3 | U49: =144+160 -> 304 | W49: =[1]신세계!G49+[1]홈앤!F49+[1]롯데!G49+[1]현대!F49+[1]GS!G49+[1]CJ!G49 -> 0 | X49: =D49+E49+F49+H49+G49+I49+J49+K49+L49-M49-N49-O49-P49-Q49-R49-T49-U49-V49-W49-S49 -> 42
A50: =A49+1 -> 37 | B50: 멀티쿠션 | C50: 아트델리 아이밤 멀티쿠션 #핑크 | D50: 141 | G50: =[1]레인보우코리아!L50 -> 0 | H50: =[1]신세계!L50+[1]홈앤!K50+[1]롯데!L50+[1]현대!K50+[1]GS!L50+[1]CJ!L50 -> 0 | K50: ='[1]사무실(B)'!H50 -> 1 | L50: ='[1]사무실(B)'!I50 -> 0 | Q50: 0 | W50: =[1]신세계!G50+[1]홈앤!F50+[1]롯데!G50+[1]현대!F50+[1]GS!G50+[1]CJ!G50 -> 0 | X50: =D50+E50+F50+H50+G50+I50+J50+K50+L50-M50-N50-O50-P50-Q50-R50-T50-U50-V50-W50-S50 -> 142
A51: =A50+1 -> 38 | B51: 멀티쿠션 | C51: 아트델리 아이밤 멀티쿠션 #블랙 | D51: 393 | G51: =[1]레인보우코리아!L51 -> 0 | H51: =[1]신세계!L51+[1]홈앤!K51+[1]롯데!L51+[1]현대!K51+[1]GS!L51+[1]CJ!L51 -> 0 | K51: ='[1]사무실(B)'!H51 -> 23 | L51: ='[1]사무실(B)'!I51 -> 0 | Q51: 1 | U51: =144+40 -> 184 | V51: 1 | W51: =[1]신세계!G51+[1]홈앤!F51+[1]롯데!G51+[1]현대!F51+[1]GS!G51+[1]CJ!G51 -> 0 | X51: =D51+E51+F51+H51+G51+I51+J51+K51+L51-M51-N51-O51-P51-Q51-R51-T51-U51-V51-W51-S51 -> 230
A52: =A51+1 -> 39 | B52: 멀티쿠션 | C52: 아트델리 아이밤 멀티쿠션 #블랙(리필) | D52: 3297 | G52: =[1]레인보우코리아!L52 -> 0 | H52: =[1]신세계!L52+[1]홈앤!K52+[1]롯데!L52+[1]현대!K52+[1]GS!L52+[1]CJ!L52 -> 0 | K52: ='[1]사무실(B)'!H52 -> 58 | L52: ='[1]사무실(B)'!I52 -> 0 | Q52: 6 | W52: =[1]신세계!G52+[1]홈앤!F52+[1]롯데!G52+[1]현대!F52+[1]GS!G52+[1]CJ!G52 -> 0 | X52: =D52+E52+F52+H52+G52+I52+J52+K52+L52-M52-N52-O52-P52-Q52-R52-T52-U52-V52-W52-S52 -> 3349
A53: =A52+1 -> 40 | B53: 멀티쿠션 | C53: 아트델리 아이밤 멀티쿠션 #퍼플 | D53: 296 | G53: =[1]레인보우코리아!L53 -> 0 | H53: =[1]신세계!L53+[1]홈앤!K53+[1]롯데!L53+[1]현대!K53+[1]GS!L53+[1]CJ!L53 -> 0 | K53: ='[1]사무실(B)'!H53 -> 18 | L53: ='[1]사무실(B)'!I53 -> 0 | Q53: 1 | W53: =[1]신세계!G53+[1]홈앤!F53+[1]롯데!G53+[1]현대!F53+[1]GS!G53+[1]CJ!G53 -> 0 | X53: =D53+E53+F53+H53+G53+I53+J53+K53+L53-M53-N53-O53-P53-Q53-R53-T53-U53-V53-W53-S53 -> 313
A54: =A53+1 -> 41 | B54: 멀티쿠션 | C54: 아트델리 아이밤 멀티쿠션 #골드 | D54: 569 | G54: =[1]레인보우코리아!L54 -> 0 | H54: =[1]신세계!L54+[1]홈앤!K54+[1]롯데!L54+[1]현대!K54+[1]GS!L54+[1]CJ!L54 -> 0 | K54: ='[1]사무실(B)'!H54 -> 4 | L54: ='[1]사무실(B)'!I54 -> 0 | Q54: 0 | V54: 1 | W54: =[1]신세계!G54+[1]홈앤!F54+[1]롯데!G54+[1]현대!F54+[1]GS!G54+[1]CJ!G54 -> 0 | X54: =D54+E54+F54+H54+G54+I54+J54+K54+L54-M54-N54-O54-P54-Q54-R54-T54-U54-V54-W54-S54 -> 572
A55: =A54+1 -> 42 | B55: 멀티쿠션 | C55: 아트델리 아이밤 멀티쿠션 #레드 | D55: 420 | G55: =[1]레인보우코리아!L55 -> 0 | H55: =[1]신세계!L55+[1]홈앤!K55+[1]롯데!L55+[1]현대!K55+[1]GS!L55+[1]CJ!L55 -> 0 | K55: ='[1]사무실(B)'!H55 -> 4 | L55: ='[1]사무실(B)'!I55 -> 0 | Q55: 1 | W55: =[1]신세계!G55+[1]홈앤!F55+[1]롯데!G55+[1]현대!F55+[1]GS!G55+[1]CJ!G55 -> 0 | X55: =D55+E55+F55+H55+G55+I55+J55+K55+L55-M55-N55-O55-P55-Q55-R55-T55-U55-V55-W55-S55 -> 423
B56: 멀티쿠션 | C56: 아트델리 멀티쿠션 단품 소계 | D56: 5446 | E56: =SUM(E49:E55) -> 0 | F56: =SUM(F49:F55) -> 0 | G56: =SUM(G49:G55) -> 0 | H56: =SUM(H49:H55) -> 0 | I56: =SUM(I49:I55) -> 0 | J56: =SUM(J49:J55) -> 0 | K56: =SUM(K49:K55) -> 127 | L56: =SUM(L49:L55) -> 0 | ... P56: =SUM(P49:P55) -> 0 | Q56: 12 | R56: =SUM(R49:R55) -> 0 | S56: =SUM(S49:S55) -> 0 | T56: =SUM(T49:T55) -> 0 | U56: =SUM(U49:U55) -> 488 | V56: =SUM(V49:V55) -> 2 | W56: =SUM(W49:W55) -> 0 | X56: =SUM(X49:X55) -> 5071
A57: =A55+1 -> 43 | B57: 칼비사노 캐비아 | C57: 칼비사노 엑스트라 캐비아 크림 | D57: 1567 | G57: =[1]레인보우코리아!L57 -> 0 | H57: =[1]신세계!L57+[1]홈앤!K57+[1]롯데!L57+[1]현대!K57+[1]GS!L57+[1]CJ!L57 -> 0 | K57: ='[1]사무실(B)'!H57 -> 11 | L57: ='[1]사무실(B)'!I57 -> 3 | M57: 4 | Q57: 1 | V57: 3 | W57: =[1]신세계!G57+[1]홈앤!F57+[1]롯데!G57+[1]현대!F57+[1]GS!G57+[1]CJ!G57 -> 0 | X57: =D57+E57+F57+H57+G57+I57+J57+K57+L57-M57-N57-O57-P57-Q57-R57-T57-U57-V57-W57-S57 -> 1573
A58: =A57+1 -> 44 | B58: 칼비사노 캐비아 | C58: 칼비사노 엑스트라 캐비아 앰플 | D58: 1 | G58: =[1]레인보우코리아!L58 -> 0 | H58: =[1]신세계!L58+[1]홈앤!K58+[1]롯데!L58+[1]현대!K58+[1]GS!L58+[1]CJ!L58 -> 0 | K58: ='[1]사무실(B)'!H58 -> 0 | L58: ='[1]사무실(B)'!I58 -> 0 | Q58: 0 | W58: =[1]신세계!G58+[1]홈앤!F58+[1]롯데!G58+[1]현대!F58+[1]GS!G58+[1]CJ!G58 -> 0 | X58: =D58+E58+F58+H58+G58+I58+J58+K58+L58-M58-N58-O58-P58-Q58-R58-T58-U58-V58-W58-S58 -> 1
A59: =A58+1 -> 45 | B59: 칼비사노 캐비아 | C59: 칼비사노 엑스트라 캐비아 앰플(실버) | D59: 1247 | G59: =[1]레인보우코리아!L59 -> 0 | H59: =[1]신세계!L63+[1]홈앤!K63+[1]롯데!L63+[1]현대!K63+[1]GS!L63+[1]CJ!L63 -> 0 | K59: ='[1]사무실(B)'!H59 -> 0 | L59: ='[1]사무실(B)'!I59 -> 0 | Q59: 0 | W59: =[1]신세계!G63+[1]홈앤!F63+[1]롯데!G63+[1]현대!F59+[1]GS!G63+[1]CJ!G63 -> 0 | X59: =D59+E59+F59+H59+G59+I59+J59+K59+L59-M59-N59-O59-P59-Q59-R59-T59-U59-V59-W59-S59 -> 1247
A60: =A59+1 -> 46 | B60: 칼비사노 캐비아 | C60: 칼비사노 퓨어 골드 캐비아 앰플 | D60: 2204 | G60: =[1]레인보우코리아!L60 -> 0 | H60: =[1]신세계!L64+[1]홈앤!K64+[1]롯데!L64+[1]현대!K64+[1]GS!L64+[1]CJ!L64 -> 0 | K60: ='[1]사무실(B)'!H60 -> 12 | L60: ='[1]사무실(B)'!I60 -> 0 | M60: 4 | Q60: 0 | W60: =[1]신세계!G64+[1]홈앤!F64+[1]롯데!G64+[1]현대!F63+[1]GS!G64+[1]CJ!G64 -> 0 | X60: =D60+E60+F60+H60+G60+I60+J60+K60+L60-M60-N60-O60-P60-Q60-R60-T60-U60-V60-W60-S60 -> 2212
A61: =A60+1 -> 47 | B61: 칼비사노 캐비아 | C61: 칼비사노 1주년 패키지 크림 | D61: 81 | G61: =[1]레인보우코리아!L61 -> 0 | H61: =[1]신세계!L65+[1]홈앤!K65+[1]롯데!L65+[1]현대!K65+[1]GS!L65+[1]CJ!L65 -> 0 | K61: ='[1]사무실(B)'!H61 -> 3 | L61: ='[1]사무실(B)'!I61 -> 0 | Q61: 0 | W61: =[1]신세계!G65+[1]홈앤!F65+[1]롯데!G65+[1]현대!F64+[1]GS!G65+[1]CJ!G65 -> 0 | X61: =D61+E61+F61+H61+G61+I61+J61+K61+L61-M61-N61-O61-P61-Q61-R61-T61-U61-V61-W61-S61 -> 84
A62: =A61+1 -> 48 | B62: 칼비사노 캐비아 | C62: 칼비사노 엑스트라 캐비아 크림(20g) | D62: 0 | G62: =[1]레인보우코리아!L62 -> 0 | H62: =[1]신세계!L66+[1]홈앤!K66+[1]롯데!L66+[1]현대!K66+[1]GS!L66+[1]CJ!L66 -> 0 | K62: ='[1]사무실(B)'!H62 -> 0 | L62: ='[1]사무실(B)'!I62 -> 0 | Q62: 0 | W62: =[1]신세계!G66+[1]홈앤!F66+[1]롯데!G66+[1]현대!F65+[1]GS!G66+[1]CJ!G66 -> 0 | X62: =D62+E62+F62+H62+G62+I62+J62+K62+L62-M62-N62-O62-P62-Q62-R62-T62-U62-V62-W62-S62 -> 0
B63: 칼비사노 캐비아 | C63: 칼비사노 엑스트라 캐비아 단품 소계 | D63: 5100 | E63: =SUM(E57:E62) -> 0 | F63: =SUM(F57:F62) -> 0 | G63: =SUM(G57:G62) -> 0 | H63: =SUM(H57:H62) -> 0 | I63: =SUM(I57:I62) -> 0 | J63: =SUM(J57:J62) -> 0 | K63: =SUM(K57:K62) -> 26 | L63: =SUM(L57:L62) -> 3 | ... P63: =SUM(P57:P62) -> 0 | Q63: 1 | R63: =SUM(R57:R62) -> 0 | S63: =SUM(S57:S62) -> 0 | T63: =SUM(T57:T62) -> 0 | U63: =SUM(U57:U62) -> 0 | V63: =SUM(V57:V62) -> 3 | W63: =SUM(W57:W62) -> 0 | X63: =SUM(X57:X62) -> 5117
A64: =A62+1 -> 49 | B64: 슬로우 테라피 | C64: 카밍 에센스 토너 | D64: 97 | G64: =[1]레인보우코리아!L64 -> 0 | H64: =[1]신세계!L64+[1]홈앤!K64+[1]롯데!L64+[1]현대!K64+[1]GS!L64+[1]CJ!L64 -> 0 | K64: ='[1]사무실(B)'!H64 -> 0 | L64: ='[1]사무실(B)'!I64 -> 0 | Q64: 1 | U64: 1 | W64: =[1]신세계!G64+[1]홈앤!F64+[1]롯데!G64+[1]현대!F64+[1]GS!G64+[1]CJ!G64 -> 0 | X64: =D64+E64+F64+H64+G64+I64+J64+K64+L64-M64-N64-O64-P64-Q64-R64-T64-U64-V64-W64-S64 -> 95
A65: =A64+1 -> 50 | B65: 슬로우 테라피 | C65: 카밍 밸런싱 에멀전 | D65: 61 | G65: =[1]레인보우코리아!L65 -> 0 | H65: =[1]신세계!L65+[1]홈앤!K65+[1]롯데!L65+[1]현대!K65+[1]GS!L65+[1]CJ!L65 -> 0 | K65: ='[1]사무실(B)'!H65 -> 0 | L65: ='[1]사무실(B)'!I65 -> 0 | Q65: 0 | U65: 1 | W65: =[1]신세계!G65+[1]홈앤!F65+[1]롯데!G65+[1]현대!F65+[1]GS!G65+[1]CJ!G65 -> 0 | X65: =D65+E65+F65+H65+G65+I65+J65+K65+L65-M65-N65-O65-P65-Q65-R65-T65-U65-V65-W65-S65 -> 60
A66: =A65+1 -> 51 | B66: 슬로우 테라피 | C66: 쓰리피 카밍 구슬 앰플 | D66: 594 | G66: =[1]레인보우코리아!L66 -> 0 | H66: =[1]신세계!L66+[1]홈앤!K66+[1]롯데!L66+[1]현대!K66+[1]GS!L66+[1]CJ!L66 -> 0 | K66: ='[1]사무실(B)'!H66 -> 0 | L66: ='[1]사무실(B)'!I66 -> 0 | Q66: 0 | W66: =[1]신세계!G66+[1]홈앤!F66+[1]롯데!G66+[1]현대!F66+[1]GS!G66+[1]CJ!G66 -> 0 | X66: =D66+E66+F66+H66+G66+I66+J66+K66+L66-M66-N66-O66-P66-Q66-R66-T66-U66-V66-W66-S66 -> 594
A67: =A66+1 -> 52 | B67: 슬로우 테라피 | C67: 카밍 피토바이옴 크림 | D67: 1193 | G67: =[1]레인보우코리아!L67 -> 0 | H67: =[1]신세계!L67+[1]홈앤!K67+[1]롯데!L67+[1]현대!K67+[1]GS!L67+[1]CJ!L67 -> 0 | K67: ='[1]사무실(B)'!H67 -> 0 | L67: ='[1]사무실(B)'!I67 -> 0 | Q67: 0 | W67: =[1]신세계!G67+[1]홈앤!F67+[1]롯데!G67+[1]현대!F67+[1]GS!G67+[1]CJ!G67 -> 0 | X67: =D67+E67+F67+H67+G67+I67+J67+K67+L67-M67-N67-O67-P67-Q67-R67-T67-U67-V67-W67-S67 -> 1193
A68: =A67+1 -> 53 | B68: 슬로우 테라피 | C68: 카밍 오아시스 클리어 패드 | D68: 460 | G68: =[1]레인보우코리아!L68 -> 0 | H68: =[1]신세계!L68+[1]홈앤!K68+[1]롯데!L68+[1]현대!K68+[1]GS!L68+[1]CJ!L68 -> 0 | K68: ='[1]사무실(B)'!H68 -> 0 | L68: ='[1]사무실(B)'!I68 -> 0 | Q68: 3 | W68: =[1]신세계!G68+[1]홈앤!F68+[1]롯데!G68+[1]현대!F68+[1]GS!G68+[1]CJ!G68 -> 0 | X68: =D68+E68+F68+H68+G68+I68+J68+K68+L68-M68-N68-O68-P68-Q68-R68-T68-U68-V68-W68-S68 -> 457
A69: =A68+1 -> 54 | B69: 슬로우 테라피 | C69: 쓰리피 카밍 구슬 앰플 2ml 파우치 | D69: 2723 | G69: =[1]레인보우코리아!L69 -> 6000 | H69: =[1]신세계!L69+[1]홈앤!K69+[1]롯데!L69+[1]현대!K69+[1]GS!L69+[1]CJ!L69 -> 0 | K69: ='[1]사무실(B)'!H69 -> 0 | L69: ='[1]사무실(B)'!I69 -> 0 | Q69: 387 | W69: =[1]신세계!G69+[1]홈앤!F69+[1]롯데!G69+[1]현대!F69+[1]GS!G69+[1]CJ!G69 -> 0 | X69: =D69+E69+F69+H69+G69+I69+J69+K69+L69-M69-N69-O69-P69-Q69-R69-T69-U69-V69-W69-S69 -> 8336
A70: =A69+1 -> 55 | B70: 슬로우 테라피 | C70: 카밍 피토바이옴 크림 2ml 파우치 | D70: 2174 | G70: =[1]레인보우코리아!L70 -> 6000 | H70: =[1]신세계!L70+[1]홈앤!K70+[1]롯데!L70+[1]현대!K70+[1]GS!L70+[1]CJ!L70 -> 0 | K70: ='[1]사무실(B)'!H70 -> 0 | L70: ='[1]사무실(B)'!I70 -> 0 | Q70: 486 | W70: =[1]신세계!G70+[1]홈앤!F70+[1]롯데!G70+[1]현대!F70+[1]GS!G70+[1]CJ!G70 -> 0 | X70: =D70+E70+F70+H70+G70+I70+J70+K70+L70-M70-N70-O70-P70-Q70-R70-T70-U70-V70-W70-S70 -> 7688
B71: 슬로우 테라피 | C71: 슬로우 테라피 단품 소계 | D71: 7302 | E71: =SUM(E64:E70) -> 0 | F71: =SUM(F64:F70) -> 0 | G71: =SUM(G64:G70) -> 12000 | H71: =SUM(H64:H70) -> 0 | I71: =SUM(I64:I70) -> 0 | J71: =SUM(J64:J70) -> 0 | K71: =SUM(K64:K70) -> 0 | L71: =SUM(L64:L70) -> 0 | ... P71: =SUM(P64:P70) -> 0 | Q71: 877 | R71: =SUM(R64:R70) -> 0 | S71: =SUM(S64:S70) -> 0 | T71: =SUM(T64:T70) -> 0 | U71: =SUM(U64:U70) -> 2 | V71: =SUM(V64:V70) -> 0 | W71: =SUM(W64:W70) -> 0 | X71: =SUM(X64:X70) -> 18423
A72: =A70+1 -> 56 | B72: 아트델리6 | C72: 아트델리 리얼 콜라겐 핏 커버 쿠션 본품(A) 민트 | D72: 230 | G72: =[1]레인보우코리아!L72 -> 0 | H72: =[1]신세계!L72+[1]홈앤!K72+[1]롯데!L72+[1]현대!K72+[1]GS!L72+[1]CJ!L72 -> 0 | K72: ='[1]사무실(B)'!H72 -> 0 | L72: ='[1]사무실(B)'!I72 -> 0 | Q72: 3 | W72: =[1]신세계!G72+[1]홈앤!F72+[1]롯데!G72+[1]현대!F72+[1]GS!G72+[1]CJ!G72 -> 0 | X72: =D72+E72+F72+H72+G72+I72+J72+K72+L72-M72-N72-O72-P72-Q72-R72-T72-U72-V72-W72-S72 -> 227
A73: =A72+1 -> 57 | B73: 아트델리6 | C73: 아트델리 리얼 콜라겐 핏 커버 쿠션 리필(A) | D73: 477 | G73: =[1]레인보우코리아!L73 -> 0 | H73: =[1]신세계!L73+[1]홈앤!K73+[1]롯데!L73+[1]현대!K73+[1]GS!L73+[1]CJ!L73 -> 0 | K73: ='[1]사무실(B)'!H73 -> 0 | L73: ='[1]사무실(B)'!I73 -> 0 | Q73: 1 | W73: =[1]신세계!G73+[1]홈앤!F73+[1]롯데!G73+[1]현대!F73+[1]GS!G73+[1]CJ!G73 -> 0 | X73: =D73+E73+F73+H73+G73+I73+J73+K73+L73-M73-N73-O73-P73-Q73-R73-T73-U73-V73-W73-S73 -> 476
A74: =A73+1 -> 58 | B74: 아트델리6 | C74: 아트델리 리얼 콜라겐 핏 커버 쿠션 본품(B) 핑크 | D74: 244 | G74: =[1]레인보우코리아!L74 -> 0 | H74: =[1]신세계!L74+[1]홈앤!K74+[1]롯데!L74+[1]현대!K74+[1]GS!L74+[1]CJ!L74 -> 0 | K74: ='[1]사무실(B)'!H74 -> 0 | L74: ='[1]사무실(B)'!I74 -> 0 | Q74: 5 | W74: =[1]신세계!G74+[1]홈앤!F74+[1]롯데!G74+[1]현대!F74+[1]GS!G74+[1]CJ!G74 -> 0 | X74: =D74+E74+F74+H74+G74+I74+J74+K74+L74-M74-N74-O74-P74-Q74-R74-T74-U74-V74-W74-S74 -> 239
A75: =A74+1 -> 59 | B75: 아트델리6 | C75: 아트델리 리얼 콜라겐 핏 커버 쿠션 리필(B) | D75: 422 | G75: =[1]레인보우코리아!L75 -> 0 | H75: =[1]신세계!L75+[1]홈앤!K75+[1]롯데!L75+[1]현대!K75+[1]GS!L75+[1]CJ!L75 -> 0 | K75: ='[1]사무실(B)'!H75 -> 0 | L75: ='[1]사무실(B)'!I75 -> 0 | Q75: 6 | W75: =[1]신세계!G75+[1]홈앤!F75+[1]롯데!G75+[1]현대!F75+[1]GS!G75+[1]CJ!G75 -> 0 | X75: =D75+E75+F75+H75+G75+I75+J75+K75+L75-M75-N75-O75-P75-Q75-R75-T75-U75-V75-W75-S75 -> 416
A76: =A75+1 -> 60 | B76: 아트델리6 | C76: 아트델리 리얼 콜라겐 밀키 크림 | D76: 220 | G76: =[1]레인보우코리아!L76 -> 0 | H76: =[1]신세계!L76+[1]홈앤!K76+[1]롯데!L76+[1]현대!K76+[1]GS!L76+[1]CJ!L76 -> 0 | K76: ='[1]사무실(B)'!H76 -> 0 | L76: ='[1]사무실(B)'!I76 -> 0 | Q76: 20 | W76: =[1]신세계!G76+[1]홈앤!F76+[1]롯데!G76+[1]현대!F76+[1]GS!G76+[1]CJ!G76 -> 0 | X76: =D76+E76+F76+H76+G76+I76+J76+K76+L76-M76-N76-O76-P76-Q76-R76-T76-U76-V76-W76-S76 -> 200
A77: =A76+1 -> 61 | B77: 아트델리6 | C77: 아트델리 리얼 콜라겐 밀키 앰플 | D77: 46 | G77: =[1]레인보우코리아!L77 -> 0 | H77: =[1]신세계!L77+[1]홈앤!K77+[1]롯데!L77+[1]현대!K77+[1]GS!L77+[1]CJ!L77 -> 0 | K77: ='[1]사무실(B)'!H77 -> 0 | L77: ='[1]사무실(B)'!I77 -> 0 | Q77: 3 | W77: =[1]신세계!G77+[1]홈앤!F77+[1]롯데!G77+[1]현대!F77+[1]GS!G77+[1]CJ!G77 -> 0 | X77: =D77+E77+F77+H77+G77+I77+J77+K77+L77-M77-N77-O77-P77-Q77-R77-T77-U77-V77-W77-S77 -> 43
A78: =A77+1 -> 62 | B78: 아트델리6 | C78: 아트델리 리얼 콜라겐 아이크림 | D78: 1 | G78: =[1]레인보우코리아!L78 -> 0 | H78: =[1]신세계!L78+[1]홈앤!K78+[1]롯데!L78+[1]현대!K78+[1]GS!L78+[1]CJ!L78 -> 0 | K78: ='[1]사무실(B)'!H78 -> 0 | L78: ='[1]사무실(B)'!I78 -> 0 | Q78: 0 | W78: =[1]신세계!G78+[1]홈앤!F78+[1]롯데!G78+[1]현대!F78+[1]GS!G78+[1]CJ!G78 -> 0 | X78: =D78+E78+F78+H78+G78+I78+J78+K78+L78-M78-N78-O78-P78-Q78-R78-T78-U78-V78-W78-S78 -> 1
A79: =A78+1 -> 63 | B79: 아트델리6 | C79: 블러링 벨벳 틴트 Burning up 픽 레드 01 | D79: 936 | G79: =[1]레인보우코리아!L79 -> 0 | H79: =[1]신세계!L79+[1]홈앤!K79+[1]롯데!L79+[1]현대!K79+[1]GS!L79+[1]CJ!L79 -> 0 | K79: ='[1]사무실(B)'!H79 -> 0 | L79: ='[1]사무실(B)'!I79 -> 0 | Q79: 0 | W79: =[1]신세계!G79+[1]홈앤!F79+[1]롯데!G79+[1]현대!F79+[1]GS!G79+[1]CJ!G79 -> 0 | X79: =D79+E79+F79+H79+G79+I79+J79+K79+L79-M79-N79-O79-P79-Q79-R79-T79-U79-V79-W79-S79 -> 936
A80: =A79+1 -> 64 | B80: 아트델리6 | C80: 블러링 벨벳 틴트 just feeling 베어 브릭 02 | D80: 159 | G80: =[1]레인보우코리아!L80 -> 0 | H80: =[1]신세계!L80+[1]홈앤!K80+[1]롯데!L80+[1]현대!K80+[1]GS!L80+[1]CJ!L80 -> 0 | K80: ='[1]사무실(B)'!H80 -> 0 | L80: ='[1]사무실(B)'!I80 -> 0 | Q80: 0 | W80: =[1]신세계!G80+[1]홈앤!F80+[1]롯데!G80+[1]현대!F80+[1]GS!G80+[1]CJ!G80 -> 0 | X80: =D80+E80+F80+H80+G80+I80+J80+K80+L80-M80-N80-O80-P80-Q80-R80-T80-U80-V80-W80-S80 -> 159
A81: =A80+1 -> 65 | B81: 아트델리6 | C81: 블러링 벨벳 틴트 go to lip 미드나잇 누디 03 | D81: 158 | G81: =[1]레인보우코리아!L81 -> 0 | H81: =[1]신세계!L81+[1]홈앤!K81+[1]롯데!L81+[1]현대!K81+[1]GS!L81+[1]CJ!L81 -> 0 | K81: ='[1]사무실(B)'!H81 -> 0 | L81: ='[1]사무실(B)'!I81 -> 0 | Q81: 10 | W81: =[1]신세계!G81+[1]홈앤!F81+[1]롯데!G81+[1]현대!F81+[1]GS!G81+[1]CJ!G81 -> 0 | X81: =D81+E81+F81+H81+G81+I81+J81+K81+L81-M81-N81-O81-P81-Q81-R81-T81-U81-V81-W81-S81 -> 148
A82: =A81+1 -> 66 | B82: 아트델리6 | C82: 블러링 벨벳 틴트 Botanic garden 로즈 다운 04 | D82: 842 | G82: =[1]레인보우코리아!L82 -> 0 | H82: =[1]신세계!L82+[1]홈앤!K82+[1]롯데!L82+[1]현대!K82+[1]GS!L82+[1]CJ!L82 -> 0 | K82: ='[1]사무실(B)'!H82 -> 0 | L82: ='[1]사무실(B)'!I82 -> 0 | Q82: 0 | W82: =[1]신세계!G82+[1]홈앤!F82+[1]롯데!G82+[1]현대!F82+[1]GS!G82+[1]CJ!G82 -> 0 | X82: =D82+E82+F82+H82+G82+I82+J82+K82+L82-M82-N82-O82-P82-Q82-R82-T82-U82-V82-W82-S82 -> 842
A83: =A82+1 -> 67 | B83: 아트델리6 | C83: 블러링 벨벳 틴트 I love u 폴링 핑크 05 | D83: 736 | G83: =[1]레인보우코리아!L83 -> 0 | H83: =[1]신세계!L83+[1]홈앤!K83+[1]롯데!L83+[1]현대!K83+[1]GS!L83+[1]CJ!L83 -> 0 | K83: ='[1]사무실(B)'!H83 -> 0 | L83: ='[1]사무실(B)'!I83 -> 0 | Q83: 0 | W83: =[1]신세계!G83+[1]홈앤!F83+[1]롯데!G83+[1]현대!F83+[1]GS!G83+[1]CJ!G83 -> 0 | X83: =D83+E83+F83+H83+G83+I83+J83+K83+L83-M83-N83-O83-P83-Q83-R83-T83-U83-V83-W83-S83 -> 736
B84: 아트델리6 | C84: 아트델리6 단품 소계 | D84: 4471 | E84: =SUM(E72:F83) -> 0 | F84: =SUM(F79:F83) -> 0 | G84: =SUM(G72:G83) -> 0 | H84: =SUM(H72:H83) -> 0 | I84: =SUM(I72:I83) -> 0 | J84: =SUM(J72:J83) -> 0 | K84: =SUM(K72:K83) -> 0 | L84: =SUM(L72:L83) -> 0 | M84: =SUM(M72:M83) -> 0 | N84: =SUM(N72:N83) -> 0 | ... P84: =SUM(P72:P83) -> 0 | Q84: 48 | R84: =SUM(R72:R83) -> 0 | S84: =SUM(S72:S83) -> 0 | T84: =SUM(T72:T83) -> 0 | U84: =SUM(U72:U83) -> 0 | V84: =SUM(V72:V83) -> 0 | W84: =SUM(W72:W83) -> 0 | X84: =SUM(X72:X83) -> 4423
A85: =A83+1 -> 68 | B85: 코코미라클 | C85: 코코미라클 아이브로우 마커 336 (그레이쉬브라운) | D85: 63 | G85: =[1]레인보우코리아!L85 -> 0 | H85: =[1]신세계!L85+[1]홈앤!K85+[1]롯데!L85+[1]현대!K85+[1]GS!L85+[1]CJ!L85 -> 0 | K85: ='[1]사무실(B)'!H85 -> 0 | L85: ='[1]사무실(B)'!I85 -> 0 | Q85: 0 | W85: =[1]신세계!G85+[1]홈앤!F85+[1]롯데!G85+[1]현대!F85+[1]GS!G85+[1]CJ!G85 -> 0 | X85: =D85+E85+F85+H85+G85+I85+J85+K85+L85-M85-N85-O85-P85-Q85-R85-T85-U85-V85-W85-S85 -> 63
A86: =A85+1 -> 69 | B86: 코코미라클 | C86: 코코미라클 아이브로우 마커 336 (내추럴브라운) | D86: 2 | G86: =[1]레인보우코리아!L86 -> 0 | H86: =[1]신세계!L86+[1]홈앤!K86+[1]롯데!L86+[1]현대!K86+[1]GS!L86+[1]CJ!L86 -> 0 | K86: ='[1]사무실(B)'!H86 -> 0 | L86: ='[1]사무실(B)'!I86 -> 0 | Q86: 0 | W86: =[1]신세계!G86+[1]홈앤!F86+[1]롯데!G86+[1]현대!F86+[1]GS!G86+[1]CJ!G86 -> 0 | X86: =D86+E86+F86+H86+G86+I86+J86+K86+L86-M86-N86-O86-P86-Q86-R86-T86-U86-V86-W86-S86 -> 2
A87: =A86+1 -> 70 | B87: 코코미라클 | C87: 코코미라클 멀티 이팩트 아이 컬러 팔레트 | D87: 78 | G87: =[1]레인보우코리아!L87 -> 0 | H87: =[1]신세계!L87+[1]홈앤!K87+[1]롯데!L87+[1]현대!K87+[1]GS!L87+[1]CJ!L87 -> 0 | K87: ='[1]사무실(B)'!H87 -> 0 | L87: ='[1]사무실(B)'!I87 -> 0 | Q87: 0 | W87: =[1]신세계!G87+[1]홈앤!F87+[1]롯데!G87+[1]현대!F87+[1]GS!G87+[1]CJ!G87 -> 0 | X87: =D87+E87+F87+H87+G87+I87+J87+K87+L87-M87-N87-O87-P87-Q87-R87-T87-U87-V87-W87-S87 -> 78
A88: =A87+1 -> 71 | B88: 코코미라클 | C88: 코코미라클 멀티 이팩트 립 컬러 팔레트 | D88: 1 | G88: =[1]레인보우코리아!L88 -> 0 | H88: =[1]신세계!L88+[1]홈앤!K88+[1]롯데!L88+[1]현대!K88+[1]GS!L88+[1]CJ!L88 -> 0 | K88: ='[1]사무실(B)'!H88 -> 0 | L88: ='[1]사무실(B)'!I88 -> 0 | Q88: 0 | W88: =[1]신세계!G88+[1]홈앤!F88+[1]롯데!G88+[1]현대!F88+[1]GS!G88+[1]CJ!G88 -> 0 | X88: =D88+E88+F88+H88+G88+I88+J88+K88+L88-M88-N88-O88-P88-Q88-R88-T88-U88-V88-W88-S88 -> 1
B89: 코코미라클 | C89: 코코미라클 단품 소계 | D89: 144 | E89: =SUM(E85:E88) -> 0 | F89: =SUM(F85:F88) -> 0 | G89: =SUM(G85:G88) -> 0 | H89: =SUM(H85:H88) -> 0 | I89: =SUM(I85:I88) -> 0 | J89: =SUM(J85:J88) -> 0 | K89: =SUM(K85:K88) -> 0 | L89: =SUM(L85:L88) -> 0 | ... P89: =SUM(P85:P88) -> 0 | Q89: 0 | R89: =SUM(R85:R88) -> 0 | S89: =SUM(S85:S88) -> 0 | T89: =SUM(T85:T88) -> 0 | U89: =SUM(U85:U88) -> 0 | V89: =SUM(V85:V88) -> 0 | W89: =SUM(W85:W88) -> 0 | X89: =SUM(X85:X88) -> 144
A90: =A88+1 -> 72 | B90: 아트델리5 | C90: 아트델리 콜라겐 핏 커버 쿠션 본품(A)실버 | D90: 96 | G90: =[1]레인보우코리아!L90 -> 0 | H90: =[1]신세계!L90+[1]홈앤!K90+[1]롯데!L90+[1]현대!K90+[1]GS!L90+[1]CJ!L90 -> 0 | K90: ='[1]사무실(B)'!H90 -> 0 | L90: ='[1]사무실(B)'!I90 -> 0 | Q90: 7 | U90: 10 | W90: =[1]신세계!G90+[1]홈앤!F90+[1]롯데!G90+[1]현대!F90+[1]GS!G90+[1]CJ!G90 -> 0 | X90: =D90+E90+F90+H90+G90+I90+J90+K90+L90-M90-N90-O90-P90-Q90-R90-T90-U90-V90-W90-S90 -> 79
A91: =A90+1 -> 73 | B91: 아트델리5 | C91: 아트델리 콜라겐 핏 커버 쿠션 본품(B)골드 | D91: 87 | G91: =[1]레인보우코리아!L91 -> 0 | H91: =[1]신세계!L91+[1]홈앤!K91+[1]롯데!L91+[1]현대!K91+[1]GS!L91+[1]CJ!L91 -> 0 | K91: ='[1]사무실(B)'!H91 -> 0 | L91: ='[1]사무실(B)'!I91 -> 0 | Q91: 6 | U91: 56 | W91: =[1]신세계!G91+[1]홈앤!F91+[1]롯데!G91+[1]현대!F91+[1]GS!G91+[1]CJ!G91 -> 0 | X91: =D91+E91+F91+H91+G91+I91+J91+K91+L91-M91-N91-O91-P91-Q91-R91-T91-U91-V91-W91-S91 -> 25
A92: =A91+1 -> 74 | B92: 아트델리5 | C92: 아트델리 콜라겐 핏 커버 쿠션 본품©에메랄드 | D92: 2529 | G92: =[1]레인보우코리아!L92 -> 0 | H92: =[1]신세계!L92+[1]홈앤!K92+[1]롯데!L92+[1]현대!K92+[1]GS!L92+[1]CJ!L92 -> 0 | K92: ='[1]사무실(B)'!H92 -> 0 | L92: ='[1]사무실(B)'!I92 -> 0 | Q92: 4 | U92: 80 | W92: =[1]신세계!G92+[1]홈앤!F92+[1]롯데!G92+[1]현대!F92+[1]GS!G92+[1]CJ!G92 -> 0 | X92: =D92+E92+F92+H92+G92+I92+J92+K92+L92-M92-N92-O92-P92-Q92-R92-T92-U92-V92-W92-S92 -> 2445
A93: =A92+1 -> 75 | B93: 아트델리5 | C93: 아트델리 콜라겐 핏 커버 쿠션 리필 | D93: 2896 | G93: =[1]레인보우코리아!L93 -> 0 | H93: =[1]신세계!L93+[1]홈앤!K93+[1]롯데!L93+[1]현대!K93+[1]GS!L93+[1]CJ!L93 -> 0 | K93: ='[1]사무실(B)'!H93 -> 0 | L93: ='[1]사무실(B)'!I93 -> 0 | Q93: 5 | U93: 142 | W93: =[1]신세계!G93+[1]홈앤!F93+[1]롯데!G93+[1]현대!F93+[1]GS!G93+[1]CJ!G93 -> 0 | X93: =D93+E93+F93+H93+G93+I93+J93+K93+L93-M93-N93-O93-P93-Q93-R93-T93-U93-V93-W93-S93 -> 2749
A94: =A93+1 -> 76 | B94: 아트델리5 | C94: 아트델리 리부트 콜라겐 샷 앰플 | D94: 1 | G94: =[1]레인보우코리아!L94 -> 0 | H94: =[1]신세계!L94+[1]홈앤!K94+[1]롯데!L94+[1]현대!K94+[1]GS!L94+[1]CJ!L94 -> 0 | K94: ='[1]사무실(B)'!H94 -> 0 | L94: ='[1]사무실(B)'!I94 -> 0 | Q94: 0 | W94: =[1]신세계!G94+[1]홈앤!F94+[1]롯데!G94+[1]현대!F94+[1]GS!G94+[1]CJ!G94 -> 0 | X94: =D94+E94+F94+H94+G94+I94+J94+K94+L94-M94-N94-O94-P94-Q94-R94-T94-U94-V94-W94-S94 -> 1
A95: =A94+1 -> 77 | B95: 아트델리5 | C95: 아트델리 압솔뤼 퍼스트 콜라겐 토너 | D95: 0 | G95: =[1]레인보우코리아!L95 -> 0 | H95: =[1]신세계!L95+[1]홈앤!K95+[1]롯데!L95+[1]현대!K95+[1]GS!L95+[1]CJ!L95 -> 0 | K95: ='[1]사무실(B)'!H95 -> 0 | L95: ='[1]사무실(B)'!I95 -> 0 | Q95: 0 | W95: =[1]신세계!G95+[1]홈앤!F95+[1]롯데!G95+[1]현대!F95+[1]GS!G95+[1]CJ!G95 -> 0 | X95: =D95+E95+F95+H95+G95+I95+J95+K95+L95-M95-N95-O95-P95-Q95-R95-T95-U95-V95-W95-S95 -> 0
B96: 아트델리5 | C96: 아트델리5 단품 소계 | D96: 5609 | E96: =SUM(E90:F95) -> 0 | F96: =SUM(F90:G95) -> 0 | G96: =SUM(G90:G95) -> 0 | H96: =SUM(H90:H95) -> 0 | I96: =SUM(I90:I95) -> 0 | J96: =SUM(J90:J95) -> 0 | K96: =SUM(K90:K95) -> 0 | L96: =SUM(L90:L95) -> 0 | M96: =SUM(M90:M95) -> 0 | N96: =SUM(N90:N95) -> 0 | ... P96: =SUM(P90:P95) -> 0 | Q96: 22 | R96: =SUM(R90:R95) -> 0 | S96: =SUM(S90:S95) -> 0 | T96: =SUM(T90:T95) -> 0 | U96: =SUM(U90:U95) -> 288 | V96: =SUM(V90:V95) -> 0 | W96: =SUM(W90:W95) -> 0 | X96: =SUM(X90:X95) -> 5299
A97: =A95+1 -> 78 | B97: 선쿠션3 | C97: 퍼팩트스킨 에코더마 퓨어 선쿠션 본품(화이트) | D97: 518 | G97: =[1]레인보우코리아!L97 -> 0 | H97: =[1]신세계!L97+[1]홈앤!K97+[1]롯데!L97+[1]현대!K97+[1]GS!L97+[1]CJ!L97 -> 0 | K97: ='[1]사무실(B)'!H97 -> 0 | L97: ='[1]사무실(B)'!I97 -> 0 | Q97: 0 | U97: 1 | W97: =[1]신세계!G97+[1]홈앤!F97+[1]롯데!G97+[1]현대!F97+[1]GS!G97+[1]CJ!G97 -> 0 | X97: =D97+E97+F97+H97+G97+I97+J97+K97+L97-M97-N97-O97-P97-Q97-R97-T97-U97-V97-W97-S97 -> 517
A98: =A97+1 -> 79 | B98: 선쿠션3 | C98: 퍼팩트스킨 에코더마 퓨어 선쿠션 본품(핑크) | D98: 296 | G98: =[1]레인보우코리아!L98 -> 0 | H98: =[1]신세계!L98+[1]홈앤!K98+[1]롯데!L98+[1]현대!K98+[1]GS!L98+[1]CJ!L98 -> 0 | K98: ='[1]사무실(B)'!H98 -> 0 | L98: ='[1]사무실(B)'!I98 -> 0 | Q98: 4 | W98: =[1]신세계!G98+[1]홈앤!F98+[1]롯데!G98+[1]현대!F98+[1]GS!G98+[1]CJ!G98 -> 0 | X98: =D98+E98+F98+H98+G98+I98+J98+K98+L98-M98-N98-O98-P98-Q98-R98-T98-U98-V98-W98-S98 -> 292
A99: =A98+1 -> 80 | B99: 선쿠션3 | C99: 퍼팩트스킨 에코더마 퓨어 선쿠션 본품(민트) | D99: 974 | G99: =[1]레인보우코리아!L99 -> 0 | H99: =[1]신세계!L99+[1]홈앤!K99+[1]롯데!L99+[1]현대!K99+[1]GS!L99+[1]CJ!L99 -> 0 | K99: ='[1]사무실(B)'!H99 -> 0 | L99: ='[1]사무실(B)'!I99 -> 0 | Q99: 0 | W99: =[1]신세계!G99+[1]홈앤!F99+[1]롯데!G99+[1]현대!F99+[1]GS!G99+[1]CJ!G99 -> 0 | X99: =D99+E99+F99+H99+G99+I99+J99+K99+L99-M99-N99-O99-P99-Q99-R99-T99-U99-V99-W99-S99 -> 974
A100: =A99+1 -> 81 | B100: 선쿠션3 | C100: 퍼팩트스킨 에코더마 퓨어 선쿠션 리필 | D100: 444 | G100: =[1]레인보우코리아!L100 -> 0 | H100: =[1]신세계!L100+[1]홈앤!K100+[1]롯데!L100+[1]현대!K100+[1]GS!L100+[1]CJ!L100 -> 0 | K100: ='[1]사무실(B)'!H100 -> 0 | L100: ='[1]사무실(B)'!I100 -> 0 | Q100: 4 | U100: 1 | W100: =[1]신세계!G100+[1]홈앤!F100+[1]롯데!G100+[1]현대!F100+[1]GS!G100+[1]CJ!G100 -> 0 | X100: =D100+E100+F100+H100+G100+I100+J100+K100+L100-M100-N100-O100-P100-Q100-R100-T100-U100-V100-W100-S100 -> 439
...
