Workbook

Sheet 사무실(A)
A1: 사무실 창고(A) 재고 현황 | M1: 256 | N1: 160
M2: 5 | N2: 8 | V2: =[1]총괄!P2 -> 44925
M3: =M1*M2 -> 1280 | N3: =N1*N2 -> 1280 | O3: =M3+N3 -> 2560 | P3: 15 | Q3: 4 | S3: =P3+Q3 -> 19 | T3: =O3-S3 -> 2541
A4: NO | B4: 브랜드 | C4: 제품명 | D4: 전일재고 | E4: 당일입고 | M4: 당일출고 | X4: 당일재고 | Y4: 비고
E5: 제조원 | F5: 파워물류 | G5: 레인보우 | H5: 홈쇼핑사 | I5: 기타 | J5: 리필본품화 | K5: 반품(B)선별 | L5: 반품(B)전환 | M5: 직택배 | N5: 고객 A/S | O5: 직송 | P5: 리필본품화 | Q5: 자사몰 | S5: 레인보우 | T5: 방송준비 | U5: 오프라인 | V5: 증정용 | W5: 홈쇼핑
C6: 총계 | D6: =+D170+D182+D196+D199+D209+D268+D157+D154+D136+D133+D131+D128+D123+D119+D116+D112+D106+D89+D101+D96+D42+D84+D71+D63+D48+D38+D56+D23+D31+D20+D17 -> 98424 | E6: =+E170+E182+E196+E199+E209+E268+E157+E154+E136+E133+E131+E128+E123+E119+E116+E112+E106+E89+E101+E96+E42+E84+E71+E63+E48+E38+E56+E23+E31+E20+E17 -> 0 | F6: =+F170+F182+F196+F199+F209+F268+F157+F154+F136+F133+F131+F128+F123+F119+F116+F112+F106+F89+F101+F96+F42+F84+F71+F63+F48+F38+F56+F23+F31+F20+F17 -> 0 | G6: =+G170+G182+G196+G199+G209+G268+G157+G154+G136+G133+G131+G128+G123+G119+G116+G112+G106+G89+G101+G96+G42+G84+G71+G63+G48+G38+G56+G23+G31+G20+G17 -> 15227 | H6: =+H170+H182+H196+H199+H209+H268+H157+H154+H136+H133+H131+H128+H123+H119+H116+H112+H106+H89+H101+H96+H42+H84+H71+H63+H48+H38+H56+H23+H31+H20+H17 -> 0 | I6: =+I170+I182+I196+I199+I209+I268+I157+I154+I136+I133+I131+I128+I123+I119+I116+I112+I106+I89+I101+I96+I42+I84+I71+I63+I48+I38+I56+I23+I31+I20+I17 -> 0 | J6: =+J170+J182+J196+J199+J209+J268+J157+J154+J136+J133+J131+J128+J123+J119+J116+J112+J106+J89+J101+J96+J42+J84+J71+J63+J48+J38+J56+J23+J31+J20+J17 -> 0 | K6: =+K170+K182+K196+K199+K209+K268+K157+K154+K136+K133+K131+K128+K123+K119+K116+K112+K106+K89+K101+K96+K42+K84+K71+K63+K48+K38+K56+K23+K31+K20+K17 -> 235 | ... X6: =+X170+X182+X196+X199+X209+X268+X157+X154+X136+X133+X131+X128+X123+X119+X116+X112+X106+X89+X101+X96+X42+X84+X71+X63+X48+X38+X56+X23+X31+X20+X17 -> 109738
A7: =A6+1 -> 1 | B7: 슬로우 테라피 | C7: 슬로우테라피 구슬 앰플 마스크 유칼립투스 진정(10개입) | D7: 43 | G7: =VLOOKUP(C7,[1]레인보우코리아!C:Q,10,0) -> 28 | H7: =VLOOKUP(C7,[1]신세계!D:O,9,0)+VLOOKUP(C7,[1]홈앤!C:N,9,0)+VLOOKUP(C7,[1]롯데!D:P,9,0)+VLOOKUP(C7,[1]현대!C:N,9,0)+VLOOKUP(C7,[1]GS!D:O,9,0)+VLOOKUP(C7,[1]CJ!D:O,9,0)+VLOOKUP(C7,[1]공영!D:O,9,0) -> 0 | K7: =VLOOKUP(C7,'[1]사무실(B)'!C:M,6,0) -> 0 | L7: =VLOOKUP(C7,'[1]사무실(B)'!C:M,7,0) -> 0 | Q7: 0 | W7: =VLOOKUP(C7,[1]신세계!D:O,4,0)+VLOOKUP(C7,[1]홈앤!C:N,4,0)+VLOOKUP(C7,[1]롯데!D:P,4,0)+VLOOKUP(C7,[1]현대!C:N,4,0)+VLOOKUP(C7,[1]GS!D:O,4,0)+VLOOKUP(C7,[1]CJ!D:O,4,0)+VLOOKUP(C7,[1]공영!D:O,4,0) -> 0 | X7: =D7+E7+F7+H7+G7+I7+J7+K7+L7-M7-N7-O7-P7-Q7-R7-T7-U7-V7-W7-S7 -> 71
A8: =A7+1 -> 2 | B8: 슬로우 테라피 | C8: 슬로우테라피 구슬 앰플 마스크 유칼립투스 진정 | D8: 219 | G8: =VLOOKUP(C8,[1]레인보우코리아!C:Q,10,0) -> 400 | H8: =VLOOKUP(C8,[1]신세계!D:O,9,0)+VLOOKUP(C8,[1]홈앤!C:N,9,0)+VLOOKUP(C8,[1]롯데!D:P,9,0)+VLOOKUP(C8,[1]현대!C:N,9,0)+VLOOKUP(C8,[1]GS!D:O,9,0)+VLOOKUP(C8,[1]CJ!D:O,9,0)+VLOOKUP(C8,[1]공영!D:O,9,0) -> 0 | K8: =VLOOKUP(C8,'[1]사무실(B)'!C:M,6,0) -> 0 | L8: =VLOOKUP(C8,'[1]사무실(B)'!C:M,7,0) -> 0 | Q8: 0 | V8: 3 | W8: =VLOOKUP(C8,[1]신세계!D:O,4,0)+VLOOKUP(C8,[1]홈앤!C:N,4,0)+VLOOKUP(C8,[1]롯데!D:P,4,0)+VLOOKUP(C8,[1]현대!C:N,4,0)+VLOOKUP(C8,[1]GS!D:O,4,0)+VLOOKUP(C8,[1]CJ!D:O,4,0)+VLOOKUP(C8,[1]공영!D:O,4,0) -> 0 | X8: =D8+E8+F8+H8+G8+I8+J8+K8+L8-M8-N8-O8-P8-Q8-R8-T8-U8-V8-W8-S8 -> 616
A9: =A8+1 -> 3 | B9: 슬로우 테라피 | C9: 슬로우테라피 구슬 앰플 마스크 브라이토닝 비타(10개입) | D9: 71 | G9: =VLOOKUP(C9,[1]레인보우코리아!C:Q,10,0) -> 28 | H9: =VLOOKUP(C9,[1]신세계!D:O,9,0)+VLOOKUP(C9,[1]홈앤!C:N,9,0)+VLOOKUP(C9,[1]롯데!D:P,9,0)+VLOOKUP(C9,[1]현대!C:N,9,0)+VLOOKUP(C9,[1]GS!D:O,9,0)+VLOOKUP(C9,[1]CJ!D:O,9,0)+VLOOKUP(C9,[1]공영!D:O,9,0) -> 0 | K9: =VLOOKUP(C9,'[1]사무실(B)'!C:M,6,0) -> 0 | L9: =VLOOKUP(C9,'[1]사무실(B)'!C:M,7,0) -> 0 | Q9: 0 | W9: =VLOOKUP(C9,[1]신세계!D:O,4,0)+VLOOKUP(C9,[1]홈앤!C:N,4,0)+VLOOKUP(C9,[1]롯데!D:P,4,0)+VLOOKUP(C9,[1]현대!C:N,4,0)+VLOOKUP(C9,[1]GS!D:O,4,0)+VLOOKUP(C9,[1]CJ!D:O,4,0)+VLOOKUP(C9,[1]공영!D:O,4,0) -> 0 | X9: =D9+E9+F9+H9+G9+I9+J9+K9+L9-M9-N9-O9-P9-Q9-R9-T9-U9-V9-W9-S9 -> 99
A10: =A9+1 -> 4 | B10: 슬로우 테라피 | C10: 슬로우테라피 구슬 앰플 마스크 브라이토닝 비타 | D10: 27 | G10: =VLOOKUP(C10,[1]레인보우코리아!C:Q,10,0) -> 400 | H10: =VLOOKUP(C10,[1]신세계!D:O,9,0)+VLOOKUP(C10,[1]홈앤!C:N,9,0)+VLOOKUP(C10,[1]롯데!D:P,9,0)+VLOOKUP(C10,[1]현대!C:N,9,0)+VLOOKUP(C10,[1]GS!D:O,9,0)+VLOOKUP(C10,[1]CJ!D:O,9,0)+VLOOKUP(C10,[1]공영!D:O,9,0) -> 0 | K10: =VLOOKUP(C10,'[1]사무실(B)'!C:M,6,0) -> 0 | L10: =VLOOKUP(C10,'[1]사무실(B)'!C:M,7,0) -> 0 | Q10: 0 | V10: 3 | W10: =VLOOKUP(C10,[1]신세계!D:O,4,0)+VLOOKUP(C10,[1]홈앤!C:N,4,0)+VLOOKUP(C10,[1]롯데!D:P,4,0)+VLOOKUP(C10,[1]현대!C:N,4,0)+VLOOKUP(C10,[1]GS!D:O,4,0)+VLOOKUP(C10,[1]CJ!D:O,4,0)+VLOOKUP(C10,[1]공영!D:O,4,0) -> 0 | X10: =D10+E10+F10+H10+G10+I10+J10+K10+L10-M10-N10-O10-P10-Q10-R10-T10-U10-V10-W10-S10 -> 424
A11: =A10+1 -> 5 | B11: 슬로우 테라피 | C11: 슬로우테라피 구슬 앰플 마스크 그린토마토 모공(10개입) | D11: 67 | G11: =VLOOKUP(C11,[1]레인보우코리아!C:Q,10,0) -> 28 | H11: =VLOOKUP(C11,[1]신세계!D:O,9,0)+VLOOKUP(C11,[1]홈앤!C:N,9,0)+VLOOKUP(C11,[1]롯데!D:P,9,0)+VLOOKUP(C11,[1]현대!C:N,9,0)+VLOOKUP(C11,[1]GS!D:O,9,0)+VLOOKUP(C11,[1]CJ!D:O,9,0)+VLOOKUP(C11,[1]공영!D:O,9,0) -> 0 | K11: =VLOOKUP(C11,'[1]사무실(B)'!C:M,6,0) -> 0 | L11: =VLOOKUP(C11,'[1]사무실(B)'!C:M,7,0) -> 0 | Q11: 0 | W11: =VLOOKUP(C11,[1]신세계!D:O,4,0)+VLOOKUP(C11,[1]홈앤!C:N,4,0)+VLOOKUP(C11,[1]롯데!D:P,4,0)+VLOOKUP(C11,[1]현대!C:N,4,0)+VLOOKUP(C11,[1]GS!D:O,4,0)+VLOOKUP(C11,[1]CJ!D:O,4,0)+VLOOKUP(C11,[1]공영!D:O,4,0) -> 0 | X11: =D11+E11+F11+H11+G11+I11+J11+K11+L11-M11-N11-O11-P11-Q11-R11-T11-U11-V11-W11-S11 -> 95
A12: =A11+1 -> 6 | B12: 슬로우 테라피 | C12: 슬로우테라피 구슬 앰플 마스크 그린토마토 모공 | D12: 390 | G12: =VLOOKUP(C12,[1]레인보우코리아!C:Q,10,0) -> 400 | H12: =VLOOKUP(C12,[1]신세계!D:O,9,0)+VLOOKUP(C12,[1]홈앤!C:N,9,0)+VLOOKUP(C12,[1]롯데!D:P,9,0)+VLOOKUP(C12,[1]현대!C:N,9,0)+VLOOKUP(C12,[1]GS!D:O,9,0)+VLOOKUP(C12,[1]CJ!D:O,9,0)+VLOOKUP(C12,[1]공영!D:O,9,0) -> 0 | K12: =VLOOKUP(C12,'[1]사무실(B)'!C:M,6,0) -> 0 | L12: =VLOOKUP(C12,'[1]사무실(B)'!C:M,7,0) -> 0 | Q12: 0 | V12: 3 | W12: =VLOOKUP(C12,[1]신세계!D:O,4,0)+VLOOKUP(C12,[1]홈앤!C:N,4,0)+VLOOKUP(C12,[1]롯데!D:P,4,0)+VLOOKUP(C12,[1]현대!C:N,4,0)+VLOOKUP(C12,[1]GS!D:O,4,0)+VLOOKUP(C12,[1]CJ!D:O,4,0)+VLOOKUP(C12,[1]공영!D:O,4,0) -> 0 | X12: =D12+E12+F12+H12+G12+I12+J12+K12+L12-M12-N12-O12-P12-Q12-R12-T12-U12-V12-W12-S12 -> 787
A13: =A12+1 -> 7 | B13: 슬로우 테라피 | C13: 슬로우테라피 구슬 앰플 마스크 화이트밀크 브라이트닝(10개입) | D13: 52 | G13: =VLOOKUP(C13,[1]레인보우코리아!C:Q,10,0) -> 28 | H13: =VLOOKUP(C13,[1]신세계!D:O,9,0)+VLOOKUP(C13,[1]홈앤!C:N,9,0)+VLOOKUP(C13,[1]롯데!D:P,9,0)+VLOOKUP(C13,[1]현대!C:N,9,0)+VLOOKUP(C13,[1]GS!D:O,9,0)+VLOOKUP(C13,[1]CJ!D:O,9,0)+VLOOKUP(C13,[1]공영!D:O,9,0) -> 0 | K13: =VLOOKUP(C13,'[1]사무실(B)'!C:M,6,0) -> 0 | L13: =VLOOKUP(C13,'[1]사무실(B)'!C:M,7,0) -> 0 | Q13: 0 | W13: =VLOOKUP(C13,[1]신세계!D:O,4,0)+VLOOKUP(C13,[1]홈앤!C:N,4,0)+VLOOKUP(C13,[1]롯데!D:P,4,0)+VLOOKUP(C13,[1]현대!C:N,4,0)+VLOOKUP(C13,[1]GS!D:O,4,0)+VLOOKUP(C13,[1]CJ!D:O,4,0)+VLOOKUP(C13,[1]공영!D:O,4,0) -> 0 | X13: =D13+E13+F13+H13+G13+I13+J13+K13+L13-M13-N13-O13-P13-Q13-R13-T13-U13-V13-W13-S13 -> 80
A14: =A13+1 -> 8 | B14: 슬로우 테라피 | C14: 슬로우테라피 구슬 앰플 마스크 화이트밀크 브라이트닝 | D14: 340 | G14: =VLOOKUP(C14,[1]레인보우코리아!C:Q,10,0) -> 400 | H14: =VLOOKUP(C14,[1]신세계!D:O,9,0)+VLOOKUP(C14,[1]홈앤!C:N,9,0)+VLOOKUP(C14,[1]롯데!D:P,9,0)+VLOOKUP(C14,[1]현대!C:N,9,0)+VLOOKUP(C14,[1]GS!D:O,9,0)+VLOOKUP(C14,[1]CJ!D:O,9,0)+VLOOKUP(C14,[1]공영!D:O,9,0) -> 0 | K14: =VLOOKUP(C14,'[1]사무실(B)'!C:M,6,0) -> 0 | L14: =VLOOKUP(C14,'[1]사무실(B)'!C:M,7,0) -> 0 | Q14: 0 | V14: 3 | W14: =VLOOKUP(C14,[1]신세계!D:O,4,0)+VLOOKUP(C14,[1]홈앤!C:N,4,0)+VLOOKUP(C14,[1]롯데!D:P,4,0)+VLOOKUP(C14,[1]현대!C:N,4,0)+VLOOKUP(C14,[1]GS!D:O,4,0)+VLOOKUP(C14,[1]CJ!D:O,4,0)+VLOOKUP(C14,[1]공영!D:O,4,0) -> 0 | X14: =D14+E14+F14+H14+G14+I14+J14+K14+L14-M14-N14-O14-P14-Q14-R14-T14-U14-V14-W14-S14 -> 737
A15: =A14+1 -> 9 | B15: 슬로우 테라피 | C15: 슬로우테라피 구슬 앰플 마스크 카멜리아 탄력(10개입) | D15: 62 | G15: =VLOOKUP(C15,[1]레인보우코리아!C:Q,10,0) -> 28 | H15: =VLOOKUP(C15,[1]신세계!D:O,9,0)+VLOOKUP(C15,[1]홈앤!C:N,9,0)+VLOOKUP(C15,[1]롯데!D:P,9,0)+VLOOKUP(C15,[1]현대!C:N,9,0)+VLOOKUP(C15,[1]GS!D:O,9,0)+VLOOKUP(C15,[1]CJ!D:O,9,0)+VLOOKUP(C15,[1]공영!D:O,9,0) -> 0 | K15: =VLOOKUP(C15,'[1]사무실(B)'!C:M,6,0) -> 0 | L15: =VLOOKUP(C15,'[1]사무실(B)'!C:M,7,0) -> 0 | Q15: 0 | V15: 3 | W15: =VLOOKUP(C15,[1]신세계!D:O,4,0)+VLOOKUP(C15,[1]홈앤!C:N,4,0)+VLOOKUP(C15,[1]롯데!D:P,4,0)+VLOOKUP(C15,[1]현대!C:N,4,0)+VLOOKUP(C15,[1]GS!D:O,4,0)+VLOOKUP(C15,[1]CJ!D:O,4,0)+VLOOKUP(C15,[1]공영!D:O,4,0) -> 0 | X15: =D15+E15+F15+H15+G15+I15+J15+K15+L15-M15-N15-O15-P15-Q15-R15-T15-U15-V15-W15-S15 -> 87
A16: =A15+1 -> 10 | B16: 슬로우 테라피 | C16: 슬로우테라피 구슬 앰플 마스크 카멜리아 탄력 | D16: 220 | G16: =VLOOKUP(C16,[1]레인보우코리아!C:Q,10,0) -> 400 | H16: =VLOOKUP(C16,[1]신세계!D:O,9,0)+VLOOKUP(C16,[1]홈앤!C:N,9,0)+VLOOKUP(C16,[1]롯데!D:P,9,0)+VLOOKUP(C16,[1]현대!C:N,9,0)+VLOOKUP(C16,[1]GS!D:O,9,0)+VLOOKUP(C16,[1]CJ!D:O,9,0)+VLOOKUP(C16,[1]공영!D:O,9,0) -> 0 | K16: =VLOOKUP(C16,'[1]사무실(B)'!C:M,6,0) -> 0 | L16: =VLOOKUP(C16,'[1]사무실(B)'!C:M,7,0) -> 0 | Q16: 0 | W16: =VLOOKUP(C16,[1]신세계!D:O,4,0)+VLOOKUP(C16,[1]홈앤!C:N,4,0)+VLOOKUP(C16,[1]롯데!D:P,4,0)+VLOOKUP(C16,[1]현대!C:N,4,0)+VLOOKUP(C16,[1]GS!D:O,4,0)+VLOOKUP(C16,[1]CJ!D:O,4,0)+VLOOKUP(C16,[1]공영!D:O,4,0) -> 0 | X16: =D16+E16+F16+H16+G16+I16+J16+K16+L16-M16-N16-O16-P16-Q16-R16-T16-U16-V16-W16-S16 -> 620
C17: 슬로우테라피 구슬앰플 마스크 소계 | D17: 1491 | E17: =SUM(E7:E16) -> 0 | F17: =SUM(F7:F11) -> 0 | G17: =SUM(G7:G16) -> 2140 | H17: =SUM(H7:H16) -> 0 | I17: =SUM(I7:I16) -> 0 | J17: =SUM(J7:J16) -> 0 | K17: =SUM(K7:K16) -> 0 | L17: =SUM(L7:L16) -> 0 | M17: =SUM(M7:M16) -> 0 | N17: =SUM(N7:N16) -> 0 | ... P17: =SUM(P7:P16) -> 0 | Q17: 0 | R17: =SUM(R7:R11) -> 0 | S17: =SUM(S7:S16) -> 0 | T17: =SUM(T7:T16) -> 0 | U17: =SUM(U7:U16) -> 0 | V17: =SUM(V7:V16) -> 15 | W17: =SUM(W7:W16) -> 0 | X17: =SUM(X7:X16) -> 3616
A18: =A16+1 -> 11 | B18: 장로젯 | C18: 장로젯 라부 셀룰라 앰플 엘릭시어 엑스이피018 50미리 | D18: 287 | G18: =VLOOKUP(C18,[1]레인보우코리아!C:Q,10,0) -> 0 | H18: =VLOOKUP(C18,[1]신세계!D:O,9,0)+VLOOKUP(C18,[1]홈앤!C:N,9,0)+VLOOKUP(C18,[1]롯데!D:P,9,0)+VLOOKUP(C18,[1]현대!C:N,9,0)+VLOOKUP(C18,[1]GS!D:O,9,0)+VLOOKUP(C18,[1]CJ!D:O,9,0)+VLOOKUP(C18,[1]공영!D:O,9,0) -> 0 | K18: =VLOOKUP(C18,'[1]사무실(B)'!C:M,6,0) -> 54 | L18: =VLOOKUP(C18,'[1]사무실(B)'!C:M,7,0) -> 3 | N18: 1 | Q18: 0 | V18: 5 | W18: =VLOOKUP(C18,[1]신세계!D:O,4,0)+VLOOKUP(C18,[1]홈앤!C:N,4,0)+VLOOKUP(C18,[1]롯데!D:P,4,0)+VLOOKUP(C18,[1]현대!C:N,4,0)+VLOOKUP(C18,[1]GS!D:O,4,0)+VLOOKUP(C18,[1]CJ!D:O,4,0)+VLOOKUP(C18,[1]공영!D:O,4,0) -> 0 | X18: =D18+E18+F18+H18+G18+I18+J18+K18+L18-M18-N18-O18-P18-Q18-R18-T18-U18-V18-W18-S18 -> 338
A19: =A18+1 -> 12 | B19: 장로젯 | C19: 장로젯 라부 셀룰라 앰플 엘릭시어 엑스이피018 20미리 | D19: 124 | G19: =VLOOKUP(C19,[1]레인보우코리아!C:Q,10,0) -> 0 | H19: =VLOOKUP(C19,[1]신세계!D:O,9,0)+VLOOKUP(C19,[1]홈앤!C:N,9,0)+VLOOKUP(C19,[1]롯데!D:P,9,0)+VLOOKUP(C19,[1]현대!C:N,9,0)+VLOOKUP(C19,[1]GS!D:O,9,0)+VLOOKUP(C19,[1]CJ!D:O,9,0)+VLOOKUP(C19,[1]공영!D:O,9,0) -> 0 | K19: =VLOOKUP(C19,'[1]사무실(B)'!C:M,6,0) -> 0 | L19: =VLOOKUP(C19,'[1]사무실(B)'!C:M,7,0) -> 0 | Q19: 0 | V19: 1 | W19: =VLOOKUP(C19,[1]신세계!D:O,4,0)+VLOOKUP(C19,[1]홈앤!C:N,4,0)+VLOOKUP(C19,[1]롯데!D:P,4,0)+VLOOKUP(C19,[1]현대!C:N,4,0)+VLOOKUP(C19,[1]GS!D:O,4,0)+VLOOKUP(C19,[1]CJ!D:O,4,0)+VLOOKUP(C19,[1]공영!D:O,4,0) -> 0 | X19: =D19+E19+F19+H19+G19+I19+J19+K19+L19-M19-N19-O19-P19-Q19-R19-T19-U19-V19-W19-S19 -> 123
C20: 장로젯 소계 | D20: 411 | E20: =E18+E19 -> 0 | F20: =F18+F19 -> 0 | G20: =G18+G19 -> 0 | H20: =H18+H19 -> 0 | I20: =I18+I19 -> 0 | J20: =J18+J19 -> 0 | K20: =K18+K19 -> 54 | L20: =L18+L19 -> 3 | ... P20: =P18+P19 -> 0 | Q20: 0 | R20: =R18+R19 -> 0 | S20: =S18+S19 -> 0 | T20: =T18+T19 -> 0 | U20: =U18+U19 -> 0 | V20: =V18+V19 -> 6 | W20: =W18+W19 -> 0 | X20: =X18+X19 -> 461
A21: =A19+1 -> 13 | B21: 더마클라센 | C21: 블랙 체인지 샴푸(자연갈색) | D21: 2063 | G21: =VLOOKUP(C21,[1]레인보우코리아!C:Q,10,0) -> 0 | H21: =VLOOKUP(C21,[1]신세계!D:O,9,0)+VLOOKUP(C21,[1]홈앤!C:N,9,0)+VLOOKUP(C21,[1]롯데!D:P,9,0)+VLOOKUP(C21,[1]현대!C:N,9,0)+VLOOKUP(C21,[1]GS!D:O,9,0)+VLOOKUP(C21,[1]CJ!D:O,9,0)+VLOOKUP(C21,[1]공영!D:O,9,0) -> 0 | K21: =VLOOKUP(C21,'[1]사무실(B)'!C:M,6,0) -> 6 | L21: =VLOOKUP(C21,'[1]사무실(B)'!C:M,7,0) -> 0 | M21: 114 | Q21: 0 | W21: =VLOOKUP(C21,[1]신세계!D:O,4,0)+VLOOKUP(C21,[1]홈앤!C:N,4,0)+VLOOKUP(C21,[1]롯데!D:P,4,0)+VLOOKUP(C21,[1]현대!C:N,4,0)+VLOOKUP(C21,[1]GS!D:O,4,0)+VLOOKUP(C21,[1]CJ!D:O,4,0)+VLOOKUP(C21,[1]공영!D:O,4,0) -> 0 | X21: =D21+E21+F21+H21+G21+I21+J21+K21+L21-M21-N21-O21-P21-Q21-R21-T21-U21-V21-W21-S21 -> 1955
A22: =A21+1 -> 14 | B22: 더마클라센 | C22: 블랙 체인지 샴푸(흑갈색) | D22: 32 | G22: =VLOOKUP(C22,[1]레인보우코리아!C:Q,10,0) -> 0 | H22: =VLOOKUP(C22,[1]신세계!D:O,9,0)+VLOOKUP(C22,[1]홈앤!C:N,9,0)+VLOOKUP(C22,[1]롯데!D:P,9,0)+VLOOKUP(C22,[1]현대!C:N,9,0)+VLOOKUP(C22,[1]GS!D:O,9,0)+VLOOKUP(C22,[1]CJ!D:O,9,0)+VLOOKUP(C22,[1]공영!D:O,9,0) -> 0 | K22: =VLOOKUP(C22,'[1]사무실(B)'!C:M,6,0) -> 5 | L22: =VLOOKUP(C22,'[1]사무실(B)'!C:M,7,0) -> 0 | Q22: 0 | W22: =VLOOKUP(C22,[1]신세계!D:O,4,0)+VLOOKUP(C22,[1]홈앤!C:N,4,0)+VLOOKUP(C22,[1]롯데!D:P,4,0)+VLOOKUP(C22,[1]현대!C:N,4,0)+VLOOKUP(C22,[1]GS!D:O,4,0)+VLOOKUP(C22,[1]CJ!D:O,4,0)+VLOOKUP(C22,[1]공영!D:O,4,0) -> 0 | X22: =D22+E22+F22+H22+G22+I22+J22+K22+L22-M22-N22-O22-P22-Q22-R22-T22-U22-V22-W22-S22 -> 37
C23: 블랙 체인지 샴푸 소계 | D23: 2095 | E23: =E21+E22 -> 0 | F23: =F21+F22 -> 0 | G23: =G21+G22 -> 0 | H23: =H21+H22 -> 0 | I23: =I21+I22 -> 0 | J23: =J21+J22 -> 0 | K23: =K21+K22 -> 11 | L23: =L21+L22 -> 0 | ... P23: =P21+P22 -> 0 | Q23: 0 | R23: =R21+R22 -> 0 | S23: =S21+S22 -> 0 | T23: =T21+T22 -> 0 | U23: =U21+U22 -> 0 | V23: =V21+V22 -> 0 | W23: =W21+W22 -> 0 | X23: =X21+X22 -> 1992
A24: =A22+1 -> 15 | B24: 아트델리 | C24: 듀얼웨어 립 글로우밤001 | D24: 153 | G24: =VLOOKUP(C24,[1]레인보우코리아!C:Q,10,0) -> 0 | H24: =VLOOKUP(C24,[1]신세계!D:O,9,0)+VLOOKUP(C24,[1]홈앤!C:N,9,0)+VLOOKUP(C24,[1]롯데!D:P,9,0)+VLOOKUP(C24,[1]현대!C:N,9,0)+VLOOKUP(C24,[1]GS!D:O,9,0)+VLOOKUP(C24,[1]CJ!D:O,9,0)+VLOOKUP(C24,[1]공영!D:O,9,0) -> 0 | K24: =VLOOKUP(C24,'[1]사무실(B)'!C:M,6,0) -> 2 | L24: =VLOOKUP(C24,'[1]사무실(B)'!C:M,7,0) -> 0 | Q24: 0 | U24: 4 | V24: 5 | W24: =VLOOKUP(C24,[1]신세계!D:O,4,0)+VLOOKUP(C24,[1]홈앤!C:N,4,0)+VLOOKUP(C24,[1]롯데!D:P,4,0)+VLOOKUP(C24,[1]현대!C:N,4,0)+VLOOKUP(C24,[1]GS!D:O,4,0)+VLOOKUP(C24,[1]CJ!D:O,4,0)+VLOOKUP(C24,[1]공영!D:O,4,0) -> 0 | X24: =D24+E24+F24+H24+G24+I24+J24+K24+L24-M24-N24-O24-P24-Q24-R24-T24-U24-V24-W24-S24 -> 146
A25: =A24+1 -> 16 | B25: 아트델리 | C25: 듀얼웨어 립 글로우밤002 | D25: 123 | G25: =VLOOKUP(C25,[1]레인보우코리아!C:Q,10,0) -> 0 | H25: =VLOOKUP(C25,[1]신세계!D:O,9,0)+VLOOKUP(C25,[1]홈앤!C:N,9,0)+VLOOKUP(C25,[1]롯데!D:P,9,0)+VLOOKUP(C25,[1]현대!C:N,9,0)+VLOOKUP(C25,[1]GS!D:O,9,0)+VLOOKUP(C25,[1]CJ!D:O,9,0)+VLOOKUP(C25,[1]공영!D:O,9,0) -> 0 | K25: =VLOOKUP(C25,'[1]사무실(B)'!C:M,6,0) -> 2 | L25: =VLOOKUP(C25,'[1]사무실(B)'!C:M,7,0) -> 0 | Q25: 0 | U25: 1 | V25: 5 | W25: =VLOOKUP(C25,[1]신세계!D:O,4,0)+VLOOKUP(C25,[1]홈앤!C:N,4,0)+VLOOKUP(C25,[1]롯데!D:P,4,0)+VLOOKUP(C25,[1]현대!C:N,4,0)+VLOOKUP(C25,[1]GS!D:O,4,0)+VLOOKUP(C25,[1]CJ!D:O,4,0)+VLOOKUP(C25,[1]공영!D:O,4,0) -> 0 | X25: =D25+E25+F25+H25+G25+I25+J25+K25+L25-M25-N25-O25-P25-Q25-R25-T25-U25-V25-W25-S25 -> 119
A26: =A25+1 -> 17 | B26: 아트델리 | C26: 듀얼웨어 립 글로우밤003 | D26: 207 | G26: =VLOOKUP(C26,[1]레인보우코리아!C:Q,10,0) -> 0 | H26: =VLOOKUP(C26,[1]신세계!D:O,9,0)+VLOOKUP(C26,[1]홈앤!C:N,9,0)+VLOOKUP(C26,[1]롯데!D:P,9,0)+VLOOKUP(C26,[1]현대!C:N,9,0)+VLOOKUP(C26,[1]GS!D:O,9,0)+VLOOKUP(C26,[1]CJ!D:O,9,0)+VLOOKUP(C26,[1]공영!D:O,9,0) -> 0 | K26: =VLOOKUP(C26,'[1]사무실(B)'!C:M,6,0) -> 2 | L26: =VLOOKUP(C26,'[1]사무실(B)'!C:M,7,0) -> 0 | Q26: 0 | U26: 3 | V26: 5 | W26: =VLOOKUP(C26,[1]신세계!D:O,4,0)+VLOOKUP(C26,[1]홈앤!C:N,4,0)+VLOOKUP(C26,[1]롯데!D:P,4,0)+VLOOKUP(C26,[1]현대!C:N,4,0)+VLOOKUP(C26,[1]GS!D:O,4,0)+VLOOKUP(C26,[1]CJ!D:O,4,0)+VLOOKUP(C26,[1]공영!D:O,4,0) -> 0 | X26: =D26+E26+F26+H26+G26+I26+J26+K26+L26-M26-N26-O26-P26-Q26-R26-T26-U26-V26-W26-S26 -> 201
A27: =A26+1 -> 18 | B27: 아트델리 | C27: 듀얼웨어 립 글로우밤004 | D27: 373 | G27: =VLOOKUP(C27,[1]레인보우코리아!C:Q,10,0) -> 0 | H27: =VLOOKUP(C27,[1]신세계!D:O,9,0)+VLOOKUP(C27,[1]홈앤!C:N,9,0)+VLOOKUP(C27,[1]롯데!D:P,9,0)+VLOOKUP(C27,[1]현대!C:N,9,0)+VLOOKUP(C27,[1]GS!D:O,9,0)+VLOOKUP(C27,[1]CJ!D:O,9,0)+VLOOKUP(C27,[1]공영!D:O,9,0) -> 0 | K27: =VLOOKUP(C27,'[1]사무실(B)'!C:M,6,0) -> 2 | L27: =VLOOKUP(C27,'[1]사무실(B)'!C:M,7,0) -> 0 | Q27: 0 | V27: 5 | W27: =VLOOKUP(C27,[1]신세계!D:O,4,0)+VLOOKUP(C27,[1]홈앤!C:N,4,0)+VLOOKUP(C27,[1]롯데!D:P,4,0)+VLOOKUP(C27,[1]현대!C:N,4,0)+VLOOKUP(C27,[1]GS!D:O,4,0)+VLOOKUP(C27,[1]CJ!D:O,4,0)+VLOOKUP(C27,[1]공영!D:O,4,0) -> 0 | X27: =D27+E27+F27+H27+G27+I27+J27+K27+L27-M27-N27-O27-P27-Q27-R27-T27-U27-V27-W27-S27 -> 370
A28: =A27+1 -> 19 | B28: 아트델리 | C28: 맥시마이저 립 글로우 밤 001 | D28: 123 | G28: =VLOOKUP(C28,[1]레인보우코리아!C:Q,10,0) -> 0 | H28: =VLOOKUP(C28,[1]신세계!D:O,9,0)+VLOOKUP(C28,[1]홈앤!C:N,9,0)+VLOOKUP(C28,[1]롯데!D:P,9,0)+VLOOKUP(C28,[1]현대!C:N,9,0)+VLOOKUP(C28,[1]GS!D:O,9,0)+VLOOKUP(C28,[1]CJ!D:O,9,0)+VLOOKUP(C28,[1]공영!D:O,9,0) -> 0 | K28: =VLOOKUP(C28,'[1]사무실(B)'!C:M,6,0) -> 2 | L28: =VLOOKUP(C28,'[1]사무실(B)'!C:M,7,0) -> 0 | Q28: 0 | U28: 2 | W28: =VLOOKUP(C28,[1]신세계!D:O,4,0)+VLOOKUP(C28,[1]홈앤!C:N,4,0)+VLOOKUP(C28,[1]롯데!D:P,4,0)+VLOOKUP(C28,[1]현대!C:N,4,0)+VLOOKUP(C28,[1]GS!D:O,4,0)+VLOOKUP(C28,[1]CJ!D:O,4,0)+VLOOKUP(C28,[1]공영!D:O,4,0) -> 0 | X28: =D28+E28+F28+H28+G28+I28+J28+K28+L28-M28-N28-O28-P28-Q28-R28-T28-U28-V28-W28-S28 -> 123
A29: =A28+1 -> 20 | B29: 아트델리 | C29: 맥시마이저 립 글로우 밤 002 | D29: 91 | G29: =VLOOKUP(C29,[1]레인보우코리아!C:Q,10,0) -> 0 | H29: =VLOOKUP(C29,[1]신세계!D:O,9,0)+VLOOKUP(C29,[1]홈앤!C:N,9,0)+VLOOKUP(C29,[1]롯데!D:P,9,0)+VLOOKUP(C29,[1]현대!C:N,9,0)+VLOOKUP(C29,[1]GS!D:O,9,0)+VLOOKUP(C29,[1]CJ!D:O,9,0)+VLOOKUP(C29,[1]공영!D:O,9,0) -> 0 | K29: =VLOOKUP(C29,'[1]사무실(B)'!C:M,6,0) -> 2 | L29: =VLOOKUP(C29,'[1]사무실(B)'!C:M,7,0) -> 0 | Q29: 0 | W29: =VLOOKUP(C29,[1]신세계!D:O,4,0)+VLOOKUP(C29,[1]홈앤!C:N,4,0)+VLOOKUP(C29,[1]롯데!D:P,4,0)+VLOOKUP(C29,[1]현대!C:N,4,0)+VLOOKUP(C29,[1]GS!D:O,4,0)+VLOOKUP(C29,[1]CJ!D:O,4,0)+VLOOKUP(C29,[1]공영!D:O,4,0) -> 0 | X29: =D29+E29+F29+H29+G29+I29+J29+K29+L29-M29-N29-O29-P29-Q29-R29-T29-U29-V29-W29-S29 -> 93
A30: =A29+1 -> 21 | B30: 아트델리 | C30: 맥시마이저 립 글로우 밤 003 | D30: 72 | G30: =VLOOKUP(C30,[1]레인보우코리아!C:Q,10,0) -> 0 | H30: =VLOOKUP(C30,[1]신세계!D:O,9,0)+VLOOKUP(C30,[1]홈앤!C:N,9,0)+VLOOKUP(C30,[1]롯데!D:P,9,0)+VLOOKUP(C30,[1]현대!C:N,9,0)+VLOOKUP(C30,[1]GS!D:O,9,0)+VLOOKUP(C30,[1]CJ!D:O,9,0)+VLOOKUP(C30,[1]공영!D:O,9,0) -> 0 | K30: =VLOOKUP(C30,'[1]사무실(B)'!C:M,6,0) -> 2 | L30: =VLOOKUP(C30,'[1]사무실(B)'!C:M,7,0) -> 0 | Q30: 1 | U30: 38 | W30: =VLOOKUP(C30,[1]신세계!D:O,4,0)+VLOOKUP(C30,[1]홈앤!C:N,4,0)+VLOOKUP(C30,[1]롯데!D:P,4,0)+VLOOKUP(C30,[1]현대!C:N,4,0)+VLOOKUP(C30,[1]GS!D:O,4,0)+VLOOKUP(C30,[1]CJ!D:O,4,0)+VLOOKUP(C30,[1]공영!D:O,4,0) -> 0 | X30: =D30+E30+F30+H30+G30+I30+J30+K30+L30-M30-N30-O30-P30-Q30-R30-T30-U30-V30-W30-S30 -> 35
C31: 립 글로우 밤 소계 | D31: 1142 | E31: =SUM(E24:E30) -> 0 | F31: =SUM(F24:F30) -> 0 | G31: =SUM(G24:G30) -> 0 | H31: =SUM(H24:H30) -> 0 | I31: =SUM(I24:I30) -> 0 | J31: =SUM(J24:J30) -> 0 | K31: =SUM(K24:K30) -> 14 | L31: =SUM(L24:L30) -> 0 | ... P31: =SUM(P24:P30) -> 0 | Q31: 1 | R31: =SUM(R24:R30) -> 0 | S31: =SUM(S24:S30) -> 0 | T31: =SUM(T24:T30) -> 0 | U31: =SUM(U24:U30) -> 48 | V31: =SUM(V24:V30) -> 20 | W31: =SUM(W24:W30) -> 0 | X31: =SUM(X24:X30) -> 1087
A32: =A30+1 -> 22 | B32: 쟈스 멀티밤 | C32: 쟈스 콜라겐 멀티밤 | D32: 1906 | G32: =[1]레인보우코리아!L32 -> 585 | H32: =[1]신세계!L32+[1]홈앤!K32+[1]롯데!L32+[1]현대!K32+[1]GS!L32+[1]CJ!L32 -> 0 | K32: ='[1]사무실(B)'!H32 -> 0 | L32: ='[1]사무실(B)'!I32 -> 0 | Q32: 27 | V32: 15 | W32: =[1]신세계!G32+[1]홈앤!F32+[1]롯데!G32+[1]현대!F32+[1]GS!G32+[1]CJ!G32 -> 0 | X32: =D32+E32+F32+H32+G32+I32+J32+K32+L32-M32-N32-O32-P32-Q32-R32-T32-U32-V32-W32-S32 -> 2449
A33: =A32+1 -> 23 | B33: 쟈스 멀티밤 | C33: 쟈스 후르츠 키스밤(피치코랄) | D33: 33 | G33: =[1]레인보우코리아!L33 -> 117 | H33: =[1]신세계!L33+[1]홈앤!K33+[1]롯데!L33+[1]현대!K33+[1]GS!L33+[1]CJ!L33 -> 0 | K33: ='[1]사무실(B)'!H33 -> 0 | L33: ='[1]사무실(B)'!I33 -> 0 | Q33: 1 | W33: =[1]신세계!G33+[1]홈앤!F33+[1]롯데!G33+[1]현대!F33+[1]GS!G33+[1]CJ!G33 -> 0 | X33: =D33+E33+F33+H33+G33+I33+J33+K33+L33-M33-N33-O33-P33-Q33-R33-T33-U33-V33-W33-S33 -> 149
A34: =A33+1 -> 24 | B34: 쟈스 멀티밤 | C34: 쟈스 콜라겐 세콜지 앰플 미스트 | D34: 171 | G34: =[1]레인보우코리아!L34 -> 385 | H34: =[1]신세계!L34+[1]홈앤!K34+[1]롯데!L34+[1]현대!K34+[1]GS!L34+[1]CJ!L34 -> 0 | K34: ='[1]사무실(B)'!H34 -> 0 | L34: ='[1]사무실(B)'!I34 -> 0 | Q34: 12 | U34: 12 | W34: =[1]신세계!G34+[1]홈앤!F34+[1]롯데!G34+[1]현대!F34+[1]GS!G34+[1]CJ!G34 -> 0 | X34: =D34+E34+F34+H34+G34+I34+J34+K34+L34-M34-N34-O34-P34-Q34-R34-T34-U34-V34-W34-S34 -> 532
A35: =A34+1 -> 25 | B35: 쟈스 멀티밤 | C35: 쟈스 콜라겐 밀키 크림 | D35: 299 | G35: =[1]레인보우코리아!L35 -> 0 | H35: =[1]신세계!L35+[1]홈앤!K35+[1]롯데!L35+[1]현대!K35+[1]GS!L35+[1]CJ!L35 -> 0 | K35: ='[1]사무실(B)'!H35 -> 0 | L35: ='[1]사무실(B)'!I35 -> 0 | Q35: 8 | W35: =[1]신세계!G35+[1]홈앤!F35+[1]롯데!G35+[1]현대!F35+[1]GS!G35+[1]CJ!G35 -> 0 | X35: =D35+E35+F35+H35+G35+I35+J35+K35+L35-M35-N35-O35-P35-Q35-R35-T35-U35-V35-W35-S35 -> 291
A36: =A35+1 -> 26 | B36: 쟈스 멀티밤 | C36: 쟈스 콜라겐 밀키 앰플 | D36: 250 | G36: =[1]레인보우코리아!L36 -> 0 | H36: =[1]신세계!L36+[1]홈앤!K36+[1]롯데!L36+[1]현대!K36+[1]GS!L36+[1]CJ!L36 -> 0 | K36: ='[1]사무실(B)'!H36 -> 0 | L36: ='[1]사무실(B)'!I36 -> 0 | Q36: 4 | W36: =[1]신세계!G36+[1]홈앤!F36+[1]롯데!G36+[1]현대!F36+[1]GS!G36+[1]CJ!G36 -> 0 | X36: =D36+E36+F36+H36+G36+I36+J36+K36+L36-M36-N36-O36-P36-Q36-R36-T36-U36-V36-W36-S36 -> 246
A37: =A36+1 -> 27 | B37: 쟈스 멀티밤 | C37: 쟈스 콜라겐 밀키 아이크림 | D37: 577 | G37: =[1]레인보우코리아!L37 -> 0 | H37: =[1]신세계!L37+[1]홈앤!K37+[1]롯데!L37+[1]현대!K37+[1]GS!L37+[1]CJ!L37 -> 0 | K37: ='[1]사무실(B)'!H37 -> 0 | L37: ='[1]사무실(B)'!I37 -> 0 | Q37: 10 | W37: =[1]신세계!G37+[1]홈앤!F37+[1]롯데!G37+[1]현대!F37+[1]GS!G37+[1]CJ!G37 -> 0 | X37: =D37+E37+F37+H37+G37+I37+J37+K37+L37-M37-N37-O37-P37-Q37-R37-T37-U37-V37-W37-S37 -> 567
B38: 쟈스 멀티밤 | C38: 쟈스 멀티밤 단품 소계 | D38: 3236 | E38: =SUM(E32:E37) -> 0 | F38: =SUM(F32:F37) -> 0 | G38: =SUM(G32:G37) -> 1087 | H38: =SUM(H32:H37) -> 0 | I38: =SUM(I32:I37) -> 0 | J38: =SUM(J32:J37) -> 0 | K38: =SUM(K32:K37) -> 0 | L38: =SUM(L32:L37) -> 0 | ... P38: =SUM(P32:P37) -> 0 | Q38: 62 | R38: =SUM(R32:R37) -> 0 | S38: =SUM(S32:S37) -> 0 | T38: =SUM(T32:T37) -> 0 | U38: =SUM(U32:U37) -> 12 | V38: =SUM(V32:V37) -> 15 | W38: =SUM(W32:W37) -> 0 | X38: =SUM(X32:X37) -> 4234
A39: =A37+1 -> 28 | B39: 쟈스 톤업 스틱 | C39: 쟈스 콜라겐 글로우 업 엔젤 밤 (블랙) | D39: 46 | G39: =[1]레인보우코리아!L39 -> 0 | H39: =[1]신세계!L39+[1]홈앤!K39+[1]롯데!L39+[1]현대!K39+[1]GS!L39+[1]CJ!L39 -> 0 | K39: ='[1]사무실(B)'!H39 -> 0 | L39: ='[1]사무실(B)'!I39 -> 0 | Q39: 3 | W39: =[1]신세계!G39+[1]홈앤!F39+[1]롯데!G39+[1]현대!F39+[1]GS!G39+[1]CJ!G39 -> 0 | X39: =D39+E39+F39+H39+G39+I39+J39+K39+L39-M39-N39-O39-P39-Q39-R39-T39-U39-V39-W39-S39 -> 43
A40: =A39+1 -> 29 | B40: 쟈스 톤업 스틱 | C40: 쟈스 콜라겐 글로우 업 엔젤 밤 (핑크) | D40: 88 | G40: =[1]레인보우코리아!L40 -> 0 | H40: =[1]신세계!L40+[1]홈앤!K40+[1]롯데!L40+[1]현대!K40+[1]GS!L40+[1]CJ!L40 -> 0 | K40: ='[1]사무실(B)'!H40 -> 0 | L40: ='[1]사무실(B)'!I40 -> 0 | Q40: 0 | W40: =[1]신세계!G40+[1]홈앤!F40+[1]롯데!G40+[1]현대!F40+[1]GS!G40+[1]CJ!G40 -> 0 | X40: =D40+E40+F40+H40+G40+I40+J40+K40+L40-M40-N40-O40-P40-Q40-R40-T40-U40-V40-W40-S40 -> 88
...
