Workbook

Sheet Code_table
A1: SY CODE | B1: Name | C1: Start | D1: End
A2: WH-0000 | B2: WH_WFR_PICK_FROM_PA | C2: PA2LR: LR at PA facing below | D2: LR arrived at rotate facing PA at WS height
A3: WH-0001 | B3: WH_LROBOT_MOVE_TO_LOAD | C3: Transfer LR2WS: LR moved to prepared at WS | D3: Transfer LR2WS: LR docked to WS
A4: WH-0002 | B4: WH_WFR_PLACE_ON_WS | C4: Transfer LR2WS: LR passed SOA on the retract move from WS
A5: WH-0003 | B5: WH_LROBOT_MOVE_TO_PA | C5: Transfer LR2WS: LR passed SOA on the retract move from WS | D5: Transfer LR2WS: LR arrived at rotate facing PA
A6: WH-0004 | B6: WH_UROBOT_MOVE_TO_UNLOAD | C6: Transfer WS2UR: UR start rotating to facing WS | D6: Transfer WS2UR: UR prepared for unload
A7: WH-0005 | B7: WH_WFR_PICK_FROM_WS | C7: Transfer WS2UR: UR start moving to WS at | D7: Transfer WS2UR: Unload transfer finished
A8: WH-0006 | B8: WH_UROBOT_MOVE_TO_DU | C8: Transfer UR2DU: Transfer started | D8: Transfer UR2DU: Vacuum switch of DU and UR
A9: WH-0007 | B9: WH_WFR_PLACE_ON_DU | C9: Transfer UR2DU: Vacuum switch of DU and UR | D9: Transfer UR2DU: UR retracted to rotate
A10: WH-0008 | B10: WH_UROBOT_PICK_WFR_IN_BUF | C10: Transfer SUB2UR: UR starts moving to SUB below | D10: Transfer SUB2UR: UR retracted to rotate
A11: WH-0009 | B11: WH_UROBOT_CLOSE_TO_PA | C11: Transfer UR2PA: UR start extending to SOA | D11: Transfer UR2PA: UR arrived at SOA
A12: WH-000A | B12: WH_UROBOT_WAIT_FOR_PA_FREE | C12: Transfer UR2PA: UR arrived at SOA | D12: Transfer UR2PA: UR move to PA at
A13: WH-000B | B13: WH_UROBOT_PLACE_ON_PA | C13: Transfer UR2PA: UR move to PA at | D13: Transfer UR2PA: UR passed SOA on the retract move from PA
A14: WH-000C | B14: WH_WFR_PREALIGN | C14: Prealignment: Prealignment / conditioning started | D14: Prealignment: Prealignment / conditioning finished
A15: WH-000D | B15: WH_APR_PRE_WARNING | C15: Transfer WT2SUB: APR signal raised | D15: Transfer WT2SUB: TS signal raised
A16: WH-000E | B16: WH_PA_MOVE_DOWN | C16: Transfer PA2LRdocked: start move docking to below after takeover | D16: Transfer PA2LRdocked: docking moved to below after takeover
... A23: WH-0015 | B23: WH_DU_HANDSHAKE_TRACK | C23: Transfer DU2WT: TRR lowered | D23: Transfer DU2WT: AS lowered
A24: WP-5000 | B24: WS_M_ZERO
A25: WP-5001 | B25: WS_M_TAKEOVER_TO_TABLE | C25: wafer move to chuck
A26: WP-5002 | B26: WS_M_PUSH_WAFER_FROM_TABLE | C26: wafer move to ULR

Sheet Sheet2
A1: Tue | B1: 30 | C1: May | D1: 2023 | E1: 0.38512731 | F1: 860555us | G1: 1 | H1: 168 | I1: WH-000d | J1: =VLOOKUP(I1,Code_table!$A$1:$D$23,2,0) -> WH_APR_PRE_WARNING
A2: Tue | B2: 30 | C2: May | D2: 2023 | E2: 0.38512731 | F2: 862869us | G2: 1 | H2: 168 | I2: WH-000f | J2: =VLOOKUP(I2,Code_table!$A$1:$D$23,2,0) -> WH_TRACK_WFR_PLACE_IN_WH
A3: Tue | B3: 30 | C3: May | D3: 2023 | E3: 0.38520833 | F3: 429849us | G3: 1 | H3: 168 | I3: WH-000f | J3: =VLOOKUP(I3,Code_table!$A$1:$D$23,2,0) -> WH_TRACK_WFR_PLACE_IN_WH | N3: Wafer ID
A4: Tue | B4: 30 | C4: May | D4: 2023 | E4: 0.38520833 | F4: 429879us | G4: 1 | H4: 168 | I4: WH-000d | J4: =VLOOKUP(I4,Code_table!$A$1:$D$23,2,0) -> WH_APR_PRE_WARNING | N4: Chuck ID
A5: Tue | B5: 30 | C5: May | D5: 2023 | E5: 0.38520833 | F5: 429922us | G5: 1 | H5: 168 | I5: WH-0010 | J5: =VLOOKUP(I5,Code_table!$A$1:$D$23,2,0) -> WH_INP_APPLY_VACUUM
A6: Tue | B6: 30 | C6: May | D6: 2023 | E6: 0.38520833 | F6: 524890us | G6: 1 | H6: 168 | I6: WH-0010 | J6: =VLOOKUP(I6,Code_table!$A$1:$D$23,2,0) -> WH_INP_APPLY_VACUUM
A7: Tue | B7: 30 | C7: May | D7: 2023 | E7: 0.38520833 | F7: 524920us | G7: 1 | H7: 168 | I7: WH-0011 | J7: =VLOOKUP(I7,Code_table!$A$1:$D$23,2,0) -> WH_INP_HANDSHAKE_TRACK | S7: Wafer ID
A8: Tue | B8: 30 | C8: May | D8: 2023 | E8: 0.38520833 | F8: 838887us | G8: 1 | H8: 168 | I8: WH-0011 | J8: =VLOOKUP(I8,Code_table!$A$1:$D$23,2,0) -> WH_INP_HANDSHAKE_TRACK | S8: Chuck ID
A9: Tue | B9: 30 | C9: May | D9: 2023 | E9: 0.38530093 | F9: 493712us | G9: 2 | H9: 168 | I9: WH-000d | J9: =VLOOKUP(I9,Code_table!$A$1:$D$23,2,0) -> WH_APR_PRE_WARNING
A10: Tue | B10: 30 | C10: May | D10: 2023 | E10: 0.3853588 | F10: 942662us | G10: 1 | H10: 168 | I10: WH-0008 | J10: =VLOOKUP(I10,Code_table!$A$1:$D$23,2,0) -> WH_UROBOT_PICK_WFR_IN_BUF | S10: Wafer ID
A11: Tue | B11: 30 | C11: May | D11: 2023 | E11: 0.38538194 | F11: 185198us | G11: 2 | H11: 168 | I11: WH-000f | J11: =VLOOKUP(I11,Code_table!$A$1:$D$23,2,0) -> WH_TRACK_WFR_PLACE_IN_WH | M11: Wafer ID
A12: Tue | B12: 30 | C12: May | D12: 2023 | E12: 0.38538194 | F12: 301588us | G12: 1 | H12: 168 | I12: WH-0008 | J12: =VLOOKUP(I12,Code_table!$A$1:$D$23,2,0) -> WH_UROBOT_PICK_WFR_IN_BUF
A13: Tue | B13: 30 | C13: May | D13: 2023 | E13: 0.38539352 | F13: 548237us | G13: 1 | H13: 168 | I13: WH-0009 | J13: =VLOOKUP(I13,Code_table!$A$1:$D$23,2,0) -> WH_UROBOT_CLOSE_TO_PA
A14: Tue | B14: 30 | C14: May | D14: 2023 | E14: 0.38539352 | F14: 549159us | G14: 1 | H14: 168 | I14: WH-0009 | J14: =VLOOKUP(I14,Code_table!$A$1:$D$23,2,0) -> WH_UROBOT_CLOSE_TO_PA
A15: Tue | B15: 30 | C15: May | D15: 2023 | E15: 0.38539352 | F15: 549658us | G15: 1 | H15: 168 | I15: WH-000a | J15: =VLOOKUP(I15,Code_table!$A$1:$D$23,2,0) -> WH_UROBOT_WAIT_FOR_PA_FREE | M15: Wafer ID
A16: Tue | B16: 30 | C16: May | D16: 2023 | E16: 0.38539352 | F16: 565657us | G16: 1 | H16: 168 | I16: WH-000b | J16: =VLOOKUP(I16,Code_table!$A$1:$D$23,2,0) -> WH_UROBOT_PLACE_ON_PA
A17: Tue | B17: 30 | C17: May | D17: 2023 | E17: 0.38539352 | F17: 571159us | G17: 1 | H17: 168 | I17: WH-000a | J17: =VLOOKUP(I17,Code_table!$A$1:$D$23,2,0) -> WH_UROBOT_WAIT_FOR_PA_FREE
A18: Tue | B18: 30 | C18: May | D18: 2023 | E18: 0.38542824 | F18: 667710us | G18: 1 | H18: 168 | I18: WH-000b | J18: =VLOOKUP(I18,Code_table!$A$1:$D$23,2,0) -> WH_UROBOT_PLACE_ON_PA | Q18: Wafer ID | R18: 168-1 | U18: Wafer ID
A19: Tue | B19: 30 | C19: May | D19: 2023 | E19: 0.38542824 | F19: 681400us | G19: 1 | H19: 168 | I19: WH-0012 | J19: =VLOOKUP(I19,Code_table!$A$1:$D$23,2,0) -> WH_WFR_PREP_PREALIGN
A20: Tue | B20: 30 | C20: May | D20: 2023 | E20: 0.38543981 | F20: 010232us | G20: 1 | H20: 168 | I20: WH-0012 | J20: =VLOOKUP(I20,Code_table!$A$1:$D$23,2,0) -> WH_WFR_PREP_PREALIGN
A21: Tue | B21: 30 | C21: May | D21: 2023 | E21: 0.38543981 | F21: 011142us | G21: 1 | H21: 168 | I21: WH-000c | J21: =VLOOKUP(I21,Code_table!$A$1:$D$23,2,0) -> WH_WFR_PREALIGN
A22: Tue | B22: 30 | C22: May | D22: 2023 | E22: 0.38549769 | F22: 498562us | G22: 2 | H22: 168 | I22: WH-000f | J22: =VLOOKUP(I22,Code_table!$A$1:$D$23,2,0) -> WH_TRACK_WFR_PLACE_IN_WH
A23: Tue | B23: 30 | C23: May | D23: 2023 | E23: 0.38549769 | F23: 498593us | G23: 2 | H23: 168 | I23: WH-000d | J23: =VLOOKUP(I23,Code_table!$A$1:$D$23,2,0) -> WH_APR_PRE_WARNING
A24: Tue | B24: 30 | C24: May | D24: 2023 | E24: 0.38549769 | F24: 498641us | G24: 2 | H24: 168 | I24: WH-0010 | J24: =VLOOKUP(I24,Code_table!$A$1:$D$23,2,0) -> WH_INP_APPLY_VACUUM
A25: Tue | B25: 30 | C25: May | D25: 2023 | E25: 0.38549769 | F25: 594486us | G25: 2 | H25: 168 | I25: WH-0010 | J25: =VLOOKUP(I25,Code_table!$A$1:$D$23,2,0) -> WH_INP_APPLY_VACUUM
A26: Tue | B26: 30 | C26: May | D26: 2023 | E26: 0.38549769 | F26: 594516us | G26: 2 | H26: 168 | I26: WH-0011 | J26: =VLOOKUP(I26,Code_table!$A$1:$D$23,2,0) -> WH_INP_HANDSHAKE_TRACK
A27: Tue | B27: 30 | C27: May | D27: 2023 | E27: 0.38549769 | F27: 903392us | G27: 2 | H27: 168 | I27: WH-0011 | J27: =VLOOKUP(I27,Code_table!$A$1:$D$23,2,0) -> WH_INP_HANDSHAKE_TRACK
A28: Tue | B28: 30 | C28: May | D28: 2023 | E28: 0.38553241 | F28: 024935us | G28: 1 | H28: 168 | I28: WH-000c | J28: =VLOOKUP(I28,Code_table!$A$1:$D$23,2,0) -> WH_WFR_PREALIGN
A29: Tue | B29: 30 | C29: May | D29: 2023 | E29: 0.38563657 | F29: 550760us | G29: 3 | H29: 168 | I29: WH-000d | J29: =VLOOKUP(I29,Code_table!$A$1:$D$23,2,0) -> WH_APR_PRE_WARNING
A30: Tue | B30: 30 | C30: May | D30: 2023 | E30: 0.38565972 | F30: 808941us | G30: 1 | H30: 168 | I30: WH-0000 | J30: =VLOOKUP(I30,Code_table!$A$1:$D$23,2,0) -> WH_WFR_PICK_FROM_PA
... A611: Tue | B611: 30 | C611: May | D611: 2023 | E611: 0.38980324 | F611: 651266us | G611: 16 | H611: 168 | I611: WH-0010 | J611: =VLOOKUP(I611,Code_table!$A$1:$D$23,2,0) -> WH_INP_APPLY_VACUUM
