Workbook

Sheet 주차별통계
A1: NO | B1: 브랜드 | C1: 제품명 | D1: 합계 | E1: 1주차 | F1: 2주차 | G1: 3주차 | H1: 4주차 | I1: 5주차
C3: 총계
A4: 1 | B4: 쟈스_엑토인 | C4: 쟈스 엑토인 데일리 모이스처라이징 크림(500ml) | D4: =SUM(E4:L4) -> 0 | E4: =월총계!E4+월총계!F4+월총계!G4 -> 0 | F4: =월총계!J4+월총계!K4+월총계!L4+월총계!H4+월총계!I4 -> 0 | G4: =월총계!Q4+월총계!R4+월총계!S4+월총계!O4+월총계!P4 -> 0 | H4: =월총계!X4+월총계!Y4+월총계!Z4+월총계!V4+월총계!W4 -> 0 | I4: =월총계!AE4+월총계!AF4+월총계!AG4+월총계!AH4+월총계!AD4 -> 0
A5: =A4+1 -> 2 | B5: 쟈스_엑토인 | C5: 쟈스 엑토인 데일리 모이스처라이징 크림(100ml) | D5: =SUM(E5:L5) -> 0 | E5: =월총계!E5+월총계!F5+월총계!G5 -> 0 | F5: =월총계!J5+월총계!K5+월총계!L5+월총계!H5+월총계!I5 -> 0 | G5: =월총계!Q5+월총계!R5+월총계!S5+월총계!O5+월총계!P5 -> 0 | H5: =월총계!X5+월총계!Y5+월총계!Z5+월총계!V5+월총계!W5 -> 0 | I5: =월총계!AE5+월총계!AF5+월총계!AG5+월총계!AH5+월총계!AD5 -> 0
B6: 쟈스_엑토인 바디크림 | C6: 쟈스_엑토인 바디크림 소계 | D6: =SUM(D4:D5) -> 0 | E6: =월총계!E6+월총계!F6+월총계!G6 -> 0 | F6: =월총계!J6+월총계!K6+월총계!L6+월총계!H6+월총계!I6 -> 0 | G6: =월총계!Q6+월총계!R6+월총계!S6+월총계!O6+월총계!P6 -> 0 | H6: =월총계!X6+월총계!Y6+월총계!Z6+월총계!V6+월총계!W6 -> 0 | I6: =월총계!AE6+월총계!AF6+월총계!AG6+월총계!AH6+월총계!AD6 -> 0
A7: =A5+1 -> 3 | B7: 쟈스_엑토인 | C7: 쟈스 맨얼굴크림 | D7: =SUM(E7:L7) -> 0 | E7: =월총계!E7+월총계!F7+월총계!G7 -> 0 | F7: =월총계!J7+월총계!K7+월총계!L7+월총계!H7+월총계!I7 -> 0 | G7: =월총계!Q7+월총계!R7+월총계!S7+월총계!O7+월총계!P7 -> 0 | H7: =월총계!X7+월총계!Y7+월총계!Z7+월총계!V7+월총계!W7 -> 0 | I7: =월총계!AE7+월총계!AF7+월총계!AG7+월총계!AH7+월총계!AD7 -> 0
A8: =A7+1 -> 4 | B8: 쟈스_엑토인 | C8: 쟈스 맨얼굴크림 튜브 | D8: =SUM(E8:L8) -> 0 | E8: =월총계!E8+월총계!F8+월총계!G8 -> 0 | F8: =월총계!J8+월총계!K8+월총계!L8+월총계!H8+월총계!I8 -> 0 | G8: =월총계!Q8+월총계!R8+월총계!S8+월총계!O8+월총계!P8 -> 0 | H8: =월총계!X8+월총계!Y8+월총계!Z8+월총계!V8+월총계!W8 -> 0 | I8: =월총계!AE8+월총계!AF8+월총계!AG8+월총계!AH8+월총계!AD8 -> 0
A9: =A8+1 -> 5 | B9: 쟈스_엑토인 | C9: 쟈스 엑토인 퍼스트 케어 세럼 | D9: =SUM(E9:L9) -> 0 | E9: =월총계!E9+월총계!F9+월총계!G9 -> 0 | F9: =월총계!J9+월총계!K9+월총계!L9+월총계!H9+월총계!I9 -> 0 | G9: =월총계!Q9+월총계!R9+월총계!S9+월총계!O9+월총계!P9 -> 0 | H9: =월총계!X9+월총계!Y9+월총계!Z9+월총계!V9+월총계!W9 -> 0 | I9: =월총계!AE9+월총계!AF9+월총계!AG9+월총계!AH9+월총계!AD9 -> 0
A10: =A9+1 -> 6 | B10: 쟈스_엑토인 | C10: 쟈스 맨얼굴크림 파우치(1.5g) | D10: =SUM(E10:L10) -> 0 | E10: =월총계!E10+월총계!F10+월총계!G10 -> 0 | F10: =월총계!J10+월총계!K10+월총계!L10+월총계!H10+월총계!I10 -> 0 | G10: =월총계!Q10+월총계!R10+월총계!S10+월총계!O10+월총계!P10 -> 0 | H10: =월총계!X10+월총계!Y10+월총계!Z10+월총계!V10+월총계!W10 -> 0 | I10: =월총계!AE10+월총계!AF10+월총계!AG10+월총계!AH10+월총계!AD10 -> 0
B11: 쟈스_엑토인 맨얼굴 | C11: 쟈스_엑토인 맨얼굴 소계 | D11: =SUM(D7:D10) -> 0 | E11: =월총계!E11+월총계!F11+월총계!G11 -> 0 | F11: =월총계!J11+월총계!K11+월총계!L11+월총계!H11+월총계!I11 -> 0 | G11: =월총계!Q11+월총계!R11+월총계!S11+월총계!O11+월총계!P11 -> 0 | H11: =월총계!X11+월총계!Y11+월총계!Z11+월총계!V11+월총계!W11 -> 0 | I11: =월총계!AE11+월총계!AF11+월총계!AG11+월총계!AH11+월총계!AD11 -> 0
A12: =A10+1 -> 7 | B12: 아트델리_갈바덤 | C12: 아트델리 갈바덤 리프팅 커버쿠션 21호_실버 | D12: =SUM(E12:L12) -> 0 | E12: =월총계!E12+월총계!F12+월총계!G12 -> 0 | F12: =월총계!J12+월총계!K12+월총계!L12+월총계!H12+월총계!I12 -> 0 | G12: =월총계!Q12+월총계!R12+월총계!S12+월총계!O12+월총계!P12 -> 0 | H12: =월총계!X12+월총계!Y12+월총계!Z12+월총계!V12+월총계!W12 -> 0 | I12: =월총계!AE12+월총계!AF12+월총계!AG12+월총계!AH12+월총계!AD12 -> 0
A13: =A12+1 -> 8 | B13: 아트델리_갈바덤 | C13: 아트델리 갈바덤 리프팅 커버쿠션 21호_블랙 | D13: =SUM(E13:L13) -> 0 | E13: =월총계!E13+월총계!F13+월총계!G13 -> 0 | F13: =월총계!J13+월총계!K13+월총계!L13+월총계!H13+월총계!I13 -> 0 | G13: =월총계!Q13+월총계!R13+월총계!S13+월총계!O13+월총계!P13 -> 0 | H13: =월총계!X13+월총계!Y13+월총계!Z13+월총계!V13+월총계!W13 -> 0 | I13: =월총계!AE13+월총계!AF13+월총계!AG13+월총계!AH13+월총계!AD13 -> 0
A14: =A13+1 -> 9 | B14: 아트델리_갈바덤 | C14: 아트델리 갈바덤 리프팅 커버쿠션 21호_그린 | D14: =SUM(E14:L14) -> 0 | E14: =월총계!E14+월총계!F14+월총계!G14 -> 0 | F14: =월총계!J14+월총계!K14+월총계!L14+월총계!H14+월총계!I14 -> 0 | G14: =월총계!Q14+월총계!R14+월총계!S14+월총계!O14+월총계!P14 -> 0 | H14: =월총계!X14+월총계!Y14+월총계!Z14+월총계!V14+월총계!W14 -> 0 | I14: =월총계!AE14+월총계!AF14+월총계!AG14+월총계!AH14+월총계!AD14 -> 0
A15: =A14+1 -> 10 | B15: 아트델리_갈바덤 | C15: 아트델리 갈바덤 리프팅 커버쿠션 21호_리필 | D15: =SUM(E15:L15) -> 0 | E15: =월총계!E15+월총계!F15+월총계!G15 -> 0 | F15: =월총계!J15+월총계!K15+월총계!L15+월총계!H15+월총계!I15 -> 0 | G15: =월총계!Q15+월총계!R15+월총계!S15+월총계!O15+월총계!P15 -> 0 | H15: =월총계!X15+월총계!Y15+월총계!Z15+월총계!V15+월총계!W15 -> 0 | I15: =월총계!AE15+월총계!AF15+월총계!AG15+월총계!AH15+월총계!AD15 -> 0
A16: =A15+1 -> 11 | B16: 아트델리_갈바덤 | C16: 아트델리 갈바덤 리프팅 커버쿠션 23호_실버 | D16: =SUM(E16:L16) -> 0 | E16: =월총계!E16+월총계!F16+월총계!G16 -> 0 | F16: =월총계!J16+월총계!K16+월총계!L16+월총계!H16+월총계!I16 -> 0 | G16: =월총계!Q16+월총계!R16+월총계!S16+월총계!O16+월총계!P16 -> 0 | H16: =월총계!X16+월총계!Y16+월총계!Z16+월총계!V16+월총계!W16 -> 0 | I16: =월총계!AE16+월총계!AF16+월총계!AG16+월총계!AH16+월총계!AD16 -> 0
A17: =A16+1 -> 12 | B17: 아트델리_갈바덤 | C17: 아트델리 갈바덤 리프팅 커버쿠션 23호_블랙 | D17: =SUM(E17:L17) -> 0 | E17: =월총계!E17+월총계!F17+월총계!G17 -> 0 | F17: =월총계!J17+월총계!K17+월총계!L17+월총계!H17+월총계!I17 -> 0 | G17: =월총계!Q17+월총계!R17+월총계!S17+월총계!O17+월총계!P17 -> 0 | H17: =월총계!X17+월총계!Y17+월총계!Z17+월총계!V17+월총계!W17 -> 0 | I17: =월총계!AE17+월총계!AF17+월총계!AG17+월총계!AH17+월총계!AD17 -> 0
A18: =A17+1 -> 13 | B18: 아트델리_갈바덤 | C18: 아트델리 갈바덤 리프팅 커버쿠션 23호_그린 | D18: =SUM(E18:L18) -> 0 | E18: =월총계!E18+월총계!F18+월총계!G18 -> 0 | F18: =월총계!J18+월총계!K18+월총계!L18+월총계!H18+월총계!I18 -> 0 | G18: =월총계!Q18+월총계!R18+월총계!S18+월총계!O18+월총계!P18 -> 0 | H18: =월총계!X18+월총계!Y18+월총계!Z18+월총계!V18+월총계!W18 -> 0 | I18: =월총계!AE18+월총계!AF18+월총계!AG18+월총계!AH18+월총계!AD18 -> 0
A19: =A18+1 -> 14 | B19: 아트델리_갈바덤 | C19: 아트델리 갈바덤 리프팅 커버쿠션 23호_리필 | D19: =SUM(E19:L19) -> 0 | E19: =월총계!E19+월총계!F19+월총계!G19 -> 0 | F19: =월총계!J19+월총계!K19+월총계!L19+월총계!H19+월총계!I19 -> 0 | G19: =월총계!Q19+월총계!R19+월총계!S19+월총계!O19+월총계!P19 -> 0 | H19: =월총계!X19+월총계!Y19+월총계!Z19+월총계!V19+월총계!W19 -> 0 | I19: =월총계!AE19+월총계!AF19+월총계!AG19+월총계!AH19+월총계!AD19 -> 0
B20: 아트델리_갈바덤 | C20: 아트델리 갈바덤 리프팅 커버쿠션 소계 | D20: =SUM(D12:D19) -> 0 | E20: =월총계!E20+월총계!F20+월총계!G20 -> 0 | F20: =월총계!J20+월총계!K20+월총계!L20+월총계!H20+월총계!I20 -> 0 | G20: =월총계!Q20+월총계!R20+월총계!S20+월총계!O20+월총계!P20 -> 0 | H20: =월총계!X20+월총계!Y20+월총계!Z20+월총계!V20+월총계!W20 -> 0 | I20: =월총계!AE20+월총계!AF20+월총계!AG20+월총계!AH20+월총계!AD20 -> 0
A21: =A19+1 -> 15 | B21: 쟈스 글루타치온 | C21: 쟈스 글루타치온 엑스퍼트 1000 크림 | D21: =SUM(E21:L21) -> 0 | E21: =월총계!E21+월총계!F21+월총계!G21 -> 0 | F21: =월총계!J21+월총계!K21+월총계!L21+월총계!H21+월총계!I21 -> 0 | G21: =월총계!Q21+월총계!R21+월총계!S21+월총계!O21+월총계!P21 -> 0 | H21: =월총계!X21+월총계!Y21+월총계!Z21+월총계!V21+월총계!W21 -> 0 | I21: =월총계!AE21+월총계!AF21+월총계!AG21+월총계!AH21+월총계!AD21 -> 0
A22: =A21+1 -> 16 | B22: 쟈스 글루타치온 | C22: 쟈스 글루타치온 엑스퍼트 세럼 | D22: =SUM(E22:L22) -> 0 | E22: =월총계!E22+월총계!F22+월총계!G22 -> 0 | F22: =월총계!J22+월총계!K22+월총계!L22+월총계!H22+월총계!I22 -> 0 | G22: =월총계!Q22+월총계!R22+월총계!S22+월총계!O22+월총계!P22 -> 0 | H22: =월총계!X22+월총계!Y22+월총계!Z22+월총계!V22+월총계!W22 -> 0 | I22: =월총계!AE22+월총계!AF22+월총계!AG22+월총계!AH22+월총계!AD22 -> 0
A23: =A22+1 -> 17 | B23: 쟈스 글루타치온 | C23: 쟈스 글루타치온 엑스퍼트 1000 크림(60ml) | D23: =SUM(E23:L23) -> 0 | E23: =월총계!E23+월총계!F23+월총계!G23 -> 0 | F23: =월총계!J23+월총계!K23+월총계!L23+월총계!H23+월총계!I23 -> 0 | G23: =월총계!Q23+월총계!R23+월총계!S23+월총계!O23+월총계!P23 -> 0 | H23: =월총계!X23+월총계!Y23+월총계!Z23+월총계!V23+월총계!W23 -> 0 | I23: =월총계!AE23+월총계!AF23+월총계!AG23+월총계!AH23+월총계!AD23 -> 0
A24: =A23+1 -> 18 | B24: 쟈스 글루타치온 | C24: 쟈스 글루타치온 크림 파우치(1.5g) | D24: =SUM(E24:L24) -> 0 | E24: =월총계!E24+월총계!F24+월총계!G24 -> 0 | F24: =월총계!J24+월총계!K24+월총계!L24+월총계!H24+월총계!I24 -> 0 | G24: =월총계!Q24+월총계!R24+월총계!S24+월총계!O24+월총계!P24 -> 0 | H24: =월총계!X24+월총계!Y24+월총계!Z24+월총계!V24+월총계!W24 -> 0 | I24: =월총계!AE24+월총계!AF24+월총계!AG24+월총계!AH24+월총계!AD24 -> 0
C25: 쟈스 글루타치온 소계 | D25: =SUM(D21:D24) -> 0 | E25: =월총계!E25+월총계!F25+월총계!G25 -> 0 | F25: =월총계!J25+월총계!K25+월총계!L25+월총계!H25+월총계!I25 -> 0 | G25: =월총계!Q25+월총계!R25+월총계!S25+월총계!O25+월총계!P25 -> 0 | H25: =월총계!X25+월총계!Y25+월총계!Z25+월총계!V25+월총계!W25 -> 0 | I25: =월총계!AE25+월총계!AF25+월총계!AG25+월총계!AH25+월총계!AD25 -> 0
A26: =A24+1 -> 19 | B26: 슬로우 테라피 | C26: 슬로우테라피 구슬 앰플 마스크 유칼립투스 진정(10개입) | D26: =SUM(E26:L26) -> 0 | E26: =월총계!E26+월총계!F26+월총계!G26 -> 0 | F26: =월총계!J26+월총계!K26+월총계!L26+월총계!H26+월총계!I26 -> 0 | G26: =월총계!Q26+월총계!R26+월총계!S26+월총계!O26+월총계!P26 -> 0 | H26: =월총계!X26+월총계!Y26+월총계!Z26+월총계!V26+월총계!W26 -> 0 | I26: =월총계!AE26+월총계!AF26+월총계!AG26+월총계!AH26+월총계!AD26 -> 0
A27: =A26+1 -> 20 | B27: 슬로우 테라피 | C27: 슬로우테라피 구슬 앰플 마스크 유칼립투스 진정 | D27: =SUM(E27:L27) -> 0 | E27: =월총계!E27+월총계!F27+월총계!G27 -> 0 | F27: =월총계!J27+월총계!K27+월총계!L27+월총계!H27+월총계!I27 -> 0 | G27: =월총계!Q27+월총계!R27+월총계!S27+월총계!O27+월총계!P27 -> 0 | H27: =월총계!X27+월총계!Y27+월총계!Z27+월총계!V27+월총계!W27 -> 0 | I27: =월총계!AE27+월총계!AF27+월총계!AG27+월총계!AH27+월총계!AD27 -> 0
A28: =A27+1 -> 21 | B28: 슬로우 테라피 | C28: 슬로우테라피 구슬 앰플 마스크 브라이토닝 비타(10개입) | D28: =SUM(E28:L28) -> 0 | E28: =월총계!E28+월총계!F28+월총계!G28 -> 0 | F28: =월총계!J28+월총계!K28+월총계!L28+월총계!H28+월총계!I28 -> 0 | G28: =월총계!Q28+월총계!R28+월총계!S28+월총계!O28+월총계!P28 -> 0 | H28: =월총계!X28+월총계!Y28+월총계!Z28+월총계!V28+월총계!W28 -> 0 | I28: =월총계!AE28+월총계!AF28+월총계!AG28+월총계!AH28+월총계!AD28 -> 0
A29: =A28+1 -> 22 | B29: 슬로우 테라피 | C29: 슬로우테라피 구슬 앰플 마스크 브라이토닝 비타 | D29: =SUM(E29:L29) -> 0 | E29: =월총계!E29+월총계!F29+월총계!G29 -> 0 | F29: =월총계!J29+월총계!K29+월총계!L29+월총계!H29+월총계!I29 -> 0 | G29: =월총계!Q29+월총계!R29+월총계!S29+월총계!O29+월총계!P29 -> 0 | H29: =월총계!X29+월총계!Y29+월총계!Z29+월총계!V29+월총계!W29 -> 0 | I29: =월총계!AE29+월총계!AF29+월총계!AG29+월총계!AH29+월총계!AD29 -> 0
A30: =A29+1 -> 23 | B30: 슬로우 테라피 | C30: 슬로우테라피 구슬 앰플 마스크 그린토마토 모공(10개입) | D30: =SUM(E30:L30) -> 0 | E30: =월총계!E30+월총계!F30+월총계!G30 -> 0 | F30: =월총계!J30+월총계!K30+월총계!L30+월총계!H30+월총계!I30 -> 0 | G30: =월총계!Q30+월총계!R30+월총계!S30+월총계!O30+월총계!P30 -> 0 | H30: =월총계!X30+월총계!Y30+월총계!Z30+월총계!V30+월총계!W30 -> 0 | I30: =월총계!AE30+월총계!AF30+월총계!AG30+월총계!AH30+월총계!AD30 -> 0
A31: =A30+1 -> 24 | B31: 슬로우 테라피 | C31: 슬로우테라피 구슬 앰플 마스크 그린토마토 모공 | D31: =SUM(E31:L31) -> 0 | E31: =월총계!E31+월총계!F31+월총계!G31 -> 0 | F31: =월총계!J31+월총계!K31+월총계!L31+월총계!H31+월총계!I31 -> 0 | G31: =월총계!Q31+월총계!R31+월총계!S31+월총계!O31+월총계!P31 -> 0 | H31: =월총계!X31+월총계!Y31+월총계!Z31+월총계!V31+월총계!W31 -> 0 | I31: =월총계!AE31+월총계!AF31+월총계!AG31+월총계!AH31+월총계!AD31 -> 0
A32: =A31+1 -> 25 | B32: 슬로우 테라피 | C32: 슬로우테라피 구슬 앰플 마스크 화이트밀크 브라이트닝(10개입) | D32: =SUM(E32:L32) -> 0 | E32: =월총계!E32+월총계!F32+월총계!G32 -> 0 | F32: =월총계!J32+월총계!K32+월총계!L32+월총계!H32+월총계!I32 -> 0 | G32: =월총계!Q32+월총계!R32+월총계!S32+월총계!O32+월총계!P32 -> 0 | H32: =월총계!X32+월총계!Y32+월총계!Z32+월총계!V32+월총계!W32 -> 0 | I32: =월총계!AE32+월총계!AF32+월총계!AG32+월총계!AH32+월총계!AD32 -> 0
A33: =A32+1 -> 26 | B33: 슬로우 테라피 | C33: 슬로우테라피 구슬 앰플 마스크 화이트밀크 브라이트닝 | D33: =SUM(E33:L33) -> 0 | E33: =월총계!E33+월총계!F33+월총계!G33 -> 0 | F33: =월총계!J33+월총계!K33+월총계!L33+월총계!H33+월총계!I33 -> 0 | G33: =월총계!Q33+월총계!R33+월총계!S33+월총계!O33+월총계!P33 -> 0 | H33: =월총계!X33+월총계!Y33+월총계!Z33+월총계!V33+월총계!W33 -> 0 | I33: =월총계!AE33+월총계!AF33+월총계!AG33+월총계!AH33+월총계!AD33 -> 0
A34: =A33+1 -> 27 | B34: 슬로우 테라피 | C34: 슬로우테라피 구슬 앰플 마스크 카멜리아 탄력(10개입) | D34: =SUM(E34:L34) -> 0 | E34: =월총계!E34+월총계!F34+월총계!G34 -> 0 | F34: =월총계!J34+월총계!K34+월총계!L34+월총계!H34+월총계!I34 -> 0 | G34: =월총계!Q34+월총계!R34+월총계!S34+월총계!O34+월총계!P34 -> 0 | H34: =월총계!X34+월총계!Y34+월총계!Z34+월총계!V34+월총계!W34 -> 0 | I34: =월총계!AE34+월총계!AF34+월총계!AG34+월총계!AH34+월총계!AD34 -> 0
A35: =A34+1 -> 28 | B35: 슬로우 테라피 | C35: 슬로우테라피 구슬 앰플 마스크 카멜리아 탄력 | D35: =SUM(E35:L35) -> 0 | E35: =월총계!E35+월총계!F35+월총계!G35 -> 0 | F35: =월총계!J35+월총계!K35+월총계!L35+월총계!H35+월총계!I35 -> 0 | G35: =월총계!Q35+월총계!R35+월총계!S35+월총계!O35+월총계!P35 -> 0 | H35: =월총계!X35+월총계!Y35+월총계!Z35+월총계!V35+월총계!W35 -> 0 | I35: =월총계!AE35+월총계!AF35+월총계!AG35+월총계!AH35+월총계!AD35 -> 0
C36: 슬로우테라피 구슬앰플 마스크 소계 | D36: =SUM(D26:D35) -> 0 | E36: =월총계!E36+월총계!F36+월총계!G36 -> 0 | F36: =월총계!J36+월총계!K36+월총계!L36+월총계!H36+월총계!I36 -> 0 | G36: =월총계!Q36+월총계!R36+월총계!S36+월총계!O36+월총계!P36 -> 0 | H36: =월총계!X36+월총계!Y36+월총계!Z36+월총계!V36+월총계!W36 -> 0 | I36: =월총계!AE36+월총계!AF36+월총계!AG36+월총계!AH36+월총계!AD36 -> 0
A37: =A35+1 -> 29 | B37: 장로젯 | C37: 장로젯 라부 셀룰라 앰플 엘릭시어 엑스이피018 50미리 | D37: =SUM(E37:L37) -> 0 | E37: =월총계!E37+월총계!F37+월총계!G37 -> 0 | F37: =월총계!J37+월총계!K37+월총계!L37+월총계!H37+월총계!I37 -> 0 | G37: =월총계!Q37+월총계!R37+월총계!S37+월총계!O37+월총계!P37 -> 0 | H37: =월총계!X37+월총계!Y37+월총계!Z37+월총계!V37+월총계!W37 -> 0 | I37: =월총계!AE37+월총계!AF37+월총계!AG37+월총계!AH37+월총계!AD37 -> 0
A38: =A37+1 -> 30 | B38: 장로젯 | C38: 장로젯 라부 셀룰라 앰플 엘릭시어 엑스이피018 20미리 | D38: =SUM(E38:L38) -> 0 | E38: =월총계!E38+월총계!F38+월총계!G38 -> 0 | F38: =월총계!J38+월총계!K38+월총계!L38+월총계!H38+월총계!I38 -> 0 | G38: =월총계!Q38+월총계!R38+월총계!S38+월총계!O38+월총계!P38 -> 0 | H38: =월총계!X38+월총계!Y38+월총계!Z38+월총계!V38+월총계!W38 -> 0 | I38: =월총계!AE38+월총계!AF38+월총계!AG38+월총계!AH38+월총계!AD38 -> 0
C39: 장로젯 소계 | D39: =SUM(D37:D38) -> 0 | E39: =월총계!E39+월총계!F39+월총계!G39 -> 0 | F39: =월총계!J39+월총계!K39+월총계!L39+월총계!H39+월총계!I39 -> 0 | G39: =월총계!Q39+월총계!R39+월총계!S39+월총계!O39+월총계!P39 -> 0 | H39: =월총계!X39+월총계!Y39+월총계!Z39+월총계!V39+월총계!W39 -> 0 | I39: =월총계!AE39+월총계!AF39+월총계!AG39+월총계!AH39+월총계!AD39 -> 0
A40: =A38+1 -> 31 | B40: 더마클라센 | C40: 블랙 체인지 샴푸 | D40: =SUM(E40:L40) -> 0 | E40: =월총계!E40+월총계!F40+월총계!G40 -> 0 | F40: =월총계!J40+월총계!K40+월총계!L40+월총계!H40+월총계!I40 -> 0 | G40: =월총계!Q40+월총계!R40+월총계!S40+월총계!O40+월총계!P40 -> 0 | H40: =월총계!X40+월총계!Y40+월총계!Z40+월총계!V40+월총계!W40 -> 0 | I40: =월총계!AE40+월총계!AF40+월총계!AG40+월총계!AH40+월총계!AD40 -> 0
A41: =A40+1 -> 32 | B41: 더마클라센 | C41: 블랙 체인지 샴푸(흑갈색) | D41: =SUM(E41:L41) -> 0 | E41: =월총계!E41+월총계!F41+월총계!G41 -> 0 | F41: =월총계!J41+월총계!K41+월총계!L41+월총계!H41+월총계!I41 -> 0 | G41: =월총계!Q41+월총계!R41+월총계!S41+월총계!O41+월총계!P41 -> 0 | H41: =월총계!X41+월총계!Y41+월총계!Z41+월총계!V41+월총계!W41 -> 0 | I41: =월총계!AE41+월총계!AF41+월총계!AG41+월총계!AH41+월총계!AD41 -> 0
C42: 블랙 체인지 샴푸 소계 | D42: =SUM(D40:D41) -> 0 | E42: =월총계!E42+월총계!F42+월총계!G42 -> 0 | F42: =월총계!J42+월총계!K42+월총계!L42+월총계!H42+월총계!I42 -> 0 | G42: =월총계!Q42+월총계!R42+월총계!S42+월총계!O42+월총계!P42 -> 0 | H42: =월총계!X42+월총계!Y42+월총계!Z42+월총계!V42+월총계!W42 -> 0 | I42: =월총계!AE42+월총계!AF42+월총계!AG42+월총계!AH42+월총계!AD42 -> 0
A43: =A41+1 -> 33 | B43: 아트델리 | C43: 듀얼웨어 립 글로우밤001 | D43: =SUM(E43:L43) -> 0 | E43: =월총계!E43+월총계!F43+월총계!G43 -> 0 | F43: =월총계!J43+월총계!K43+월총계!L43+월총계!H43+월총계!I43 -> 0 | G43: =월총계!Q43+월총계!R43+월총계!S43+월총계!O43+월총계!P43 -> 0 | H43: =월총계!X43+월총계!Y43+월총계!Z43+월총계!V43+월총계!W43 -> 0 | I43: =월총계!AE43+월총계!AF43+월총계!AG43+월총계!AH43+월총계!AD43 -> 0
A44: =A43+1 -> 34 | B44: 아트델리 | C44: 듀얼웨어 립 글로우밤002 | D44: =SUM(E44:L44) -> 0 | E44: =월총계!E44+월총계!F44+월총계!G44 -> 0 | F44: =월총계!J44+월총계!K44+월총계!L44+월총계!H44+월총계!I44 -> 0 | G44: =월총계!Q44+월총계!R44+월총계!S44+월총계!O44+월총계!P44 -> 0 | H44: =월총계!X44+월총계!Y44+월총계!Z44+월총계!V44+월총계!W44 -> 0 | I44: =월총계!AE44+월총계!AF44+월총계!AG44+월총계!AH44+월총계!AD44 -> 0
A45: =A44+1 -> 35 | B45: 아트델리 | C45: 듀얼웨어 립 글로우밤003 | D45: =SUM(E45:L45) -> 0 | E45: =월총계!E45+월총계!F45+월총계!G45 -> 0 | F45: =월총계!J45+월총계!K45+월총계!L45+월총계!H45+월총계!I45 -> 0 | G45: =월총계!Q45+월총계!R45+월총계!S45+월총계!O45+월총계!P45 -> 0 | H45: =월총계!X45+월총계!Y45+월총계!Z45+월총계!V45+월총계!W45 -> 0 | I45: =월총계!AE45+월총계!AF45+월총계!AG45+월총계!AH45+월총계!AD45 -> 0
A46: =A45+1 -> 36 | B46: 아트델리 | C46: 듀얼웨어 립 글로우밤004 | D46: =SUM(E46:L46) -> 0 | E46: =월총계!E46+월총계!F46+월총계!G46 -> 0 | F46: =월총계!J46+월총계!K46+월총계!L46+월총계!H46+월총계!I46 -> 0 | G46: =월총계!Q46+월총계!R46+월총계!S46+월총계!O46+월총계!P46 -> 0 | H46: =월총계!X46+월총계!Y46+월총계!Z46+월총계!V46+월총계!W46 -> 0 | I46: =월총계!AE46+월총계!AF46+월총계!AG46+월총계!AH46+월총계!AD46 -> 0
A47: =A46+1 -> 37 | B47: 아트델리 | C47: 맥시마이저 립 글로우 밤 101 | D47: =SUM(E47:L47) -> 0 | E47: =월총계!E47+월총계!F47+월총계!G47 -> 0 | F47: =월총계!J47+월총계!K47+월총계!L47+월총계!H47+월총계!I47 -> 0 | G47: =월총계!Q47+월총계!R47+월총계!S47+월총계!O47+월총계!P47 -> 0 | H47: =월총계!X47+월총계!Y47+월총계!Z47+월총계!V47+월총계!W47 -> 0 | I47: =월총계!AE47+월총계!AF47+월총계!AG47+월총계!AH47+월총계!AD47 -> 0
A48: =A47+1 -> 38 | B48: 아트델리 | C48: 맥시마이저 립 글로우 밤 102 | D48: =SUM(E48:L48) -> 0 | E48: =월총계!E48+월총계!F48+월총계!G48 -> 0 | F48: =월총계!J48+월총계!K48+월총계!L48+월총계!H48+월총계!I48 -> 0 | G48: =월총계!Q48+월총계!R48+월총계!S48+월총계!O48+월총계!P48 -> 0 | H48: =월총계!X48+월총계!Y48+월총계!Z48+월총계!V48+월총계!W48 -> 0 | I48: =월총계!AE48+월총계!AF48+월총계!AG48+월총계!AH48+월총계!AD48 -> 0
A49: =A48+1 -> 39 | B49: 아트델리 | C49: 맥시마이저 립 글로우 밤 103 | D49: =SUM(E49:L49) -> 0 | E49: =월총계!E49+월총계!F49+월총계!G49 -> 0 | F49: =월총계!J49+월총계!K49+월총계!L49+월총계!H49+월총계!I49 -> 0 | G49: =월총계!Q49+월총계!R49+월총계!S49+월총계!O49+월총계!P49 -> 0 | H49: =월총계!X49+월총계!Y49+월총계!Z49+월총계!V49+월총계!W49 -> 0 | I49: =월총계!AE49+월총계!AF49+월총계!AG49+월총계!AH49+월총계!AD49 -> 0
B50: 아트델리 | C50: 맥시마이저 립 글로우 밤 003 | D50: =SUM(D43:D49) -> 0 | E50: =월총계!E50+월총계!F50+월총계!G50 -> 0 | F50: =월총계!J50+월총계!K50+월총계!L50+월총계!H50+월총계!I50 -> 0 | G50: =월총계!Q50+월총계!R50+월총계!S50+월총계!O50+월총계!P50 -> 0 | H50: =월총계!X50+월총계!Y50+월총계!Z50+월총계!V50+월총계!W50 -> 0 | I50: =월총계!AE50+월총계!AF50+월총계!AG50+월총계!AH50+월총계!AD50 -> 0
A51: =A49+1 -> 40 | B51: 쟈스 멀티밤 | C51: 쟈스 멀티밤 | D51: =SUM(E51:L51) -> 0 | E51: =월총계!E51+월총계!F51+월총계!G51 -> 0 | F51: =월총계!J51+월총계!K51+월총계!L51+월총계!H51+월총계!I51 -> 0 | G51: =월총계!Q51+월총계!R51+월총계!S51+월총계!O51+월총계!P51 -> 0 | H51: =월총계!X51+월총계!Y51+월총계!Z51+월총계!V51+월총계!W51 -> 0 | I51: =월총계!AE51+월총계!AF51+월총계!AG51+월총계!AH51+월총계!AD51 -> 0
A52: =A51+1 -> 41 | B52: 쟈스 멀티밤 | C52: 쟈스 키스밤 | D52: =SUM(E52:L52) -> 0 | E52: =월총계!E52+월총계!F52+월총계!G52 -> 0 | F52: =월총계!J52+월총계!K52+월총계!L52+월총계!H52+월총계!I52 -> 0 | G52: =월총계!Q52+월총계!R52+월총계!S52+월총계!O52+월총계!P52 -> 0 | H52: =월총계!X52+월총계!Y52+월총계!Z52+월총계!V52+월총계!W52 -> 0 | I52: =월총계!AE52+월총계!AF52+월총계!AG52+월총계!AH52+월총계!AD52 -> 0
A53: =A52+1 -> 42 | B53: 쟈스 멀티밤 | C53: 쟈스 콜라겐 세콜지 앰플 미스트 | D53: =SUM(E53:L53) -> 0 | E53: =월총계!E53+월총계!F53+월총계!G53 -> 0 | F53: =월총계!J53+월총계!K53+월총계!L53+월총계!H53+월총계!I53 -> 0 | G53: =월총계!Q53+월총계!R53+월총계!S53+월총계!O53+월총계!P53 -> 0 | H53: =월총계!X53+월총계!Y53+월총계!Z53+월총계!V53+월총계!W53 -> 0 | I53: =월총계!AE53+월총계!AF53+월총계!AG53+월총계!AH53+월총계!AD53 -> 0
A54: =A53+1 -> 43 | B54: 쟈스 멀티밤 | C54: 쟈스 콜라겐 밀키 크림 | D54: =SUM(E54:L54) -> 0 | E54: =월총계!E54+월총계!F54+월총계!G54 -> 0 | F54: =월총계!J54+월총계!K54+월총계!L54+월총계!H54+월총계!I54 -> 0 | G54: =월총계!Q54+월총계!R54+월총계!S54+월총계!O54+월총계!P54 -> 0 | H54: =월총계!X54+월총계!Y54+월총계!Z54+월총계!V54+월총계!W54 -> 0 | I54: =월총계!AE54+월총계!AF54+월총계!AG54+월총계!AH54+월총계!AD54 -> 0
A55: =A54+1 -> 44 | B55: 쟈스 멀티밤 | C55: 쟈스 콜라겐 밀키 앰플 | D55: =SUM(E55:L55) -> 0 | E55: =월총계!E55+월총계!F55+월총계!G55 -> 0 | F55: =월총계!J55+월총계!K55+월총계!L55+월총계!H55+월총계!I55 -> 0 | G55: =월총계!Q55+월총계!R55+월총계!S55+월총계!O55+월총계!P55 -> 0 | H55: =월총계!X55+월총계!Y55+월총계!Z55+월총계!V55+월총계!W55 -> 0 | I55: =월총계!AE55+월총계!AF55+월총계!AG55+월총계!AH55+월총계!AD55 -> 0
A56: =A55+1 -> 45 | B56: 쟈스 멀티밤 | C56: 쟈스 콜라겐 밀키 아이크림 | D56: =SUM(E56:L56) -> 0 | E56: =월총계!E56+월총계!F56+월총계!G56 -> 0 | F56: =월총계!J56+월총계!K56+월총계!L56+월총계!H56+월총계!I56 -> 0 | G56: =월총계!Q56+월총계!R56+월총계!S56+월총계!O56+월총계!P56 -> 0 | H56: =월총계!X56+월총계!Y56+월총계!Z56+월총계!V56+월총계!W56 -> 0 | I56: =월총계!AE56+월총계!AF56+월총계!AG56+월총계!AH56+월총계!AD56 -> 0
B57: 쟈스 멀티밤 | C57: 쟈스 멀티밤 단품 소계 | D57: =SUM(D51:D56) -> 0 | E57: =월총계!E57+월총계!F57+월총계!G57 -> 0 | F57: =월총계!J57+월총계!K57+월총계!L57+월총계!H57+월총계!I57 -> 0 | G57: =월총계!Q57+월총계!R57+월총계!S57+월총계!O57+월총계!P57 -> 0 | H57: =월총계!X57+월총계!Y57+월총계!Z57+월총계!V57+월총계!W57 -> 0 | I57: =월총계!AE57+월총계!AF57+월총계!AG57+월총계!AH57+월총계!AD57 -> 0
A58: =A56+1 -> 46 | B58: 쟈스 톤업 스틱 | C58: 쟈스 콜라겐 글로우 업 엔젤 밤 (블랙) | D58: =SUM(E58:L58) -> 0 | E58: =월총계!E58+월총계!F58+월총계!G58 -> 0 | F58: =월총계!J58+월총계!K58+월총계!L58+월총계!H58+월총계!I58 -> 0 | G58: =월총계!Q58+월총계!R58+월총계!S58+월총계!O58+월총계!P58 -> 0 | H58: =월총계!X58+월총계!Y58+월총계!Z58+월총계!V58+월총계!W58 -> 0 | I58: =월총계!AE58+월총계!AF58+월총계!AG58+월총계!AH58+월총계!AD58 -> 0
A59: =A58+1 -> 47 | B59: 쟈스 톤업 스틱 | C59: 쟈스 콜라겐 글로우 업 엔젤 밤 (핑크) | D59: =SUM(E59:L59) -> 0 | E59: =월총계!E59+월총계!F59+월총계!G59 -> 0 | F59: =월총계!J59+월총계!K59+월총계!L59+월총계!H59+월총계!I59 -> 0 | G59: =월총계!Q59+월총계!R59+월총계!S59+월총계!O59+월총계!P59 -> 0 | H59: =월총계!X59+월총계!Y59+월총계!Z59+월총계!V59+월총계!W59 -> 0 | I59: =월총계!AE59+월총계!AF59+월총계!AG59+월총계!AH59+월총계!AD59 -> 0
A60: =A59+1 -> 48 | B60: 쟈스 톤업 스틱 | C60: 쟈스 콜라겐 글로우 업 엔젤 밤 (오렌지) | D60: =SUM(E60:L60) -> 0 | E60: =월총계!E60+월총계!F60+월총계!G60 -> 0 | F60: =월총계!J60+월총계!K60+월총계!L60+월총계!H60+월총계!I60 -> 0 | G60: =월총계!Q60+월총계!R60+월총계!S60+월총계!O60+월총계!P60 -> 0 | H60: =월총계!X60+월총계!Y60+월총계!Z60+월총계!V60+월총계!W60 -> 0 | I60: =월총계!AE60+월총계!AF60+월총계!AG60+월총계!AH60+월총계!AD60 -> 0
B61: 쟈스 멀티밤 | C61: 쟈스 비비 멀티밤 단품 소계 | D61: =SUM(D58:D60) -> 0 | E61: =월총계!E61+월총계!F61+월총계!G61 -> 0 | F61: =월총계!J61+월총계!K61+월총계!L61+월총계!H61+월총계!I61 -> 0 | G61: =월총계!Q61+월총계!R61+월총계!S61+월총계!O61+월총계!P61 -> 0 | H61: =월총계!X61+월총계!Y61+월총계!Z61+월총계!V61+월총계!W61 -> 0 | I61: =월총계!AE61+월총계!AF61+월총계!AG61+월총계!AH61+월총계!AD61 -> 0
A62: =A60+1 -> 49 | B62: 쟈스 선패치 | C62: 쟈스 콜라겐 프로 컷 화이트닝 패치 소형 베이지 (일반) | D62: =SUM(E62:L62) -> 0 | E62: =월총계!E62+월총계!F62+월총계!G62 -> 0 | F62: =월총계!J62+월총계!K62+월총계!L62+월총계!H62+월총계!I62 -> 0 | G62: =월총계!Q62+월총계!R62+월총계!S62+월총계!O62+월총계!P62 -> 0 | H62: =월총계!X62+월총계!Y62+월총계!Z62+월총계!V62+월총계!W62 -> 0 | I62: =월총계!AE62+월총계!AF62+월총계!AG62+월총계!AH62+월총계!AD62 -> 0
A63: =A62+1 -> 50 | B63: 쟈스 선패치 | C63: 쟈스 콜라겐 프로 컷 화이트닝 패치 소형 (4가지 멀티) | D63: =SUM(E63:L63) -> 0 | E63: =월총계!E63+월총계!F63+월총계!G63 -> 0 | F63: =월총계!J63+월총계!K63+월총계!L63+월총계!H63+월총계!I63 -> 0 | G63: =월총계!Q63+월총계!R63+월총계!S63+월총계!O63+월총계!P63 -> 0 | H63: =월총계!X63+월총계!Y63+월총계!Z63+월총계!V63+월총계!W63 -> 0 | I63: =월총계!AE63+월총계!AF63+월총계!AG63+월총계!AH63+월총계!AD63 -> 0
A64: =A63+1 -> 51 | B64: 쟈스 선패치 | C64: 쟈스 콜라겐 프로 컷 화이트닝 패치 대형 (일반) | D64: =SUM(E64:L64) -> 0 | E64: =월총계!E64+월총계!F64+월총계!G64 -> 0 | F64: =월총계!J64+월총계!K64+월총계!L64+월총계!H64+월총계!I64 -> 0 | G64: =월총계!Q64+월총계!R64+월총계!S64+월총계!O64+월총계!P64 -> 0 | H64: =월총계!X64+월총계!Y64+월총계!Z64+월총계!V64+월총계!W64 -> 0 | I64: =월총계!AE64+월총계!AF64+월총계!AG64+월총계!AH64+월총계!AD64 -> 0
A65: =A64+1 -> 52 | B65: 쟈스 선패치 | C65: 쟈스 콜라겐 프로 컷 화이트닝 패치 마스크형 (일반) | D65: =SUM(E65:L65) -> 0 | E65: =월총계!E65+월총계!F65+월총계!G65 -> 0 | F65: =월총계!J65+월총계!K65+월총계!L65+월총계!H65+월총계!I65 -> 0 | G65: =월총계!Q65+월총계!R65+월총계!S65+월총계!O65+월총계!P65 -> 0 | H65: =월총계!X65+월총계!Y65+월총계!Z65+월총계!V65+월총계!W65 -> 0 | I65: =월총계!AE65+월총계!AF65+월총계!AG65+월총계!AH65+월총계!AD65 -> 0
A66: =A65+1 -> 53 | B66: 쟈스 선패치 | C66: 쟈스 콜라겐 프로 컷 화이트닝 패치 소형 베이지 (일반) 파우치 | D66: =SUM(E66:L66) -> 0 | E66: =월총계!E66+월총계!F66+월총계!G66 -> 0 | F66: =월총계!J66+월총계!K66+월총계!L66+월총계!H66+월총계!I66 -> 0 | G66: =월총계!Q66+월총계!R66+월총계!S66+월총계!O66+월총계!P66 -> 0 | H66: =월총계!X66+월총계!Y66+월총계!Z66+월총계!V66+월총계!W66 -> 0 | I66: =월총계!AE66+월총계!AF66+월총계!AG66+월총계!AH66+월총계!AD66 -> 0
B67: 쟈스 선패치 | C67: 쟈스 선패치 단품 소계 | D67: =SUM(D62:D66) -> 0 | E67: =월총계!E67+월총계!F67+월총계!G67 -> 0 | F67: =월총계!J67+월총계!K67+월총계!L67+월총계!H67+월총계!I67 -> 0 | G67: =월총계!Q67+월총계!R67+월총계!S67+월총계!O67+월총계!P67 -> 0 | H67: =월총계!X67+월총계!Y67+월총계!Z67+월총계!V67+월총계!W67 -> 0 | I67: =월총계!AE67+월총계!AF67+월총계!AG67+월총계!AH67+월총계!AD67 -> 0
A68: =A66+1 -> 54 | B68: 멀티쿠션 | C68: 아트델리 멀티쿠션 #그린 | D68: =SUM(E68:L68) -> 0 | E68: =월총계!E68+월총계!F68+월총계!G68 -> 0 | F68: =월총계!J68+월총계!K68+월총계!L68+월총계!H68+월총계!I68 -> 0 | G68: =월총계!Q68+월총계!R68+월총계!S68+월총계!O68+월총계!P68 -> 0 | H68: =월총계!X68+월총계!Y68+월총계!Z68+월총계!V68+월총계!W68 -> 0 | I68: =월총계!AE68+월총계!AF68+월총계!AG68+월총계!AH68+월총계!AD68 -> 0
A69: =A68+1 -> 55 | B69: 멀티쿠션 | C69: 아트델리 멀티쿠션 #핑크 | D69: =SUM(E69:L69) -> 0 | E69: =월총계!E69+월총계!F69+월총계!G69 -> 0 | F69: =월총계!J69+월총계!K69+월총계!L69+월총계!H69+월총계!I69 -> 0 | G69: =월총계!Q69+월총계!R69+월총계!S69+월총계!O69+월총계!P69 -> 0 | H69: =월총계!X69+월총계!Y69+월총계!Z69+월총계!V69+월총계!W69 -> 0 | I69: =월총계!AE69+월총계!AF69+월총계!AG69+월총계!AH69+월총계!AD69 -> 0
A70: =A69+1 -> 56 | B70: 멀티쿠션 | C70: 아트델리 멀티쿠션 #블랙 | D70: =SUM(E70:L70) -> 0 | E70: =월총계!E70+월총계!F70+월총계!G70 -> 0 | F70: =월총계!J70+월총계!K70+월총계!L70+월총계!H70+월총계!I70 -> 0 | G70: =월총계!Q70+월총계!R70+월총계!S70+월총계!O70+월총계!P70 -> 0 | H70: =월총계!X70+월총계!Y70+월총계!Z70+월총계!V70+월총계!W70 -> 0 | I70: =월총계!AE70+월총계!AF70+월총계!AG70+월총계!AH70+월총계!AD70 -> 0
A71: =A70+1 -> 57 | B71: 멀티쿠션 | C71: 아트델리 멀티쿠션 #블랙(리필) | D71: =SUM(E71:L71) -> 0 | E71: =월총계!E71+월총계!F71+월총계!G71 -> 0 | F71: =월총계!J71+월총계!K71+월총계!L71+월총계!H71+월총계!I71 -> 0 | G71: =월총계!Q71+월총계!R71+월총계!S71+월총계!O71+월총계!P71 -> 0 | H71: =월총계!X71+월총계!Y71+월총계!Z71+월총계!V71+월총계!W71 -> 0 | I71: =월총계!AE71+월총계!AF71+월총계!AG71+월총계!AH71+월총계!AD71 -> 0
A72: =A71+1 -> 58 | B72: 멀티쿠션 | C72: 아트델리 아이밤 멀티쿠션 #퍼플 | D72: =SUM(E72:L72) -> 0 | E72: =월총계!E72+월총계!F72+월총계!G72 -> 0 | F72: =월총계!J72+월총계!K72+월총계!L72+월총계!H72+월총계!I72 -> 0 | G72: =월총계!Q72+월총계!R72+월총계!S72+월총계!O72+월총계!P72 -> 0 | H72: =월총계!X72+월총계!Y72+월총계!Z72+월총계!V72+월총계!W72 -> 0 | I72: =월총계!AE72+월총계!AF72+월총계!AG72+월총계!AH72+월총계!AD72 -> 0
A73: =A72+1 -> 59 | B73: 멀티쿠션 | C73: 아트델리 아이밤 멀티쿠션 #골드 | D73: =SUM(E73:L73) -> 0 | E73: =월총계!E73+월총계!F73+월총계!G73 -> 0 | F73: =월총계!J73+월총계!K73+월총계!L73+월총계!H73+월총계!I73 -> 0 | G73: =월총계!Q73+월총계!R73+월총계!S73+월총계!O73+월총계!P73 -> 0 | H73: =월총계!X73+월총계!Y73+월총계!Z73+월총계!V73+월총계!W73 -> 0 | I73: =월총계!AE73+월총계!AF73+월총계!AG73+월총계!AH73+월총계!AD73 -> 0
A74: =A73+1 -> 60 | B74: 멀티쿠션 | C74: 아트델리 아이밤 멀티쿠션 #레드 | D74: =SUM(E74:L74) -> 0 | E74: =월총계!E74+월총계!F74+월총계!G74 -> 0 | F74: =월총계!J74+월총계!K74+월총계!L74+월총계!H74+월총계!I74 -> 0 | G74: =월총계!Q74+월총계!R74+월총계!S74+월총계!O74+월총계!P74 -> 0 | H74: =월총계!X74+월총계!Y74+월총계!Z74+월총계!V74+월총계!W74 -> 0 | I74: =월총계!AE74+월총계!AF74+월총계!AG74+월총계!AH74+월총계!AD74 -> 0
B75: 멀티쿠션 | C75: 아트델리 멀티쿠션 단품 소계 | D75: =SUM(D68:D74) -> 0 | E75: =월총계!E75+월총계!F75+월총계!G75 -> 0 | F75: =월총계!J75+월총계!K75+월총계!L75+월총계!H75+월총계!I75 -> 0 | G75: =월총계!Q75+월총계!R75+월총계!S75+월총계!O75+월총계!P75 -> 0 | H75: =월총계!X75+월총계!Y75+월총계!Z75+월총계!V75+월총계!W75 -> 0 | I75: =월총계!AE75+월총계!AF75+월총계!AG75+월총계!AH75+월총계!AD75 -> 0
A76: =A74+1 -> 61 | B76: 칼비사노 캐비아 | C76: 칼비사노 엑스트라 캐비아 크림 | D76: =SUM(E76:L76) -> 0 | E76: =월총계!E76+월총계!F76+월총계!G76 -> 0 | F76: =월총계!J76+월총계!K76+월총계!L76+월총계!H76+월총계!I76 -> 0 | G76: =월총계!Q76+월총계!R76+월총계!S76+월총계!O76+월총계!P76 -> 0 | H76: =월총계!X76+월총계!Y76+월총계!Z76+월총계!V76+월총계!W76 -> 0 | I76: =월총계!AE76+월총계!AF76+월총계!AG76+월총계!AH76+월총계!AD76 -> 0
A77: =A76+1 -> 62 | B77: 칼비사노 캐비아 | C77: 칼비사노 엑스트라 캐비아 앰플 | D77: =SUM(E77:L77) -> 0 | E77: =월총계!E77+월총계!F77+월총계!G77 -> 0 | F77: =월총계!J77+월총계!K77+월총계!L77+월총계!H77+월총계!I77 -> 0 | G77: =월총계!Q77+월총계!R77+월총계!S77+월총계!O77+월총계!P77 -> 0 | H77: =월총계!X77+월총계!Y77+월총계!Z77+월총계!V77+월총계!W77 -> 0 | I77: =월총계!AE77+월총계!AF77+월총계!AG77+월총계!AH77+월총계!AD77 -> 0
A78: =A77+1 -> 63 | B78: 칼비사노 캐비아 | C78: 칼비사노 엑스트라 캐비아 앰플(실버) | D78: =SUM(E78:L78) -> 0 | E78: =월총계!E78+월총계!F78+월총계!G78 -> 0 | F78: =월총계!J78+월총계!K78+월총계!L78+월총계!H78+월총계!I78 -> 0 | G78: =월총계!Q78+월총계!R78+월총계!S78+월총계!O78+월총계!P78 -> 0 | H78: =월총계!X78+월총계!Y78+월총계!Z78+월총계!V78+월총계!W78 -> 0 | I78: =월총계!AE78+월총계!AF78+월총계!AG78+월총계!AH78+월총계!AD78 -> 0
A79: =A78+1 -> 64 | B79: 칼비사노 캐비아 | C79: 칼비사노 퓨어 골드 캐비아 앰플 | D79: =SUM(E79:L79) -> 0 | E79: =월총계!E79+월총계!F79+월총계!G79 -> 0 | F79: =월총계!J79+월총계!K79+월총계!L79+월총계!H79+월총계!I79 -> 0 | G79: =월총계!Q79+월총계!R79+월총계!S79+월총계!O79+월총계!P79 -> 0 | H79: =월총계!X79+월총계!Y79+월총계!Z79+월총계!V79+월총계!W79 -> 0 | I79: =월총계!AE79+월총계!AF79+월총계!AG79+월총계!AH79+월총계!AD79 -> 0
A80: =A79+1 -> 65 | B80: 칼비사노 캐비아 | C80: 칼비사노 1주년 패키지 크림 | D80: =SUM(E80:L80) -> 0 | E80: =월총계!E80+월총계!F80+월총계!G80 -> 0 | F80: =월총계!J80+월총계!K80+월총계!L80+월총계!H80+월총계!I80 -> 0 | G80: =월총계!Q80+월총계!R80+월총계!S80+월총계!O80+월총계!P80 -> 0 | H80: =월총계!X80+월총계!Y80+월총계!Z80+월총계!V80+월총계!W80 -> 0 | I80: =월총계!AE80+월총계!AF80+월총계!AG80+월총계!AH80+월총계!AD80 -> 0
A81: =A80+1 -> 66 | B81: 칼비사노 캐비아 | C81: 칼비사노 엑스트라 캐비아 크림(20g) | D81: =SUM(E81:L81) -> 0 | E81: =월총계!E81+월총계!F81+월총계!G81 -> 0 | F81: =월총계!J81+월총계!K81+월총계!L81+월총계!H81+월총계!I81 -> 0 | G81: =월총계!Q81+월총계!R81+월총계!S81+월총계!O81+월총계!P81 -> 0 | H81: =월총계!X81+월총계!Y81+월총계!Z81+월총계!V81+월총계!W81 -> 0 | I81: =월총계!AE81+월총계!AF81+월총계!AG81+월총계!AH81+월총계!AD81 -> 0
B82: 칼비사노 캐비아 | C82: 칼비사노 엑스트라 캐비아 단품 소계 | D82: =SUM(D76:D81) -> 0 | E82: =월총계!E82+월총계!F82+월총계!G82 -> 0 | F82: =월총계!J82+월총계!K82+월총계!L82+월총계!H82+월총계!I82 -> 0 | G82: =월총계!Q82+월총계!R82+월총계!S82+월총계!O82+월총계!P82 -> 0 | H82: =월총계!X82+월총계!Y82+월총계!Z82+월총계!V82+월총계!W82 -> 0 | I82: =월총계!AE82+월총계!AF82+월총계!AG82+월총계!AH82+월총계!AD82 -> 0
A83: =A81+1 -> 67 | B83: 슬로우 테라피 | C83: 카밍 에센스 토너 | D83: =SUM(E83:L83) -> 0 | E83: =월총계!E83+월총계!F83+월총계!G83 -> 0 | F83: =월총계!J83+월총계!K83+월총계!L83+월총계!H83+월총계!I83 -> 0 | G83: =월총계!Q83+월총계!R83+월총계!S83+월총계!O83+월총계!P83 -> 0 | H83: =월총계!X83+월총계!Y83+월총계!Z83+월총계!V83+월총계!W83 -> 0 | I83: =월총계!AE83+월총계!AF83+월총계!AG83+월총계!AH83+월총계!AD83 -> 0
A84: =A83+1 -> 68 | B84: 슬로우 테라피 | C84: 카밍 밸런싱 에멀전 | D84: =SUM(E84:L84) -> 0 | E84: =월총계!E84+월총계!F84+월총계!G84 -> 0 | F84: =월총계!J84+월총계!K84+월총계!L84+월총계!H84+월총계!I84 -> 0 | G84: =월총계!Q84+월총계!R84+월총계!S84+월총계!O84+월총계!P84 -> 0 | H84: =월총계!X84+월총계!Y84+월총계!Z84+월총계!V84+월총계!W84 -> 0 | I84: =월총계!AE84+월총계!AF84+월총계!AG84+월총계!AH84+월총계!AD84 -> 0
A85: =A84+1 -> 69 | B85: 슬로우 테라피 | C85: 쓰리피 카밍 구슬 앰플 | D85: =SUM(E85:L85) -> 0 | E85: =월총계!E85+월총계!F85+월총계!G85 -> 0 | F85: =월총계!J85+월총계!K85+월총계!L85+월총계!H85+월총계!I85 -> 0 | G85: =월총계!Q85+월총계!R85+월총계!S85+월총계!O85+월총계!P85 -> 0 | H85: =월총계!X85+월총계!Y85+월총계!Z85+월총계!V85+월총계!W85 -> 0 | I85: =월총계!AE85+월총계!AF85+월총계!AG85+월총계!AH85+월총계!AD85 -> 0
A86: =A85+1 -> 70 | B86: 슬로우 테라피 | C86: 카밍 피토바이옴 크림 | D86: =SUM(E86:L86) -> 0 | E86: =월총계!E86+월총계!F86+월총계!G86 -> 0 | F86: =월총계!J86+월총계!K86+월총계!L86+월총계!H86+월총계!I86 -> 0 | G86: =월총계!Q86+월총계!R86+월총계!S86+월총계!O86+월총계!P86 -> 0 | H86: =월총계!X86+월총계!Y86+월총계!Z86+월총계!V86+월총계!W86 -> 0 | I86: =월총계!AE86+월총계!AF86+월총계!AG86+월총계!AH86+월총계!AD86 -> 0
A87: =A86+1 -> 71 | B87: 슬로우 테라피 | C87: 카밍 오아시스 클리어 패드 | D87: =SUM(E87:L87) -> 0 | E87: =월총계!E87+월총계!F87+월총계!G87 -> 0 | F87: =월총계!J87+월총계!K87+월총계!L87+월총계!H87+월총계!I87 -> 0 | G87: =월총계!Q87+월총계!R87+월총계!S87+월총계!O87+월총계!P87 -> 0 | H87: =월총계!X87+월총계!Y87+월총계!Z87+월총계!V87+월총계!W87 -> 0 | I87: =월총계!AE87+월총계!AF87+월총계!AG87+월총계!AH87+월총계!AD87 -> 0
A88: =A87+1 -> 72 | B88: 슬로우 테라피 | C88: 쓰리피 카밍 구슬 앰플 2ml 파우치 | D88: =SUM(E88:L88) -> 0 | E88: =월총계!E88+월총계!F88+월총계!G88 -> 0 | F88: =월총계!J88+월총계!K88+월총계!L88+월총계!H88+월총계!I88 -> 0 | G88: =월총계!Q88+월총계!R88+월총계!S88+월총계!O88+월총계!P88 -> 0 | H88: =월총계!X88+월총계!Y88+월총계!Z88+월총계!V88+월총계!W88 -> 0 | I88: =월총계!AE88+월총계!AF88+월총계!AG88+월총계!AH88+월총계!AD88 -> 0
A89: =A88+1 -> 73 | B89: 슬로우 테라피 | C89: 카밍 피토바이옴 크림 2ml 파우치 | D89: =SUM(E89:L89) -> 0 | E89: =월총계!E89+월총계!F89+월총계!G89 -> 0 | F89: =월총계!J89+월총계!K89+월총계!L89+월총계!H89+월총계!I89 -> 0 | G89: =월총계!Q89+월총계!R89+월총계!S89+월총계!O89+월총계!P89 -> 0 | H89: =월총계!X89+월총계!Y89+월총계!Z89+월총계!V89+월총계!W89 -> 0 | I89: =월총계!AE89+월총계!AF89+월총계!AG89+월총계!AH89+월총계!AD89 -> 0
B90: 슬로우테라피 | C90: 슬로우 테라피 단품 소계 | D90: =SUM(D83:D89) -> 0 | E90: =월총계!E90+월총계!F90+월총계!G90 -> 0 | F90: =월총계!J90+월총계!K90+월총계!L90+월총계!H90+월총계!I90 -> 0 | G90: =월총계!Q90+월총계!R90+월총계!S90+월총계!O90+월총계!P90 -> 0 | H90: =월총계!X90+월총계!Y90+월총계!Z90+월총계!V90+월총계!W90 -> 0 | I90: =월총계!AE90+월총계!AF90+월총계!AG90+월총계!AH90+월총계!AD90 -> 0
A91: =A89+1 -> 74 | B91: 아트델리6 | C91: 아트델리 리얼 콜라겐 핏 커버 쿠션 본품(A) 민트 | D91: =SUM(E91:L91) -> 0 | E91: =월총계!E91+월총계!F91+월총계!G91 -> 0 | F91: =월총계!J91+월총계!K91+월총계!L91+월총계!H91+월총계!I91 -> 0 | G91: =월총계!Q91+월총계!R91+월총계!S91+월총계!O91+월총계!P91 -> 0 | H91: =월총계!X91+월총계!Y91+월총계!Z91+월총계!V91+월총계!W91 -> 0 | I91: =월총계!AE91+월총계!AF91+월총계!AG91+월총계!AH91+월총계!AD91 -> 0
A92: =A91+1 -> 75 | B92: 아트델리6 | C92: 아트델리 리얼 콜라겐 핏 커버 쿠션 리필(A) 민트리필 | D92: =SUM(E92:L92) -> 0 | E92: =월총계!E92+월총계!F92+월총계!G92 -> 0 | F92: =월총계!J92+월총계!K92+월총계!L92+월총계!H92+월총계!I92 -> 0 | G92: =월총계!Q92+월총계!R92+월총계!S92+월총계!O92+월총계!P92 -> 0 | H92: =월총계!X92+월총계!Y92+월총계!Z92+월총계!V92+월총계!W92 -> 0 | I92: =월총계!AE92+월총계!AF92+월총계!AG92+월총계!AH92+월총계!AD92 -> 0
A93: =A92+1 -> 76 | B93: 아트델리6 | C93: 아트델리 리얼 콜라겐 핏 커버 쿠션 본품(B) 핑크 | D93: =SUM(E93:L93) -> 0 | E93: =월총계!E93+월총계!F93+월총계!G93 -> 0 | F93: =월총계!J93+월총계!K93+월총계!L93+월총계!H93+월총계!I93 -> 0 | G93: =월총계!Q93+월총계!R93+월총계!S93+월총계!O93+월총계!P93 -> 0 | H93: =월총계!X93+월총계!Y93+월총계!Z93+월총계!V93+월총계!W93 -> 0 | I93: =월총계!AE93+월총계!AF93+월총계!AG93+월총계!AH93+월총계!AD93 -> 0
A94: =A93+1 -> 77 | B94: 아트델리6 | C94: 아트델리 리얼 콜라겐 핏 커버 쿠션 리필(B) 핑크리필 | D94: =SUM(E94:L94) -> 0 | E94: =월총계!E94+월총계!F94+월총계!G94 -> 0 | F94: =월총계!J94+월총계!K94+월총계!L94+월총계!H94+월총계!I94 -> 0 | G94: =월총계!Q94+월총계!R94+월총계!S94+월총계!O94+월총계!P94 -> 0 | H94: =월총계!X94+월총계!Y94+월총계!Z94+월총계!V94+월총계!W94 -> 0 | I94: =월총계!AE94+월총계!AF94+월총계!AG94+월총계!AH94+월총계!AD94 -> 0
A95: =A94+1 -> 78 | B95: 아트델리6 | C95: 아트델리 리얼 콜라겐 밀키 크림 | D95: =SUM(E95:L95) -> 0 | E95: =월총계!E95+월총계!F95+월총계!G95 -> 0 | F95: =월총계!J95+월총계!K95+월총계!L95+월총계!H95+월총계!I95 -> 0 | G95: =월총계!Q95+월총계!R95+월총계!S95+월총계!O95+월총계!P95 -> 0 | H95: =월총계!X95+월총계!Y95+월총계!Z95+월총계!V95+월총계!W95 -> 0 | I95: =월총계!AE95+월총계!AF95+월총계!AG95+월총계!AH95+월총계!AD95 -> 0
A96: =A95+1 -> 79 | B96: 아트델리6 | C96: 아트델리 리얼 콜라겐 밀키 앰플 | D96: =SUM(E96:L96) -> 0 | E96: =월총계!E96+월총계!F96+월총계!G96 -> 0 | F96: =월총계!J96+월총계!K96+월총계!L96+월총계!H96+월총계!I96 -> 0 | G96: =월총계!Q96+월총계!R96+월총계!S96+월총계!O96+월총계!P96 -> 0 | H96: =월총계!X96+월총계!Y96+월총계!Z96+월총계!V96+월총계!W96 -> 0 | I96: =월총계!AE96+월총계!AF96+월총계!AG96+월총계!AH96+월총계!AD96 -> 0
A97: =A96+1 -> 80 | B97: 아트델리6 | C97: 아트델리 리얼 콜라겐 아이크림 | D97: =SUM(E97:L97) -> 0 | E97: =월총계!E97+월총계!F97+월총계!G97 -> 0 | F97: =월총계!J97+월총계!K97+월총계!L97+월총계!H97+월총계!I97 -> 0 | G97: =월총계!Q97+월총계!R97+월총계!S97+월총계!O97+월총계!P97 -> 0 | H97: =월총계!X97+월총계!Y97+월총계!Z97+월총계!V97+월총계!W97 -> 0 | I97: =월총계!AE97+월총계!AF97+월총계!AG97+월총계!AH97+월총계!AD97 -> 0
A98: =A97+1 -> 81 | B98: 아트델리6 | C98: 블러링 벨벳 틴트 Burning up 픽 레드 | D98: =SUM(E98:L98) -> 0 | E98: =월총계!E98+월총계!F98+월총계!G98 -> 0 | F98: =월총계!J98+월총계!K98+월총계!L98+월총계!H98+월총계!I98 -> 0 | G98: =월총계!Q98+월총계!R98+월총계!S98+월총계!O98+월총계!P98 -> 0 | H98: =월총계!X98+월총계!Y98+월총계!Z98+월총계!V98+월총계!W98 -> 0 | I98: =월총계!AE98+월총계!AF98+월총계!AG98+월총계!AH98+월총계!AD98 -> 0
A99: =A98+1 -> 82 | B99: 아트델리6 | C99: 블러링 벨벳 틴트 just feeling 베어 브릭 | D99: =SUM(E99:L99) -> 0 | E99: =월총계!E99+월총계!F99+월총계!G99 -> 0 | F99: =월총계!J99+월총계!K99+월총계!L99+월총계!H99+월총계!I99 -> 0 | G99: =월총계!Q99+월총계!R99+월총계!S99+월총계!O99+월총계!P99 -> 0 | H99: =월총계!X99+월총계!Y99+월총계!Z99+월총계!V99+월총계!W99 -> 0 | I99: =월총계!AE99+월총계!AF99+월총계!AG99+월총계!AH99+월총계!AD99 -> 0
A100: =A99+1 -> 83 | B100: 아트델리6 | C100: 블러링 벨벳 틴트 go to lip 미드나잇 누디 | D100: =SUM(E100:L100) -> 0 | E100: =월총계!E100+월총계!F100+월총계!G100 -> 0 | F100: =월총계!J100+월총계!K100+월총계!L100+월총계!H100+월총계!I100 -> 0 | G100: =월총계!Q100+월총계!R100+월총계!S100+월총계!O100+월총계!P100 -> 0 | H100: =월총계!X100+월총계!Y100+월총계!Z100+월총계!V100+월총계!W100 -> 0 | I100: =월총계!AE100+월총계!AF100+월총계!AG100+월총계!AH100+월총계!AD100 -> 0
A101: =A100+1 -> 84 | B101: 아트델리6 | C101: 블러링 벨벳 틴트 Botanic garden 로즈 다운 | D101: =SUM(E101:L101) -> 0 | E101: =월총계!E101+월총계!F101+월총계!G101 -> 0 | F101: =월총계!J101+월총계!K101+월총계!L101+월총계!H101+월총계!I101 -> 0 | G101: =월총계!Q101+월총계!R101+월총계!S101+월총계!O101+월총계!P101 -> 0 | H101: =월총계!X101+월총계!Y101+월총계!Z101+월총계!V101+월총계!W101 -> 0 | I101: =월총계!AE101+월총계!AF101+월총계!AG101+월총계!AH101+월총계!AD101 -> 0
...

Sheet 월총계
A1: NO | B1: 브랜드 | C1: 제품명 | D1: 합계 | E1: 1일 | F1: 2일 | G1: 3일 | H1: 4일 | I1: 5일 | J1: 6일 | K1: 7일 | L1: 8일 | M1: 9일 | N1: 10일 | O1: 11일 | P1: 12일 | Q1: 13일 | R1: 14일 | S1: 15일 | T1: 16일 | U1: 17일 | V1: 18일 | W1: 19일 | X1: 20일 | Y1: 21일 | Z1: 22일 | AA1: 23일 | AB1: 24일 | AC1: 25일 | AD1: 26일 | AE1: 27일 | AF1: 28일 | AG1: 29일 | AH1: 30일 | AI1: 31일
C3: 총계
A4: 1 | B4: 쟈스_엑토인 바디크림 | C4: 쟈스 엑토인 데일리 모이스처라이징 크림(500ml) | D4: =SUM(E4:AI4) -> 0 | E4: ='1일'!E4 -> 0 | F4: ='2일'!E4 -> 0 | G4: ='3일'!E4 -> 0 | H4: ='4일'!E4 -> 0 | I4: ='5일'!E4 -> 0 | J4: ='6일'!E4 -> 0 | K4: ='7일'!E4 -> 0 | L4: ='8일'!E4 -> 0 | M4: ='9일'!E4 -> 0 | N4: ='10일'!E4 -> 0 | O4: ='11일'!E4 -> 0 | P4: ='12일'!E4 -> 0 | Q4: ='13일'!E4 -> 0 | R4: ='14일'!E4 -> 0 | S4: ='15일'!E4 -> 0 | T4: ='16일'!E4 -> 0 | U4: ='17일'!E4 -> 0 | V4: ='18일'!E4 -> 0 | W4: ='19일'!E4 -> 0 | X4: ='20일'!E4 -> 0 | Y4: ='21일'!E4 -> 0 | Z4: ='22일'!E4 -> 0 | AA4: ='23일'!E4 -> 0 | AB4: ='24일'!E4 -> 0 | AC4: ='25일'!E4 -> 0 | AD4: ='26일'!E4 -> 0 | AE4: ='27일'!E4 -> 0 | AF4: ='28일'!E4 -> 0 | AG4: ='29일'!E4 -> 0 | AH4: ='30일'!E4 -> 0 | AI4: ='31일'!E4 -> 0
A5: =A4+1 -> 2 | B5: 쟈스_엑토인 바디크림 | C5: 쟈스 엑토인 데일리 모이스처라이징 크림(100ml) | D5: =SUM(E5:AI5) -> 0 | E5: ='1일'!E5 -> 0 | F5: ='2일'!E5 -> 0 | G5: ='3일'!E5 -> 0 | H5: ='4일'!E5 -> 0 | I5: ='5일'!E5 -> 0 | J5: ='6일'!E5 -> 0 | K5: ='7일'!E5 -> 0 | L5: ='8일'!E5 -> 0 | M5: ='9일'!E5 -> 0 | N5: ='10일'!E5 -> 0 | O5: ='11일'!E5 -> 0 | P5: ='12일'!E5 -> 0 | Q5: ='13일'!E5 -> 0 | R5: ='14일'!E5 -> 0 | S5: ='15일'!E5 -> 0 | T5: ='16일'!E5 -> 0 | U5: ='17일'!E5 -> 0 | V5: ='18일'!E5 -> 0 | W5: ='19일'!E5 -> 0 | X5: ='20일'!E5 -> 0 | Y5: ='21일'!E5 -> 0 | Z5: ='22일'!E5 -> 0 | AA5: ='23일'!E5 -> 0 | AB5: ='24일'!E5 -> 0 | AC5: ='25일'!E5 -> 0 | AD5: ='26일'!E5 -> 0 | AE5: ='27일'!E5 -> 0 | AF5: ='28일'!E5 -> 0 | AG5: ='29일'!E5 -> 0 | AH5: ='30일'!E5 -> 0 | AI5: ='31일'!E5 -> 0
B6: 쟈스_엑토인 바디크림 | C6: 쟈스_엑토인 바디크림 소계 | D6: =SUM(D4:D5) -> 0 | E6: ='1일'!E6 -> 0 | F6: ='2일'!E6 -> 0 | G6: ='3일'!E6 -> 0 | H6: ='4일'!E6 -> 0 | I6: ='5일'!E6 -> 0 | J6: ='6일'!E6 -> 0 | K6: ='7일'!E6 -> 0 | L6: ='8일'!E6 -> 0 | M6: ='9일'!E6 -> 0 | N6: ='10일'!E6 -> 0 | O6: ='11일'!E6 -> 0 | P6: ='12일'!E6 -> 0 | Q6: ='13일'!E6 -> 0 | R6: ='14일'!E6 -> 0 | S6: ='15일'!E6 -> 0 | T6: ='16일'!E6 -> 0 | U6: ='17일'!E6 -> 0 | V6: ='18일'!E6 -> 0 | W6: ='19일'!E6 -> 0 | X6: ='20일'!E6 -> 0 | Y6: ='21일'!E6 -> 0 | Z6: ='22일'!E6 -> 0 | AA6: ='23일'!E6 -> 0 | AB6: ='24일'!E6 -> 0 | AC6: ='25일'!E6 -> 0 | AD6: ='26일'!E6 -> 0 | AE6: ='27일'!E6 -> 0 | AF6: ='28일'!E6 -> 0 | AG6: ='29일'!E6 -> 0 | AH6: ='30일'!E6 -> 0 | AI6: ='31일'!E6 -> 0
A7: =A5+1 -> 3 | B7: 쟈스_엑토인 맨얼굴 | C7: 쟈스 맨얼굴크림 | D7: =SUM(E7:AI7) -> 0 | E7: ='1일'!E7 -> 0 | F7: ='2일'!E7 -> 0 | G7: ='3일'!E7 -> 0 | H7: ='4일'!E7 -> 0 | I7: ='5일'!E7 -> 0 | J7: ='6일'!E7 -> 0 | K7: ='7일'!E7 -> 0 | L7: ='8일'!E7 -> 0 | M7: ='9일'!E7 -> 0 | N7: ='10일'!E7 -> 0 | O7: ='11일'!E7 -> 0 | P7: ='12일'!E7 -> 0 | Q7: ='13일'!E7 -> 0 | R7: ='14일'!E7 -> 0 | S7: ='15일'!E7 -> 0 | T7: ='16일'!E7 -> 0 | U7: ='17일'!E7 -> 0 | V7: ='18일'!E7 -> 0 | W7: ='19일'!E7 -> 0 | X7: ='20일'!E7 -> 0 | Y7: ='21일'!E7 -> 0 | Z7: ='22일'!E7 -> 0 | AA7: ='23일'!E7 -> 0 | AB7: ='24일'!E7 -> 0 | AC7: ='25일'!E7 -> 0 | AD7: ='26일'!E7 -> 0 | AE7: ='27일'!E7 -> 0 | AF7: ='28일'!E7 -> 0 | AG7: ='29일'!E7 -> 0 | AH7: ='30일'!E7 -> 0 | AI7: ='31일'!E7 -> 0
A8: =A7+1 -> 4 | B8: 쟈스_엑토인 맨얼굴 | C8: 쟈스 맨얼굴크림 튜브 | D8: =SUM(E8:AI8) -> 0 | E8: ='1일'!E8 -> 0 | F8: ='2일'!E8 -> 0 | G8: ='3일'!E8 -> 0 | H8: ='4일'!E8 -> 0 | I8: ='5일'!E8 -> 0 | J8: ='6일'!E8 -> 0 | K8: ='7일'!E8 -> 0 | L8: ='8일'!E8 -> 0 | M8: ='9일'!E8 -> 0 | N8: ='10일'!E8 -> 0 | O8: ='11일'!E8 -> 0 | P8: ='12일'!E8 -> 0 | Q8: ='13일'!E8 -> 0 | R8: ='14일'!E8 -> 0 | S8: ='15일'!E8 -> 0 | T8: ='16일'!E8 -> 0 | U8: ='17일'!E8 -> 0 | V8: ='18일'!E8 -> 0 | W8: ='19일'!E8 -> 0 | X8: ='20일'!E8 -> 0 | Y8: ='21일'!E8 -> 0 | Z8: ='22일'!E8 -> 0 | AA8: ='23일'!E8 -> 0 | AB8: ='24일'!E8 -> 0 | AC8: ='25일'!E8 -> 0 | AD8: ='26일'!E8 -> 0 | AE8: ='27일'!E8 -> 0 | AF8: ='28일'!E8 -> 0 | AG8: ='29일'!E8 -> 0 | AH8: ='30일'!E8 -> 0 | AI8: ='31일'!E8 -> 0
A9: =A8+1 -> 5 | B9: 쟈스_엑토인 맨얼굴 | C9: 쟈스 엑토인 퍼스트 케어 세럼 | D9: =SUM(E9:AI9) -> 0 | E9: ='1일'!E9 -> 0 | F9: ='2일'!E9 -> 0 | G9: ='3일'!E9 -> 0 | H9: ='4일'!E9 -> 0 | I9: ='5일'!E9 -> 0 | J9: ='6일'!E9 -> 0 | K9: ='7일'!E9 -> 0 | L9: ='8일'!E9 -> 0 | M9: ='9일'!E9 -> 0 | N9: ='10일'!E9 -> 0 | O9: ='11일'!E9 -> 0 | P9: ='12일'!E9 -> 0 | Q9: ='13일'!E9 -> 0 | R9: ='14일'!E9 -> 0 | S9: ='15일'!E9 -> 0 | T9: ='16일'!E9 -> 0 | U9: ='17일'!E9 -> 0 | V9: ='18일'!E9 -> 0 | W9: ='19일'!E9 -> 0 | X9: ='20일'!E9 -> 0 | Y9: ='21일'!E9 -> 0 | Z9: ='22일'!E9 -> 0 | AA9: ='23일'!E9 -> 0 | AB9: ='24일'!E9 -> 0 | AC9: ='25일'!E9 -> 0 | AD9: ='26일'!E9 -> 0 | AE9: ='27일'!E9 -> 0 | AF9: ='28일'!E9 -> 0 | AG9: ='29일'!E9 -> 0 | AH9: ='30일'!E9 -> 0 | AI9: ='31일'!E9 -> 0
A10: =A9+1 -> 6 | B10: 쟈스_엑토인 맨얼굴 | C10: 쟈스 맨얼굴크림 파우치(1.5g) | D10: =SUM(E10:AI10) -> 0 | E10: ='1일'!E10 -> 0 | F10: ='2일'!E10 -> 0 | G10: ='3일'!E10 -> 0 | H10: ='4일'!E10 -> 0 | I10: ='5일'!E10 -> 0 | J10: ='6일'!E10 -> 0 | K10: ='7일'!E10 -> 0 | L10: ='8일'!E10 -> 0 | M10: ='9일'!E10 -> 0 | N10: ='10일'!E10 -> 0 | O10: ='11일'!E10 -> 0 | P10: ='12일'!E10 -> 0 | Q10: ='13일'!E10 -> 0 | R10: ='14일'!E10 -> 0 | S10: ='15일'!E10 -> 0 | T10: ='16일'!E10 -> 0 | U10: ='17일'!E10 -> 0 | V10: ='18일'!E10 -> 0 | W10: ='19일'!E10 -> 0 | X10: ='20일'!E10 -> 0 | Y10: ='21일'!E10 -> 0 | Z10: ='22일'!E10 -> 0 | AA10: ='23일'!E10 -> 0 | AB10: ='24일'!E10 -> 0 | AC10: ='25일'!E10 -> 0 | AD10: ='26일'!E10 -> 0 | AE10: ='27일'!E10 -> 0 | AF10: ='28일'!E10 -> 0 | AG10: ='29일'!E10 -> 0 | AH10: ='30일'!E10 -> 0 | AI10: ='31일'!E10 -> 0
B11: 쟈스_엑토인 맨얼굴 | C11: 쟈스_엑토인 맨얼굴 소계 | D11: =SUM(D7:D10) -> 0 | E11: ='1일'!E11 -> 0 | F11: ='2일'!E11 -> 0 | G11: ='3일'!E11 -> 0 | H11: ='4일'!E11 -> 0 | I11: ='5일'!E11 -> 0 | J11: ='6일'!E11 -> 0 | K11: ='7일'!E11 -> 0 | L11: ='8일'!E11 -> 0 | M11: ='9일'!E11 -> 0 | N11: ='10일'!E11 -> 0 | O11: ='11일'!E11 -> 0 | P11: ='12일'!E11 -> 0 | Q11: ='13일'!E11 -> 0 | R11: ='14일'!E11 -> 0 | S11: ='15일'!E11 -> 0 | T11: ='16일'!E11 -> 0 | U11: ='17일'!E11 -> 0 | V11: ='18일'!E11 -> 0 | W11: ='19일'!E11 -> 0 | X11: ='20일'!E11 -> 0 | Y11: ='21일'!E11 -> 0 | Z11: ='22일'!E11 -> 0 | AA11: ='23일'!E11 -> 0 | AB11: ='24일'!E11 -> 0 | AC11: ='25일'!E11 -> 0 | AD11: ='26일'!E11 -> 0 | AE11: ='27일'!E11 -> 0 | AF11: ='28일'!E11 -> 0 | AG11: ='29일'!E11 -> 0 | AH11: ='30일'!E11 -> 0 | AI11: ='31일'!E11 -> 0
A12: =A10+1 -> 7 | B12: 아트델리_갈바덤 | C12: 아트델리 갈바덤 리프팅 커버쿠션 21호_실버 | D12: =SUM(E12:AI12) -> 0 | E12: ='1일'!E12 -> 0 | F12: ='2일'!E12 -> 0 | G12: ='3일'!E12 -> 0 | H12: ='4일'!E12 -> 0 | I12: ='5일'!E12 -> 0 | J12: ='6일'!E12 -> 0 | K12: ='7일'!E12 -> 0 | L12: ='8일'!E12 -> 0 | M12: ='9일'!E12 -> 0 | N12: ='10일'!E12 -> 0 | O12: ='11일'!E12 -> 0 | P12: ='12일'!E12 -> 0 | Q12: ='13일'!E12 -> 0 | R12: ='14일'!E12 -> 0 | S12: ='15일'!E12 -> 0 | T12: ='16일'!E12 -> 0 | U12: ='17일'!E12 -> 0 | V12: ='18일'!E12 -> 0 | W12: ='19일'!E12 -> 0 | X12: ='20일'!E12 -> 0 | Y12: ='21일'!E12 -> 0 | Z12: ='22일'!E12 -> 0 | AA12: ='23일'!E12 -> 0 | AB12: ='24일'!E12 -> 0 | AC12: ='25일'!E12 -> 0 | AD12: ='26일'!E12 -> 0 | AE12: ='27일'!E12 -> 0 | AF12: ='28일'!E12 -> 0 | AG12: ='29일'!E12 -> 0 | AH12: ='30일'!E12 -> 0 | AI12: ='31일'!E12 -> 0
A13: =A12+1 -> 8 | B13: 아트델리_갈바덤 | C13: 아트델리 갈바덤 리프팅 커버쿠션 21호_블랙 | D13: =SUM(E13:AI13) -> 0 | E13: ='1일'!E13 -> 0 | F13: ='2일'!E13 -> 0 | G13: ='3일'!E13 -> 0 | H13: ='4일'!E13 -> 0 | I13: ='5일'!E13 -> 0 | J13: ='6일'!E13 -> 0 | K13: ='7일'!E13 -> 0 | L13: ='8일'!E13 -> 0 | M13: ='9일'!E13 -> 0 | N13: ='10일'!E13 -> 0 | O13: ='11일'!E13 -> 0 | P13: ='12일'!E13 -> 0 | Q13: ='13일'!E13 -> 0 | R13: ='14일'!E13 -> 0 | S13: ='15일'!E13 -> 0 | T13: ='16일'!E13 -> 0 | U13: ='17일'!E13 -> 0 | V13: ='18일'!E13 -> 0 | W13: ='19일'!E13 -> 0 | X13: ='20일'!E13 -> 0 | Y13: ='21일'!E13 -> 0 | Z13: ='22일'!E13 -> 0 | AA13: ='23일'!E13 -> 0 | AB13: ='24일'!E13 -> 0 | AC13: ='25일'!E13 -> 0 | AD13: ='26일'!E13 -> 0 | AE13: ='27일'!E13 -> 0 | AF13: ='28일'!E13 -> 0 | AG13: ='29일'!E13 -> 0 | AH13: ='30일'!E13 -> 0 | AI13: ='31일'!E13 -> 0
A14: =A13+1 -> 9 | B14: 아트델리_갈바덤 | C14: 아트델리 갈바덤 리프팅 커버쿠션 21호_그린 | D14: =SUM(E14:AI14) -> 0 | E14: ='1일'!E14 -> 0 | F14: ='2일'!E14 -> 0 | G14: ='3일'!E14 -> 0 | H14: ='4일'!E14 -> 0 | I14: ='5일'!E14 -> 0 | J14: ='6일'!E14 -> 0 | K14: ='7일'!E14 -> 0 | L14: ='8일'!E14 -> 0 | M14: ='9일'!E14 -> 0 | N14: ='10일'!E14 -> 0 | O14: ='11일'!E14 -> 0 | P14: ='12일'!E14 -> 0 | Q14: ='13일'!E14 -> 0 | R14: ='14일'!E14 -> 0 | S14: ='15일'!E14 -> 0 | T14: ='16일'!E14 -> 0 | U14: ='17일'!E14 -> 0 | V14: ='18일'!E14 -> 0 | W14: ='19일'!E14 -> 0 | X14: ='20일'!E14 -> 0 | Y14: ='21일'!E14 -> 0 | Z14: ='22일'!E14 -> 0 | AA14: ='23일'!E14 -> 0 | AB14: ='24일'!E14 -> 0 | AC14: ='25일'!E14 -> 0 | AD14: ='26일'!E14 -> 0 | AE14: ='27일'!E14 -> 0 | AF14: ='28일'!E14 -> 0 | AG14: ='29일'!E14 -> 0 | AH14: ='30일'!E14 -> 0 | AI14: ='31일'!E14 -> 0
A15: =A14+1 -> 10 | B15: 아트델리_갈바덤 | C15: 아트델리 갈바덤 리프팅 커버쿠션 21호_리필 | D15: =SUM(E15:AI15) -> 0 | E15: ='1일'!E15 -> 0 | F15: ='2일'!E15 -> 0 | G15: ='3일'!E15 -> 0 | H15: ='4일'!E15 -> 0 | I15: ='5일'!E15 -> 0 | J15: ='6일'!E15 -> 0 | K15: ='7일'!E15 -> 0 | L15: ='8일'!E15 -> 0 | M15: ='9일'!E15 -> 0 | N15: ='10일'!E15 -> 0 | O15: ='11일'!E15 -> 0 | P15: ='12일'!E15 -> 0 | Q15: ='13일'!E15 -> 0 | R15: ='14일'!E15 -> 0 | S15: ='15일'!E15 -> 0 | T15: ='16일'!E15 -> 0 | U15: ='17일'!E15 -> 0 | V15: ='18일'!E15 -> 0 | W15: ='19일'!E15 -> 0 | X15: ='20일'!E15 -> 0 | Y15: ='21일'!E15 -> 0 | Z15: ='22일'!E15 -> 0 | AA15: ='23일'!E15 -> 0 | AB15: ='24일'!E15 -> 0 | AC15: ='25일'!E15 -> 0 | AD15: ='26일'!E15 -> 0 | AE15: ='27일'!E15 -> 0 | AF15: ='28일'!E15 -> 0 | AG15: ='29일'!E15 -> 0 | AH15: ='30일'!E15 -> 0 | AI15: ='31일'!E15 -> 0
A16: =A15+1 -> 11 | B16: 아트델리_갈바덤 | C16: 아트델리 갈바덤 리프팅 커버쿠션 23호_실버 | D16: =SUM(E16:AI16) -> 0 | E16: ='1일'!E16 -> 0 | F16: ='2일'!E16 -> 0 | G16: ='3일'!E16 -> 0 | H16: ='4일'!E16 -> 0 | I16: ='5일'!E16 -> 0 | J16: ='6일'!E16 -> 0 | K16: ='7일'!E16 -> 0 | L16: ='8일'!E16 -> 0 | M16: ='9일'!E16 -> 0 | N16: ='10일'!E16 -> 0 | O16: ='11일'!E16 -> 0 | P16: ='12일'!E16 -> 0 | Q16: ='13일'!E16 -> 0 | R16: ='14일'!E16 -> 0 | S16: ='15일'!E16 -> 0 | T16: ='16일'!E16 -> 0 | U16: ='17일'!E16 -> 0 | V16: ='18일'!E16 -> 0 | W16: ='19일'!E16 -> 0 | X16: ='20일'!E16 -> 0 | Y16: ='21일'!E16 -> 0 | Z16: ='22일'!E16 -> 0 | AA16: ='23일'!E16 -> 0 | AB16: ='24일'!E16 -> 0 | AC16: ='25일'!E16 -> 0 | AD16: ='26일'!E16 -> 0 | AE16: ='27일'!E16 -> 0 | AF16: ='28일'!E16 -> 0 | AG16: ='29일'!E16 -> 0 | AH16: ='30일'!E16 -> 0 | AI16: ='31일'!E16 -> 0
A17: =A16+1 -> 12 | B17: 아트델리_갈바덤 | C17: 아트델리 갈바덤 리프팅 커버쿠션 23호_블랙 | D17: =SUM(E17:AI17) -> 0 | E17: ='1일'!E17 -> 0 | F17: ='2일'!E17 -> 0 | G17: ='3일'!E17 -> 0 | H17: ='4일'!E17 -> 0 | I17: ='5일'!E17 -> 0 | J17: ='6일'!E17 -> 0 | K17: ='7일'!E17 -> 0 | L17: ='8일'!E17 -> 0 | M17: ='9일'!E17 -> 0 | N17: ='10일'!E17 -> 0 | O17: ='11일'!E17 -> 0 | P17: ='12일'!E17 -> 0 | Q17: ='13일'!E17 -> 0 | R17: ='14일'!E17 -> 0 | S17: ='15일'!E17 -> 0 | T17: ='16일'!E17 -> 0 | U17: ='17일'!E17 -> 0 | V17: ='18일'!E17 -> 0 | W17: ='19일'!E17 -> 0 | X17: ='20일'!E17 -> 0 | Y17: ='21일'!E17 -> 0 | Z17: ='22일'!E17 -> 0 | AA17: ='23일'!E17 -> 0 | AB17: ='24일'!E17 -> 0 | AC17: ='25일'!E17 -> 0 | AD17: ='26일'!E17 -> 0 | AE17: ='27일'!E17 -> 0 | AF17: ='28일'!E17 -> 0 | AG17: ='29일'!E17 -> 0 | AH17: ='30일'!E17 -> 0 | AI17: ='31일'!E17 -> 0
A18: =A17+1 -> 13 | B18: 아트델리_갈바덤 | C18: 아트델리 갈바덤 리프팅 커버쿠션 23호_그린 | D18: =SUM(E18:AI18) -> 0 | E18: ='1일'!E18 -> 0 | F18: ='2일'!E18 -> 0 | G18: ='3일'!E18 -> 0 | H18: ='4일'!E18 -> 0 | I18: ='5일'!E18 -> 0 | J18: ='6일'!E18 -> 0 | K18: ='7일'!E18 -> 0 | L18: ='8일'!E18 -> 0 | M18: ='9일'!E18 -> 0 | N18: ='10일'!E18 -> 0 | O18: ='11일'!E18 -> 0 | P18: ='12일'!E18 -> 0 | Q18: ='13일'!E18 -> 0 | R18: ='14일'!E18 -> 0 | S18: ='15일'!E18 -> 0 | T18: ='16일'!E18 -> 0 | U18: ='17일'!E18 -> 0 | V18: ='18일'!E18 -> 0 | W18: ='19일'!E18 -> 0 | X18: ='20일'!E18 -> 0 | Y18: ='21일'!E18 -> 0 | Z18: ='22일'!E18 -> 0 | AA18: ='23일'!E18 -> 0 | AB18: ='24일'!E18 -> 0 | AC18: ='25일'!E18 -> 0 | AD18: ='26일'!E18 -> 0 | AE18: ='27일'!E18 -> 0 | AF18: ='28일'!E18 -> 0 | AG18: ='29일'!E18 -> 0 | AH18: ='30일'!E18 -> 0 | AI18: ='31일'!E18 -> 0
A19: =A18+1 -> 14 | B19: 아트델리_갈바덤 | C19: 아트델리 갈바덤 리프팅 커버쿠션 23호_리필 | D19: =SUM(E19:AI19) -> 0 | E19: ='1일'!E19 -> 0 | F19: ='2일'!E19 -> 0 | G19: ='3일'!E19 -> 0 | H19: ='4일'!E19 -> 0 | I19: ='5일'!E19 -> 0 | J19: ='6일'!E19 -> 0 | K19: ='7일'!E19 -> 0 | L19: ='8일'!E19 -> 0 | M19: ='9일'!E19 -> 0 | N19: ='10일'!E19 -> 0 | O19: ='11일'!E19 -> 0 | P19: ='12일'!E19 -> 0 | Q19: ='13일'!E19 -> 0 | R19: ='14일'!E19 -> 0 | S19: ='15일'!E19 -> 0 | T19: ='16일'!E19 -> 0 | U19: ='17일'!E19 -> 0 | V19: ='18일'!E19 -> 0 | W19: ='19일'!E19 -> 0 | X19: ='20일'!E19 -> 0 | Y19: ='21일'!E19 -> 0 | Z19: ='22일'!E19 -> 0 | AA19: ='23일'!E19 -> 0 | AB19: ='24일'!E19 -> 0 | AC19: ='25일'!E19 -> 0 | AD19: ='26일'!E19 -> 0 | AE19: ='27일'!E19 -> 0 | AF19: ='28일'!E19 -> 0 | AG19: ='29일'!E19 -> 0 | AH19: ='30일'!E19 -> 0 | AI19: ='31일'!E19 -> 0
B20: 아트델리_갈바덤 | C20: 아트델리 갈바덤 리프팅 커버쿠션 소계 | D20: =SUM(D12:D19) -> 0 | E20: ='1일'!E20 -> 0 | F20: ='2일'!E20 -> 0 | G20: ='3일'!E20 -> 0 | H20: ='4일'!E20 -> 0 | I20: ='5일'!E20 -> 0 | J20: ='6일'!E20 -> 0 | K20: ='7일'!E20 -> 0 | L20: ='8일'!E20 -> 0 | M20: ='9일'!E20 -> 0 | N20: ='10일'!E20 -> 0 | O20: ='11일'!E20 -> 0 | P20: ='12일'!E20 -> 0 | Q20: ='13일'!E20 -> 0 | R20: ='14일'!E20 -> 0 | S20: ='15일'!E20 -> 0 | T20: ='16일'!E20 -> 0 | U20: ='17일'!E20 -> 0 | V20: ='18일'!E20 -> 0 | W20: ='19일'!E20 -> 0 | X20: ='20일'!E20 -> 0 | Y20: ='21일'!E20 -> 0 | Z20: ='22일'!E20 -> 0 | AA20: ='23일'!E20 -> 0 | AB20: ='24일'!E20 -> 0 | AC20: ='25일'!E20 -> 0 | AD20: ='26일'!E20 -> 0 | AE20: ='27일'!E20 -> 0 | AF20: ='28일'!E20 -> 0 | AG20: ='29일'!E20 -> 0 | AH20: ='30일'!E20 -> 0 | AI20: ='31일'!E20 -> 0
A21: =A19+1 -> 15 | B21: 쟈스 글루타치온 | C21: 쟈스 글루타치온 엑스퍼트 1000 크림 | D21: =SUM(E21:AI21) -> 0 | E21: ='1일'!E21 -> 0 | F21: ='2일'!E21 -> 0 | G21: ='3일'!E21 -> 0 | H21: ='4일'!E21 -> 0 | I21: ='5일'!E21 -> 0 | J21: ='6일'!E21 -> 0 | K21: ='7일'!E21 -> 0 | L21: ='8일'!E21 -> 0 | M21: ='9일'!E21 -> 0 | N21: ='10일'!E21 -> 0 | O21: ='11일'!E21 -> 0 | P21: ='12일'!E21 -> 0 | Q21: ='13일'!E21 -> 0 | R21: ='14일'!E21 -> 0 | S21: ='15일'!E21 -> 0 | T21: ='16일'!E21 -> 0 | U21: ='17일'!E21 -> 0 | V21: ='18일'!E21 -> 0 | W21: ='19일'!E21 -> 0 | X21: ='20일'!E21 -> 0 | Y21: ='21일'!E21 -> 0 | Z21: ='22일'!E21 -> 0 | AA21: ='23일'!E21 -> 0 | AB21: ='24일'!E21 -> 0 | AC21: ='25일'!E21 -> 0 | AD21: ='26일'!E21 -> 0 | AE21: ='27일'!E21 -> 0 | AF21: ='28일'!E21 -> 0 | AG21: ='29일'!E21 -> 0 | AH21: ='30일'!E21 -> 0 | AI21: ='31일'!E21 -> 0
A22: =A21+1 -> 16 | B22: 쟈스 글루타치온 | C22: 쟈스 글루타치온 엑스퍼트 세럼 | D22: =SUM(E22:AI22) -> 0 | E22: ='1일'!E22 -> 0 | F22: ='2일'!E22 -> 0 | G22: ='3일'!E22 -> 0 | H22: ='4일'!E22 -> 0 | I22: ='5일'!E22 -> 0 | J22: ='6일'!E22 -> 0 | K22: ='7일'!E22 -> 0 | L22: ='8일'!E22 -> 0 | M22: ='9일'!E22 -> 0 | N22: ='10일'!E22 -> 0 | O22: ='11일'!E22 -> 0 | P22: ='12일'!E22 -> 0 | Q22: ='13일'!E22 -> 0 | R22: ='14일'!E22 -> 0 | S22: ='15일'!E22 -> 0 | T22: ='16일'!E22 -> 0 | U22: ='17일'!E22 -> 0 | V22: ='18일'!E22 -> 0 | W22: ='19일'!E22 -> 0 | X22: ='20일'!E22 -> 0 | Y22: ='21일'!E22 -> 0 | Z22: ='22일'!E22 -> 0 | AA22: ='23일'!E22 -> 0 | AB22: ='24일'!E22 -> 0 | AC22: ='25일'!E22 -> 0 | AD22: ='26일'!E22 -> 0 | AE22: ='27일'!E22 -> 0 | AF22: ='28일'!E22 -> 0 | AG22: ='29일'!E22 -> 0 | AH22: ='30일'!E22 -> 0 | AI22: ='31일'!E22 -> 0
A23: =A22+1 -> 17 | B23: 쟈스 글루타치온 | C23: 쟈스 글루타치온 엑스퍼트 1000 크림(60ml) | D23: =SUM(E23:AI23) -> 0 | E23: ='1일'!E23 -> 0 | F23: ='2일'!E23 -> 0 | G23: ='3일'!E23 -> 0 | H23: ='4일'!E23 -> 0 | I23: ='5일'!E23 -> 0 | J23: ='6일'!E23 -> 0 | K23: ='7일'!E23 -> 0 | L23: ='8일'!E23 -> 0 | M23: ='9일'!E23 -> 0 | N23: ='10일'!E23 -> 0 | O23: ='11일'!E23 -> 0 | P23: ='12일'!E23 -> 0 | Q23: ='13일'!E23 -> 0 | R23: ='14일'!E23 -> 0 | S23: ='15일'!E23 -> 0 | T23: ='16일'!E23 -> 0 | U23: ='17일'!E23 -> 0 | V23: ='18일'!E23 -> 0 | W23: ='19일'!E23 -> 0 | X23: ='20일'!E23 -> 0 | Y23: ='21일'!E23 -> 0 | Z23: ='22일'!E23 -> 0 | AA23: ='23일'!E23 -> 0 | AB23: ='24일'!E23 -> 0 | AC23: ='25일'!E23 -> 0 | AD23: ='26일'!E23 -> 0 | AE23: ='27일'!E23 -> 0 | AF23: ='28일'!E23 -> 0 | AG23: ='29일'!E23 -> 0 | AH23: ='30일'!E23 -> 0 | AI23: ='31일'!E23 -> 0
A24: =A23+1 -> 18 | B24: 쟈스 글루타치온 | C24: 쟈스 글루타치온 크림 파우치(1.5g) | D24: =SUM(E24:AI24) -> 0 | E24: ='1일'!E24 -> 0 | F24: ='2일'!E24 -> 0 | G24: ='3일'!E24 -> 0 | H24: ='4일'!E24 -> 0 | I24: ='5일'!E24 -> 0 | J24: ='6일'!E24 -> 0 | K24: ='7일'!E24 -> 0 | L24: ='8일'!E24 -> 0 | M24: ='9일'!E24 -> 0 | N24: ='10일'!E24 -> 0 | O24: ='11일'!E24 -> 0 | P24: ='12일'!E24 -> 0 | Q24: ='13일'!E24 -> 0 | R24: ='14일'!E24 -> 0 | S24: ='15일'!E24 -> 0 | T24: ='16일'!E24 -> 0 | U24: ='17일'!E24 -> 0 | V24: ='18일'!E24 -> 0 | W24: ='19일'!E24 -> 0 | X24: ='20일'!E24 -> 0 | Y24: ='21일'!E24 -> 0 | Z24: ='22일'!E24 -> 0 | AA24: ='23일'!E24 -> 0 | AB24: ='24일'!E24 -> 0 | AC24: ='25일'!E24 -> 0 | AD24: ='26일'!E24 -> 0 | AE24: ='27일'!E24 -> 0 | AF24: ='28일'!E24 -> 0 | AG24: ='29일'!E24 -> 0 | AH24: ='30일'!E24 -> 0 | AI24: ='31일'!E24 -> 0
C25: 쟈스 글루타치온 소계 | D25: =SUM(D21:D24) -> 0 | E25: ='1일'!E25 -> 0 | F25: ='2일'!E25 -> 0 | G25: ='3일'!E25 -> 0 | H25: ='4일'!E25 -> 0 | I25: ='5일'!E25 -> 0 | J25: ='6일'!E25 -> 0 | K25: ='7일'!E25 -> 0 | L25: ='8일'!E25 -> 0 | M25: ='9일'!E25 -> 0 | N25: ='10일'!E25 -> 0 | O25: ='11일'!E25 -> 0 | P25: ='12일'!E25 -> 0 | Q25: ='13일'!E25 -> 0 | R25: ='14일'!E25 -> 0 | S25: ='15일'!E25 -> 0 | T25: ='16일'!E25 -> 0 | U25: ='17일'!E25 -> 0 | V25: ='18일'!E25 -> 0 | W25: ='19일'!E25 -> 0 | X25: ='20일'!E25 -> 0 | Y25: ='21일'!E25 -> 0 | Z25: ='22일'!E25 -> 0 | AA25: ='23일'!E25 -> 0 | AB25: ='24일'!E25 -> 0 | AC25: ='25일'!E25 -> 0 | AD25: ='26일'!E25 -> 0 | AE25: ='27일'!E25 -> 0 | AF25: ='28일'!E25 -> 0 | AG25: ='29일'!E25 -> 0 | AH25: ='30일'!E25 -> 0 | AI25: ='31일'!E25 -> 0
A26: =A24+1 -> 19 | B26: 슬로우 테라피 | C26: 슬로우테라피 구슬 앰플 마스크 유칼립투스 진정(10개입) | D26: =SUM(E26:AI26) -> 0 | E26: ='1일'!E26 -> 0 | F26: ='2일'!E26 -> 0 | G26: ='3일'!E26 -> 0 | H26: ='4일'!E26 -> 0 | I26: ='5일'!E26 -> 0 | J26: ='6일'!E26 -> 0 | K26: ='7일'!E26 -> 0 | L26: ='8일'!E26 -> 0 | M26: ='9일'!E26 -> 0 | N26: ='10일'!E26 -> 0 | O26: ='11일'!E26 -> 0 | P26: ='12일'!E26 -> 0 | Q26: ='13일'!E26 -> 0 | R26: ='14일'!E26 -> 0 | S26: ='15일'!E26 -> 0 | T26: ='16일'!E26 -> 0 | U26: ='17일'!E26 -> 0 | V26: ='18일'!E26 -> 0 | W26: ='19일'!E26 -> 0 | X26: ='20일'!E26 -> 0 | Y26: ='21일'!E26 -> 0 | Z26: ='22일'!E26 -> 0 | AA26: ='23일'!E26 -> 0 | AB26: ='24일'!E26 -> 0 | AC26: ='25일'!E26 -> 0 | AD26: ='26일'!E26 -> 0 | AE26: ='27일'!E26 -> 0 | AF26: ='28일'!E26 -> 0 | AG26: ='29일'!E26 -> 0 | AH26: ='30일'!E26 -> 0 | AI26: ='31일'!E26 -> 0
A27: =A26+1 -> 20 | B27: 슬로우 테라피 | C27: 슬로우테라피 구슬 앰플 마스크 유칼립투스 진정 | D27: =SUM(E27:AI27) -> 0 | E27: ='1일'!E27 -> 0 | F27: ='2일'!E27 -> 0 | G27: ='3일'!E27 -> 0 | H27: ='4일'!E27 -> 0 | I27: ='5일'!E27 -> 0 | J27: ='6일'!E27 -> 0 | K27: ='7일'!E27 -> 0 | L27: ='8일'!E27 -> 0 | M27: ='9일'!E27 -> 0 | N27: ='10일'!E27 -> 0 | O27: ='11일'!E27 -> 0 | P27: ='12일'!E27 -> 0 | Q27: ='13일'!E27 -> 0 | R27: ='14일'!E27 -> 0 | S27: ='15일'!E27 -> 0 | T27: ='16일'!E27 -> 0 | U27: ='17일'!E27 -> 0 | V27: ='18일'!E27 -> 0 | W27: ='19일'!E27 -> 0 | X27: ='20일'!E27 -> 0 | Y27: ='21일'!E27 -> 0 | Z27: ='22일'!E27 -> 0 | AA27: ='23일'!E27 -> 0 | AB27: ='24일'!E27 -> 0 | AC27: ='25일'!E27 -> 0 | AD27: ='26일'!E27 -> 0 | AE27: ='27일'!E27 -> 0 | AF27: ='28일'!E27 -> 0 | AG27: ='29일'!E27 -> 0 | AH27: ='30일'!E27 -> 0 | AI27: ='31일'!E27 -> 0
A28: =A27+1 -> 21 | B28: 슬로우 테라피 | C28: 슬로우테라피 구슬 앰플 마스크 브라이토닝 비타(10개입) | D28: =SUM(E28:AI28) -> 0 | E28: ='1일'!E28 -> 0 | F28: ='2일'!E28 -> 0 | G28: ='3일'!E28 -> 0 | H28: ='4일'!E28 -> 0 | I28: ='5일'!E28 -> 0 | J28: ='6일'!E28 -> 0 | K28: ='7일'!E28 -> 0 | L28: ='8일'!E28 -> 0 | M28: ='9일'!E28 -> 0 | N28: ='10일'!E28 -> 0 | O28: ='11일'!E28 -> 0 | P28: ='12일'!E28 -> 0 | Q28: ='13일'!E28 -> 0 | R28: ='14일'!E28 -> 0 | S28: ='15일'!E28 -> 0 | T28: ='16일'!E28 -> 0 | U28: ='17일'!E28 -> 0 | V28: ='18일'!E28 -> 0 | W28: ='19일'!E28 -> 0 | X28: ='20일'!E28 -> 0 | Y28: ='21일'!E28 -> 0 | Z28: ='22일'!E28 -> 0 | AA28: ='23일'!E28 -> 0 | AB28: ='24일'!E28 -> 0 | AC28: ='25일'!E28 -> 0 | AD28: ='26일'!E28 -> 0 | AE28: ='27일'!E28 -> 0 | AF28: ='28일'!E28 -> 0 | AG28: ='29일'!E28 -> 0 | AH28: ='30일'!E28 -> 0 | AI28: ='31일'!E28 -> 0
A29: =A28+1 -> 22 | B29: 슬로우 테라피 | C29: 슬로우테라피 구슬 앰플 마스크 브라이토닝 비타 | D29: =SUM(E29:AI29) -> 0 | E29: ='1일'!E29 -> 0 | F29: ='2일'!E29 -> 0 | G29: ='3일'!E29 -> 0 | H29: ='4일'!E29 -> 0 | I29: ='5일'!E29 -> 0 | J29: ='6일'!E29 -> 0 | K29: ='7일'!E29 -> 0 | L29: ='8일'!E29 -> 0 | M29: ='9일'!E29 -> 0 | N29: ='10일'!E29 -> 0 | O29: ='11일'!E29 -> 0 | P29: ='12일'!E29 -> 0 | Q29: ='13일'!E29 -> 0 | R29: ='14일'!E29 -> 0 | S29: ='15일'!E29 -> 0 | T29: ='16일'!E29 -> 0 | U29: ='17일'!E29 -> 0 | V29: ='18일'!E29 -> 0 | W29: ='19일'!E29 -> 0 | X29: ='20일'!E29 -> 0 | Y29: ='21일'!E29 -> 0 | Z29: ='22일'!E29 -> 0 | AA29: ='23일'!E29 -> 0 | AB29: ='24일'!E29 -> 0 | AC29: ='25일'!E29 -> 0 | AD29: ='26일'!E29 -> 0 | AE29: ='27일'!E29 -> 0 | AF29: ='28일'!E29 -> 0 | AG29: ='29일'!E29 -> 0 | AH29: ='30일'!E29 -> 0 | AI29: ='31일'!E29 -> 0
A30: =A29+1 -> 23 | B30: 슬로우 테라피 | C30: 슬로우테라피 구슬 앰플 마스크 그린토마토 모공(10개입) | D30: =SUM(E30:AI30) -> 0 | E30: ='1일'!E30 -> 0 | F30: ='2일'!E30 -> 0 | G30: ='3일'!E30 -> 0 | H30: ='4일'!E30 -> 0 | I30: ='5일'!E30 -> 0 | J30: ='6일'!E30 -> 0 | K30: ='7일'!E30 -> 0 | L30: ='8일'!E30 -> 0 | M30: ='9일'!E30 -> 0 | N30: ='10일'!E30 -> 0 | O30: ='11일'!E30 -> 0 | P30: ='12일'!E30 -> 0 | Q30: ='13일'!E30 -> 0 | R30: ='14일'!E30 -> 0 | S30: ='15일'!E30 -> 0 | T30: ='16일'!E30 -> 0 | U30: ='17일'!E30 -> 0 | V30: ='18일'!E30 -> 0 | W30: ='19일'!E30 -> 0 | X30: ='20일'!E30 -> 0 | Y30: ='21일'!E30 -> 0 | Z30: ='22일'!E30 -> 0 | AA30: ='23일'!E30 -> 0 | AB30: ='24일'!E30 -> 0 | AC30: ='25일'!E30 -> 0 | AD30: ='26일'!E30 -> 0 | AE30: ='27일'!E30 -> 0 | AF30: ='28일'!E30 -> 0 | AG30: ='29일'!E30 -> 0 | AH30: ='30일'!E30 -> 0 | AI30: ='31일'!E30 -> 0
A31: =A30+1 -> 24 | B31: 슬로우 테라피 | C31: 슬로우테라피 구슬 앰플 마스크 그린토마토 모공 | D31: =SUM(E31:AI31) -> 0 | E31: ='1일'!E31 -> 0 | F31: ='2일'!E31 -> 0 | G31: ='3일'!E31 -> 0 | H31: ='4일'!E31 -> 0 | I31: ='5일'!E31 -> 0 | J31: ='6일'!E31 -> 0 | K31: ='7일'!E31 -> 0 | L31: ='8일'!E31 -> 0 | M31: ='9일'!E31 -> 0 | N31: ='10일'!E31 -> 0 | O31: ='11일'!E31 -> 0 | P31: ='12일'!E31 -> 0 | Q31: ='13일'!E31 -> 0 | R31: ='14일'!E31 -> 0 | S31: ='15일'!E31 -> 0 | T31: ='16일'!E31 -> 0 | U31: ='17일'!E31 -> 0 | V31: ='18일'!E31 -> 0 | W31: ='19일'!E31 -> 0 | X31: ='20일'!E31 -> 0 | Y31: ='21일'!E31 -> 0 | Z31: ='22일'!E31 -> 0 | AA31: ='23일'!E31 -> 0 | AB31: ='24일'!E31 -> 0 | AC31: ='25일'!E31 -> 0 | AD31: ='26일'!E31 -> 0 | AE31: ='27일'!E31 -> 0 | AF31: ='28일'!E31 -> 0 | AG31: ='29일'!E31 -> 0 | AH31: ='30일'!E31 -> 0 | AI31: ='31일'!E31 -> 0
A32: =A31+1 -> 25 | B32: 슬로우 테라피 | C32: 슬로우테라피 구슬 앰플 마스크 화이트밀크 브라이트닝(10개입) | D32: =SUM(E32:AI32) -> 0 | E32: ='1일'!E32 -> 0 | F32: ='2일'!E32 -> 0 | G32: ='3일'!E32 -> 0 | H32: ='4일'!E32 -> 0 | I32: ='5일'!E32 -> 0 | J32: ='6일'!E32 -> 0 | K32: ='7일'!E32 -> 0 | L32: ='8일'!E32 -> 0 | M32: ='9일'!E32 -> 0 | N32: ='10일'!E32 -> 0 | O32: ='11일'!E32 -> 0 | P32: ='12일'!E32 -> 0 | Q32: ='13일'!E32 -> 0 | R32: ='14일'!E32 -> 0 | S32: ='15일'!E32 -> 0 | T32: ='16일'!E32 -> 0 | U32: ='17일'!E32 -> 0 | V32: ='18일'!E32 -> 0 | W32: ='19일'!E32 -> 0 | X32: ='20일'!E32 -> 0 | Y32: ='21일'!E32 -> 0 | Z32: ='22일'!E32 -> 0 | AA32: ='23일'!E32 -> 0 | AB32: ='24일'!E32 -> 0 | AC32: ='25일'!E32 -> 0 | AD32: ='26일'!E32 -> 0 | AE32: ='27일'!E32 -> 0 | AF32: ='28일'!E32 -> 0 | AG32: ='29일'!E32 -> 0 | AH32: ='30일'!E32 -> 0 | AI32: ='31일'!E32 -> 0
A33: =A32+1 -> 26 | B33: 슬로우 테라피 | C33: 슬로우테라피 구슬 앰플 마스크 화이트밀크 브라이트닝 | D33: =SUM(E33:AI33) -> 0 | E33: ='1일'!E33 -> 0 | F33: ='2일'!E33 -> 0 | G33: ='3일'!E33 -> 0 | H33: ='4일'!E33 -> 0 | I33: ='5일'!E33 -> 0 | J33: ='6일'!E33 -> 0 | K33: ='7일'!E33 -> 0 | L33: ='8일'!E33 -> 0 | M33: ='9일'!E33 -> 0 | N33: ='10일'!E33 -> 0 | O33: ='11일'!E33 -> 0 | P33: ='12일'!E33 -> 0 | Q33: ='13일'!E33 -> 0 | R33: ='14일'!E33 -> 0 | S33: ='15일'!E33 -> 0 | T33: ='16일'!E33 -> 0 | U33: ='17일'!E33 -> 0 | V33: ='18일'!E33 -> 0 | W33: ='19일'!E33 -> 0 | X33: ='20일'!E33 -> 0 | Y33: ='21일'!E33 -> 0 | Z33: ='22일'!E33 -> 0 | AA33: ='23일'!E33 -> 0 | AB33: ='24일'!E33 -> 0 | AC33: ='25일'!E33 -> 0 | AD33: ='26일'!E33 -> 0 | AE33: ='27일'!E33 -> 0 | AF33: ='28일'!E33 -> 0 | AG33: ='29일'!E33 -> 0 | AH33: ='30일'!E33 -> 0 | AI33: ='31일'!E33 -> 0
A34: =A33+1 -> 27 | B34: 슬로우 테라피 | C34: 슬로우테라피 구슬 앰플 마스크 카멜리아 탄력(10개입) | D34: =SUM(E34:AI34) -> 0 | E34: ='1일'!E34 -> 0 | F34: ='2일'!E34 -> 0 | G34: ='3일'!E34 -> 0 | H34: ='4일'!E34 -> 0 | I34: ='5일'!E34 -> 0 | J34: ='6일'!E34 -> 0 | K34: ='7일'!E34 -> 0 | L34: ='8일'!E34 -> 0 | M34: ='9일'!E34 -> 0 | N34: ='10일'!E34 -> 0 | O34: ='11일'!E34 -> 0 | P34: ='12일'!E34 -> 0 | Q34: ='13일'!E34 -> 0 | R34: ='14일'!E34 -> 0 | S34: ='15일'!E34 -> 0 | T34: ='16일'!E34 -> 0 | U34: ='17일'!E34 -> 0 | V34: ='18일'!E34 -> 0 | W34: ='19일'!E34 -> 0 | X34: ='20일'!E34 -> 0 | Y34: ='21일'!E34 -> 0 | Z34: ='22일'!E34 -> 0 | AA34: ='23일'!E34 -> 0 | AB34: ='24일'!E34 -> 0 | AC34: ='25일'!E34 -> 0 | AD34: ='26일'!E34 -> 0 | AE34: ='27일'!E34 -> 0 | AF34: ='28일'!E34 -> 0 | AG34: ='29일'!E34 -> 0 | AH34: ='30일'!E34 -> 0 | AI34: ='31일'!E34 -> 0
A35: =A34+1 -> 28 | B35: 슬로우 테라피 | C35: 슬로우테라피 구슬 앰플 마스크 카멜리아 탄력 | D35: =SUM(E35:AI35) -> 0 | E35: ='1일'!E35 -> 0 | F35: ='2일'!E35 -> 0 | G35: ='3일'!E35 -> 0 | H35: ='4일'!E35 -> 0 | I35: ='5일'!E35 -> 0 | J35: ='6일'!E35 -> 0 | K35: ='7일'!E35 -> 0 | L35: ='8일'!E35 -> 0 | M35: ='9일'!E35 -> 0 | N35: ='10일'!E35 -> 0 | O35: ='11일'!E35 -> 0 | P35: ='12일'!E35 -> 0 | Q35: ='13일'!E35 -> 0 | R35: ='14일'!E35 -> 0 | S35: ='15일'!E35 -> 0 | T35: ='16일'!E35 -> 0 | U35: ='17일'!E35 -> 0 | V35: ='18일'!E35 -> 0 | W35: ='19일'!E35 -> 0 | X35: ='20일'!E35 -> 0 | Y35: ='21일'!E35 -> 0 | Z35: ='22일'!E35 -> 0 | AA35: ='23일'!E35 -> 0 | AB35: ='24일'!E35 -> 0 | AC35: ='25일'!E35 -> 0 | AD35: ='26일'!E35 -> 0 | AE35: ='27일'!E35 -> 0 | AF35: ='28일'!E35 -> 0 | AG35: ='29일'!E35 -> 0 | AH35: ='30일'!E35 -> 0 | AI35: ='31일'!E35 -> 0
C36: 슬로우테라피 구슬앰플 마스크 소계 | D36: =SUM(D26:D35) -> 0 | E36: ='1일'!E36 -> 0 | F36: ='2일'!E36 -> 0 | G36: ='3일'!E36 -> 0 | H36: ='4일'!E36 -> 0 | I36: ='5일'!E36 -> 0 | J36: ='6일'!E36 -> 0 | K36: ='7일'!E36 -> 0 | L36: ='8일'!E36 -> 0 | M36: ='9일'!E36 -> 0 | N36: ='10일'!E36 -> 0 | O36: ='11일'!E36 -> 0 | P36: ='12일'!E36 -> 0 | Q36: ='13일'!E36 -> 0 | R36: ='14일'!E36 -> 0 | S36: ='15일'!E36 -> 0 | T36: ='16일'!E36 -> 0 | U36: ='17일'!E36 -> 0 | V36: ='18일'!E36 -> 0 | W36: ='19일'!E36 -> 0 | X36: ='20일'!E36 -> 0 | Y36: ='21일'!E36 -> 0 | Z36: ='22일'!E36 -> 0 | AA36: ='23일'!E36 -> 0 | AB36: ='24일'!E36 -> 0 | AC36: ='25일'!E36 -> 0 | AD36: ='26일'!E36 -> 0 | AE36: ='27일'!E36 -> 0 | AF36: ='28일'!E36 -> 0 | AG36: ='29일'!E36 -> 0 | AH36: ='30일'!E36 -> 0 | AI36: ='31일'!E36 -> 0
A37: =A35+1 -> 29 | B37: 장로젯 | C37: 장로젯 라부 셀룰라 앰플 엘릭시어 엑스이피018 50미리 | D37: =SUM(E37:AI37) -> 0 | E37: ='1일'!E37 -> 0 | F37: ='2일'!E37 -> 0 | G37: ='3일'!E37 -> 0 | H37: ='4일'!E37 -> 0 | I37: ='5일'!E37 -> 0 | J37: ='6일'!E37 -> 0 | K37: ='7일'!E37 -> 0 | L37: ='8일'!E37 -> 0 | M37: ='9일'!E37 -> 0 | N37: ='10일'!E37 -> 0 | O37: ='11일'!E37 -> 0 | P37: ='12일'!E37 -> 0 | Q37: ='13일'!E37 -> 0 | R37: ='14일'!E37 -> 0 | S37: ='15일'!E37 -> 0 | T37: ='16일'!E37 -> 0 | U37: ='17일'!E37 -> 0 | V37: ='18일'!E37 -> 0 | W37: ='19일'!E37 -> 0 | X37: ='20일'!E37 -> 0 | Y37: ='21일'!E37 -> 0 | Z37: ='22일'!E37 -> 0 | AA37: ='23일'!E37 -> 0 | AB37: ='24일'!E37 -> 0 | AC37: ='25일'!E37 -> 0 | AD37: ='26일'!E37 -> 0 | AE37: ='27일'!E37 -> 0 | AF37: ='28일'!E37 -> 0 | AG37: ='29일'!E37 -> 0 | AH37: ='30일'!E37 -> 0 | AI37: ='31일'!E37 -> 0
A38: =A37+1 -> 30 | B38: 장로젯 | C38: 장로젯 라부 셀룰라 앰플 엘릭시어 엑스이피018 20미리 | D38: =SUM(E38:AI38) -> 0 | E38: ='1일'!E38 -> 0 | F38: ='2일'!E38 -> 0 | G38: ='3일'!E38 -> 0 | H38: ='4일'!E38 -> 0 | I38: ='5일'!E38 -> 0 | J38: ='6일'!E38 -> 0 | K38: ='7일'!E38 -> 0 | L38: ='8일'!E38 -> 0 | M38: ='9일'!E38 -> 0 | N38: ='10일'!E38 -> 0 | O38: ='11일'!E38 -> 0 | P38: ='12일'!E38 -> 0 | Q38: ='13일'!E38 -> 0 | R38: ='14일'!E38 -> 0 | S38: ='15일'!E38 -> 0 | T38: ='16일'!E38 -> 0 | U38: ='17일'!E38 -> 0 | V38: ='18일'!E38 -> 0 | W38: ='19일'!E38 -> 0 | X38: ='20일'!E38 -> 0 | Y38: ='21일'!E38 -> 0 | Z38: ='22일'!E38 -> 0 | AA38: ='23일'!E38 -> 0 | AB38: ='24일'!E38 -> 0 | AC38: ='25일'!E38 -> 0 | AD38: ='26일'!E38 -> 0 | AE38: ='27일'!E38 -> 0 | AF38: ='28일'!E38 -> 0 | AG38: ='29일'!E38 -> 0 | AH38: ='30일'!E38 -> 0 | AI38: ='31일'!E38 -> 0
C39: 장로젯 소계 | D39: =SUM(D37:D38) -> 0 | E39: ='1일'!E39 -> 0 | F39: ='2일'!E39 -> 0 | G39: ='3일'!E39 -> 0 | H39: ='4일'!E39 -> 0 | I39: ='5일'!E39 -> 0 | J39: ='6일'!E39 -> 0 | K39: ='7일'!E39 -> 0 | L39: ='8일'!E39 -> 0 | M39: ='9일'!E39 -> 0 | N39: ='10일'!E39 -> 0 | O39: ='11일'!E39 -> 0 | P39: ='12일'!E39 -> 0 | Q39: ='13일'!E39 -> 0 | R39: ='14일'!E39 -> 0 | S39: ='15일'!E39 -> 0 | T39: ='16일'!E39 -> 0 | U39: ='17일'!E39 -> 0 | V39: ='18일'!E39 -> 0 | W39: ='19일'!E39 -> 0 | X39: ='20일'!E39 -> 0 | Y39: ='21일'!E39 -> 0 | Z39: ='22일'!E39 -> 0 | AA39: ='23일'!E39 -> 0 | AB39: ='24일'!E39 -> 0 | AC39: ='25일'!E39 -> 0 | AD39: ='26일'!E39 -> 0 | AE39: ='27일'!E39 -> 0 | AF39: ='28일'!E39 -> 0 | AG39: ='29일'!E39 -> 0 | AH39: ='30일'!E39 -> 0 | AI39: ='31일'!E39 -> 0
A40: =A38+1 -> 31 | B40: 더마클라센 | C40: 블랙 체인지 샴푸 | D40: =SUM(E40:AI40) -> 0 | E40: ='1일'!E40 -> 0 | F40: ='2일'!E40 -> 0 | G40: ='3일'!E40 -> 0 | H40: ='4일'!E40 -> 0 | I40: ='5일'!E40 -> 0 | J40: ='6일'!E40 -> 0 | K40: ='7일'!E40 -> 0 | L40: ='8일'!E40 -> 0 | M40: ='9일'!E40 -> 0 | N40: ='10일'!E40 -> 0 | O40: ='11일'!E40 -> 0 | P40: ='12일'!E40 -> 0 | Q40: ='13일'!E40 -> 0 | R40: ='14일'!E40 -> 0 | S40: ='15일'!E40 -> 0 | T40: ='16일'!E40 -> 0 | U40: ='17일'!E40 -> 0 | V40: ='18일'!E40 -> 0 | W40: ='19일'!E40 -> 0 | X40: ='20일'!E40 -> 0 | Y40: ='21일'!E40 -> 0 | Z40: ='22일'!E40 -> 0 | AA40: ='23일'!E40 -> 0 | AB40: ='24일'!E40 -> 0 | AC40: ='25일'!E40 -> 0 | AD40: ='26일'!E40 -> 0 | AE40: ='27일'!E40 -> 0 | AF40: ='28일'!E40 -> 0 | AG40: ='29일'!E40 -> 0 | AH40: ='30일'!E40 -> 0 | AI40: ='31일'!E40 -> 0
A41: =A40+1 -> 32 | B41: 더마클라센 | C41: 블랙 체인지 샴푸(흑갈색) | D41: =SUM(E41:AI41) -> 0 | E41: ='1일'!E41 -> 0 | F41: ='2일'!E41 -> 0 | G41: ='3일'!E41 -> 0 | H41: ='4일'!E41 -> 0 | I41: ='5일'!E41 -> 0 | J41: ='6일'!E41 -> 0 | K41: ='7일'!E41 -> 0 | L41: ='8일'!E41 -> 0 | M41: ='9일'!E41 -> 0 | N41: ='10일'!E41 -> 0 | O41: ='11일'!E41 -> 0 | P41: ='12일'!E41 -> 0 | Q41: ='13일'!E41 -> 0 | R41: ='14일'!E41 -> 0 | S41: ='15일'!E41 -> 0 | T41: ='16일'!E41 -> 0 | U41: ='17일'!E41 -> 0 | V41: ='18일'!E41 -> 0 | W41: ='19일'!E41 -> 0 | X41: ='20일'!E41 -> 0 | Y41: ='21일'!E41 -> 0 | Z41: ='22일'!E41 -> 0 | AA41: ='23일'!E41 -> 0 | AB41: ='24일'!E41 -> 0 | AC41: ='25일'!E41 -> 0 | AD41: ='26일'!E41 -> 0 | AE41: ='27일'!E41 -> 0 | AF41: ='28일'!E41 -> 0 | AG41: ='29일'!E41 -> 0 | AH41: ='30일'!E41 -> 0 | AI41: ='31일'!E41 -> 0
C42: 블랙 체인지 샴푸 소계 | D42: =SUM(D40:D41) -> 0 | E42: ='1일'!E42 -> 0 | F42: ='2일'!E42 -> 0 | G42: ='3일'!E42 -> 0 | H42: ='4일'!E42 -> 0 | I42: ='5일'!E42 -> 0 | J42: ='6일'!E42 -> 0 | K42: ='7일'!E42 -> 0 | L42: ='8일'!E42 -> 0 | M42: ='9일'!E42 -> 0 | N42: ='10일'!E42 -> 0 | O42: ='11일'!E42 -> 0 | P42: ='12일'!E42 -> 0 | Q42: ='13일'!E42 -> 0 | R42: ='14일'!E42 -> 0 | S42: ='15일'!E42 -> 0 | T42: ='16일'!E42 -> 0 | U42: ='17일'!E42 -> 0 | V42: ='18일'!E42 -> 0 | W42: ='19일'!E42 -> 0 | X42: ='20일'!E42 -> 0 | Y42: ='21일'!E42 -> 0 | Z42: ='22일'!E42 -> 0 | AA42: ='23일'!E42 -> 0 | AB42: ='24일'!E42 -> 0 | AC42: ='25일'!E42 -> 0 | AD42: ='26일'!E42 -> 0 | AE42: ='27일'!E42 -> 0 | AF42: ='28일'!E42 -> 0 | AG42: ='29일'!E42 -> 0 | AH42: ='30일'!E42 -> 0 | AI42: ='31일'!E42 -> 0
A43: =A41+1 -> 33 | B43: 아트델리 | C43: 듀얼웨어 립 글로우밤001 | D43: =SUM(E43:AI43) -> 0 | E43: ='1일'!E43 -> 0 | F43: ='2일'!E43 -> 0 | G43: ='3일'!E43 -> 0 | H43: ='4일'!E43 -> 0 | I43: ='5일'!E43 -> 0 | J43: ='6일'!E43 -> 0 | K43: ='7일'!E43 -> 0 | L43: ='8일'!E43 -> 0 | M43: ='9일'!E43 -> 0 | N43: ='10일'!E43 -> 0 | O43: ='11일'!E43 -> 0 | P43: ='12일'!E43 -> 0 | Q43: ='13일'!E43 -> 0 | R43: ='14일'!E43 -> 0 | S43: ='15일'!E43 -> 0 | T43: ='16일'!E43 -> 0 | U43: ='17일'!E43 -> 0 | V43: ='18일'!E43 -> 0 | W43: ='19일'!E43 -> 0 | X43: ='20일'!E43 -> 0 | Y43: ='21일'!E43 -> 0 | Z43: ='22일'!E43 -> 0 | AA43: ='23일'!E43 -> 0 | AB43: ='24일'!E43 -> 0 | AC43: ='25일'!E43 -> 0 | AD43: ='26일'!E43 -> 0 | AE43: ='27일'!E43 -> 0 | AF43: ='28일'!E43 -> 0 | AG43: ='29일'!E43 -> 0 | AH43: ='30일'!E43 -> 0 | AI43: ='31일'!E43 -> 0
A44: =A43+1 -> 34 | B44: 아트델리 | C44: 듀얼웨어 립 글로우밤002 | D44: =SUM(E44:AI44) -> 0 | E44: ='1일'!E44 -> 0 | F44: ='2일'!E44 -> 0 | G44: ='3일'!E44 -> 0 | H44: ='4일'!E44 -> 0 | I44: ='5일'!E44 -> 0 | J44: ='6일'!E44 -> 0 | K44: ='7일'!E44 -> 0 | L44: ='8일'!E44 -> 0 | M44: ='9일'!E44 -> 0 | N44: ='10일'!E44 -> 0 | O44: ='11일'!E44 -> 0 | P44: ='12일'!E44 -> 0 | Q44: ='13일'!E44 -> 0 | R44: ='14일'!E44 -> 0 | S44: ='15일'!E44 -> 0 | T44: ='16일'!E44 -> 0 | U44: ='17일'!E44 -> 0 | V44: ='18일'!E44 -> 0 | W44: ='19일'!E44 -> 0 | X44: ='20일'!E44 -> 0 | Y44: ='21일'!E44 -> 0 | Z44: ='22일'!E44 -> 0 | AA44: ='23일'!E44 -> 0 | AB44: ='24일'!E44 -> 0 | AC44: ='25일'!E44 -> 0 | AD44: ='26일'!E44 -> 0 | AE44: ='27일'!E44 -> 0 | AF44: ='28일'!E44 -> 0 | AG44: ='29일'!E44 -> 0 | AH44: ='30일'!E44 -> 0 | AI44: ='31일'!E44 -> 0
A45: =A44+1 -> 35 | B45: 아트델리 | C45: 듀얼웨어 립 글로우밤003 | D45: =SUM(E45:AI45) -> 0 | E45: ='1일'!E45 -> 0 | F45: ='2일'!E45 -> 0 | G45: ='3일'!E45 -> 0 | H45: ='4일'!E45 -> 0 | I45: ='5일'!E45 -> 0 | J45: ='6일'!E45 -> 0 | K45: ='7일'!E45 -> 0 | L45: ='8일'!E45 -> 0 | M45: ='9일'!E45 -> 0 | N45: ='10일'!E45 -> 0 | O45: ='11일'!E45 -> 0 | P45: ='12일'!E45 -> 0 | Q45: ='13일'!E45 -> 0 | R45: ='14일'!E45 -> 0 | S45: ='15일'!E45 -> 0 | T45: ='16일'!E45 -> 0 | U45: ='17일'!E45 -> 0 | V45: ='18일'!E45 -> 0 | W45: ='19일'!E45 -> 0 | X45: ='20일'!E45 -> 0 | Y45: ='21일'!E45 -> 0 | Z45: ='22일'!E45 -> 0 | AA45: ='23일'!E45 -> 0 | AB45: ='24일'!E45 -> 0 | AC45: ='25일'!E45 -> 0 | AD45: ='26일'!E45 -> 0 | AE45: ='27일'!E45 -> 0 | AF45: ='28일'!E45 -> 0 | AG45: ='29일'!E45 -> 0 | AH45: ='30일'!E45 -> 0 | AI45: ='31일'!E45 -> 0
A46: =A45+1 -> 36 | B46: 아트델리 | C46: 듀얼웨어 립 글로우밤004 | D46: =SUM(E46:AI46) -> 0 | E46: ='1일'!E46 -> 0 | F46: ='2일'!E46 -> 0 | G46: ='3일'!E46 -> 0 | H46: ='4일'!E46 -> 0 | I46: ='5일'!E46 -> 0 | J46: ='6일'!E46 -> 0 | K46: ='7일'!E46 -> 0 | L46: ='8일'!E46 -> 0 | M46: ='9일'!E46 -> 0 | N46: ='10일'!E46 -> 0 | O46: ='11일'!E46 -> 0 | P46: ='12일'!E46 -> 0 | Q46: ='13일'!E46 -> 0 | R46: ='14일'!E46 -> 0 | S46: ='15일'!E46 -> 0 | T46: ='16일'!E46 -> 0 | U46: ='17일'!E46 -> 0 | V46: ='18일'!E46 -> 0 | W46: ='19일'!E46 -> 0 | X46: ='20일'!E46 -> 0 | Y46: ='21일'!E46 -> 0 | Z46: ='22일'!E46 -> 0 | AA46: ='23일'!E46 -> 0 | AB46: ='24일'!E46 -> 0 | AC46: ='25일'!E46 -> 0 | AD46: ='26일'!E46 -> 0 | AE46: ='27일'!E46 -> 0 | AF46: ='28일'!E46 -> 0 | AG46: ='29일'!E46 -> 0 | AH46: ='30일'!E46 -> 0 | AI46: ='31일'!E46 -> 0
A47: =A46+1 -> 37 | B47: 아트델리 | C47: 맥시마이저 립 글로우 밤 101 | D47: =SUM(E47:AI47) -> 0 | E47: ='1일'!E47 -> 0 | F47: ='2일'!E47 -> 0 | G47: ='3일'!E47 -> 0 | H47: ='4일'!E47 -> 0 | I47: ='5일'!E47 -> 0 | J47: ='6일'!E47 -> 0 | K47: ='7일'!E47 -> 0 | L47: ='8일'!E47 -> 0 | M47: ='9일'!E47 -> 0 | N47: ='10일'!E47 -> 0 | O47: ='11일'!E47 -> 0 | P47: ='12일'!E47 -> 0 | Q47: ='13일'!E47 -> 0 | R47: ='14일'!E47 -> 0 | S47: ='15일'!E47 -> 0 | T47: ='16일'!E47 -> 0 | U47: ='17일'!E47 -> 0 | V47: ='18일'!E47 -> 0 | W47: ='19일'!E47 -> 0 | X47: ='20일'!E47 -> 0 | Y47: ='21일'!E47 -> 0 | Z47: ='22일'!E47 -> 0 | AA47: ='23일'!E47 -> 0 | AB47: ='24일'!E47 -> 0 | AC47: ='25일'!E47 -> 0 | AD47: ='26일'!E47 -> 0 | AE47: ='27일'!E47 -> 0 | AF47: ='28일'!E47 -> 0 | AG47: ='29일'!E47 -> 0 | AH47: ='30일'!E47 -> 0 | AI47: ='31일'!E47 -> 0
A48: =A47+1 -> 38 | B48: 아트델리 | C48: 맥시마이저 립 글로우 밤 102 | D48: =SUM(E48:AI48) -> 0 | E48: ='1일'!E48 -> 0 | F48: ='2일'!E48 -> 0 | G48: ='3일'!E48 -> 0 | H48: ='4일'!E48 -> 0 | I48: ='5일'!E48 -> 0 | J48: ='6일'!E48 -> 0 | K48: ='7일'!E48 -> 0 | L48: ='8일'!E48 -> 0 | M48: ='9일'!E48 -> 0 | N48: ='10일'!E48 -> 0 | O48: ='11일'!E48 -> 0 | P48: ='12일'!E48 -> 0 | Q48: ='13일'!E48 -> 0 | R48: ='14일'!E48 -> 0 | S48: ='15일'!E48 -> 0 | T48: ='16일'!E48 -> 0 | U48: ='17일'!E48 -> 0 | V48: ='18일'!E48 -> 0 | W48: ='19일'!E48 -> 0 | X48: ='20일'!E48 -> 0 | Y48: ='21일'!E48 -> 0 | Z48: ='22일'!E48 -> 0 | AA48: ='23일'!E48 -> 0 | AB48: ='24일'!E48 -> 0 | AC48: ='25일'!E48 -> 0 | AD48: ='26일'!E48 -> 0 | AE48: ='27일'!E48 -> 0 | AF48: ='28일'!E48 -> 0 | AG48: ='29일'!E48 -> 0 | AH48: ='30일'!E48 -> 0 | AI48: ='31일'!E48 -> 0
A49: =A48+1 -> 39 | B49: 아트델리 | C49: 맥시마이저 립 글로우 밤 103 | D49: =SUM(E49:AI49) -> 0 | E49: ='1일'!E49 -> 0 | F49: ='2일'!E49 -> 0 | G49: ='3일'!E49 -> 0 | H49: ='4일'!E49 -> 0 | I49: ='5일'!E49 -> 0 | J49: ='6일'!E49 -> 0 | K49: ='7일'!E49 -> 0 | L49: ='8일'!E49 -> 0 | M49: ='9일'!E49 -> 0 | N49: ='10일'!E49 -> 0 | O49: ='11일'!E49 -> 0 | P49: ='12일'!E49 -> 0 | Q49: ='13일'!E49 -> 0 | R49: ='14일'!E49 -> 0 | S49: ='15일'!E49 -> 0 | T49: ='16일'!E49 -> 0 | U49: ='17일'!E49 -> 0 | V49: ='18일'!E49 -> 0 | W49: ='19일'!E49 -> 0 | X49: ='20일'!E49 -> 0 | Y49: ='21일'!E49 -> 0 | Z49: ='22일'!E49 -> 0 | AA49: ='23일'!E49 -> 0 | AB49: ='24일'!E49 -> 0 | AC49: ='25일'!E49 -> 0 | AD49: ='26일'!E49 -> 0 | AE49: ='27일'!E49 -> 0 | AF49: ='28일'!E49 -> 0 | AG49: ='29일'!E49 -> 0 | AH49: ='30일'!E49 -> 0 | AI49: ='31일'!E49 -> 0
B50: 아트델리 | C50: 맥시마이저 립 글로우 밤 003 | D50: =SUM(D43:D49) -> 0 | E50: ='1일'!E50 -> 0 | F50: ='2일'!E50 -> 0 | G50: ='3일'!E50 -> 0 | H50: ='4일'!E50 -> 0 | I50: ='5일'!E50 -> 0 | J50: ='6일'!E50 -> 0 | K50: ='7일'!E50 -> 0 | L50: ='8일'!E50 -> 0 | M50: ='9일'!E50 -> 0 | N50: ='10일'!E50 -> 0 | O50: ='11일'!E50 -> 0 | P50: ='12일'!E50 -> 0 | Q50: ='13일'!E50 -> 0 | R50: ='14일'!E50 -> 0 | S50: ='15일'!E50 -> 0 | T50: ='16일'!E50 -> 0 | U50: ='17일'!E50 -> 0 | V50: ='18일'!E50 -> 0 | W50: ='19일'!E50 -> 0 | X50: ='20일'!E50 -> 0 | Y50: ='21일'!E50 -> 0 | Z50: ='22일'!E50 -> 0 | AA50: ='23일'!E50 -> 0 | AB50: ='24일'!E50 -> 0 | AC50: ='25일'!E50 -> 0 | AD50: ='26일'!E50 -> 0 | AE50: ='27일'!E50 -> 0 | AF50: ='28일'!E50 -> 0 | AG50: ='29일'!E50 -> 0 | AH50: ='30일'!E50 -> 0 | AI50: ='31일'!E50 -> 0
A51: =A49+1 -> 40 | B51: 쟈스 멀티밤 | C51: 쟈스 멀티밤 | D51: =SUM(E51:AI51) -> 0 | E51: ='1일'!E51 -> 0 | F51: ='2일'!E51 -> 0 | G51: ='3일'!E51 -> 0 | H51: ='4일'!E51 -> 0 | I51: ='5일'!E51 -> 0 | J51: ='6일'!E51 -> 0 | K51: ='7일'!E51 -> 0 | L51: ='8일'!E51 -> 0 | M51: ='9일'!E51 -> 0 | N51: ='10일'!E51 -> 0 | O51: ='11일'!E51 -> 0 | P51: ='12일'!E51 -> 0 | Q51: ='13일'!E51 -> 0 | R51: ='14일'!E51 -> 0 | S51: ='15일'!E51 -> 0 | T51: ='16일'!E51 -> 0 | U51: ='17일'!E51 -> 0 | V51: ='18일'!E51 -> 0 | W51: ='19일'!E51 -> 0 | X51: ='20일'!E51 -> 0 | Y51: ='21일'!E51 -> 0 | Z51: ='22일'!E51 -> 0 | AA51: ='23일'!E51 -> 0 | AB51: ='24일'!E51 -> 0 | AC51: ='25일'!E51 -> 0 | AD51: ='26일'!E51 -> 0 | AE51: ='27일'!E51 -> 0 | AF51: ='28일'!E51 -> 0 | AG51: ='29일'!E51 -> 0 | AH51: ='30일'!E51 -> 0 | AI51: ='31일'!E51 -> 0
A52: =A51+1 -> 41 | B52: 쟈스 멀티밤 | C52: 쟈스 키스밤 | D52: =SUM(E52:AI52) -> 0 | E52: ='1일'!E52 -> 0 | F52: ='2일'!E52 -> 0 | G52: ='3일'!E52 -> 0 | H52: ='4일'!E52 -> 0 | I52: ='5일'!E52 -> 0 | J52: ='6일'!E52 -> 0 | K52: ='7일'!E52 -> 0 | L52: ='8일'!E52 -> 0 | M52: ='9일'!E52 -> 0 | N52: ='10일'!E52 -> 0 | O52: ='11일'!E52 -> 0 | P52: ='12일'!E52 -> 0 | Q52: ='13일'!E52 -> 0 | R52: ='14일'!E52 -> 0 | S52: ='15일'!E52 -> 0 | T52: ='16일'!E52 -> 0 | U52: ='17일'!E52 -> 0 | V52: ='18일'!E52 -> 0 | W52: ='19일'!E52 -> 0 | X52: ='20일'!E52 -> 0 | Y52: ='21일'!E52 -> 0 | Z52: ='22일'!E52 -> 0 | AA52: ='23일'!E52 -> 0 | AB52: ='24일'!E52 -> 0 | AC52: ='25일'!E52 -> 0 | AD52: ='26일'!E52 -> 0 | AE52: ='27일'!E52 -> 0 | AF52: ='28일'!E52 -> 0 | AG52: ='29일'!E52 -> 0 | AH52: ='30일'!E52 -> 0 | AI52: ='31일'!E52 -> 0
A53: =A52+1 -> 42 | B53: 쟈스 멀티밤 | C53: 쟈스 콜라겐 세콜지 앰플 미스트 | D53: =SUM(E53:AI53) -> 0 | E53: ='1일'!E53 -> 0 | F53: ='2일'!E53 -> 0 | G53: ='3일'!E53 -> 0 | H53: ='4일'!E53 -> 0 | I53: ='5일'!E53 -> 0 | J53: ='6일'!E53 -> 0 | K53: ='7일'!E53 -> 0 | L53: ='8일'!E53 -> 0 | M53: ='9일'!E53 -> 0 | N53: ='10일'!E53 -> 0 | O53: ='11일'!E53 -> 0 | P53: ='12일'!E53 -> 0 | Q53: ='13일'!E53 -> 0 | R53: ='14일'!E53 -> 0 | S53: ='15일'!E53 -> 0 | T53: ='16일'!E53 -> 0 | U53: ='17일'!E53 -> 0 | V53: ='18일'!E53 -> 0 | W53: ='19일'!E53 -> 0 | X53: ='20일'!E53 -> 0 | Y53: ='21일'!E53 -> 0 | Z53: ='22일'!E53 -> 0 | AA53: ='23일'!E53 -> 0 | AB53: ='24일'!E53 -> 0 | AC53: ='25일'!E53 -> 0 | AD53: ='26일'!E53 -> 0 | AE53: ='27일'!E53 -> 0 | AF53: ='28일'!E53 -> 0 | AG53: ='29일'!E53 -> 0 | AH53: ='30일'!E53 -> 0 | AI53: ='31일'!E53 -> 0
A54: =A53+1 -> 43 | B54: 쟈스 멀티밤 | C54: 쟈스 콜라겐 밀키 크림 | D54: =SUM(E54:AI54) -> 0 | E54: ='1일'!E54 -> 0 | F54: ='2일'!E54 -> 0 | G54: ='3일'!E54 -> 0 | H54: ='4일'!E54 -> 0 | I54: ='5일'!E54 -> 0 | J54: ='6일'!E54 -> 0 | K54: ='7일'!E54 -> 0 | L54: ='8일'!E54 -> 0 | M54: ='9일'!E54 -> 0 | N54: ='10일'!E54 -> 0 | O54: ='11일'!E54 -> 0 | P54: ='12일'!E54 -> 0 | Q54: ='13일'!E54 -> 0 | R54: ='14일'!E54 -> 0 | S54: ='15일'!E54 -> 0 | T54: ='16일'!E54 -> 0 | U54: ='17일'!E54 -> 0 | V54: ='18일'!E54 -> 0 | W54: ='19일'!E54 -> 0 | X54: ='20일'!E54 -> 0 | Y54: ='21일'!E54 -> 0 | Z54: ='22일'!E54 -> 0 | AA54: ='23일'!E54 -> 0 | AB54: ='24일'!E54 -> 0 | AC54: ='25일'!E54 -> 0 | AD54: ='26일'!E54 -> 0 | AE54: ='27일'!E54 -> 0 | AF54: ='28일'!E54 -> 0 | AG54: ='29일'!E54 -> 0 | AH54: ='30일'!E54 -> 0 | AI54: ='31일'!E54 -> 0
A55: =A54+1 -> 44 | B55: 쟈스 멀티밤 | C55: 쟈스 콜라겐 밀키 앰플 | D55: =SUM(E55:AI55) -> 0 | E55: ='1일'!E55 -> 0 | F55: ='2일'!E55 -> 0 | G55: ='3일'!E55 -> 0 | H55: ='4일'!E55 -> 0 | I55: ='5일'!E55 -> 0 | J55: ='6일'!E55 -> 0 | K55: ='7일'!E55 -> 0 | L55: ='8일'!E55 -> 0 | M55: ='9일'!E55 -> 0 | N55: ='10일'!E55 -> 0 | O55: ='11일'!E55 -> 0 | P55: ='12일'!E55 -> 0 | Q55: ='13일'!E55 -> 0 | R55: ='14일'!E55 -> 0 | S55: ='15일'!E55 -> 0 | T55: ='16일'!E55 -> 0 | U55: ='17일'!E55 -> 0 | V55: ='18일'!E55 -> 0 | W55: ='19일'!E55 -> 0 | X55: ='20일'!E55 -> 0 | Y55: ='21일'!E55 -> 0 | Z55: ='22일'!E55 -> 0 | AA55: ='23일'!E55 -> 0 | AB55: ='24일'!E55 -> 0 | AC55: ='25일'!E55 -> 0 | AD55: ='26일'!E55 -> 0 | AE55: ='27일'!E55 -> 0 | AF55: ='28일'!E55 -> 0 | AG55: ='29일'!E55 -> 0 | AH55: ='30일'!E55 -> 0 | AI55: ='31일'!E55 -> 0
A56: =A55+1 -> 45 | B56: 쟈스 멀티밤 | C56: 쟈스 콜라겐 밀키 아이크림 | D56: =SUM(E56:AI56) -> 0 | E56: ='1일'!E56 -> 0 | F56: ='2일'!E56 -> 0 | G56: ='3일'!E56 -> 0 | H56: ='4일'!E56 -> 0 | I56: ='5일'!E56 -> 0 | J56: ='6일'!E56 -> 0 | K56: ='7일'!E56 -> 0 | L56: ='8일'!E56 -> 0 | M56: ='9일'!E56 -> 0 | N56: ='10일'!E56 -> 0 | O56: ='11일'!E56 -> 0 | P56: ='12일'!E56 -> 0 | Q56: ='13일'!E56 -> 0 | R56: ='14일'!E56 -> 0 | S56: ='15일'!E56 -> 0 | T56: ='16일'!E56 -> 0 | U56: ='17일'!E56 -> 0 | V56: ='18일'!E56 -> 0 | W56: ='19일'!E56 -> 0 | X56: ='20일'!E56 -> 0 | Y56: ='21일'!E56 -> 0 | Z56: ='22일'!E56 -> 0 | AA56: ='23일'!E56 -> 0 | AB56: ='24일'!E56 -> 0 | AC56: ='25일'!E56 -> 0 | AD56: ='26일'!E56 -> 0 | AE56: ='27일'!E56 -> 0 | AF56: ='28일'!E56 -> 0 | AG56: ='29일'!E56 -> 0 | AH56: ='30일'!E56 -> 0 | AI56: ='31일'!E56 -> 0
B57: 쟈스 멀티밤 | C57: 쟈스 멀티밤 단품 소계 | D57: =SUM(D51:D56) -> 0 | E57: ='1일'!E57 -> 0 | F57: ='2일'!E57 -> 0 | G57: ='3일'!E57 -> 0 | H57: ='4일'!E57 -> 0 | I57: ='5일'!E57 -> 0 | J57: ='6일'!E57 -> 0 | K57: ='7일'!E57 -> 0 | L57: ='8일'!E57 -> 0 | M57: ='9일'!E57 -> 0 | N57: ='10일'!E57 -> 0 | O57: ='11일'!E57 -> 0 | P57: ='12일'!E57 -> 0 | Q57: ='13일'!E57 -> 0 | R57: ='14일'!E57 -> 0 | S57: ='15일'!E57 -> 0 | T57: ='16일'!E57 -> 0 | U57: ='17일'!E57 -> 0 | V57: ='18일'!E57 -> 0 | W57: ='19일'!E57 -> 0 | X57: ='20일'!E57 -> 0 | Y57: ='21일'!E57 -> 0 | Z57: ='22일'!E57 -> 0 | AA57: ='23일'!E57 -> 0 | AB57: ='24일'!E57 -> 0 | AC57: ='25일'!E57 -> 0 | AD57: ='26일'!E57 -> 0 | AE57: ='27일'!E57 -> 0 | AF57: ='28일'!E57 -> 0 | AG57: ='29일'!E57 -> 0 | AH57: ='30일'!E57 -> 0 | AI57: ='31일'!E57 -> 0
A58: =A56+1 -> 46 | B58: 쟈스 톤업 스틱 | C58: 쟈스 콜라겐 글로우 업 엔젤 밤 (블랙) | D58: =SUM(E58:AI58) -> 0 | E58: ='1일'!E58 -> 0 | F58: ='2일'!E58 -> 0 | G58: ='3일'!E58 -> 0 | H58: ='4일'!E58 -> 0 | I58: ='5일'!E58 -> 0 | J58: ='6일'!E58 -> 0 | K58: ='7일'!E58 -> 0 | L58: ='8일'!E58 -> 0 | M58: ='9일'!E58 -> 0 | N58: ='10일'!E58 -> 0 | O58: ='11일'!E58 -> 0 | P58: ='12일'!E58 -> 0 | Q58: ='13일'!E58 -> 0 | R58: ='14일'!E58 -> 0 | S58: ='15일'!E58 -> 0 | T58: ='16일'!E58 -> 0 | U58: ='17일'!E58 -> 0 | V58: ='18일'!E58 -> 0 | W58: ='19일'!E58 -> 0 | X58: ='20일'!E58 -> 0 | Y58: ='21일'!E58 -> 0 | Z58: ='22일'!E58 -> 0 | AA58: ='23일'!E58 -> 0 | AB58: ='24일'!E58 -> 0 | AC58: ='25일'!E58 -> 0 | AD58: ='26일'!E58 -> 0 | AE58: ='27일'!E58 -> 0 | AF58: ='28일'!E58 -> 0 | AG58: ='29일'!E58 -> 0 | AH58: ='30일'!E58 -> 0 | AI58: ='31일'!E58 -> 0
A59: =A58+1 -> 47 | B59: 쟈스 톤업 스틱 | C59: 쟈스 콜라겐 글로우 업 엔젤 밤 (핑크) | D59: =SUM(E59:AI59) -> 0 | E59: ='1일'!E59 -> 0 | F59: ='2일'!E59 -> 0 | G59: ='3일'!E59 -> 0 | H59: ='4일'!E59 -> 0 | I59: ='5일'!E59 -> 0 | J59: ='6일'!E59 -> 0 | K59: ='7일'!E59 -> 0 | L59: ='8일'!E59 -> 0 | M59: ='9일'!E59 -> 0 | N59: ='10일'!E59 -> 0 | O59: ='11일'!E59 -> 0 | P59: ='12일'!E59 -> 0 | Q59: ='13일'!E59 -> 0 | R59: ='14일'!E59 -> 0 | S59: ='15일'!E59 -> 0 | T59: ='16일'!E59 -> 0 | U59: ='17일'!E59 -> 0 | V59: ='18일'!E59 -> 0 | W59: ='19일'!E59 -> 0 | X59: ='20일'!E59 -> 0 | Y59: ='21일'!E59 -> 0 | Z59: ='22일'!E59 -> 0 | AA59: ='23일'!E59 -> 0 | AB59: ='24일'!E59 -> 0 | AC59: ='25일'!E59 -> 0 | AD59: ='26일'!E59 -> 0 | AE59: ='27일'!E59 -> 0 | AF59: ='28일'!E59 -> 0 | AG59: ='29일'!E59 -> 0 | AH59: ='30일'!E59 -> 0 | AI59: ='31일'!E59 -> 0
A60: =A59+1 -> 48 | B60: 쟈스 톤업 스틱 | C60: 쟈스 콜라겐 글로우 업 엔젤 밤 (오렌지) | D60: =SUM(E60:AI60) -> 0 | E60: ='1일'!E60 -> 0 | F60: ='2일'!E60 -> 0 | G60: ='3일'!E60 -> 0 | H60: ='4일'!E60 -> 0 | I60: ='5일'!E60 -> 0 | J60: ='6일'!E60 -> 0 | K60: ='7일'!E60 -> 0 | L60: ='8일'!E60 -> 0 | M60: ='9일'!E60 -> 0 | N60: ='10일'!E60 -> 0 | O60: ='11일'!E60 -> 0 | P60: ='12일'!E60 -> 0 | Q60: ='13일'!E60 -> 0 | R60: ='14일'!E60 -> 0 | S60: ='15일'!E60 -> 0 | T60: ='16일'!E60 -> 0 | U60: ='17일'!E60 -> 0 | V60: ='18일'!E60 -> 0 | W60: ='19일'!E60 -> 0 | X60: ='20일'!E60 -> 0 | Y60: ='21일'!E60 -> 0 | Z60: ='22일'!E60 -> 0 | AA60: ='23일'!E60 -> 0 | AB60: ='24일'!E60 -> 0 | AC60: ='25일'!E60 -> 0 | AD60: ='26일'!E60 -> 0 | AE60: ='27일'!E60 -> 0 | AF60: ='28일'!E60 -> 0 | AG60: ='29일'!E60 -> 0 | AH60: ='30일'!E60 -> 0 | AI60: ='31일'!E60 -> 0
B61: 쟈스 멀티밤 | C61: 쟈스 비비 멀티밤 단품 소계 | D61: =SUM(D58:D60) -> 0 | E61: ='1일'!E61 -> 0 | F61: ='2일'!E61 -> 0 | G61: ='3일'!E61 -> 0 | H61: ='4일'!E61 -> 0 | I61: ='5일'!E61 -> 0 | J61: ='6일'!E61 -> 0 | K61: ='7일'!E61 -> 0 | L61: ='8일'!E61 -> 0 | M61: ='9일'!E61 -> 0 | N61: ='10일'!E61 -> 0 | O61: ='11일'!E61 -> 0 | P61: ='12일'!E61 -> 0 | Q61: ='13일'!E61 -> 0 | R61: ='14일'!E61 -> 0 | S61: ='15일'!E61 -> 0 | T61: ='16일'!E61 -> 0 | U61: ='17일'!E61 -> 0 | V61: ='18일'!E61 -> 0 | W61: ='19일'!E61 -> 0 | X61: ='20일'!E61 -> 0 | Y61: ='21일'!E61 -> 0 | Z61: ='22일'!E61 -> 0 | AA61: ='23일'!E61 -> 0 | AB61: ='24일'!E61 -> 0 | AC61: ='25일'!E61 -> 0 | AD61: ='26일'!E61 -> 0 | AE61: ='27일'!E61 -> 0 | AF61: ='28일'!E61 -> 0 | AG61: ='29일'!E61 -> 0 | AH61: ='30일'!E61 -> 0 | AI61: ='31일'!E61 -> 0
A62: =A60+1 -> 49 | B62: 쟈스 선패치 | C62: 쟈스 콜라겐 프로 컷 화이트닝 패치 소형 베이지 (일반) | D62: =SUM(E62:AI62) -> 0 | E62: ='1일'!E62 -> 0 | F62: ='2일'!E62 -> 0 | G62: ='3일'!E62 -> 0 | H62: ='4일'!E62 -> 0 | I62: ='5일'!E62 -> 0 | J62: ='6일'!E62 -> 0 | K62: ='7일'!E62 -> 0 | L62: ='8일'!E62 -> 0 | M62: ='9일'!E62 -> 0 | N62: ='10일'!E62 -> 0 | O62: ='11일'!E62 -> 0 | P62: ='12일'!E62 -> 0 | Q62: ='13일'!E62 -> 0 | R62: ='14일'!E62 -> 0 | S62: ='15일'!E62 -> 0 | T62: ='16일'!E62 -> 0 | U62: ='17일'!E62 -> 0 | V62: ='18일'!E62 -> 0 | W62: ='19일'!E62 -> 0 | X62: ='20일'!E62 -> 0 | Y62: ='21일'!E62 -> 0 | Z62: ='22일'!E62 -> 0 | AA62: ='23일'!E62 -> 0 | AB62: ='24일'!E62 -> 0 | AC62: ='25일'!E62 -> 0 | AD62: ='26일'!E62 -> 0 | AE62: ='27일'!E62 -> 0 | AF62: ='28일'!E62 -> 0 | AG62: ='29일'!E62 -> 0 | AH62: ='30일'!E62 -> 0 | AI62: ='31일'!E62 -> 0
A63: =A62+1 -> 50 | B63: 쟈스 선패치 | C63: 쟈스 콜라겐 프로 컷 화이트닝 패치 소형 (4가지 멀티) | D63: =SUM(E63:AI63) -> 0 | E63: ='1일'!E63 -> 0 | F63: ='2일'!E63 -> 0 | G63: ='3일'!E63 -> 0 | H63: ='4일'!E63 -> 0 | I63: ='5일'!E63 -> 0 | J63: ='6일'!E63 -> 0 | K63: ='7일'!E63 -> 0 | L63: ='8일'!E63 -> 0 | M63: ='9일'!E63 -> 0 | N63: ='10일'!E63 -> 0 | O63: ='11일'!E63 -> 0 | P63: ='12일'!E63 -> 0 | Q63: ='13일'!E63 -> 0 | R63: ='14일'!E63 -> 0 | S63: ='15일'!E63 -> 0 | T63: ='16일'!E63 -> 0 | U63: ='17일'!E63 -> 0 | V63: ='18일'!E63 -> 0 | W63: ='19일'!E63 -> 0 | X63: ='20일'!E63 -> 0 | Y63: ='21일'!E63 -> 0 | Z63: ='22일'!E63 -> 0 | AA63: ='23일'!E63 -> 0 | AB63: ='24일'!E63 -> 0 | AC63: ='25일'!E63 -> 0 | AD63: ='26일'!E63 -> 0 | AE63: ='27일'!E63 -> 0 | AF63: ='28일'!E63 -> 0 | AG63: ='29일'!E63 -> 0 | AH63: ='30일'!E63 -> 0 | AI63: ='31일'!E63 -> 0
A64: =A63+1 -> 51 | B64: 쟈스 선패치 | C64: 쟈스 콜라겐 프로 컷 화이트닝 패치 대형 (일반) | D64: =SUM(E64:AI64) -> 0 | E64: ='1일'!E64 -> 0 | F64: ='2일'!E64 -> 0 | G64: ='3일'!E64 -> 0 | H64: ='4일'!E64 -> 0 | I64: ='5일'!E64 -> 0 | J64: ='6일'!E64 -> 0 | K64: ='7일'!E64 -> 0 | L64: ='8일'!E64 -> 0 | M64: ='9일'!E64 -> 0 | N64: ='10일'!E64 -> 0 | O64: ='11일'!E64 -> 0 | P64: ='12일'!E64 -> 0 | Q64: ='13일'!E64 -> 0 | R64: ='14일'!E64 -> 0 | S64: ='15일'!E64 -> 0 | T64: ='16일'!E64 -> 0 | U64: ='17일'!E64 -> 0 | V64: ='18일'!E64 -> 0 | W64: ='19일'!E64 -> 0 | X64: ='20일'!E64 -> 0 | Y64: ='21일'!E64 -> 0 | Z64: ='22일'!E64 -> 0 | AA64: ='23일'!E64 -> 0 | AB64: ='24일'!E64 -> 0 | AC64: ='25일'!E64 -> 0 | AD64: ='26일'!E64 -> 0 | AE64: ='27일'!E64 -> 0 | AF64: ='28일'!E64 -> 0 | AG64: ='29일'!E64 -> 0 | AH64: ='30일'!E64 -> 0 | AI64: ='31일'!E64 -> 0
A65: =A64+1 -> 52 | B65: 쟈스 선패치 | C65: 쟈스 콜라겐 프로 컷 화이트닝 패치 마스크형 (일반) | D65: =SUM(E65:AI65) -> 0 | E65: ='1일'!E65 -> 0 | F65: ='2일'!E65 -> 0 | G65: ='3일'!E65 -> 0 | H65: ='4일'!E65 -> 0 | I65: ='5일'!E65 -> 0 | J65: ='6일'!E65 -> 0 | K65: ='7일'!E65 -> 0 | L65: ='8일'!E65 -> 0 | M65: ='9일'!E65 -> 0 | N65: ='10일'!E65 -> 0 | O65: ='11일'!E65 -> 0 | P65: ='12일'!E65 -> 0 | Q65: ='13일'!E65 -> 0 | R65: ='14일'!E65 -> 0 | S65: ='15일'!E65 -> 0 | T65: ='16일'!E65 -> 0 | U65: ='17일'!E65 -> 0 | V65: ='18일'!E65 -> 0 | W65: ='19일'!E65 -> 0 | X65: ='20일'!E65 -> 0 | Y65: ='21일'!E65 -> 0 | Z65: ='22일'!E65 -> 0 | AA65: ='23일'!E65 -> 0 | AB65: ='24일'!E65 -> 0 | AC65: ='25일'!E65 -> 0 | AD65: ='26일'!E65 -> 0 | AE65: ='27일'!E65 -> 0 | AF65: ='28일'!E65 -> 0 | AG65: ='29일'!E65 -> 0 | AH65: ='30일'!E65 -> 0 | AI65: ='31일'!E65 -> 0
A66: =A65+1 -> 53 | B66: 쟈스 선패치 | C66: 쟈스 콜라겐 프로 컷 화이트닝 패치 소형 베이지 (일반) 파우치 | D66: =SUM(E66:AI66) -> 0 | E66: ='1일'!E66 -> 0 | F66: ='2일'!E66 -> 0 | G66: ='3일'!E66 -> 0 | H66: ='4일'!E66 -> 0 | I66: ='5일'!E66 -> 0 | J66: ='6일'!E66 -> 0 | K66: ='7일'!E66 -> 0 | L66: ='8일'!E66 -> 0 | M66: ='9일'!E66 -> 0 | N66: ='10일'!E66 -> 0 | O66: ='11일'!E66 -> 0 | P66: ='12일'!E66 -> 0 | Q66: ='13일'!E66 -> 0 | R66: ='14일'!E66 -> 0 | S66: ='15일'!E66 -> 0 | T66: ='16일'!E66 -> 0 | U66: ='17일'!E66 -> 0 | V66: ='18일'!E66 -> 0 | W66: ='19일'!E66 -> 0 | X66: ='20일'!E66 -> 0 | Y66: ='21일'!E66 -> 0 | Z66: ='22일'!E66 -> 0 | AA66: ='23일'!E66 -> 0 | AB66: ='24일'!E66 -> 0 | AC66: ='25일'!E66 -> 0 | AD66: ='26일'!E66 -> 0 | AE66: ='27일'!E66 -> 0 | AF66: ='28일'!E66 -> 0 | AG66: ='29일'!E66 -> 0 | AH66: ='30일'!E66 -> 0 | AI66: ='31일'!E66 -> 0
B67: 쟈스 선패치 | C67: 쟈스 선패치 단품 소계 | D67: =SUM(D62:D66) -> 0 | E67: ='1일'!E67 -> 0 | F67: ='2일'!E67 -> 0 | G67: ='3일'!E67 -> 0 | H67: ='4일'!E67 -> 0 | I67: ='5일'!E67 -> 0 | J67: ='6일'!E67 -> 0 | K67: ='7일'!E67 -> 0 | L67: ='8일'!E67 -> 0 | M67: ='9일'!E67 -> 0 | N67: ='10일'!E67 -> 0 | O67: ='11일'!E67 -> 0 | P67: ='12일'!E67 -> 0 | Q67: ='13일'!E67 -> 0 | R67: ='14일'!E67 -> 0 | S67: ='15일'!E67 -> 0 | T67: ='16일'!E67 -> 0 | U67: ='17일'!E67 -> 0 | V67: ='18일'!E67 -> 0 | W67: ='19일'!E67 -> 0 | X67: ='20일'!E67 -> 0 | Y67: ='21일'!E67 -> 0 | Z67: ='22일'!E67 -> 0 | AA67: ='23일'!E67 -> 0 | AB67: ='24일'!E67 -> 0 | AC67: ='25일'!E67 -> 0 | AD67: ='26일'!E67 -> 0 | AE67: ='27일'!E67 -> 0 | AF67: ='28일'!E67 -> 0 | AG67: ='29일'!E67 -> 0 | AH67: ='30일'!E67 -> 0 | AI67: ='31일'!E67 -> 0
A68: =A66+1 -> 54 | B68: 멀티쿠션 | C68: 아트델리 멀티쿠션 #그린 | D68: =SUM(E68:AI68) -> 0 | E68: ='1일'!E68 -> 0 | F68: ='2일'!E68 -> 0 | G68: ='3일'!E68 -> 0 | H68: ='4일'!E68 -> 0 | I68: ='5일'!E68 -> 0 | J68: ='6일'!E68 -> 0 | K68: ='7일'!E68 -> 0 | L68: ='8일'!E68 -> 0 | M68: ='9일'!E68 -> 0 | N68: ='10일'!E68 -> 0 | O68: ='11일'!E68 -> 0 | P68: ='12일'!E68 -> 0 | Q68: ='13일'!E68 -> 0 | R68: ='14일'!E68 -> 0 | S68: ='15일'!E68 -> 0 | T68: ='16일'!E68 -> 0 | U68: ='17일'!E68 -> 0 | V68: ='18일'!E68 -> 0 | W68: ='19일'!E68 -> 0 | X68: ='20일'!E68 -> 0 | Y68: ='21일'!E68 -> 0 | Z68: ='22일'!E68 -> 0 | AA68: ='23일'!E68 -> 0 | AB68: ='24일'!E68 -> 0 | AC68: ='25일'!E68 -> 0 | AD68: ='26일'!E68 -> 0 | AE68: ='27일'!E68 -> 0 | AF68: ='28일'!E68 -> 0 | AG68: ='29일'!E68 -> 0 | AH68: ='30일'!E68 -> 0 | AI68: ='31일'!E68 -> 0
A69: =A68+1 -> 55 | B69: 멀티쿠션 | C69: 아트델리 멀티쿠션 #핑크 | D69: =SUM(E69:AI69) -> 0 | E69: ='1일'!E69 -> 0 | F69: ='2일'!E69 -> 0 | G69: ='3일'!E69 -> 0 | H69: ='4일'!E69 -> 0 | I69: ='5일'!E69 -> 0 | J69: ='6일'!E69 -> 0 | K69: ='7일'!E69 -> 0 | L69: ='8일'!E69 -> 0 | M69: ='9일'!E69 -> 0 | N69: ='10일'!E69 -> 0 | O69: ='11일'!E69 -> 0 | P69: ='12일'!E69 -> 0 | Q69: ='13일'!E69 -> 0 | R69: ='14일'!E69 -> 0 | S69: ='15일'!E69 -> 0 | T69: ='16일'!E69 -> 0 | U69: ='17일'!E69 -> 0 | V69: ='18일'!E69 -> 0 | W69: ='19일'!E69 -> 0 | X69: ='20일'!E69 -> 0 | Y69: ='21일'!E69 -> 0 | Z69: ='22일'!E69 -> 0 | AA69: ='23일'!E69 -> 0 | AB69: ='24일'!E69 -> 0 | AC69: ='25일'!E69 -> 0 | AD69: ='26일'!E69 -> 0 | AE69: ='27일'!E69 -> 0 | AF69: ='28일'!E69 -> 0 | AG69: ='29일'!E69 -> 0 | AH69: ='30일'!E69 -> 0 | AI69: ='31일'!E69 -> 0
A70: =A69+1 -> 56 | B70: 멀티쿠션 | C70: 아트델리 멀티쿠션 #블랙 | D70: =SUM(E70:AI70) -> 0 | E70: ='1일'!E70 -> 0 | F70: ='2일'!E70 -> 0 | G70: ='3일'!E70 -> 0 | H70: ='4일'!E70 -> 0 | I70: ='5일'!E70 -> 0 | J70: ='6일'!E70 -> 0 | K70: ='7일'!E70 -> 0 | L70: ='8일'!E70 -> 0 | M70: ='9일'!E70 -> 0 | N70: ='10일'!E70 -> 0 | O70: ='11일'!E70 -> 0 | P70: ='12일'!E70 -> 0 | Q70: ='13일'!E70 -> 0 | R70: ='14일'!E70 -> 0 | S70: ='15일'!E70 -> 0 | T70: ='16일'!E70 -> 0 | U70: ='17일'!E70 -> 0 | V70: ='18일'!E70 -> 0 | W70: ='19일'!E70 -> 0 | X70: ='20일'!E70 -> 0 | Y70: ='21일'!E70 -> 0 | Z70: ='22일'!E70 -> 0 | AA70: ='23일'!E70 -> 0 | AB70: ='24일'!E70 -> 0 | AC70: ='25일'!E70 -> 0 | AD70: ='26일'!E70 -> 0 | AE70: ='27일'!E70 -> 0 | AF70: ='28일'!E70 -> 0 | AG70: ='29일'!E70 -> 0 | AH70: ='30일'!E70 -> 0 | AI70: ='31일'!E70 -> 0
A71: =A70+1 -> 57 | B71: 멀티쿠션 | C71: 아트델리 멀티쿠션 #블랙(리필) | D71: =SUM(E71:AI71) -> 0 | E71: ='1일'!E71 -> 0 | F71: ='2일'!E71 -> 0 | G71: ='3일'!E71 -> 0 | H71: ='4일'!E71 -> 0 | I71: ='5일'!E71 -> 0 | J71: ='6일'!E71 -> 0 | K71: ='7일'!E71 -> 0 | L71: ='8일'!E71 -> 0 | M71: ='9일'!E71 -> 0 | N71: ='10일'!E71 -> 0 | O71: ='11일'!E71 -> 0 | P71: ='12일'!E71 -> 0 | Q71: ='13일'!E71 -> 0 | R71: ='14일'!E71 -> 0 | S71: ='15일'!E71 -> 0 | T71: ='16일'!E71 -> 0 | U71: ='17일'!E71 -> 0 | V71: ='18일'!E71 -> 0 | W71: ='19일'!E71 -> 0 | X71: ='20일'!E71 -> 0 | Y71: ='21일'!E71 -> 0 | Z71: ='22일'!E71 -> 0 | AA71: ='23일'!E71 -> 0 | AB71: ='24일'!E71 -> 0 | AC71: ='25일'!E71 -> 0 | AD71: ='26일'!E71 -> 0 | AE71: ='27일'!E71 -> 0 | AF71: ='28일'!E71 -> 0 | AG71: ='29일'!E71 -> 0 | AH71: ='30일'!E71 -> 0 | AI71: ='31일'!E71 -> 0
A72: =A71+1 -> 58 | B72: 멀티쿠션 | C72: 아트델리 아이밤 멀티쿠션 #퍼플 | D72: =SUM(E72:AI72) -> 0 | E72: ='1일'!E72 -> 0 | F72: ='2일'!E72 -> 0 | G72: ='3일'!E72 -> 0 | H72: ='4일'!E72 -> 0 | I72: ='5일'!E72 -> 0 | J72: ='6일'!E72 -> 0 | K72: ='7일'!E72 -> 0 | L72: ='8일'!E72 -> 0 | M72: ='9일'!E72 -> 0 | N72: ='10일'!E72 -> 0 | O72: ='11일'!E72 -> 0 | P72: ='12일'!E72 -> 0 | Q72: ='13일'!E72 -> 0 | R72: ='14일'!E72 -> 0 | S72: ='15일'!E72 -> 0 | T72: ='16일'!E72 -> 0 | U72: ='17일'!E72 -> 0 | V72: ='18일'!E72 -> 0 | W72: ='19일'!E72 -> 0 | X72: ='20일'!E72 -> 0 | Y72: ='21일'!E72 -> 0 | Z72: ='22일'!E72 -> 0 | AA72: ='23일'!E72 -> 0 | AB72: ='24일'!E72 -> 0 | AC72: ='25일'!E72 -> 0 | AD72: ='26일'!E72 -> 0 | AE72: ='27일'!E72 -> 0 | AF72: ='28일'!E72 -> 0 | AG72: ='29일'!E72 -> 0 | AH72: ='30일'!E72 -> 0 | AI72: ='31일'!E72 -> 0
A73: =A72+1 -> 59 | B73: 멀티쿠션 | C73: 아트델리 아이밤 멀티쿠션 #골드 | D73: =SUM(E73:AI73) -> 0 | E73: ='1일'!E73 -> 0 | F73: ='2일'!E73 -> 0 | G73: ='3일'!E73 -> 0 | H73: ='4일'!E73 -> 0 | I73: ='5일'!E73 -> 0 | J73: ='6일'!E73 -> 0 | K73: ='7일'!E73 -> 0 | L73: ='8일'!E73 -> 0 | M73: ='9일'!E73 -> 0 | N73: ='10일'!E73 -> 0 | O73: ='11일'!E73 -> 0 | P73: ='12일'!E73 -> 0 | Q73: ='13일'!E73 -> 0 | R73: ='14일'!E73 -> 0 | S73: ='15일'!E73 -> 0 | T73: ='16일'!E73 -> 0 | U73: ='17일'!E73 -> 0 | V73: ='18일'!E73 -> 0 | W73: ='19일'!E73 -> 0 | X73: ='20일'!E73 -> 0 | Y73: ='21일'!E73 -> 0 | Z73: ='22일'!E73 -> 0 | AA73: ='23일'!E73 -> 0 | AB73: ='24일'!E73 -> 0 | AC73: ='25일'!E73 -> 0 | AD73: ='26일'!E73 -> 0 | AE73: ='27일'!E73 -> 0 | AF73: ='28일'!E73 -> 0 | AG73: ='29일'!E73 -> 0 | AH73: ='30일'!E73 -> 0 | AI73: ='31일'!E73 -> 0
A74: =A73+1 -> 60 | B74: 멀티쿠션 | C74: 아트델리 아이밤 멀티쿠션 #레드 | D74: =SUM(E74:AI74) -> 0 | E74: ='1일'!E74 -> 0 | F74: ='2일'!E74 -> 0 | G74: ='3일'!E74 -> 0 | H74: ='4일'!E74 -> 0 | I74: ='5일'!E74 -> 0 | J74: ='6일'!E74 -> 0 | K74: ='7일'!E74 -> 0 | L74: ='8일'!E74 -> 0 | M74: ='9일'!E74 -> 0 | N74: ='10일'!E74 -> 0 | O74: ='11일'!E74 -> 0 | P74: ='12일'!E74 -> 0 | Q74: ='13일'!E74 -> 0 | R74: ='14일'!E74 -> 0 | S74: ='15일'!E74 -> 0 | T74: ='16일'!E74 -> 0 | U74: ='17일'!E74 -> 0 | V74: ='18일'!E74 -> 0 | W74: ='19일'!E74 -> 0 | X74: ='20일'!E74 -> 0 | Y74: ='21일'!E74 -> 0 | Z74: ='22일'!E74 -> 0 | AA74: ='23일'!E74 -> 0 | AB74: ='24일'!E74 -> 0 | AC74: ='25일'!E74 -> 0 | AD74: ='26일'!E74 -> 0 | AE74: ='27일'!E74 -> 0 | AF74: ='28일'!E74 -> 0 | AG74: ='29일'!E74 -> 0 | AH74: ='30일'!E74 -> 0 | AI74: ='31일'!E74 -> 0
B75: 멀티쿠션 | C75: 아트델리 멀티쿠션 단품 소계 | D75: =SUM(D68:D74) -> 0 | E75: ='1일'!E75 -> 0 | F75: ='2일'!E75 -> 0 | G75: ='3일'!E75 -> 0 | H75: ='4일'!E75 -> 0 | I75: ='5일'!E75 -> 0 | J75: ='6일'!E75 -> 0 | K75: ='7일'!E75 -> 0 | L75: ='8일'!E75 -> 0 | M75: ='9일'!E75 -> 0 | N75: ='10일'!E75 -> 0 | O75: ='11일'!E75 -> 0 | P75: ='12일'!E75 -> 0 | Q75: ='13일'!E75 -> 0 | R75: ='14일'!E75 -> 0 | S75: ='15일'!E75 -> 0 | T75: ='16일'!E75 -> 0 | U75: ='17일'!E75 -> 0 | V75: ='18일'!E75 -> 0 | W75: ='19일'!E75 -> 0 | X75: ='20일'!E75 -> 0 | Y75: ='21일'!E75 -> 0 | Z75: ='22일'!E75 -> 0 | AA75: ='23일'!E75 -> 0 | AB75: ='24일'!E75 -> 0 | AC75: ='25일'!E75 -> 0 | AD75: ='26일'!E75 -> 0 | AE75: ='27일'!E75 -> 0 | AF75: ='28일'!E75 -> 0 | AG75: ='29일'!E75 -> 0 | AH75: ='30일'!E75 -> 0 | AI75: ='31일'!E75 -> 0
A76: =A74+1 -> 61 | B76: 칼비사노 캐비아 | C76: 칼비사노 엑스트라 캐비아 크림 | D76: =SUM(E76:AI76) -> 0 | E76: ='1일'!E76 -> 0 | F76: ='2일'!E76 -> 0 | G76: ='3일'!E76 -> 0 | H76: ='4일'!E76 -> 0 | I76: ='5일'!E76 -> 0 | J76: ='6일'!E76 -> 0 | K76: ='7일'!E76 -> 0 | L76: ='8일'!E76 -> 0 | M76: ='9일'!E76 -> 0 | N76: ='10일'!E76 -> 0 | O76: ='11일'!E76 -> 0 | P76: ='12일'!E76 -> 0 | Q76: ='13일'!E76 -> 0 | R76: ='14일'!E76 -> 0 | S76: ='15일'!E76 -> 0 | T76: ='16일'!E76 -> 0 | U76: ='17일'!E76 -> 0 | V76: ='18일'!E76 -> 0 | W76: ='19일'!E76 -> 0 | X76: ='20일'!E76 -> 0 | Y76: ='21일'!E76 -> 0 | Z76: ='22일'!E76 -> 0 | AA76: ='23일'!E76 -> 0 | AB76: ='24일'!E76 -> 0 | AC76: ='25일'!E76 -> 0 | AD76: ='26일'!E76 -> 0 | AE76: ='27일'!E76 -> 0 | AF76: ='28일'!E76 -> 0 | AG76: ='29일'!E76 -> 0 | AH76: ='30일'!E76 -> 0 | AI76: ='31일'!E76 -> 0
A77: =A76+1 -> 62 | B77: 칼비사노 캐비아 | C77: 칼비사노 엑스트라 캐비아 앰플 | D77: =SUM(E77:AI77) -> 0 | E77: ='1일'!E77 -> 0 | F77: ='2일'!E77 -> 0 | G77: ='3일'!E77 -> 0 | H77: ='4일'!E77 -> 0 | I77: ='5일'!E77 -> 0 | J77: ='6일'!E77 -> 0 | K77: ='7일'!E77 -> 0 | L77: ='8일'!E77 -> 0 | M77: ='9일'!E77 -> 0 | N77: ='10일'!E77 -> 0 | O77: ='11일'!E77 -> 0 | P77: ='12일'!E77 -> 0 | Q77: ='13일'!E77 -> 0 | R77: ='14일'!E77 -> 0 | S77: ='15일'!E77 -> 0 | T77: ='16일'!E77 -> 0 | U77: ='17일'!E77 -> 0 | V77: ='18일'!E77 -> 0 | W77: ='19일'!E77 -> 0 | X77: ='20일'!E77 -> 0 | Y77: ='21일'!E77 -> 0 | Z77: ='22일'!E77 -> 0 | AA77: ='23일'!E77 -> 0 | AB77: ='24일'!E77 -> 0 | AC77: ='25일'!E77 -> 0 | AD77: ='26일'!E77 -> 0 | AE77: ='27일'!E77 -> 0 | AF77: ='28일'!E77 -> 0 | AG77: ='29일'!E77 -> 0 | AH77: ='30일'!E77 -> 0 | AI77: ='31일'!E77 -> 0
A78: =A77+1 -> 63 | B78: 칼비사노 캐비아 | C78: 칼비사노 엑스트라 캐비아 앰플(실버) | D78: =SUM(E78:AI78) -> 0 | E78: ='1일'!E78 -> 0 | F78: ='2일'!E78 -> 0 | G78: ='3일'!E78 -> 0 | H78: ='4일'!E78 -> 0 | I78: ='5일'!E78 -> 0 | J78: ='6일'!E78 -> 0 | K78: ='7일'!E78 -> 0 | L78: ='8일'!E78 -> 0 | M78: ='9일'!E78 -> 0 | N78: ='10일'!E78 -> 0 | O78: ='11일'!E78 -> 0 | P78: ='12일'!E78 -> 0 | Q78: ='13일'!E78 -> 0 | R78: ='14일'!E78 -> 0 | S78: ='15일'!E78 -> 0 | T78: ='16일'!E78 -> 0 | U78: ='17일'!E78 -> 0 | V78: ='18일'!E78 -> 0 | W78: ='19일'!E78 -> 0 | X78: ='20일'!E78 -> 0 | Y78: ='21일'!E78 -> 0 | Z78: ='22일'!E78 -> 0 | AA78: ='23일'!E78 -> 0 | AB78: ='24일'!E78 -> 0 | AC78: ='25일'!E78 -> 0 | AD78: ='26일'!E78 -> 0 | AE78: ='27일'!E78 -> 0 | AF78: ='28일'!E78 -> 0 | AG78: ='29일'!E78 -> 0 | AH78: ='30일'!E78 -> 0 | AI78: ='31일'!E78 -> 0
A79: =A78+1 -> 64 | B79: 칼비사노 캐비아 | C79: 칼비사노 퓨어 골드 캐비아 앰플 | D79: =SUM(E79:AI79) -> 0 | E79: ='1일'!E79 -> 0 | F79: ='2일'!E79 -> 0 | G79: ='3일'!E79 -> 0 | H79: ='4일'!E79 -> 0 | I79: ='5일'!E79 -> 0 | J79: ='6일'!E79 -> 0 | K79: ='7일'!E79 -> 0 | L79: ='8일'!E79 -> 0 | M79: ='9일'!E79 -> 0 | N79: ='10일'!E79 -> 0 | O79: ='11일'!E79 -> 0 | P79: ='12일'!E79 -> 0 | Q79: ='13일'!E79 -> 0 | R79: ='14일'!E79 -> 0 | S79: ='15일'!E79 -> 0 | T79: ='16일'!E79 -> 0 | U79: ='17일'!E79 -> 0 | V79: ='18일'!E79 -> 0 | W79: ='19일'!E79 -> 0 | X79: ='20일'!E79 -> 0 | Y79: ='21일'!E79 -> 0 | Z79: ='22일'!E79 -> 0 | AA79: ='23일'!E79 -> 0 | AB79: ='24일'!E79 -> 0 | AC79: ='25일'!E79 -> 0 | AD79: ='26일'!E79 -> 0 | AE79: ='27일'!E79 -> 0 | AF79: ='28일'!E79 -> 0 | AG79: ='29일'!E79 -> 0 | AH79: ='30일'!E79 -> 0 | AI79: ='31일'!E79 -> 0
A80: =A79+1 -> 65 | B80: 칼비사노 캐비아 | C80: 칼비사노 1주년 패키지 크림 | D80: =SUM(E80:AI80) -> 0 | E80: ='1일'!E80 -> 0 | F80: ='2일'!E80 -> 0 | G80: ='3일'!E80 -> 0 | H80: ='4일'!E80 -> 0 | I80: ='5일'!E80 -> 0 | J80: ='6일'!E80 -> 0 | K80: ='7일'!E80 -> 0 | L80: ='8일'!E80 -> 0 | M80: ='9일'!E80 -> 0 | N80: ='10일'!E80 -> 0 | O80: ='11일'!E80 -> 0 | P80: ='12일'!E80 -> 0 | Q80: ='13일'!E80 -> 0 | R80: ='14일'!E80 -> 0 | S80: ='15일'!E80 -> 0 | T80: ='16일'!E80 -> 0 | U80: ='17일'!E80 -> 0 | V80: ='18일'!E80 -> 0 | W80: ='19일'!E80 -> 0 | X80: ='20일'!E80 -> 0 | Y80: ='21일'!E80 -> 0 | Z80: ='22일'!E80 -> 0 | AA80: ='23일'!E80 -> 0 | AB80: ='24일'!E80 -> 0 | AC80: ='25일'!E80 -> 0 | AD80: ='26일'!E80 -> 0 | AE80: ='27일'!E80 -> 0 | AF80: ='28일'!E80 -> 0 | AG80: ='29일'!E80 -> 0 | AH80: ='30일'!E80 -> 0 | AI80: ='31일'!E80 -> 0
A81: =A80+1 -> 66 | B81: 칼비사노 캐비아 | C81: 칼비사노 엑스트라 캐비아 크림(20g) | D81: =SUM(E81:AI81) -> 0 | E81: ='1일'!E81 -> 0 | F81: ='2일'!E81 -> 0 | G81: ='3일'!E81 -> 0 | H81: ='4일'!E81 -> 0 | I81: ='5일'!E81 -> 0 | J81: ='6일'!E81 -> 0 | K81: ='7일'!E81 -> 0 | L81: ='8일'!E81 -> 0 | M81: ='9일'!E81 -> 0 | N81: ='10일'!E81 -> 0 | O81: ='11일'!E81 -> 0 | P81: ='12일'!E81 -> 0 | Q81: ='13일'!E81 -> 0 | R81: ='14일'!E81 -> 0 | S81: ='15일'!E81 -> 0 | T81: ='16일'!E81 -> 0 | U81: ='17일'!E81 -> 0 | V81: ='18일'!E81 -> 0 | W81: ='19일'!E81 -> 0 | X81: ='20일'!E81 -> 0 | Y81: ='21일'!E81 -> 0 | Z81: ='22일'!E81 -> 0 | AA81: ='23일'!E81 -> 0 | AB81: ='24일'!E81 -> 0 | AC81: ='25일'!E81 -> 0 | AD81: ='26일'!E81 -> 0 | AE81: ='27일'!E81 -> 0 | AF81: ='28일'!E81 -> 0 | AG81: ='29일'!E81 -> 0 | AH81: ='30일'!E81 -> 0 | AI81: ='31일'!E81 -> 0
B82: 칼비사노 캐비아 | C82: 칼비사노 엑스트라 캐비아 단품 소계 | D82: =SUM(D76:D81) -> 0 | E82: ='1일'!E82 -> 0 | F82: ='2일'!E82 -> 0 | G82: ='3일'!E82 -> 0 | H82: ='4일'!E82 -> 0 | I82: ='5일'!E82 -> 0 | J82: ='6일'!E82 -> 0 | K82: ='7일'!E82 -> 0 | L82: ='8일'!E82 -> 0 | M82: ='9일'!E82 -> 0 | N82: ='10일'!E82 -> 0 | O82: ='11일'!E82 -> 0 | P82: ='12일'!E82 -> 0 | Q82: ='13일'!E82 -> 0 | R82: ='14일'!E82 -> 0 | S82: ='15일'!E82 -> 0 | T82: ='16일'!E82 -> 0 | U82: ='17일'!E82 -> 0 | V82: ='18일'!E82 -> 0 | W82: ='19일'!E82 -> 0 | X82: ='20일'!E82 -> 0 | Y82: ='21일'!E82 -> 0 | Z82: ='22일'!E82 -> 0 | AA82: ='23일'!E82 -> 0 | AB82: ='24일'!E82 -> 0 | AC82: ='25일'!E82 -> 0 | AD82: ='26일'!E82 -> 0 | AE82: ='27일'!E82 -> 0 | AF82: ='28일'!E82 -> 0 | AG82: ='29일'!E82 -> 0 | AH82: ='30일'!E82 -> 0 | AI82: ='31일'!E82 -> 0
A83: =A81+1 -> 67 | B83: 슬로우 테라피 | C83: 카밍 에센스 토너 | D83: =SUM(E83:AI83) -> 0 | E83: ='1일'!E83 -> 0 | F83: ='2일'!E83 -> 0 | G83: ='3일'!E83 -> 0 | H83: ='4일'!E83 -> 0 | I83: ='5일'!E83 -> 0 | J83: ='6일'!E83 -> 0 | K83: ='7일'!E83 -> 0 | L83: ='8일'!E83 -> 0 | M83: ='9일'!E83 -> 0 | N83: ='10일'!E83 -> 0 | O83: ='11일'!E83 -> 0 | P83: ='12일'!E83 -> 0 | Q83: ='13일'!E83 -> 0 | R83: ='14일'!E83 -> 0 | S83: ='15일'!E83 -> 0 | T83: ='16일'!E83 -> 0 | U83: ='17일'!E83 -> 0 | V83: ='18일'!E83 -> 0 | W83: ='19일'!E83 -> 0 | X83: ='20일'!E83 -> 0 | Y83: ='21일'!E83 -> 0 | Z83: ='22일'!E83 -> 0 | AA83: ='23일'!E83 -> 0 | AB83: ='24일'!E83 -> 0 | AC83: ='25일'!E83 -> 0 | AD83: ='26일'!E83 -> 0 | AE83: ='27일'!E83 -> 0 | AF83: ='28일'!E83 -> 0 | AG83: ='29일'!E83 -> 0 | AH83: ='30일'!E83 -> 0 | AI83: ='31일'!E83 -> 0
A84: =A83+1 -> 68 | B84: 슬로우 테라피 | C84: 카밍 밸런싱 에멀전 | D84: =SUM(E84:AI84) -> 0 | E84: ='1일'!E84 -> 0 | F84: ='2일'!E84 -> 0 | G84: ='3일'!E84 -> 0 | H84: ='4일'!E84 -> 0 | I84: ='5일'!E84 -> 0 | J84: ='6일'!E84 -> 0 | K84: ='7일'!E84 -> 0 | L84: ='8일'!E84 -> 0 | M84: ='9일'!E84 -> 0 | N84: ='10일'!E84 -> 0 | O84: ='11일'!E84 -> 0 | P84: ='12일'!E84 -> 0 | Q84: ='13일'!E84 -> 0 | R84: ='14일'!E84 -> 0 | S84: ='15일'!E84 -> 0 | T84: ='16일'!E84 -> 0 | U84: ='17일'!E84 -> 0 | V84: ='18일'!E84 -> 0 | W84: ='19일'!E84 -> 0 | X84: ='20일'!E84 -> 0 | Y84: ='21일'!E84 -> 0 | Z84: ='22일'!E84 -> 0 | AA84: ='23일'!E84 -> 0 | AB84: ='24일'!E84 -> 0 | AC84: ='25일'!E84 -> 0 | AD84: ='26일'!E84 -> 0 | AE84: ='27일'!E84 -> 0 | AF84: ='28일'!E84 -> 0 | AG84: ='29일'!E84 -> 0 | AH84: ='30일'!E84 -> 0 | AI84: ='31일'!E84 -> 0
A85: =A84+1 -> 69 | B85: 슬로우 테라피 | C85: 쓰리피 카밍 구슬 앰플 | D85: =SUM(E85:AI85) -> 0 | E85: ='1일'!E85 -> 0 | F85: ='2일'!E85 -> 0 | G85: ='3일'!E85 -> 0 | H85: ='4일'!E85 -> 0 | I85: ='5일'!E85 -> 0 | J85: ='6일'!E85 -> 0 | K85: ='7일'!E85 -> 0 | L85: ='8일'!E85 -> 0 | M85: ='9일'!E85 -> 0 | N85: ='10일'!E85 -> 0 | O85: ='11일'!E85 -> 0 | P85: ='12일'!E85 -> 0 | Q85: ='13일'!E85 -> 0 | R85: ='14일'!E85 -> 0 | S85: ='15일'!E85 -> 0 | T85: ='16일'!E85 -> 0 | U85: ='17일'!E85 -> 0 | V85: ='18일'!E85 -> 0 | W85: ='19일'!E85 -> 0 | X85: ='20일'!E85 -> 0 | Y85: ='21일'!E85 -> 0 | Z85: ='22일'!E85 -> 0 | AA85: ='23일'!E85 -> 0 | AB85: ='24일'!E85 -> 0 | AC85: ='25일'!E85 -> 0 | AD85: ='26일'!E85 -> 0 | AE85: ='27일'!E85 -> 0 | AF85: ='28일'!E85 -> 0 | AG85: ='29일'!E85 -> 0 | AH85: ='30일'!E85 -> 0 | AI85: ='31일'!E85 -> 0
A86: =A85+1 -> 70 | B86: 슬로우 테라피 | C86: 카밍 피토바이옴 크림 | D86: =SUM(E86:AI86) -> 0 | E86: ='1일'!E86 -> 0 | F86: ='2일'!E86 -> 0 | G86: ='3일'!E86 -> 0 | H86: ='4일'!E86 -> 0 | I86: ='5일'!E86 -> 0 | J86: ='6일'!E86 -> 0 | K86: ='7일'!E86 -> 0 | L86: ='8일'!E86 -> 0 | M86: ='9일'!E86 -> 0 | N86: ='10일'!E86 -> 0 | O86: ='11일'!E86 -> 0 | P86: ='12일'!E86 -> 0 | Q86: ='13일'!E86 -> 0 | R86: ='14일'!E86 -> 0 | S86: ='15일'!E86 -> 0 | T86: ='16일'!E86 -> 0 | U86: ='17일'!E86 -> 0 | V86: ='18일'!E86 -> 0 | W86: ='19일'!E86 -> 0 | X86: ='20일'!E86 -> 0 | Y86: ='21일'!E86 -> 0 | Z86: ='22일'!E86 -> 0 | AA86: ='23일'!E86 -> 0 | AB86: ='24일'!E86 -> 0 | AC86: ='25일'!E86 -> 0 | AD86: ='26일'!E86 -> 0 | AE86: ='27일'!E86 -> 0 | AF86: ='28일'!E86 -> 0 | AG86: ='29일'!E86 -> 0 | AH86: ='30일'!E86 -> 0 | AI86: ='31일'!E86 -> 0
A87: =A86+1 -> 71 | B87: 슬로우 테라피 | C87: 카밍 오아시스 클리어 패드 | D87: =SUM(E87:AI87) -> 0 | E87: ='1일'!E87 -> 0 | F87: ='2일'!E87 -> 0 | G87: ='3일'!E87 -> 0 | H87: ='4일'!E87 -> 0 | I87: ='5일'!E87 -> 0 | J87: ='6일'!E87 -> 0 | K87: ='7일'!E87 -> 0 | L87: ='8일'!E87 -> 0 | M87: ='9일'!E87 -> 0 | N87: ='10일'!E87 -> 0 | O87: ='11일'!E87 -> 0 | P87: ='12일'!E87 -> 0 | Q87: ='13일'!E87 -> 0 | R87: ='14일'!E87 -> 0 | S87: ='15일'!E87 -> 0 | T87: ='16일'!E87 -> 0 | U87: ='17일'!E87 -> 0 | V87: ='18일'!E87 -> 0 | W87: ='19일'!E87 -> 0 | X87: ='20일'!E87 -> 0 | Y87: ='21일'!E87 -> 0 | Z87: ='22일'!E87 -> 0 | AA87: ='23일'!E87 -> 0 | AB87: ='24일'!E87 -> 0 | AC87: ='25일'!E87 -> 0 | AD87: ='26일'!E87 -> 0 | AE87: ='27일'!E87 -> 0 | AF87: ='28일'!E87 -> 0 | AG87: ='29일'!E87 -> 0 | AH87: ='30일'!E87 -> 0 | AI87: ='31일'!E87 -> 0
A88: =A87+1 -> 72 | B88: 슬로우 테라피 | C88: 쓰리피 카밍 구슬 앰플 2ml 파우치 | D88: =SUM(E88:AI88) -> 0 | E88: ='1일'!E88 -> 0 | F88: ='2일'!E88 -> 0 | G88: ='3일'!E88 -> 0 | H88: ='4일'!E88 -> 0 | I88: ='5일'!E88 -> 0 | J88: ='6일'!E88 -> 0 | K88: ='7일'!E88 -> 0 | L88: ='8일'!E88 -> 0 | M88: ='9일'!E88 -> 0 | N88: ='10일'!E88 -> 0 | O88: ='11일'!E88 -> 0 | P88: ='12일'!E88 -> 0 | Q88: ='13일'!E88 -> 0 | R88: ='14일'!E88 -> 0 | S88: ='15일'!E88 -> 0 | T88: ='16일'!E88 -> 0 | U88: ='17일'!E88 -> 0 | V88: ='18일'!E88 -> 0 | W88: ='19일'!E88 -> 0 | X88: ='20일'!E88 -> 0 | Y88: ='21일'!E88 -> 0 | Z88: ='22일'!E88 -> 0 | AA88: ='23일'!E88 -> 0 | AB88: ='24일'!E88 -> 0 | AC88: ='25일'!E88 -> 0 | AD88: ='26일'!E88 -> 0 | AE88: ='27일'!E88 -> 0 | AF88: ='28일'!E88 -> 0 | AG88: ='29일'!E88 -> 0 | AH88: ='30일'!E88 -> 0 | AI88: ='31일'!E88 -> 0
A89: =A88+1 -> 73 | B89: 슬로우 테라피 | C89: 카밍 피토바이옴 크림 2ml 파우치 | D89: =SUM(E89:AI89) -> 0 | E89: ='1일'!E89 -> 0 | F89: ='2일'!E89 -> 0 | G89: ='3일'!E89 -> 0 | H89: ='4일'!E89 -> 0 | I89: ='5일'!E89 -> 0 | J89: ='6일'!E89 -> 0 | K89: ='7일'!E89 -> 0 | L89: ='8일'!E89 -> 0 | M89: ='9일'!E89 -> 0 | N89: ='10일'!E89 -> 0 | O89: ='11일'!E89 -> 0 | P89: ='12일'!E89 -> 0 | Q89: ='13일'!E89 -> 0 | R89: ='14일'!E89 -> 0 | S89: ='15일'!E89 -> 0 | T89: ='16일'!E89 -> 0 | U89: ='17일'!E89 -> 0 | V89: ='18일'!E89 -> 0 | W89: ='19일'!E89 -> 0 | X89: ='20일'!E89 -> 0 | Y89: ='21일'!E89 -> 0 | Z89: ='22일'!E89 -> 0 | AA89: ='23일'!E89 -> 0 | AB89: ='24일'!E89 -> 0 | AC89: ='25일'!E89 -> 0 | AD89: ='26일'!E89 -> 0 | AE89: ='27일'!E89 -> 0 | AF89: ='28일'!E89 -> 0 | AG89: ='29일'!E89 -> 0 | AH89: ='30일'!E89 -> 0 | AI89: ='31일'!E89 -> 0
B90: 슬로우테라피 | C90: 슬로우 테라피 단품 소계 | D90: =SUM(D83:D89) -> 0 | E90: ='1일'!E90 -> 0 | F90: ='2일'!E90 -> 0 | G90: ='3일'!E90 -> 0 | H90: ='4일'!E90 -> 0 | I90: ='5일'!E90 -> 0 | J90: ='6일'!E90 -> 0 | K90: ='7일'!E90 -> 0 | L90: ='8일'!E90 -> 0 | M90: ='9일'!E90 -> 0 | N90: ='10일'!E90 -> 0 | O90: ='11일'!E90 -> 0 | P90: ='12일'!E90 -> 0 | Q90: ='13일'!E90 -> 0 | R90: ='14일'!E90 -> 0 | S90: ='15일'!E90 -> 0 | T90: ='16일'!E90 -> 0 | U90: ='17일'!E90 -> 0 | V90: ='18일'!E90 -> 0 | W90: ='19일'!E90 -> 0 | X90: ='20일'!E90 -> 0 | Y90: ='21일'!E90 -> 0 | Z90: ='22일'!E90 -> 0 | AA90: ='23일'!E90 -> 0 | AB90: ='24일'!E90 -> 0 | AC90: ='25일'!E90 -> 0 | AD90: ='26일'!E90 -> 0 | AE90: ='27일'!E90 -> 0 | AF90: ='28일'!E90 -> 0 | AG90: ='29일'!E90 -> 0 | AH90: ='30일'!E90 -> 0 | AI90: ='31일'!E90 -> 0
A91: =A89+1 -> 74 | B91: 아트델리6 | C91: 아트델리 리얼 콜라겐 핏 커버 쿠션 본품(A) 민트 | D91: =SUM(E91:AI91) -> 0 | E91: ='1일'!E91 -> 0 | F91: ='2일'!E91 -> 0 | G91: ='3일'!E91 -> 0 | H91: ='4일'!E91 -> 0 | I91: ='5일'!E91 -> 0 | J91: ='6일'!E91 -> 0 | K91: ='7일'!E91 -> 0 | L91: ='8일'!E91 -> 0 | M91: ='9일'!E91 -> 0 | N91: ='10일'!E91 -> 0 | O91: ='11일'!E91 -> 0 | P91: ='12일'!E91 -> 0 | Q91: ='13일'!E91 -> 0 | R91: ='14일'!E91 -> 0 | S91: ='15일'!E91 -> 0 | T91: ='16일'!E91 -> 0 | U91: ='17일'!E91 -> 0 | V91: ='18일'!E91 -> 0 | W91: ='19일'!E91 -> 0 | X91: ='20일'!E91 -> 0 | Y91: ='21일'!E91 -> 0 | Z91: ='22일'!E91 -> 0 | AA91: ='23일'!E91 -> 0 | AB91: ='24일'!E91 -> 0 | AC91: ='25일'!E91 -> 0 | AD91: ='26일'!E91 -> 0 | AE91: ='27일'!E91 -> 0 | AF91: ='28일'!E91 -> 0 | AG91: ='29일'!E91 -> 0 | AH91: ='30일'!E91 -> 0 | AI91: ='31일'!E91 -> 0
A92: =A91+1 -> 75 | B92: 아트델리6 | C92: 아트델리 리얼 콜라겐 핏 커버 쿠션 리필(A) 민트리필 | D92: =SUM(E92:AI92) -> 0 | E92: ='1일'!E92 -> 0 | F92: ='2일'!E92 -> 0 | G92: ='3일'!E92 -> 0 | H92: ='4일'!E92 -> 0 | I92: ='5일'!E92 -> 0 | J92: ='6일'!E92 -> 0 | K92: ='7일'!E92 -> 0 | L92: ='8일'!E92 -> 0 | M92: ='9일'!E92 -> 0 | N92: ='10일'!E92 -> 0 | O92: ='11일'!E92 -> 0 | P92: ='12일'!E92 -> 0 | Q92: ='13일'!E92 -> 0 | R92: ='14일'!E92 -> 0 | S92: ='15일'!E92 -> 0 | T92: ='16일'!E92 -> 0 | U92: ='17일'!E92 -> 0 | V92: ='18일'!E92 -> 0 | W92: ='19일'!E92 -> 0 | X92: ='20일'!E92 -> 0 | Y92: ='21일'!E92 -> 0 | Z92: ='22일'!E92 -> 0 | AA92: ='23일'!E92 -> 0 | AB92: ='24일'!E92 -> 0 | AC92: ='25일'!E92 -> 0 | AD92: ='26일'!E92 -> 0 | AE92: ='27일'!E92 -> 0 | AF92: ='28일'!E92 -> 0 | AG92: ='29일'!E92 -> 0 | AH92: ='30일'!E92 -> 0 | AI92: ='31일'!E92 -> 0
A93: =A92+1 -> 76 | B93: 아트델리6 | C93: 아트델리 리얼 콜라겐 핏 커버 쿠션 본품(B) 핑크 | D93: =SUM(E93:AI93) -> 0 | E93: ='1일'!E93 -> 0 | F93: ='2일'!E93 -> 0 | G93: ='3일'!E93 -> 0 | H93: ='4일'!E93 -> 0 | I93: ='5일'!E93 -> 0 | J93: ='6일'!E93 -> 0 | K93: ='7일'!E93 -> 0 | L93: ='8일'!E93 -> 0 | M93: ='9일'!E93 -> 0 | N93: ='10일'!E93 -> 0 | O93: ='11일'!E93 -> 0 | P93: ='12일'!E93 -> 0 | Q93: ='13일'!E93 -> 0 | R93: ='14일'!E93 -> 0 | S93: ='15일'!E93 -> 0 | T93: ='16일'!E93 -> 0 | U93: ='17일'!E93 -> 0 | V93: ='18일'!E93 -> 0 | W93: ='19일'!E93 -> 0 | X93: ='20일'!E93 -> 0 | Y93: ='21일'!E93 -> 0 | Z93: ='22일'!E93 -> 0 | AA93: ='23일'!E93 -> 0 | AB93: ='24일'!E93 -> 0 | AC93: ='25일'!E93 -> 0 | AD93: ='26일'!E93 -> 0 | AE93: ='27일'!E93 -> 0 | AF93: ='28일'!E93 -> 0 | AG93: ='29일'!E93 -> 0 | AH93: ='30일'!E93 -> 0 | AI93: ='31일'!E93 -> 0
A94: =A93+1 -> 77 | B94: 아트델리6 | C94: 아트델리 리얼 콜라겐 핏 커버 쿠션 리필(B) 핑크리필 | D94: =SUM(E94:AI94) -> 0 | E94: ='1일'!E94 -> 0 | F94: ='2일'!E94 -> 0 | G94: ='3일'!E94 -> 0 | H94: ='4일'!E94 -> 0 | I94: ='5일'!E94 -> 0 | J94: ='6일'!E94 -> 0 | K94: ='7일'!E94 -> 0 | L94: ='8일'!E94 -> 0 | M94: ='9일'!E94 -> 0 | N94: ='10일'!E94 -> 0 | O94: ='11일'!E94 -> 0 | P94: ='12일'!E94 -> 0 | Q94: ='13일'!E94 -> 0 | R94: ='14일'!E94 -> 0 | S94: ='15일'!E94 -> 0 | T94: ='16일'!E94 -> 0 | U94: ='17일'!E94 -> 0 | V94: ='18일'!E94 -> 0 | W94: ='19일'!E94 -> 0 | X94: ='20일'!E94 -> 0 | Y94: ='21일'!E94 -> 0 | Z94: ='22일'!E94 -> 0 | AA94: ='23일'!E94 -> 0 | AB94: ='24일'!E94 -> 0 | AC94: ='25일'!E94 -> 0 | AD94: ='26일'!E94 -> 0 | AE94: ='27일'!E94 -> 0 | AF94: ='28일'!E94 -> 0 | AG94: ='29일'!E94 -> 0 | AH94: ='30일'!E94 -> 0 | AI94: ='31일'!E94 -> 0
A95: =A94+1 -> 78 | B95: 아트델리6 | C95: 아트델리 리얼 콜라겐 밀키 크림 | D95: =SUM(E95:AI95) -> 0 | E95: ='1일'!E95 -> 0 | F95: ='2일'!E95 -> 0 | G95: ='3일'!E95 -> 0 | H95: ='4일'!E95 -> 0 | I95: ='5일'!E95 -> 0 | J95: ='6일'!E95 -> 0 | K95: ='7일'!E95 -> 0 | L95: ='8일'!E95 -> 0 | M95: ='9일'!E95 -> 0 | N95: ='10일'!E95 -> 0 | O95: ='11일'!E95 -> 0 | P95: ='12일'!E95 -> 0 | Q95: ='13일'!E95 -> 0 | R95: ='14일'!E95 -> 0 | S95: ='15일'!E95 -> 0 | T95: ='16일'!E95 -> 0 | U95: ='17일'!E95 -> 0 | V95: ='18일'!E95 -> 0 | W95: ='19일'!E95 -> 0 | X95: ='20일'!E95 -> 0 | Y95: ='21일'!E95 -> 0 | Z95: ='22일'!E95 -> 0 | AA95: ='23일'!E95 -> 0 | AB95: ='24일'!E95 -> 0 | AC95: ='25일'!E95 -> 0 | AD95: ='26일'!E95 -> 0 | AE95: ='27일'!E95 -> 0 | AF95: ='28일'!E95 -> 0 | AG95: ='29일'!E95 -> 0 | AH95: ='30일'!E95 -> 0 | AI95: ='31일'!E95 -> 0
A96: =A95+1 -> 79 | B96: 아트델리6 | C96: 아트델리 리얼 콜라겐 밀키 앰플 | D96: =SUM(E96:AI96) -> 0 | E96: ='1일'!E96 -> 0 | F96: ='2일'!E96 -> 0 | G96: ='3일'!E96 -> 0 | H96: ='4일'!E96 -> 0 | I96: ='5일'!E96 -> 0 | J96: ='6일'!E96 -> 0 | K96: ='7일'!E96 -> 0 | L96: ='8일'!E96 -> 0 | M96: ='9일'!E96 -> 0 | N96: ='10일'!E96 -> 0 | O96: ='11일'!E96 -> 0 | P96: ='12일'!E96 -> 0 | Q96: ='13일'!E96 -> 0 | R96: ='14일'!E96 -> 0 | S96: ='15일'!E96 -> 0 | T96: ='16일'!E96 -> 0 | U96: ='17일'!E96 -> 0 | V96: ='18일'!E96 -> 0 | W96: ='19일'!E96 -> 0 | X96: ='20일'!E96 -> 0 | Y96: ='21일'!E96 -> 0 | Z96: ='22일'!E96 -> 0 | AA96: ='23일'!E96 -> 0 | AB96: ='24일'!E96 -> 0 | AC96: ='25일'!E96 -> 0 | AD96: ='26일'!E96 -> 0 | AE96: ='27일'!E96 -> 0 | AF96: ='28일'!E96 -> 0 | AG96: ='29일'!E96 -> 0 | AH96: ='30일'!E96 -> 0 | AI96: ='31일'!E96 -> 0
A97: =A96+1 -> 80 | B97: 아트델리6 | C97: 아트델리 리얼 콜라겐 아이크림 | D97: =SUM(E97:AI97) -> 0 | E97: ='1일'!E97 -> 0 | F97: ='2일'!E97 -> 0 | G97: ='3일'!E97 -> 0 | H97: ='4일'!E97 -> 0 | I97: ='5일'!E97 -> 0 | J97: ='6일'!E97 -> 0 | K97: ='7일'!E97 -> 0 | L97: ='8일'!E97 -> 0 | M97: ='9일'!E97 -> 0 | N97: ='10일'!E97 -> 0 | O97: ='11일'!E97 -> 0 | P97: ='12일'!E97 -> 0 | Q97: ='13일'!E97 -> 0 | R97: ='14일'!E97 -> 0 | S97: ='15일'!E97 -> 0 | T97: ='16일'!E97 -> 0 | U97: ='17일'!E97 -> 0 | V97: ='18일'!E97 -> 0 | W97: ='19일'!E97 -> 0 | X97: ='20일'!E97 -> 0 | Y97: ='21일'!E97 -> 0 | Z97: ='22일'!E97 -> 0 | AA97: ='23일'!E97 -> 0 | AB97: ='24일'!E97 -> 0 | AC97: ='25일'!E97 -> 0 | AD97: ='26일'!E97 -> 0 | AE97: ='27일'!E97 -> 0 | AF97: ='28일'!E97 -> 0 | AG97: ='29일'!E97 -> 0 | AH97: ='30일'!E97 -> 0 | AI97: ='31일'!E97 -> 0
A98: =A97+1 -> 81 | B98: 아트델리6 | C98: 블러링 벨벳 틴트 Burning up 픽 레드 | D98: =SUM(E98:AI98) -> 0 | E98: ='1일'!E98 -> 0 | F98: ='2일'!E98 -> 0 | G98: ='3일'!E98 -> 0 | H98: ='4일'!E98 -> 0 | I98: ='5일'!E98 -> 0 | J98: ='6일'!E98 -> 0 | K98: ='7일'!E98 -> 0 | L98: ='8일'!E98 -> 0 | M98: ='9일'!E98 -> 0 | N98: ='10일'!E98 -> 0 | O98: ='11일'!E98 -> 0 | P98: ='12일'!E98 -> 0 | Q98: ='13일'!E98 -> 0 | R98: ='14일'!E98 -> 0 | S98: ='15일'!E98 -> 0 | T98: ='16일'!E98 -> 0 | U98: ='17일'!E98 -> 0 | V98: ='18일'!E98 -> 0 | W98: ='19일'!E98 -> 0 | X98: ='20일'!E98 -> 0 | Y98: ='21일'!E98 -> 0 | Z98: ='22일'!E98 -> 0 | AA98: ='23일'!E98 -> 0 | AB98: ='24일'!E98 -> 0 | AC98: ='25일'!E98 -> 0 | AD98: ='26일'!E98 -> 0 | AE98: ='27일'!E98 -> 0 | AF98: ='28일'!E98 -> 0 | AG98: ='29일'!E98 -> 0 | AH98: ='30일'!E98 -> 0 | AI98: ='31일'!E98 -> 0
A99: =A98+1 -> 82 | B99: 아트델리6 | C99: 블러링 벨벳 틴트 just feeling 베어 브릭 | D99: =SUM(E99:AI99) -> 0 | E99: ='1일'!E99 -> 0 | F99: ='2일'!E99 -> 0 | G99: ='3일'!E99 -> 0 | H99: ='4일'!E99 -> 0 | I99: ='5일'!E99 -> 0 | J99: ='6일'!E99 -> 0 | K99: ='7일'!E99 -> 0 | L99: ='8일'!E99 -> 0 | M99: ='9일'!E99 -> 0 | N99: ='10일'!E99 -> 0 | O99: ='11일'!E99 -> 0 | P99: ='12일'!E99 -> 0 | Q99: ='13일'!E99 -> 0 | R99: ='14일'!E99 -> 0 | S99: ='15일'!E99 -> 0 | T99: ='16일'!E99 -> 0 | U99: ='17일'!E99 -> 0 | V99: ='18일'!E99 -> 0 | W99: ='19일'!E99 -> 0 | X99: ='20일'!E99 -> 0 | Y99: ='21일'!E99 -> 0 | Z99: ='22일'!E99 -> 0 | AA99: ='23일'!E99 -> 0 | AB99: ='24일'!E99 -> 0 | AC99: ='25일'!E99 -> 0 | AD99: ='26일'!E99 -> 0 | AE99: ='27일'!E99 -> 0 | AF99: ='28일'!E99 -> 0 | AG99: ='29일'!E99 -> 0 | AH99: ='30일'!E99 -> 0 | AI99: ='31일'!E99 -> 0
A100: =A99+1 -> 83 | B100: 아트델리6 | C100: 블러링 벨벳 틴트 go to lip 미드나잇 누디 | D100: =SUM(E100:AI100) -> 0 | E100: ='1일'!E100 -> 0 | F100: ='2일'!E100 -> 0 | G100: ='3일'!E100 -> 0 | H100: ='4일'!E100 -> 0 | I100: ='5일'!E100 -> 0 | J100: ='6일'!E100 -> 0 | K100: ='7일'!E100 -> 0 | L100: ='8일'!E100 -> 0 | M100: ='9일'!E100 -> 0 | N100: ='10일'!E100 -> 0 | O100: ='11일'!E100 -> 0 | P100: ='12일'!E100 -> 0 | Q100: ='13일'!E100 -> 0 | R100: ='14일'!E100 -> 0 | S100: ='15일'!E100 -> 0 | T100: ='16일'!E100 -> 0 | U100: ='17일'!E100 -> 0 | V100: ='18일'!E100 -> 0 | W100: ='19일'!E100 -> 0 | X100: ='20일'!E100 -> 0 | Y100: ='21일'!E100 -> 0 | Z100: ='22일'!E100 -> 0 | AA100: ='23일'!E100 -> 0 | AB100: ='24일'!E100 -> 0 | AC100: ='25일'!E100 -> 0 | AD100: ='26일'!E100 -> 0 | AE100: ='27일'!E100 -> 0 | AF100: ='28일'!E100 -> 0 | AG100: ='29일'!E100 -> 0 | AH100: ='30일'!E100 -> 0 | AI100: ='31일'!E100 -> 0
A101: =A100+1 -> 84 | B101: 아트델리6 | C101: 블러링 벨벳 틴트 Botanic garden 로즈 다운 | D101: =SUM(E101:AI101) -> 0 | E101: ='1일'!E101 -> 0 | F101: ='2일'!E101 -> 0 | G101: ='3일'!E101 -> 0 | H101: ='4일'!E101 -> 0 | I101: ='5일'!E101 -> 0 | J101: ='6일'!E101 -> 0 | K101: ='7일'!E101 -> 0 | L101: ='8일'!E101 -> 0 | M101: ='9일'!E101 -> 0 | N101: ='10일'!E101 -> 0 | O101: ='11일'!E101 -> 0 | P101: ='12일'!E101 -> 0 | Q101: ='13일'!E101 -> 0 | R101: ='14일'!E101 -> 0 | S101: ='15일'!E101 -> 0 | T101: ='16일'!E101 -> 0 | U101: ='17일'!E101 -> 0 | V101: ='18일'!E101 -> 0 | W101: ='19일'!E101 -> 0 | X101: ='20일'!E101 -> 0 | Y101: ='21일'!E101 -> 0 | Z101: ='22일'!E101 -> 0 | AA101: ='23일'!E101 -> 0 | AB101: ='24일'!E101 -> 0 | AC101: ='25일'!E101 -> 0 | AD101: ='26일'!E101 -> 0 | AE101: ='27일'!E101 -> 0 | AF101: ='28일'!E101 -> 0 | AG101: ='29일'!E101 -> 0 | AH101: ='30일'!E101 -> 0 | AI101: ='31일'!E101 -> 0
...

Sheet 1일
A1: NO | B1: 이지어드민 코드 | C1: 브랜드 | D1: 제품명 | E1: 합계 | F1: 이지어드민
D3: 총계
A4: 1 | B4: 00260 | C4: 쟈스_엑토인 바디크림 | D4: 쟈스 엑토인 데일리 모이스처라이징 크림(500ml) | E4: =SUM(F4:M4)-N4-O4 -> 0 | F4: =IFERROR(VLOOKUP(B4,이지어드민!$A$2:$D$100,4,0),0)*1 -> 0
A5: =A4+1 -> 2 | B5: 00257 | C5: 쟈스_엑토인 바디크림 | D5: 쟈스 엑토인 데일리 모이스처라이징 크림(100ml) | E5: =SUM(F5:M5)-N5-O5 -> 0
C6: 쟈스_엑토인 바디크림 | D6: 쟈스_엑토인 바디크림 소계 | E6: =SUM(E4:E5) -> 0
A7: =A5+1 -> 3 | B7: 00249 | C7: 쟈스_엑토인 맨얼굴 | D7: 쟈스 맨얼굴크림 | E7: =SUM(F7:M7)-N7-O7 -> 0
A8: =A7+1 -> 4 | B8: 00250 | C8: 쟈스_엑토인 맨얼굴 | D8: 쟈스 맨얼굴크림 튜브 | E8: =SUM(F8:M8)-N8-O8 -> 0
A9: =A8+1 -> 5 | B9: 00255 | C9: 쟈스_엑토인 맨얼굴 | D9: 쟈스 엑토인 퍼스트 케어 세럼 | E9: =SUM(F9:M9)-N9-O9 -> 0
A10: =A9+1 -> 6 | B10: 00262 | C10: 쟈스_엑토인 맨얼굴 | D10: 쟈스 맨얼굴크림 파우치(1.5g) | E10: =SUM(F10:M10)-N10-O10 -> 0
C11: 쟈스_엑토인 맨얼굴 | D11: 쟈스_엑토인 맨얼굴 소계 | E11: =SUM(E7:E10) -> 0
A12: =A10+1 -> 7 | B12: 00245 | C12: 아트델리_갈바덤 | D12: 아트델리 갈바덤 리프팅 커버쿠션 21호_실버 | E12: =SUM(F12:M12)-N12-O12 -> 0
A13: =A12+1 -> 8 | B13: 00243 | C13: 아트델리_갈바덤 | D13: 아트델리 갈바덤 리프팅 커버쿠션 21호_블랙 | E13: =SUM(F13:M13)-N13-O13 -> 0
A14: =A13+1 -> 9 | B14: 00241 | C14: 아트델리_갈바덤 | D14: 아트델리 갈바덤 리프팅 커버쿠션 21호_그린 | E14: =SUM(F14:M14)-N14-O14 -> 0
A15: =A14+1 -> 10 | B15: 00247 | C15: 아트델리_갈바덤 | D15: 아트델리 갈바덤 리프팅 커버쿠션 21호_리필 | E15: =SUM(F15:M15)-N15-O15 -> 0
A16: =A15+1 -> 11 | B16: 00246 | C16: 아트델리_갈바덤 | D16: 아트델리 갈바덤 리프팅 커버쿠션 23호_실버 | E16: =SUM(F16:M16)-N16-O16 -> 0
A17: =A16+1 -> 12 | B17: 00244 | C17: 아트델리_갈바덤 | D17: 아트델리 갈바덤 리프팅 커버쿠션 23호_블랙 | E17: =SUM(F17:M17)-N17-O17 -> 0
A18: =A17+1 -> 13 | B18: 00242 | C18: 아트델리_갈바덤 | D18: 아트델리 갈바덤 리프팅 커버쿠션 23호_그린 | E18: =SUM(F18:M18)-N18-O18 -> 0
A19: =A18+1 -> 14 | B19: 00248 | C19: 아트델리_갈바덤 | D19: 아트델리 갈바덤 리프팅 커버쿠션 23호_리필 | E19: =SUM(F19:M19)-N19-O19 -> 0
C20: 아트델리_갈바덤 | D20: 아트델리 갈바덤 리프팅 커버쿠션 소계 | E20: =SUM(E12:E19) -> 0
A21: =A19+1 -> 15 | B21: 00229 | C21: 쟈스 글루타치온 | D21: 쟈스 글루타치온 엑스퍼트 1000 크림 | E21: =SUM(F21:M21)-N21-O21 -> 0
A22: =A21+1 -> 16 | B22: 00230 | C22: 쟈스 글루타치온 | D22: 쟈스 글루타치온 엑스퍼트 세럼 | E22: =SUM(F22:M22)-N22-O22 -> 0
A23: =A22+1 -> 17 | B23: 00256 | C23: 쟈스 글루타치온 | D23: 쟈스 글루타치온 엑스퍼트 1000 크림(60ml) | E23: =SUM(F23:M23)-N23-O23 -> 0
A24: =A23+1 -> 18 | B24: 00263 | C24: 쟈스 글루타치온 | D24: 쟈스 글루타치온 크림 파우치(1.5g) | E24: =SUM(F24:M24)-N24-O24 -> 0
D25: 쟈스 글루타치온 소계 | E25: =SUM(E21:E24) -> 0
A26: =A24+1 -> 19 | B26: 00223 | C26: 슬로우 테라피 | D26: 슬로우테라피 구슬 앰플 마스크 유칼립투스 진정(10개입) | E26: =SUM(F26:M26)-N26-O26 -> 0
A27: =A26+1 -> 20 | B27: 00218 | C27: 슬로우 테라피 | D27: 슬로우테라피 구슬 앰플 마스크 유칼립투스 진정 | E27: =SUM(F27:M27)-N27-O27 -> 0
A28: =A27+1 -> 21 | B28: 00225 | C28: 슬로우 테라피 | D28: 슬로우테라피 구슬 앰플 마스크 브라이토닝 비타(10개입) | E28: =SUM(F28:M28)-N28-O28 -> 0
A29: =A28+1 -> 22 | B29: 00220 | C29: 슬로우 테라피 | D29: 슬로우테라피 구슬 앰플 마스크 브라이토닝 비타 | E29: =SUM(F29:M29)-N29-O29 -> 0
A30: =A29+1 -> 23 | B30: 00227 | C30: 슬로우 테라피 | D30: 슬로우테라피 구슬 앰플 마스크 그린토마토 모공(10개입) | E30: =SUM(F30:M30)-N30-O30 -> 0
A31: =A30+1 -> 24 | B31: 00222 | C31: 슬로우 테라피 | D31: 슬로우테라피 구슬 앰플 마스크 그린토마토 모공 | E31: =SUM(F31:M31)-N31-O31 -> 0
A32: =A31+1 -> 25 | B32: 00226 | C32: 슬로우 테라피 | D32: 슬로우테라피 구슬 앰플 마스크 화이트밀크 브라이트닝(10개입) | E32: =SUM(F32:M32)-N32-O32 -> 0
A33: =A32+1 -> 26 | B33: 00221 | C33: 슬로우 테라피 | D33: 슬로우테라피 구슬 앰플 마스크 화이트밀크 브라이트닝 | E33: =SUM(F33:M33)-N33-O33 -> 0
A34: =A33+1 -> 27 | B34: 00224 | C34: 슬로우 테라피 | D34: 슬로우테라피 구슬 앰플 마스크 카멜리아 탄력(10개입) | E34: =SUM(F34:M34)-N34-O34 -> 0
A35: =A34+1 -> 28 | B35: 00219 | C35: 슬로우 테라피 | D35: 슬로우테라피 구슬 앰플 마스크 카멜리아 탄력 | E35: =SUM(F35:M35)-N35-O35 -> 0
D36: 슬로우테라피 구슬앰플 마스크 소계 | E36: =SUM(E26:E35) -> 0
A37: =A35+1 -> 29 | B37: 00214 | C37: 장로젯 | D37: 장로젯 라부 셀룰라 앰플 엘릭시어 엑스이피018 50미리 | E37: =SUM(F37:M37)-N37-O37 -> 0
A38: =A37+1 -> 30 | B38: 00252 | C38: 장로젯 | D38: 장로젯 라부 셀룰라 앰플 엘릭시어 엑스이피018 20미리 | E38: =SUM(F38:M38)-N38-O38 -> 0
D39: 장로젯 소계 | E39: =SUM(E37:E38) -> 0
A40: =A38+1 -> 31 | B40: 00196 | C40: 더마클라센 | D40: 블랙 체인지 샴푸 | E40: =SUM(F40:M40)-N40-O40 -> 0
A41: =A40+1 -> 32 | B41: 00205 | C41: 더마클라센 | D41: 블랙 체인지 샴푸(흑갈색) | E41: =SUM(F41:M41)-N41-O41 -> 0
D42: 블랙 체인지 샴푸 소계 | E42: =SUM(E40:E41) -> 0
A43: =A41+1 -> 33 | B43: S00188 | C43: 아트델리 | D43: 듀얼웨어 립 글로우밤001 | E43: =SUM(F43:M43)-N43-O43 -> 0
A44: =A43+1 -> 34 | B44: S00189 | C44: 아트델리 | D44: 듀얼웨어 립 글로우밤002 | E44: =SUM(F44:M44)-N44-O44 -> 0
A45: =A44+1 -> 35 | B45: S00190 | C45: 아트델리 | D45: 듀얼웨어 립 글로우밤003 | E45: =SUM(F45:M45)-N45-O45 -> 0
A46: =A45+1 -> 36 | B46: S00191 | C46: 아트델리 | D46: 듀얼웨어 립 글로우밤004 | E46: =SUM(F46:M46)-N46-O46 -> 0
A47: =A46+1 -> 37 | B47: S00193 | C47: 아트델리 | D47: 맥시마이저 립 글로우 밤 101 | E47: =SUM(F47:M47)-N47-O47 -> 0
A48: =A47+1 -> 38 | B48: S00194 | C48: 아트델리 | D48: 맥시마이저 립 글로우 밤 102 | E48: =SUM(F48:M48)-N48-O48 -> 0
A49: =A48+1 -> 39 | B49: S00195 | C49: 아트델리 | D49: 맥시마이저 립 글로우 밤 103 | E49: =SUM(F49:M49)-N49-O49 -> 0
C50: 아트델리 | D50: 맥시마이저 립 글로우 밤 003 | E50: =SUM(E43:E49) -> 0
A51: =A49+1 -> 40 | B51: 00001 | C51: 쟈스 멀티밤 | D51: 쟈스 멀티밤 | E51: =SUM(F51:M51)-N51-O51 -> 0
A52: =A51+1 -> 41 | B52: 00002 | C52: 쟈스 멀티밤 | D52: 쟈스 키스밤 | E52: =SUM(F52:M52)-N52-O52 -> 0
A53: =A52+1 -> 42 | B53: 00003 | C53: 쟈스 멀티밤 | D53: 쟈스 콜라겐 세콜지 앰플 미스트 | E53: =SUM(F53:M53)-N53-O53 -> 0
A54: =A53+1 -> 43 | B54: 00004 | C54: 쟈스 멀티밤 | D54: 쟈스 콜라겐 밀키 크림 | E54: =SUM(F54:M54)-N54-O54 -> 0
A55: =A54+1 -> 44 | B55: 00005 | C55: 쟈스 멀티밤 | D55: 쟈스 콜라겐 밀키 앰플 | E55: =SUM(F55:M55)-N55-O55 -> 0
A56: =A55+1 -> 45 | B56: 00006 | C56: 쟈스 멀티밤 | D56: 쟈스 콜라겐 밀키 아이크림 | E56: =SUM(F56:M56)-N56-O56 -> 0
C57: 쟈스 멀티밤 | D57: 쟈스 멀티밤 단품 소계 | E57: =SUM(E51:E56) -> 0
A58: =A56+1 -> 46 | B58: 00007 | C58: 쟈스 톤업 스틱 | D58: 쟈스 콜라겐 글로우 업 엔젤 밤 (블랙) | E58: =SUM(F58:M58)-N58-O58 -> 0
A59: =A58+1 -> 47 | B59: 00008 | C59: 쟈스 톤업 스틱 | D59: 쟈스 콜라겐 글로우 업 엔젤 밤 (핑크) | E59: =SUM(F59:M59)-N59-O59 -> 0
A60: =A59+1 -> 48 | B60: 00009 | C60: 쟈스 톤업 스틱 | D60: 쟈스 콜라겐 글로우 업 엔젤 밤 (오렌지) | E60: =SUM(F60:M60)-N60-O60 -> 0
C61: 쟈스 멀티밤 | D61: 쟈스 비비 멀티밤 단품 소계 | E61: =SUM(E58:E60) -> 0
A62: =A60+1 -> 49 | B62: 00012 | C62: 쟈스 선패치 | D62: 쟈스 콜라겐 프로 컷 화이트닝 패치 소형 베이지 (일반) | E62: =SUM(F62:M62)-N62-O62 -> 0
A63: =A62+1 -> 50 | B63: 00013 | C63: 쟈스 선패치 | D63: 쟈스 콜라겐 프로 컷 화이트닝 패치 소형 (4가지 멀티) | E63: =SUM(F63:M63)-N63-O63 -> 0
A64: =A63+1 -> 51 | B64: 00014 | C64: 쟈스 선패치 | D64: 쟈스 콜라겐 프로 컷 화이트닝 패치 대형 (일반) | E64: =SUM(F64:M64)-N64-O64 -> 0
A65: =A64+1 -> 52 | B65: 00015 | C65: 쟈스 선패치 | D65: 쟈스 콜라겐 프로 컷 화이트닝 패치 마스크형 (일반) | E65: =SUM(F65:M65)-N65-O65 -> 0
A66: =A65+1 -> 53 | B66: 00016 | C66: 쟈스 선패치 | D66: 쟈스 콜라겐 프로 컷 화이트닝 패치 소형 베이지 (일반) 파우치 | E66: =SUM(F66:M66)-N66-O66 -> 0
C67: 쟈스 선패치 | D67: 쟈스 선패치 단품 소계 | E67: =SUM(E62:E66) -> 0
A68: =A66+1 -> 54 | B68: 00017 | C68: 멀티쿠션 | D68: 아트델리 멀티쿠션 #그린 | E68: =SUM(F68:M68)-N68-O68 -> 0
A69: =A68+1 -> 55 | B69: 00018 | C69: 멀티쿠션 | D69: 아트델리 멀티쿠션 #핑크 | E69: =SUM(F69:M69)-N69-O69 -> 0
A70: =A69+1 -> 56 | B70: 00019 | C70: 멀티쿠션 | D70: 아트델리 멀티쿠션 #블랙 | E70: =SUM(F70:M70)-N70-O70 -> 0
A71: =A70+1 -> 57 | B71: 00020 | C71: 멀티쿠션 | D71: 아트델리 멀티쿠션 #블랙(리필) | E71: =SUM(F71:M71)-N71-O71 -> 0
A72: =A71+1 -> 58 | B72: 00208 | C72: 멀티쿠션 | D72: 아트델리 아이밤 멀티쿠션 #퍼플 | E72: =SUM(F72:M72)-N72-O72 -> 0
A73: =A72+1 -> 59 | B73: 00207 | C73: 멀티쿠션 | D73: 아트델리 아이밤 멀티쿠션 #골드 | E73: =SUM(F73:M73)-N73-O73 -> 0
A74: =A73+1 -> 60 | B74: 00206 | C74: 멀티쿠션 | D74: 아트델리 아이밤 멀티쿠션 #레드 | E74: =SUM(F74:M74)-N74-O74 -> 0
C75: 멀티쿠션 | D75: 아트델리 멀티쿠션 단품 소계 | E75: =SUM(E68:E74) -> 0
A76: =A74+1 -> 61 | B76: 00010 | C76: 칼비사노 캐비아 | D76: 칼비사노 엑스트라 캐비아 크림 | E76: =SUM(F76:M76)-N76-O76 -> 0
A77: =A76+1 -> 62 | B77: 00011 | C77: 칼비사노 캐비아 | D77: 칼비사노 엑스트라 캐비아 앰플 | E77: =SUM(F77:M77)-N77-O77 -> 0
A78: =A77+1 -> 63 | B78: 00200 | C78: 칼비사노 캐비아 | D78: 칼비사노 엑스트라 캐비아 앰플(실버) | E78: =SUM(F78:M78)-N78-O78 -> 0
A79: =A78+1 -> 64 | B79: 00210 | C79: 칼비사노 캐비아 | D79: 칼비사노 퓨어 골드 캐비아 앰플 | E79: =SUM(F79:M79)-N79-O79 -> 0
A80: =A79+1 -> 65 | B80: 00215 | C80: 칼비사노 캐비아 | D80: 칼비사노 1주년 패키지 크림 | E80: =SUM(F80:M80)-N80-O80 -> 0
A81: =A80+1 -> 66 | B81: 00251 | C81: 칼비사노 캐비아 | D81: 칼비사노 엑스트라 캐비아 크림(20g) | E81: =SUM(F81:M81)-N81-O81 -> 0
C82: 칼비사노 캐비아 | D82: 칼비사노 엑스트라 캐비아 단품 소계 | E82: =SUM(E76:E81) -> 0
A83: =A81+1 -> 67 | B83: 00021 | C83: 슬로우 테라피 | D83: 카밍 에센스 토너 | E83: =SUM(F83:M83)-N83-O83 -> 0
A84: =A83+1 -> 68 | B84: 00022 | C84: 슬로우 테라피 | D84: 카밍 밸런싱 에멀전 | E84: =SUM(F84:M84)-N84-O84 -> 0
A85: =A84+1 -> 69 | B85: 00023 | C85: 슬로우 테라피 | D85: 쓰리피 카밍 구슬 앰플 | E85: =SUM(F85:M85)-N85-O85 -> 0
A86: =A85+1 -> 70 | B86: 00024 | C86: 슬로우 테라피 | D86: 카밍 피토바이옴 크림 | E86: =SUM(F86:M86)-N86-O86 -> 0
A87: =A86+1 -> 71 | B87: 00025 | C87: 슬로우 테라피 | D87: 카밍 오아시스 클리어 패드 | E87: =SUM(F87:M87)-N87-O87 -> 0
A88: =A87+1 -> 72 | B88: 00026 | C88: 슬로우 테라피 | D88: 쓰리피 카밍 구슬 앰플 2ml 파우치 | E88: =SUM(F88:M88)-N88-O88 -> 0
A89: =A88+1 -> 73 | B89: 00027 | C89: 슬로우 테라피 | D89: 카밍 피토바이옴 크림 2ml 파우치 | E89: =SUM(F89:M89)-N89-O89 -> 0
C90: 슬로우테라피 | D90: 슬로우 테라피 단품 소계 | E90: =SUM(E83:E89) -> 0
A91: =A89+1 -> 74 | B91: 00028 | C91: 아트델리6 | D91: 아트델리 리얼 콜라겐 핏 커버 쿠션 본품(A) 민트 | E91: =SUM(F91:M91)-N91-O91 -> 0
A92: =A91+1 -> 75 | B92: 00029 | C92: 아트델리6 | D92: 아트델리 리얼 콜라겐 핏 커버 쿠션 리필(A) 민트리필 | E92: =SUM(F92:M92)-N92-O92 -> 0
A93: =A92+1 -> 76 | B93: 00030 | C93: 아트델리6 | D93: 아트델리 리얼 콜라겐 핏 커버 쿠션 본품(B) 핑크 | E93: =SUM(F93:M93)-N93-O93 -> 0
A94: =A93+1 -> 77 | B94: 00031 | C94: 아트델리6 | D94: 아트델리 리얼 콜라겐 핏 커버 쿠션 리필(B) 핑크리필 | E94: =SUM(F94:M94)-N94-O94 -> 0
A95: =A94+1 -> 78 | B95: 00033 | C95: 아트델리6 | D95: 아트델리 리얼 콜라겐 밀키 크림 | E95: =SUM(F95:M95)-N95-O95 -> 0
A96: =A95+1 -> 79 | B96: 00032 | C96: 아트델리6 | D96: 아트델리 리얼 콜라겐 밀키 앰플 | E96: =SUM(F96:M96)-N96-O96 -> 0
A97: =A96+1 -> 80 | B97: 00034 | C97: 아트델리6 | D97: 아트델리 리얼 콜라겐 아이크림 | E97: =SUM(F97:M97)-N97-O97 -> 0
A98: =A97+1 -> 81 | B98: 00035 | C98: 아트델리6 | D98: 블러링 벨벳 틴트 Burning up 픽 레드 | E98: =SUM(F98:M98)-N98-O98 -> 0
A99: =A98+1 -> 82 | B99: 00036 | C99: 아트델리6 | D99: 블러링 벨벳 틴트 just feeling 베어 브릭 | E99: =SUM(F99:M99)-N99-O99 -> 0
A100: =A99+1 -> 83 | B100: 00037 | C100: 아트델리6 | D100: 블러링 벨벳 틴트 go to lip 미드나잇 누디 | E100: =SUM(F100:M100)-N100-O100 -> 0
A101: =A100+1 -> 84 | B101: 00038 | C101: 아트델리6 | D101: 블러링 벨벳 틴트 Botanic garden 로즈 다운 | E101: =SUM(F101:M101)-N101-O101 -> 0
...

Sheet 2일
A1: NO | B1: 이지어드민 코드 | C1: 브랜드 | D1: 제품명 | E1: 합계 | F1: 이지어드민
D3: 총계
A4: 1 | B4: 00260 | C4: 쟈스_엑토인 바디크림 | D4: 쟈스 엑토인 데일리 모이스처라이징 크림(500ml) | E4: =SUM(F4:M4)-N4-O4 -> 0 | F4: =IFERROR(VLOOKUP(B4,이지어드민!$A$2:$D$100,4,0),0)*1 -> 0
A5: =A4+1 -> 2 | B5: 00257 | C5: 쟈스_엑토인 바디크림 | D5: 쟈스 엑토인 데일리 모이스처라이징 크림(100ml) | E5: =SUM(F5:M5)-N5-O5 -> 0
C6: 쟈스_엑토인 바디크림 | D6: 쟈스_엑토인 바디크림 소계 | E6: =SUM(E4:E5) -> 0
A7: =A5+1 -> 3 | B7: 00249 | C7: 쟈스_엑토인 맨얼굴 | D7: 쟈스 맨얼굴크림 | E7: =SUM(F7:M7)-N7-O7 -> 0
A8: =A7+1 -> 4 | B8: 00250 | C8: 쟈스_엑토인 맨얼굴 | D8: 쟈스 맨얼굴크림 튜브 | E8: =SUM(F8:M8)-N8-O8 -> 0
A9: =A8+1 -> 5 | B9: 00255 | C9: 쟈스_엑토인 맨얼굴 | D9: 쟈스 엑토인 퍼스트 케어 세럼 | E9: =SUM(F9:M9)-N9-O9 -> 0
A10: =A9+1 -> 6 | B10: 00262 | C10: 쟈스_엑토인 맨얼굴 | D10: 쟈스 맨얼굴크림 파우치(1.5g) | E10: =SUM(F10:M10)-N10-O10 -> 0
C11: 쟈스_엑토인 맨얼굴 | D11: 쟈스_엑토인 맨얼굴 소계 | E11: =SUM(E7:E10) -> 0
A12: =A10+1 -> 7 | B12: 00245 | C12: 아트델리_갈바덤 | D12: 아트델리 갈바덤 리프팅 커버쿠션 21호_실버 | E12: =SUM(F12:M12)-N12-O12 -> 0
A13: =A12+1 -> 8 | B13: 00243 | C13: 아트델리_갈바덤 | D13: 아트델리 갈바덤 리프팅 커버쿠션 21호_블랙 | E13: =SUM(F13:M13)-N13-O13 -> 0
A14: =A13+1 -> 9 | B14: 00241 | C14: 아트델리_갈바덤 | D14: 아트델리 갈바덤 리프팅 커버쿠션 21호_그린 | E14: =SUM(F14:M14)-N14-O14 -> 0
A15: =A14+1 -> 10 | B15: 00247 | C15: 아트델리_갈바덤 | D15: 아트델리 갈바덤 리프팅 커버쿠션 21호_리필 | E15: =SUM(F15:M15)-N15-O15 -> 0
A16: =A15+1 -> 11 | B16: 00246 | C16: 아트델리_갈바덤 | D16: 아트델리 갈바덤 리프팅 커버쿠션 23호_실버 | E16: =SUM(F16:M16)-N16-O16 -> 0
A17: =A16+1 -> 12 | B17: 00244 | C17: 아트델리_갈바덤 | D17: 아트델리 갈바덤 리프팅 커버쿠션 23호_블랙 | E17: =SUM(F17:M17)-N17-O17 -> 0
A18: =A17+1 -> 13 | B18: 00242 | C18: 아트델리_갈바덤 | D18: 아트델리 갈바덤 리프팅 커버쿠션 23호_그린 | E18: =SUM(F18:M18)-N18-O18 -> 0
A19: =A18+1 -> 14 | B19: 00248 | C19: 아트델리_갈바덤 | D19: 아트델리 갈바덤 리프팅 커버쿠션 23호_리필 | E19: =SUM(F19:M19)-N19-O19 -> 0
C20: 아트델리_갈바덤 | D20: 아트델리 갈바덤 리프팅 커버쿠션 소계 | E20: =SUM(E12:E19) -> 0
A21: =A19+1 -> 15 | B21: 00229 | C21: 쟈스 글루타치온 | D21: 쟈스 글루타치온 엑스퍼트 1000 크림 | E21: =SUM(F21:M21)-N21-O21 -> 0
A22: =A21+1 -> 16 | B22: 00230 | C22: 쟈스 글루타치온 | D22: 쟈스 글루타치온 엑스퍼트 세럼 | E22: =SUM(F22:M22)-N22-O22 -> 0
A23: =A22+1 -> 17 | B23: 00256 | C23: 쟈스 글루타치온 | D23: 쟈스 글루타치온 엑스퍼트 1000 크림(60ml) | E23: =SUM(F23:M23)-N23-O23 -> 0
A24: =A23+1 -> 18 | B24: 00263 | C24: 쟈스 글루타치온 | D24: 쟈스 글루타치온 크림 파우치(1.5g) | E24: =SUM(F24:M24)-N24-O24 -> 0
D25: 쟈스 글루타치온 소계 | E25: =SUM(E21:E24) -> 0
A26: =A24+1 -> 19 | B26: 00223 | C26: 슬로우 테라피 | D26: 슬로우테라피 구슬 앰플 마스크 유칼립투스 진정(10개입) | E26: =SUM(F26:M26)-N26-O26 -> 0
A27: =A26+1 -> 20 | B27: 00218 | C27: 슬로우 테라피 | D27: 슬로우테라피 구슬 앰플 마스크 유칼립투스 진정 | E27: =SUM(F27:M27)-N27-O27 -> 0
A28: =A27+1 -> 21 | B28: 00225 | C28: 슬로우 테라피 | D28: 슬로우테라피 구슬 앰플 마스크 브라이토닝 비타(10개입) | E28: =SUM(F28:M28)-N28-O28 -> 0
A29: =A28+1 -> 22 | B29: 00220 | C29: 슬로우 테라피 | D29: 슬로우테라피 구슬 앰플 마스크 브라이토닝 비타 | E29: =SUM(F29:M29)-N29-O29 -> 0
A30: =A29+1 -> 23 | B30: 00227 | C30: 슬로우 테라피 | D30: 슬로우테라피 구슬 앰플 마스크 그린토마토 모공(10개입) | E30: =SUM(F30:M30)-N30-O30 -> 0
A31: =A30+1 -> 24 | B31: 00222 | C31: 슬로우 테라피 | D31: 슬로우테라피 구슬 앰플 마스크 그린토마토 모공 | E31: =SUM(F31:M31)-N31-O31 -> 0
A32: =A31+1 -> 25 | B32: 00226 | C32: 슬로우 테라피 | D32: 슬로우테라피 구슬 앰플 마스크 화이트밀크 브라이트닝(10개입) | E32: =SUM(F32:M32)-N32-O32 -> 0
A33: =A32+1 -> 26 | B33: 00221 | C33: 슬로우 테라피 | D33: 슬로우테라피 구슬 앰플 마스크 화이트밀크 브라이트닝 | E33: =SUM(F33:M33)-N33-O33 -> 0
A34: =A33+1 -> 27 | B34: 00224 | C34: 슬로우 테라피 | D34: 슬로우테라피 구슬 앰플 마스크 카멜리아 탄력(10개입) | E34: =SUM(F34:M34)-N34-O34 -> 0
A35: =A34+1 -> 28 | B35: 00219 | C35: 슬로우 테라피 | D35: 슬로우테라피 구슬 앰플 마스크 카멜리아 탄력 | E35: =SUM(F35:M35)-N35-O35 -> 0
D36: 슬로우테라피 구슬앰플 마스크 소계 | E36: =SUM(E26:E35) -> 0
A37: =A35+1 -> 29 | B37: 00214 | C37: 장로젯 | D37: 장로젯 라부 셀룰라 앰플 엘릭시어 엑스이피018 50미리 | E37: =SUM(F37:M37)-N37-O37 -> 0
A38: =A37+1 -> 30 | B38: 00252 | C38: 장로젯 | D38: 장로젯 라부 셀룰라 앰플 엘릭시어 엑스이피018 20미리 | E38: =SUM(F38:M38)-N38-O38 -> 0
D39: 장로젯 소계 | E39: =SUM(E37:E38) -> 0
A40: =A38+1 -> 31 | B40: 00196 | C40: 더마클라센 | D40: 블랙 체인지 샴푸 | E40: =SUM(F40:M40)-N40-O40 -> 0
A41: =A40+1 -> 32 | B41: 00205 | C41: 더마클라센 | D41: 블랙 체인지 샴푸(흑갈색) | E41: =SUM(F41:M41)-N41-O41 -> 0
D42: 블랙 체인지 샴푸 소계 | E42: =SUM(E40:E41) -> 0
A43: =A41+1 -> 33 | B43: S00188 | C43: 아트델리 | D43: 듀얼웨어 립 글로우밤001 | E43: =SUM(F43:M43)-N43-O43 -> 0
A44: =A43+1 -> 34 | B44: S00189 | C44: 아트델리 | D44: 듀얼웨어 립 글로우밤002 | E44: =SUM(F44:M44)-N44-O44 -> 0
A45: =A44+1 -> 35 | B45: S00190 | C45: 아트델리 | D45: 듀얼웨어 립 글로우밤003 | E45: =SUM(F45:M45)-N45-O45 -> 0
A46: =A45+1 -> 36 | B46: S00191 | C46: 아트델리 | D46: 듀얼웨어 립 글로우밤004 | E46: =SUM(F46:M46)-N46-O46 -> 0
A47: =A46+1 -> 37 | B47: S00193 | C47: 아트델리 | D47: 맥시마이저 립 글로우 밤 101 | E47: =SUM(F47:M47)-N47-O47 -> 0
A48: =A47+1 -> 38 | B48: S00194 | C48: 아트델리 | D48: 맥시마이저 립 글로우 밤 102 | E48: =SUM(F48:M48)-N48-O48 -> 0
A49: =A48+1 -> 39 | B49: S00195 | C49: 아트델리 | D49: 맥시마이저 립 글로우 밤 103 | E49: =SUM(F49:M49)-N49-O49 -> 0
C50: 아트델리 | D50: 맥시마이저 립 글로우 밤 003 | E50: =SUM(E43:E49) -> 0
A51: =A49+1 -> 40 | B51: 00001 | C51: 쟈스 멀티밤 | D51: 쟈스 멀티밤 | E51: =SUM(F51:M51)-N51-O51 -> 0
A52: =A51+1 -> 41 | B52: 00002 | C52: 쟈스 멀티밤 | D52: 쟈스 키스밤 | E52: =SUM(F52:M52)-N52-O52 -> 0
A53: =A52+1 -> 42 | B53: 00003 | C53: 쟈스 멀티밤 | D53: 쟈스 콜라겐 세콜지 앰플 미스트 | E53: =SUM(F53:M53)-N53-O53 -> 0
A54: =A53+1 -> 43 | B54: 00004 | C54: 쟈스 멀티밤 | D54: 쟈스 콜라겐 밀키 크림 | E54: =SUM(F54:M54)-N54-O54 -> 0
A55: =A54+1 -> 44 | B55: 00005 | C55: 쟈스 멀티밤 | D55: 쟈스 콜라겐 밀키 앰플 | E55: =SUM(F55:M55)-N55-O55 -> 0
A56: =A55+1 -> 45 | B56: 00006 | C56: 쟈스 멀티밤 | D56: 쟈스 콜라겐 밀키 아이크림 | E56: =SUM(F56:M56)-N56-O56 -> 0
C57: 쟈스 멀티밤 | D57: 쟈스 멀티밤 단품 소계 | E57: =SUM(E51:E56) -> 0
A58: =A56+1 -> 46 | B58: 00007 | C58: 쟈스 톤업 스틱 | D58: 쟈스 콜라겐 글로우 업 엔젤 밤 (블랙) | E58: =SUM(F58:M58)-N58-O58 -> 0
A59: =A58+1 -> 47 | B59: 00008 | C59: 쟈스 톤업 스틱 | D59: 쟈스 콜라겐 글로우 업 엔젤 밤 (핑크) | E59: =SUM(F59:M59)-N59-O59 -> 0
A60: =A59+1 -> 48 | B60: 00009 | C60: 쟈스 톤업 스틱 | D60: 쟈스 콜라겐 글로우 업 엔젤 밤 (오렌지) | E60: =SUM(F60:M60)-N60-O60 -> 0
C61: 쟈스 멀티밤 | D61: 쟈스 비비 멀티밤 단품 소계 | E61: =SUM(E58:E60) -> 0
A62: =A60+1 -> 49 | B62: 00012 | C62: 쟈스 선패치 | D62: 쟈스 콜라겐 프로 컷 화이트닝 패치 소형 베이지 (일반) | E62: =SUM(F62:M62)-N62-O62 -> 0
A63: =A62+1 -> 50 | B63: 00013 | C63: 쟈스 선패치 | D63: 쟈스 콜라겐 프로 컷 화이트닝 패치 소형 (4가지 멀티) | E63: =SUM(F63:M63)-N63-O63 -> 0
A64: =A63+1 -> 51 | B64: 00014 | C64: 쟈스 선패치 | D64: 쟈스 콜라겐 프로 컷 화이트닝 패치 대형 (일반) | E64: =SUM(F64:M64)-N64-O64 -> 0
A65: =A64+1 -> 52 | B65: 00015 | C65: 쟈스 선패치 | D65: 쟈스 콜라겐 프로 컷 화이트닝 패치 마스크형 (일반) | E65: =SUM(F65:M65)-N65-O65 -> 0
A66: =A65+1 -> 53 | B66: 00016 | C66: 쟈스 선패치 | D66: 쟈스 콜라겐 프로 컷 화이트닝 패치 소형 베이지 (일반) 파우치 | E66: =SUM(F66:M66)-N66-O66 -> 0
C67: 쟈스 선패치 | D67: 쟈스 선패치 단품 소계 | E67: =SUM(E62:E66) -> 0
A68: =A66+1 -> 54 | B68: 00017 | C68: 멀티쿠션 | D68: 아트델리 멀티쿠션 #그린 | E68: =SUM(F68:M68)-N68-O68 -> 0
A69: =A68+1 -> 55 | B69: 00018 | C69: 멀티쿠션 | D69: 아트델리 멀티쿠션 #핑크 | E69: =SUM(F69:M69)-N69-O69 -> 0
A70: =A69+1 -> 56 | B70: 00019 | C70: 멀티쿠션 | D70: 아트델리 멀티쿠션 #블랙 | E70: =SUM(F70:M70)-N70-O70 -> 0
A71: =A70+1 -> 57 | B71: 00020 | C71: 멀티쿠션 | D71: 아트델리 멀티쿠션 #블랙(리필) | E71: =SUM(F71:M71)-N71-O71 -> 0
A72: =A71+1 -> 58 | B72: 00208 | C72: 멀티쿠션 | D72: 아트델리 아이밤 멀티쿠션 #퍼플 | E72: =SUM(F72:M72)-N72-O72 -> 0
A73: =A72+1 -> 59 | B73: 00207 | C73: 멀티쿠션 | D73: 아트델리 아이밤 멀티쿠션 #골드 | E73: =SUM(F73:M73)-N73-O73 -> 0
A74: =A73+1 -> 60 | B74: 00206 | C74: 멀티쿠션 | D74: 아트델리 아이밤 멀티쿠션 #레드 | E74: =SUM(F74:M74)-N74-O74 -> 0
C75: 멀티쿠션 | D75: 아트델리 멀티쿠션 단품 소계 | E75: =SUM(E68:E74) -> 0
A76: =A74+1 -> 61 | B76: 00010 | C76: 칼비사노 캐비아 | D76: 칼비사노 엑스트라 캐비아 크림 | E76: =SUM(F76:M76)-N76-O76 -> 0
A77: =A76+1 -> 62 | B77: 00011 | C77: 칼비사노 캐비아 | D77: 칼비사노 엑스트라 캐비아 앰플 | E77: =SUM(F77:M77)-N77-O77 -> 0
A78: =A77+1 -> 63 | B78: 00200 | C78: 칼비사노 캐비아 | D78: 칼비사노 엑스트라 캐비아 앰플(실버) | E78: =SUM(F78:M78)-N78-O78 -> 0
A79: =A78+1 -> 64 | B79: 00210 | C79: 칼비사노 캐비아 | D79: 칼비사노 퓨어 골드 캐비아 앰플 | E79: =SUM(F79:M79)-N79-O79 -> 0
A80: =A79+1 -> 65 | B80: 00215 | C80: 칼비사노 캐비아 | D80: 칼비사노 1주년 패키지 크림 | E80: =SUM(F80:M80)-N80-O80 -> 0
A81: =A80+1 -> 66 | B81: 00251 | C81: 칼비사노 캐비아 | D81: 칼비사노 엑스트라 캐비아 크림(20g) | E81: =SUM(F81:M81)-N81-O81 -> 0
C82: 칼비사노 캐비아 | D82: 칼비사노 엑스트라 캐비아 단품 소계 | E82: =SUM(E76:E81) -> 0
A83: =A81+1 -> 67 | B83: 00021 | C83: 슬로우 테라피 | D83: 카밍 에센스 토너 | E83: =SUM(F83:M83)-N83-O83 -> 0
A84: =A83+1 -> 68 | B84: 00022 | C84: 슬로우 테라피 | D84: 카밍 밸런싱 에멀전 | E84: =SUM(F84:M84)-N84-O84 -> 0
A85: =A84+1 -> 69 | B85: 00023 | C85: 슬로우 테라피 | D85: 쓰리피 카밍 구슬 앰플 | E85: =SUM(F85:M85)-N85-O85 -> 0
A86: =A85+1 -> 70 | B86: 00024 | C86: 슬로우 테라피 | D86: 카밍 피토바이옴 크림 | E86: =SUM(F86:M86)-N86-O86 -> 0
A87: =A86+1 -> 71 | B87: 00025 | C87: 슬로우 테라피 | D87: 카밍 오아시스 클리어 패드 | E87: =SUM(F87:M87)-N87-O87 -> 0
A88: =A87+1 -> 72 | B88: 00026 | C88: 슬로우 테라피 | D88: 쓰리피 카밍 구슬 앰플 2ml 파우치 | E88: =SUM(F88:M88)-N88-O88 -> 0
A89: =A88+1 -> 73 | B89: 00027 | C89: 슬로우 테라피 | D89: 카밍 피토바이옴 크림 2ml 파우치 | E89: =SUM(F89:M89)-N89-O89 -> 0
C90: 슬로우테라피 | D90: 슬로우 테라피 단품 소계 | E90: =SUM(E83:E89) -> 0
A91: =A89+1 -> 74 | B91: 00028 | C91: 아트델리6 | D91: 아트델리 리얼 콜라겐 핏 커버 쿠션 본품(A) 민트 | E91: =SUM(F91:M91)-N91-O91 -> 0
A92: =A91+1 -> 75 | B92: 00029 | C92: 아트델리6 | D92: 아트델리 리얼 콜라겐 핏 커버 쿠션 리필(A) 민트리필 | E92: =SUM(F92:M92)-N92-O92 -> 0
A93: =A92+1 -> 76 | B93: 00030 | C93: 아트델리6 | D93: 아트델리 리얼 콜라겐 핏 커버 쿠션 본품(B) 핑크 | E93: =SUM(F93:M93)-N93-O93 -> 0
A94: =A93+1 -> 77 | B94: 00031 | C94: 아트델리6 | D94: 아트델리 리얼 콜라겐 핏 커버 쿠션 리필(B) 핑크리필 | E94: =SUM(F94:M94)-N94-O94 -> 0
A95: =A94+1 -> 78 | B95: 00033 | C95: 아트델리6 | D95: 아트델리 리얼 콜라겐 밀키 크림 | E95: =SUM(F95:M95)-N95-O95 -> 0
A96: =A95+1 -> 79 | B96: 00032 | C96: 아트델리6 | D96: 아트델리 리얼 콜라겐 밀키 앰플 | E96: =SUM(F96:M96)-N96-O96 -> 0
A97: =A96+1 -> 80 | B97: 00034 | C97: 아트델리6 | D97: 아트델리 리얼 콜라겐 아이크림 | E97: =SUM(F97:M97)-N97-O97 -> 0
A98: =A97+1 -> 81 | B98: 00035 | C98: 아트델리6 | D98: 블러링 벨벳 틴트 Burning up 픽 레드 | E98: =SUM(F98:M98)-N98-O98 -> 0
A99: =A98+1 -> 82 | B99: 00036 | C99: 아트델리6 | D99: 블러링 벨벳 틴트 just feeling 베어 브릭 | E99: =SUM(F99:M99)-N99-O99 -> 0
A100: =A99+1 -> 83 | B100: 00037 | C100: 아트델리6 | D100: 블러링 벨벳 틴트 go to lip 미드나잇 누디 | E100: =SUM(F100:M100)-N100-O100 -> 0
A101: =A100+1 -> 84 | B101: 00038 | C101: 아트델리6 | D101: 블러링 벨벳 틴트 Botanic garden 로즈 다운 | E101: =SUM(F101:M101)-N101-O101 -> 0
...

Sheet 3일
A1: NO | B1: 이지어드민 코드 | C1: 브랜드 | D1: 제품명 | E1: 합계 | F1: 이지어드민
D3: 총계
A4: 1 | B4: 00260 | C4: 쟈스_엑토인 바디크림 | D4: 쟈스 엑토인 데일리 모이스처라이징 크림(500ml) | E4: =SUM(F4:M4)-N4-O4 -> 0 | F4: =IFERROR(VLOOKUP(B4,이지어드민!$A$2:$D$100,4,0),0)*1 -> 0
A5: =A4+1 -> 2 | B5: 00257 | C5: 쟈스_엑토인 바디크림 | D5: 쟈스 엑토인 데일리 모이스처라이징 크림(100ml) | E5: =SUM(F5:M5)-N5-O5 -> 0
C6: 쟈스_엑토인 바디크림 | D6: 쟈스_엑토인 바디크림 소계 | E6: =SUM(E4:E5) -> 0
A7: =A5+1 -> 3 | B7: 00249 | C7: 쟈스_엑토인 맨얼굴 | D7: 쟈스 맨얼굴크림 | E7: =SUM(F7:M7)-N7-O7 -> 0
A8: =A7+1 -> 4 | B8: 00250 | C8: 쟈스_엑토인 맨얼굴 | D8: 쟈스 맨얼굴크림 튜브 | E8: =SUM(F8:M8)-N8-O8 -> 0
A9: =A8+1 -> 5 | B9: 00255 | C9: 쟈스_엑토인 맨얼굴 | D9: 쟈스 엑토인 퍼스트 케어 세럼 | E9: =SUM(F9:M9)-N9-O9 -> 0
A10: =A9+1 -> 6 | B10: 00262 | C10: 쟈스_엑토인 맨얼굴 | D10: 쟈스 맨얼굴크림 파우치(1.5g) | E10: =SUM(F10:M10)-N10-O10 -> 0
C11: 쟈스_엑토인 맨얼굴 | D11: 쟈스_엑토인 맨얼굴 소계 | E11: =SUM(E7:E10) -> 0
A12: =A10+1 -> 7 | B12: 00245 | C12: 아트델리_갈바덤 | D12: 아트델리 갈바덤 리프팅 커버쿠션 21호_실버 | E12: =SUM(F12:M12)-N12-O12 -> 0
A13: =A12+1 -> 8 | B13: 00243 | C13: 아트델리_갈바덤 | D13: 아트델리 갈바덤 리프팅 커버쿠션 21호_블랙 | E13: =SUM(F13:M13)-N13-O13 -> 0
A14: =A13+1 -> 9 | B14: 00241 | C14: 아트델리_갈바덤 | D14: 아트델리 갈바덤 리프팅 커버쿠션 21호_그린 | E14: =SUM(F14:M14)-N14-O14 -> 0
A15: =A14+1 -> 10 | B15: 00247 | C15: 아트델리_갈바덤 | D15: 아트델리 갈바덤 리프팅 커버쿠션 21호_리필 | E15: =SUM(F15:M15)-N15-O15 -> 0
A16: =A15+1 -> 11 | B16: 00246 | C16: 아트델리_갈바덤 | D16: 아트델리 갈바덤 리프팅 커버쿠션 23호_실버 | E16: =SUM(F16:M16)-N16-O16 -> 0
A17: =A16+1 -> 12 | B17: 00244 | C17: 아트델리_갈바덤 | D17: 아트델리 갈바덤 리프팅 커버쿠션 23호_블랙 | E17: =SUM(F17:M17)-N17-O17 -> 0
A18: =A17+1 -> 13 | B18: 00242 | C18: 아트델리_갈바덤 | D18: 아트델리 갈바덤 리프팅 커버쿠션 23호_그린 | E18: =SUM(F18:M18)-N18-O18 -> 0
A19: =A18+1 -> 14 | B19: 00248 | C19: 아트델리_갈바덤 | D19: 아트델리 갈바덤 리프팅 커버쿠션 23호_리필 | E19: =SUM(F19:M19)-N19-O19 -> 0
C20: 아트델리_갈바덤 | D20: 아트델리 갈바덤 리프팅 커버쿠션 소계 | E20: =SUM(E12:E19) -> 0
A21: =A19+1 -> 15 | B21: 00229 | C21: 쟈스 글루타치온 | D21: 쟈스 글루타치온 엑스퍼트 1000 크림 | E21: =SUM(F21:M21)-N21-O21 -> 0
A22: =A21+1 -> 16 | B22: 00230 | C22: 쟈스 글루타치온 | D22: 쟈스 글루타치온 엑스퍼트 세럼 | E22: =SUM(F22:M22)-N22-O22 -> 0
A23: =A22+1 -> 17 | B23: 00256 | C23: 쟈스 글루타치온 | D23: 쟈스 글루타치온 엑스퍼트 1000 크림(60ml) | E23: =SUM(F23:M23)-N23-O23 -> 0
A24: =A23+1 -> 18 | B24: 00263 | C24: 쟈스 글루타치온 | D24: 쟈스 글루타치온 크림 파우치(1.5g) | E24: =SUM(F24:M24)-N24-O24 -> 0
D25: 쟈스 글루타치온 소계 | E25: =SUM(E21:E24) -> 0
A26: =A24+1 -> 19 | B26: 00223 | C26: 슬로우 테라피 | D26: 슬로우테라피 구슬 앰플 마스크 유칼립투스 진정(10개입) | E26: =SUM(F26:M26)-N26-O26 -> 0
A27: =A26+1 -> 20 | B27: 00218 | C27: 슬로우 테라피 | D27: 슬로우테라피 구슬 앰플 마스크 유칼립투스 진정 | E27: =SUM(F27:M27)-N27-O27 -> 0
A28: =A27+1 -> 21 | B28: 00225 | C28: 슬로우 테라피 | D28: 슬로우테라피 구슬 앰플 마스크 브라이토닝 비타(10개입) | E28: =SUM(F28:M28)-N28-O28 -> 0
A29: =A28+1 -> 22 | B29: 00220 | C29: 슬로우 테라피 | D29: 슬로우테라피 구슬 앰플 마스크 브라이토닝 비타 | E29: =SUM(F29:M29)-N29-O29 -> 0
A30: =A29+1 -> 23 | B30: 00227 | C30: 슬로우 테라피 | D30: 슬로우테라피 구슬 앰플 마스크 그린토마토 모공(10개입) | E30: =SUM(F30:M30)-N30-O30 -> 0
A31: =A30+1 -> 24 | B31: 00222 | C31: 슬로우 테라피 | D31: 슬로우테라피 구슬 앰플 마스크 그린토마토 모공 | E31: =SUM(F31:M31)-N31-O31 -> 0
A32: =A31+1 -> 25 | B32: 00226 | C32: 슬로우 테라피 | D32: 슬로우테라피 구슬 앰플 마스크 화이트밀크 브라이트닝(10개입) | E32: =SUM(F32:M32)-N32-O32 -> 0
A33: =A32+1 -> 26 | B33: 00221 | C33: 슬로우 테라피 | D33: 슬로우테라피 구슬 앰플 마스크 화이트밀크 브라이트닝 | E33: =SUM(F33:M33)-N33-O33 -> 0
A34: =A33+1 -> 27 | B34: 00224 | C34: 슬로우 테라피 | D34: 슬로우테라피 구슬 앰플 마스크 카멜리아 탄력(10개입) | E34: =SUM(F34:M34)-N34-O34 -> 0
A35: =A34+1 -> 28 | B35: 00219 | C35: 슬로우 테라피 | D35: 슬로우테라피 구슬 앰플 마스크 카멜리아 탄력 | E35: =SUM(F35:M35)-N35-O35 -> 0
D36: 슬로우테라피 구슬앰플 마스크 소계 | E36: =SUM(E26:E35) -> 0
A37: =A35+1 -> 29 | B37: 00214 | C37: 장로젯 | D37: 장로젯 라부 셀룰라 앰플 엘릭시어 엑스이피018 50미리 | E37: =SUM(F37:M37)-N37-O37 -> 0
A38: =A37+1 -> 30 | B38: 00252 | C38: 장로젯 | D38: 장로젯 라부 셀룰라 앰플 엘릭시어 엑스이피018 20미리 | E38: =SUM(F38:M38)-N38-O38 -> 0
D39: 장로젯 소계 | E39: =SUM(E37:E38) -> 0
A40: =A38+1 -> 31 | B40: 00196 | C40: 더마클라센 | D40: 블랙 체인지 샴푸 | E40: =SUM(F40:M40)-N40-O40 -> 0
A41: =A40+1 -> 32 | B41: 00205 | C41: 더마클라센 | D41: 블랙 체인지 샴푸(흑갈색) | E41: =SUM(F41:M41)-N41-O41 -> 0
D42: 블랙 체인지 샴푸 소계 | E42: =SUM(E40:E41) -> 0
A43: =A41+1 -> 33 | B43: S00188 | C43: 아트델리 | D43: 듀얼웨어 립 글로우밤001 | E43: =SUM(F43:M43)-N43-O43 -> 0
A44: =A43+1 -> 34 | B44: S00189 | C44: 아트델리 | D44: 듀얼웨어 립 글로우밤002 | E44: =SUM(F44:M44)-N44-O44 -> 0
A45: =A44+1 -> 35 | B45: S00190 | C45: 아트델리 | D45: 듀얼웨어 립 글로우밤003 | E45: =SUM(F45:M45)-N45-O45 -> 0
A46: =A45+1 -> 36 | B46: S00191 | C46: 아트델리 | D46: 듀얼웨어 립 글로우밤004 | E46: =SUM(F46:M46)-N46-O46 -> 0
A47: =A46+1 -> 37 | B47: S00193 | C47: 아트델리 | D47: 맥시마이저 립 글로우 밤 101 | E47: =SUM(F47:M47)-N47-O47 -> 0
A48: =A47+1 -> 38 | B48: S00194 | C48: 아트델리 | D48: 맥시마이저 립 글로우 밤 102 | E48: =SUM(F48:M48)-N48-O48 -> 0
A49: =A48+1 -> 39 | B49: S00195 | C49: 아트델리 | D49: 맥시마이저 립 글로우 밤 103 | E49: =SUM(F49:M49)-N49-O49 -> 0
C50: 아트델리 | D50: 맥시마이저 립 글로우 밤 003 | E50: =SUM(E43:E49) -> 0
A51: =A49+1 -> 40 | B51: 00001 | C51: 쟈스 멀티밤 | D51: 쟈스 멀티밤 | E51: =SUM(F51:M51)-N51-O51 -> 0
A52: =A51+1 -> 41 | B52: 00002 | C52: 쟈스 멀티밤 | D52: 쟈스 키스밤 | E52: =SUM(F52:M52)-N52-O52 -> 0
A53: =A52+1 -> 42 | B53: 00003 | C53: 쟈스 멀티밤 | D53: 쟈스 콜라겐 세콜지 앰플 미스트 | E53: =SUM(F53:M53)-N53-O53 -> 0
A54: =A53+1 -> 43 | B54: 00004 | C54: 쟈스 멀티밤 | D54: 쟈스 콜라겐 밀키 크림 | E54: =SUM(F54:M54)-N54-O54 -> 0
A55: =A54+1 -> 44 | B55: 00005 | C55: 쟈스 멀티밤 | D55: 쟈스 콜라겐 밀키 앰플 | E55: =SUM(F55:M55)-N55-O55 -> 0
A56: =A55+1 -> 45 | B56: 00006 | C56: 쟈스 멀티밤 | D56: 쟈스 콜라겐 밀키 아이크림 | E56: =SUM(F56:M56)-N56-O56 -> 0
C57: 쟈스 멀티밤 | D57: 쟈스 멀티밤 단품 소계 | E57: =SUM(E51:E56) -> 0
A58: =A56+1 -> 46 | B58: 00007 | C58: 쟈스 톤업 스틱 | D58: 쟈스 콜라겐 글로우 업 엔젤 밤 (블랙) | E58: =SUM(F58:M58)-N58-O58 -> 0
A59: =A58+1 -> 47 | B59: 00008 | C59: 쟈스 톤업 스틱 | D59: 쟈스 콜라겐 글로우 업 엔젤 밤 (핑크) | E59: =SUM(F59:M59)-N59-O59 -> 0
A60: =A59+1 -> 48 | B60: 00009 | C60: 쟈스 톤업 스틱 | D60: 쟈스 콜라겐 글로우 업 엔젤 밤 (오렌지) | E60: =SUM(F60:M60)-N60-O60 -> 0
C61: 쟈스 멀티밤 | D61: 쟈스 비비 멀티밤 단품 소계 | E61: =SUM(E58:E60) -> 0
A62: =A60+1 -> 49 | B62: 00012 | C62: 쟈스 선패치 | D62: 쟈스 콜라겐 프로 컷 화이트닝 패치 소형 베이지 (일반) | E62: =SUM(F62:M62)-N62-O62 -> 0
A63: =A62+1 -> 50 | B63: 00013 | C63: 쟈스 선패치 | D63: 쟈스 콜라겐 프로 컷 화이트닝 패치 소형 (4가지 멀티) | E63: =SUM(F63:M63)-N63-O63 -> 0
A64: =A63+1 -> 51 | B64: 00014 | C64: 쟈스 선패치 | D64: 쟈스 콜라겐 프로 컷 화이트닝 패치 대형 (일반) | E64: =SUM(F64:M64)-N64-O64 -> 0
A65: =A64+1 -> 52 | B65: 00015 | C65: 쟈스 선패치 | D65: 쟈스 콜라겐 프로 컷 화이트닝 패치 마스크형 (일반) | E65: =SUM(F65:M65)-N65-O65 -> 0
A66: =A65+1 -> 53 | B66: 00016 | C66: 쟈스 선패치 | D66: 쟈스 콜라겐 프로 컷 화이트닝 패치 소형 베이지 (일반) 파우치 | E66: =SUM(F66:M66)-N66-O66 -> 0
C67: 쟈스 선패치 | D67: 쟈스 선패치 단품 소계 | E67: =SUM(E62:E66) -> 0
A68: =A66+1 -> 54 | B68: 00017 | C68: 멀티쿠션 | D68: 아트델리 멀티쿠션 #그린 | E68: =SUM(F68:M68)-N68-O68 -> 0
A69: =A68+1 -> 55 | B69: 00018 | C69: 멀티쿠션 | D69: 아트델리 멀티쿠션 #핑크 | E69: =SUM(F69:M69)-N69-O69 -> 0
A70: =A69+1 -> 56 | B70: 00019 | C70: 멀티쿠션 | D70: 아트델리 멀티쿠션 #블랙 | E70: =SUM(F70:M70)-N70-O70 -> 0
A71: =A70+1 -> 57 | B71: 00020 | C71: 멀티쿠션 | D71: 아트델리 멀티쿠션 #블랙(리필) | E71: =SUM(F71:M71)-N71-O71 -> 0
A72: =A71+1 -> 58 | B72: 00208 | C72: 멀티쿠션 | D72: 아트델리 아이밤 멀티쿠션 #퍼플 | E72: =SUM(F72:M72)-N72-O72 -> 0
A73: =A72+1 -> 59 | B73: 00207 | C73: 멀티쿠션 | D73: 아트델리 아이밤 멀티쿠션 #골드 | E73: =SUM(F73:M73)-N73-O73 -> 0
A74: =A73+1 -> 60 | B74: 00206 | C74: 멀티쿠션 | D74: 아트델리 아이밤 멀티쿠션 #레드 | E74: =SUM(F74:M74)-N74-O74 -> 0
C75: 멀티쿠션 | D75: 아트델리 멀티쿠션 단품 소계 | E75: =SUM(E68:E74) -> 0
A76: =A74+1 -> 61 | B76: 00010 | C76: 칼비사노 캐비아 | D76: 칼비사노 엑스트라 캐비아 크림 | E76: =SUM(F76:M76)-N76-O76 -> 0
A77: =A76+1 -> 62 | B77: 00011 | C77: 칼비사노 캐비아 | D77: 칼비사노 엑스트라 캐비아 앰플 | E77: =SUM(F77:M77)-N77-O77 -> 0
A78: =A77+1 -> 63 | B78: 00200 | C78: 칼비사노 캐비아 | D78: 칼비사노 엑스트라 캐비아 앰플(실버) | E78: =SUM(F78:M78)-N78-O78 -> 0
A79: =A78+1 -> 64 | B79: 00210 | C79: 칼비사노 캐비아 | D79: 칼비사노 퓨어 골드 캐비아 앰플 | E79: =SUM(F79:M79)-N79-O79 -> 0
A80: =A79+1 -> 65 | B80: 00215 | C80: 칼비사노 캐비아 | D80: 칼비사노 1주년 패키지 크림 | E80: =SUM(F80:M80)-N80-O80 -> 0
A81: =A80+1 -> 66 | B81: 00251 | C81: 칼비사노 캐비아 | D81: 칼비사노 엑스트라 캐비아 크림(20g) | E81: =SUM(F81:M81)-N81-O81 -> 0
C82: 칼비사노 캐비아 | D82: 칼비사노 엑스트라 캐비아 단품 소계 | E82: =SUM(E76:E81) -> 0
A83: =A81+1 -> 67 | B83: 00021 | C83: 슬로우 테라피 | D83: 카밍 에센스 토너 | E83: =SUM(F83:M83)-N83-O83 -> 0
A84: =A83+1 -> 68 | B84: 00022 | C84: 슬로우 테라피 | D84: 카밍 밸런싱 에멀전 | E84: =SUM(F84:M84)-N84-O84 -> 0
A85: =A84+1 -> 69 | B85: 00023 | C85: 슬로우 테라피 | D85: 쓰리피 카밍 구슬 앰플 | E85: =SUM(F85:M85)-N85-O85 -> 0
A86: =A85+1 -> 70 | B86: 00024 | C86: 슬로우 테라피 | D86: 카밍 피토바이옴 크림 | E86: =SUM(F86:M86)-N86-O86 -> 0
A87: =A86+1 -> 71 | B87: 00025 | C87: 슬로우 테라피 | D87: 카밍 오아시스 클리어 패드 | E87: =SUM(F87:M87)-N87-O87 -> 0
A88: =A87+1 -> 72 | B88: 00026 | C88: 슬로우 테라피 | D88: 쓰리피 카밍 구슬 앰플 2ml 파우치 | E88: =SUM(F88:M88)-N88-O88 -> 0
A89: =A88+1 -> 73 | B89: 00027 | C89: 슬로우 테라피 | D89: 카밍 피토바이옴 크림 2ml 파우치 | E89: =SUM(F89:M89)-N89-O89 -> 0
C90: 슬로우테라피 | D90: 슬로우 테라피 단품 소계 | E90: =SUM(E83:E89) -> 0
A91: =A89+1 -> 74 | B91: 00028 | C91: 아트델리6 | D91: 아트델리 리얼 콜라겐 핏 커버 쿠션 본품(A) 민트 | E91: =SUM(F91:M91)-N91-O91 -> 0
A92: =A91+1 -> 75 | B92: 00029 | C92: 아트델리6 | D92: 아트델리 리얼 콜라겐 핏 커버 쿠션 리필(A) 민트리필 | E92: =SUM(F92:M92)-N92-O92 -> 0
A93: =A92+1 -> 76 | B93: 00030 | C93: 아트델리6 | D93: 아트델리 리얼 콜라겐 핏 커버 쿠션 본품(B) 핑크 | E93: =SUM(F93:M93)-N93-O93 -> 0
A94: =A93+1 -> 77 | B94: 00031 | C94: 아트델리6 | D94: 아트델리 리얼 콜라겐 핏 커버 쿠션 리필(B) 핑크리필 | E94: =SUM(F94:M94)-N94-O94 -> 0
A95: =A94+1 -> 78 | B95: 00033 | C95: 아트델리6 | D95: 아트델리 리얼 콜라겐 밀키 크림 | E95: =SUM(F95:M95)-N95-O95 -> 0
A96: =A95+1 -> 79 | B96: 00032 | C96: 아트델리6 | D96: 아트델리 리얼 콜라겐 밀키 앰플 | E96: =SUM(F96:M96)-N96-O96 -> 0
A97: =A96+1 -> 80 | B97: 00034 | C97: 아트델리6 | D97: 아트델리 리얼 콜라겐 아이크림 | E97: =SUM(F97:M97)-N97-O97 -> 0
A98: =A97+1 -> 81 | B98: 00035 | C98: 아트델리6 | D98: 블러링 벨벳 틴트 Burning up 픽 레드 | E98: =SUM(F98:M98)-N98-O98 -> 0
A99: =A98+1 -> 82 | B99: 00036 | C99: 아트델리6 | D99: 블러링 벨벳 틴트 just feeling 베어 브릭 | E99: =SUM(F99:M99)-N99-O99 -> 0
A100: =A99+1 -> 83 | B100: 00037 | C100: 아트델리6 | D100: 블러링 벨벳 틴트 go to lip 미드나잇 누디 | E100: =SUM(F100:M100)-N100-O100 -> 0
A101: =A100+1 -> 84 | B101: 00038 | C101: 아트델리6 | D101: 블러링 벨벳 틴트 Botanic garden 로즈 다운 | E101: =SUM(F101:M101)-N101-O101 -> 0
...

Sheet 4일
A1: NO | B1: 이지어드민 코드 | C1: 브랜드 | D1: 제품명 | E1: 합계 | F1: 이지어드민
D3: 총계
A4: 1 | B4: 00260 | C4: 쟈스_엑토인 바디크림 | D4: 쟈스 엑토인 데일리 모이스처라이징 크림(500ml) | E4: =SUM(F4:M4)-N4-O4 -> 0 | F4: =IFERROR(VLOOKUP(B4,이지어드민!$A$2:$D$100,4,0),0)*1 -> 0
A5: =A4+1 -> 2 | B5: 00257 | C5: 쟈스_엑토인 바디크림 | D5: 쟈스 엑토인 데일리 모이스처라이징 크림(100ml) | E5: =SUM(F5:M5)-N5-O5 -> 0
C6: 쟈스_엑토인 바디크림 | D6: 쟈스_엑토인 바디크림 소계 | E6: =SUM(E4:E5) -> 0
A7: =A5+1 -> 3 | B7: 00249 | C7: 쟈스_엑토인 맨얼굴 | D7: 쟈스 맨얼굴크림 | E7: =SUM(F7:M7)-N7-O7 -> 0
A8: =A7+1 -> 4 | B8: 00250 | C8: 쟈스_엑토인 맨얼굴 | D8: 쟈스 맨얼굴크림 튜브 | E8: =SUM(F8:M8)-N8-O8 -> 0
A9: =A8+1 -> 5 | B9: 00255 | C9: 쟈스_엑토인 맨얼굴 | D9: 쟈스 엑토인 퍼스트 케어 세럼 | E9: =SUM(F9:M9)-N9-O9 -> 0
A10: =A9+1 -> 6 | B10: 00262 | C10: 쟈스_엑토인 맨얼굴 | D10: 쟈스 맨얼굴크림 파우치(1.5g) | E10: =SUM(F10:M10)-N10-O10 -> 0
C11: 쟈스_엑토인 맨얼굴 | D11: 쟈스_엑토인 맨얼굴 소계 | E11: =SUM(E7:E10) -> 0
A12: =A10+1 -> 7 | B12: 00245 | C12: 아트델리_갈바덤 | D12: 아트델리 갈바덤 리프팅 커버쿠션 21호_실버 | E12: =SUM(F12:M12)-N12-O12 -> 0
A13: =A12+1 -> 8 | B13: 00243 | C13: 아트델리_갈바덤 | D13: 아트델리 갈바덤 리프팅 커버쿠션 21호_블랙 | E13: =SUM(F13:M13)-N13-O13 -> 0
A14: =A13+1 -> 9 | B14: 00241 | C14: 아트델리_갈바덤 | D14: 아트델리 갈바덤 리프팅 커버쿠션 21호_그린 | E14: =SUM(F14:M14)-N14-O14 -> 0
A15: =A14+1 -> 10 | B15: 00247 | C15: 아트델리_갈바덤 | D15: 아트델리 갈바덤 리프팅 커버쿠션 21호_리필 | E15: =SUM(F15:M15)-N15-O15 -> 0
A16: =A15+1 -> 11 | B16: 00246 | C16: 아트델리_갈바덤 | D16: 아트델리 갈바덤 리프팅 커버쿠션 23호_실버 | E16: =SUM(F16:M16)-N16-O16 -> 0
A17: =A16+1 -> 12 | B17: 00244 | C17: 아트델리_갈바덤 | D17: 아트델리 갈바덤 리프팅 커버쿠션 23호_블랙 | E17: =SUM(F17:M17)-N17-O17 -> 0
A18: =A17+1 -> 13 | B18: 00242 | C18: 아트델리_갈바덤 | D18: 아트델리 갈바덤 리프팅 커버쿠션 23호_그린 | E18: =SUM(F18:M18)-N18-O18 -> 0
A19: =A18+1 -> 14 | B19: 00248 | C19: 아트델리_갈바덤 | D19: 아트델리 갈바덤 리프팅 커버쿠션 23호_리필 | E19: =SUM(F19:M19)-N19-O19 -> 0
C20: 아트델리_갈바덤 | D20: 아트델리 갈바덤 리프팅 커버쿠션 소계 | E20: =SUM(E12:E19) -> 0
A21: =A19+1 -> 15 | B21: 00229 | C21: 쟈스 글루타치온 | D21: 쟈스 글루타치온 엑스퍼트 1000 크림 | E21: =SUM(F21:M21)-N21-O21 -> 0
A22: =A21+1 -> 16 | B22: 00230 | C22: 쟈스 글루타치온 | D22: 쟈스 글루타치온 엑스퍼트 세럼 | E22: =SUM(F22:M22)-N22-O22 -> 0
A23: =A22+1 -> 17 | B23: 00256 | C23: 쟈스 글루타치온 | D23: 쟈스 글루타치온 엑스퍼트 1000 크림(60ml) | E23: =SUM(F23:M23)-N23-O23 -> 0
A24: =A23+1 -> 18 | B24: 00263 | C24: 쟈스 글루타치온 | D24: 쟈스 글루타치온 크림 파우치(1.5g) | E24: =SUM(F24:M24)-N24-O24 -> 0
D25: 쟈스 글루타치온 소계 | E25: =SUM(E21:E24) -> 0
A26: =A24+1 -> 19 | B26: 00223 | C26: 슬로우 테라피 | D26: 슬로우테라피 구슬 앰플 마스크 유칼립투스 진정(10개입) | E26: =SUM(F26:M26)-N26-O26 -> 0
A27: =A26+1 -> 20 | B27: 00218 | C27: 슬로우 테라피 | D27: 슬로우테라피 구슬 앰플 마스크 유칼립투스 진정 | E27: =SUM(F27:M27)-N27-O27 -> 0
A28: =A27+1 -> 21 | B28: 00225 | C28: 슬로우 테라피 | D28: 슬로우테라피 구슬 앰플 마스크 브라이토닝 비타(10개입) | E28: =SUM(F28:M28)-N28-O28 -> 0
A29: =A28+1 -> 22 | B29: 00220 | C29: 슬로우 테라피 | D29: 슬로우테라피 구슬 앰플 마스크 브라이토닝 비타 | E29: =SUM(F29:M29)-N29-O29 -> 0
A30: =A29+1 -> 23 | B30: 00227 | C30: 슬로우 테라피 | D30: 슬로우테라피 구슬 앰플 마스크 그린토마토 모공(10개입) | E30: =SUM(F30:M30)-N30-O30 -> 0
A31: =A30+1 -> 24 | B31: 00222 | C31: 슬로우 테라피 | D31: 슬로우테라피 구슬 앰플 마스크 그린토마토 모공 | E31: =SUM(F31:M31)-N31-O31 -> 0
A32: =A31+1 -> 25 | B32: 00226 | C32: 슬로우 테라피 | D32: 슬로우테라피 구슬 앰플 마스크 화이트밀크 브라이트닝(10개입) | E32: =SUM(F32:M32)-N32-O32 -> 0
A33: =A32+1 -> 26 | B33: 00221 | C33: 슬로우 테라피 | D33: 슬로우테라피 구슬 앰플 마스크 화이트밀크 브라이트닝 | E33: =SUM(F33:M33)-N33-O33 -> 0
A34: =A33+1 -> 27 | B34: 00224 | C34: 슬로우 테라피 | D34: 슬로우테라피 구슬 앰플 마스크 카멜리아 탄력(10개입) | E34: =SUM(F34:M34)-N34-O34 -> 0
A35: =A34+1 -> 28 | B35: 00219 | C35: 슬로우 테라피 | D35: 슬로우테라피 구슬 앰플 마스크 카멜리아 탄력 | E35: =SUM(F35:M35)-N35-O35 -> 0
D36: 슬로우테라피 구슬앰플 마스크 소계 | E36: =SUM(E26:E35) -> 0
A37: =A35+1 -> 29 | B37: 00214 | C37: 장로젯 | D37: 장로젯 라부 셀룰라 앰플 엘릭시어 엑스이피018 50미리 | E37: =SUM(F37:M37)-N37-O37 -> 0
A38: =A37+1 -> 30 | B38: 00252 | C38: 장로젯 | D38: 장로젯 라부 셀룰라 앰플 엘릭시어 엑스이피018 20미리 | E38: =SUM(F38:M38)-N38-O38 -> 0
D39: 장로젯 소계 | E39: =SUM(E37:E38) -> 0
A40: =A38+1 -> 31 | B40: 00196 | C40: 더마클라센 | D40: 블랙 체인지 샴푸 | E40: =SUM(F40:M40)-N40-O40 -> 0
A41: =A40+1 -> 32 | B41: 00205 | C41: 더마클라센 | D41: 블랙 체인지 샴푸(흑갈색) | E41: =SUM(F41:M41)-N41-O41 -> 0
D42: 블랙 체인지 샴푸 소계 | E42: =SUM(E40:E41) -> 0
A43: =A41+1 -> 33 | B43: S00188 | C43: 아트델리 | D43: 듀얼웨어 립 글로우밤001 | E43: =SUM(F43:M43)-N43-O43 -> 0
A44: =A43+1 -> 34 | B44: S00189 | C44: 아트델리 | D44: 듀얼웨어 립 글로우밤002 | E44: =SUM(F44:M44)-N44-O44 -> 0
A45: =A44+1 -> 35 | B45: S00190 | C45: 아트델리 | D45: 듀얼웨어 립 글로우밤003 | E45: =SUM(F45:M45)-N45-O45 -> 0
A46: =A45+1 -> 36 | B46: S00191 | C46: 아트델리 | D46: 듀얼웨어 립 글로우밤004 | E46: =SUM(F46:M46)-N46-O46 -> 0
A47: =A46+1 -> 37 | B47: S00193 | C47: 아트델리 | D47: 맥시마이저 립 글로우 밤 101 | E47: =SUM(F47:M47)-N47-O47 -> 0
A48: =A47+1 -> 38 | B48: S00194 | C48: 아트델리 | D48: 맥시마이저 립 글로우 밤 102 | E48: =SUM(F48:M48)-N48-O48 -> 0
A49: =A48+1 -> 39 | B49: S00195 | C49: 아트델리 | D49: 맥시마이저 립 글로우 밤 103 | E49: =SUM(F49:M49)-N49-O49 -> 0
C50: 아트델리 | D50: 맥시마이저 립 글로우 밤 003 | E50: =SUM(E43:E49) -> 0
A51: =A49+1 -> 40 | B51: 00001 | C51: 쟈스 멀티밤 | D51: 쟈스 멀티밤 | E51: =SUM(F51:M51)-N51-O51 -> 0
A52: =A51+1 -> 41 | B52: 00002 | C52: 쟈스 멀티밤 | D52: 쟈스 키스밤 | E52: =SUM(F52:M52)-N52-O52 -> 0
A53: =A52+1 -> 42 | B53: 00003 | C53: 쟈스 멀티밤 | D53: 쟈스 콜라겐 세콜지 앰플 미스트 | E53: =SUM(F53:M53)-N53-O53 -> 0
A54: =A53+1 -> 43 | B54: 00004 | C54: 쟈스 멀티밤 | D54: 쟈스 콜라겐 밀키 크림 | E54: =SUM(F54:M54)-N54-O54 -> 0
A55: =A54+1 -> 44 | B55: 00005 | C55: 쟈스 멀티밤 | D55: 쟈스 콜라겐 밀키 앰플 | E55: =SUM(F55:M55)-N55-O55 -> 0
A56: =A55+1 -> 45 | B56: 00006 | C56: 쟈스 멀티밤 | D56: 쟈스 콜라겐 밀키 아이크림 | E56: =SUM(F56:M56)-N56-O56 -> 0
C57: 쟈스 멀티밤 | D57: 쟈스 멀티밤 단품 소계 | E57: =SUM(E51:E56) -> 0
A58: =A56+1 -> 46 | B58: 00007 | C58: 쟈스 톤업 스틱 | D58: 쟈스 콜라겐 글로우 업 엔젤 밤 (블랙) | E58: =SUM(F58:M58)-N58-O58 -> 0
A59: =A58+1 -> 47 | B59: 00008 | C59: 쟈스 톤업 스틱 | D59: 쟈스 콜라겐 글로우 업 엔젤 밤 (핑크) | E59: =SUM(F59:M59)-N59-O59 -> 0
A60: =A59+1 -> 48 | B60: 00009 | C60: 쟈스 톤업 스틱 | D60: 쟈스 콜라겐 글로우 업 엔젤 밤 (오렌지) | E60: =SUM(F60:M60)-N60-O60 -> 0
C61: 쟈스 멀티밤 | D61: 쟈스 비비 멀티밤 단품 소계 | E61: =SUM(E58:E60) -> 0
A62: =A60+1 -> 49 | B62: 00012 | C62: 쟈스 선패치 | D62: 쟈스 콜라겐 프로 컷 화이트닝 패치 소형 베이지 (일반) | E62: =SUM(F62:M62)-N62-O62 -> 0
A63: =A62+1 -> 50 | B63: 00013 | C63: 쟈스 선패치 | D63: 쟈스 콜라겐 프로 컷 화이트닝 패치 소형 (4가지 멀티) | E63: =SUM(F63:M63)-N63-O63 -> 0
A64: =A63+1 -> 51 | B64: 00014 | C64: 쟈스 선패치 | D64: 쟈스 콜라겐 프로 컷 화이트닝 패치 대형 (일반) | E64: =SUM(F64:M64)-N64-O64 -> 0
A65: =A64+1 -> 52 | B65: 00015 | C65: 쟈스 선패치 | D65: 쟈스 콜라겐 프로 컷 화이트닝 패치 마스크형 (일반) | E65: =SUM(F65:M65)-N65-O65 -> 0
A66: =A65+1 -> 53 | B66: 00016 | C66: 쟈스 선패치 | D66: 쟈스 콜라겐 프로 컷 화이트닝 패치 소형 베이지 (일반) 파우치 | E66: =SUM(F66:M66)-N66-O66 -> 0
C67: 쟈스 선패치 | D67: 쟈스 선패치 단품 소계 | E67: =SUM(E62:E66) -> 0
A68: =A66+1 -> 54 | B68: 00017 | C68: 멀티쿠션 | D68: 아트델리 멀티쿠션 #그린 | E68: =SUM(F68:M68)-N68-O68 -> 0
A69: =A68+1 -> 55 | B69: 00018 | C69: 멀티쿠션 | D69: 아트델리 멀티쿠션 #핑크 | E69: =SUM(F69:M69)-N69-O69 -> 0
A70: =A69+1 -> 56 | B70: 00019 | C70: 멀티쿠션 | D70: 아트델리 멀티쿠션 #블랙 | E70: =SUM(F70:M70)-N70-O70 -> 0
A71: =A70+1 -> 57 | B71: 00020 | C71: 멀티쿠션 | D71: 아트델리 멀티쿠션 #블랙(리필) | E71: =SUM(F71:M71)-N71-O71 -> 0
A72: =A71+1 -> 58 | B72: 00208 | C72: 멀티쿠션 | D72: 아트델리 아이밤 멀티쿠션 #퍼플 | E72: =SUM(F72:M72)-N72-O72 -> 0
A73: =A72+1 -> 59 | B73: 00207 | C73: 멀티쿠션 | D73: 아트델리 아이밤 멀티쿠션 #골드 | E73: =SUM(F73:M73)-N73-O73 -> 0
A74: =A73+1 -> 60 | B74: 00206 | C74: 멀티쿠션 | D74: 아트델리 아이밤 멀티쿠션 #레드 | E74: =SUM(F74:M74)-N74-O74 -> 0
C75: 멀티쿠션 | D75: 아트델리 멀티쿠션 단품 소계 | E75: =SUM(E68:E74) -> 0
A76: =A74+1 -> 61 | B76: 00010 | C76: 칼비사노 캐비아 | D76: 칼비사노 엑스트라 캐비아 크림 | E76: =SUM(F76:M76)-N76-O76 -> 0
A77: =A76+1 -> 62 | B77: 00011 | C77: 칼비사노 캐비아 | D77: 칼비사노 엑스트라 캐비아 앰플 | E77: =SUM(F77:M77)-N77-O77 -> 0
A78: =A77+1 -> 63 | B78: 00200 | C78: 칼비사노 캐비아 | D78: 칼비사노 엑스트라 캐비아 앰플(실버) | E78: =SUM(F78:M78)-N78-O78 -> 0
A79: =A78+1 -> 64 | B79: 00210 | C79: 칼비사노 캐비아 | D79: 칼비사노 퓨어 골드 캐비아 앰플 | E79: =SUM(F79:M79)-N79-O79 -> 0
A80: =A79+1 -> 65 | B80: 00215 | C80: 칼비사노 캐비아 | D80: 칼비사노 1주년 패키지 크림 | E80: =SUM(F80:M80)-N80-O80 -> 0
A81: =A80+1 -> 66 | B81: 00251 | C81: 칼비사노 캐비아 | D81: 칼비사노 엑스트라 캐비아 크림(20g) | E81: =SUM(F81:M81)-N81-O81 -> 0
C82: 칼비사노 캐비아 | D82: 칼비사노 엑스트라 캐비아 단품 소계 | E82: =SUM(E76:E81) -> 0
A83: =A81+1 -> 67 | B83: 00021 | C83: 슬로우 테라피 | D83: 카밍 에센스 토너 | E83: =SUM(F83:M83)-N83-O83 -> 0
A84: =A83+1 -> 68 | B84: 00022 | C84: 슬로우 테라피 | D84: 카밍 밸런싱 에멀전 | E84: =SUM(F84:M84)-N84-O84 -> 0
A85: =A84+1 -> 69 | B85: 00023 | C85: 슬로우 테라피 | D85: 쓰리피 카밍 구슬 앰플 | E85: =SUM(F85:M85)-N85-O85 -> 0
A86: =A85+1 -> 70 | B86: 00024 | C86: 슬로우 테라피 | D86: 카밍 피토바이옴 크림 | E86: =SUM(F86:M86)-N86-O86 -> 0
A87: =A86+1 -> 71 | B87: 00025 | C87: 슬로우 테라피 | D87: 카밍 오아시스 클리어 패드 | E87: =SUM(F87:M87)-N87-O87 -> 0
A88: =A87+1 -> 72 | B88: 00026 | C88: 슬로우 테라피 | D88: 쓰리피 카밍 구슬 앰플 2ml 파우치 | E88: =SUM(F88:M88)-N88-O88 -> 0
A89: =A88+1 -> 73 | B89: 00027 | C89: 슬로우 테라피 | D89: 카밍 피토바이옴 크림 2ml 파우치 | E89: =SUM(F89:M89)-N89-O89 -> 0
C90: 슬로우테라피 | D90: 슬로우 테라피 단품 소계 | E90: =SUM(E83:E89) -> 0
A91: =A89+1 -> 74 | B91: 00028 | C91: 아트델리6 | D91: 아트델리 리얼 콜라겐 핏 커버 쿠션 본품(A) 민트 | E91: =SUM(F91:M91)-N91-O91 -> 0
A92: =A91+1 -> 75 | B92: 00029 | C92: 아트델리6 | D92: 아트델리 리얼 콜라겐 핏 커버 쿠션 리필(A) 민트리필 | E92: =SUM(F92:M92)-N92-O92 -> 0
A93: =A92+1 -> 76 | B93: 00030 | C93: 아트델리6 | D93: 아트델리 리얼 콜라겐 핏 커버 쿠션 본품(B) 핑크 | E93: =SUM(F93:M93)-N93-O93 -> 0
A94: =A93+1 -> 77 | B94: 00031 | C94: 아트델리6 | D94: 아트델리 리얼 콜라겐 핏 커버 쿠션 리필(B) 핑크리필 | E94: =SUM(F94:M94)-N94-O94 -> 0
A95: =A94+1 -> 78 | B95: 00033 | C95: 아트델리6 | D95: 아트델리 리얼 콜라겐 밀키 크림 | E95: =SUM(F95:M95)-N95-O95 -> 0
A96: =A95+1 -> 79 | B96: 00032 | C96: 아트델리6 | D96: 아트델리 리얼 콜라겐 밀키 앰플 | E96: =SUM(F96:M96)-N96-O96 -> 0
A97: =A96+1 -> 80 | B97: 00034 | C97: 아트델리6 | D97: 아트델리 리얼 콜라겐 아이크림 | E97: =SUM(F97:M97)-N97-O97 -> 0
A98: =A97+1 -> 81 | B98: 00035 | C98: 아트델리6 | D98: 블러링 벨벳 틴트 Burning up 픽 레드 | E98: =SUM(F98:M98)-N98-O98 -> 0
A99: =A98+1 -> 82 | B99: 00036 | C99: 아트델리6 | D99: 블러링 벨벳 틴트 just feeling 베어 브릭 | E99: =SUM(F99:M99)-N99-O99 -> 0
A100: =A99+1 -> 83 | B100: 00037 | C100: 아트델리6 | D100: 블러링 벨벳 틴트 go to lip 미드나잇 누디 | E100: =SUM(F100:M100)-N100-O100 -> 0
A101: =A100+1 -> 84 | B101: 00038 | C101: 아트델리6 | D101: 블러링 벨벳 틴트 Botanic garden 로즈 다운 | E101: =SUM(F101:M101)-N101-O101 -> 0
...

Sheet 5일
A1: NO | B1: 이지어드민 코드 | C1: 브랜드 | D1: 제품명 | E1: 합계 | F1: 이지어드민
D3: 총계
A4: 1 | B4: 00260 | C4: 쟈스_엑토인 바디크림 | D4: 쟈스 엑토인 데일리 모이스처라이징 크림(500ml) | E4: =SUM(F4:M4)-N4-O4 -> 0 | F4: =IFERROR(VLOOKUP(B4,이지어드민!$A$2:$D$100,4,0),0)*1 -> 0
A5: =A4+1 -> 2 | B5: 00257 | C5: 쟈스_엑토인 바디크림 | D5: 쟈스 엑토인 데일리 모이스처라이징 크림(100ml) | E5: =SUM(F5:M5)-N5-O5 -> 0
C6: 쟈스_엑토인 바디크림 | D6: 쟈스_엑토인 바디크림 소계 | E6: =SUM(E4:E5) -> 0
A7: =A5+1 -> 3 | B7: 00249 | C7: 쟈스_엑토인 맨얼굴 | D7: 쟈스 맨얼굴크림 | E7: =SUM(F7:M7)-N7-O7 -> 0
A8: =A7+1 -> 4 | B8: 00250 | C8: 쟈스_엑토인 맨얼굴 | D8: 쟈스 맨얼굴크림 튜브 | E8: =SUM(F8:M8)-N8-O8 -> 0
A9: =A8+1 -> 5 | B9: 00255 | C9: 쟈스_엑토인 맨얼굴 | D9: 쟈스 엑토인 퍼스트 케어 세럼 | E9: =SUM(F9:M9)-N9-O9 -> 0
A10: =A9+1 -> 6 | B10: 00262 | C10: 쟈스_엑토인 맨얼굴 | D10: 쟈스 맨얼굴크림 파우치(1.5g) | E10: =SUM(F10:M10)-N10-O10 -> 0
C11: 쟈스_엑토인 맨얼굴 | D11: 쟈스_엑토인 맨얼굴 소계 | E11: =SUM(E7:E10) -> 0
A12: =A10+1 -> 7 | B12: 00245 | C12: 아트델리_갈바덤 | D12: 아트델리 갈바덤 리프팅 커버쿠션 21호_실버 | E12: =SUM(F12:M12)-N12-O12 -> 0
A13: =A12+1 -> 8 | B13: 00243 | C13: 아트델리_갈바덤 | D13: 아트델리 갈바덤 리프팅 커버쿠션 21호_블랙 | E13: =SUM(F13:M13)-N13-O13 -> 0
A14: =A13+1 -> 9 | B14: 00241 | C14: 아트델리_갈바덤 | D14: 아트델리 갈바덤 리프팅 커버쿠션 21호_그린 | E14: =SUM(F14:M14)-N14-O14 -> 0
A15: =A14+1 -> 10 | B15: 00247 | C15: 아트델리_갈바덤 | D15: 아트델리 갈바덤 리프팅 커버쿠션 21호_리필 | E15: =SUM(F15:M15)-N15-O15 -> 0
A16: =A15+1 -> 11 | B16: 00246 | C16: 아트델리_갈바덤 | D16: 아트델리 갈바덤 리프팅 커버쿠션 23호_실버 | E16: =SUM(F16:M16)-N16-O16 -> 0
A17: =A16+1 -> 12 | B17: 00244 | C17: 아트델리_갈바덤 | D17: 아트델리 갈바덤 리프팅 커버쿠션 23호_블랙 | E17: =SUM(F17:M17)-N17-O17 -> 0
A18: =A17+1 -> 13 | B18: 00242 | C18: 아트델리_갈바덤 | D18: 아트델리 갈바덤 리프팅 커버쿠션 23호_그린 | E18: =SUM(F18:M18)-N18-O18 -> 0
A19: =A18+1 -> 14 | B19: 00248 | C19: 아트델리_갈바덤 | D19: 아트델리 갈바덤 리프팅 커버쿠션 23호_리필 | E19: =SUM(F19:M19)-N19-O19 -> 0
C20: 아트델리_갈바덤 | D20: 아트델리 갈바덤 리프팅 커버쿠션 소계 | E20: =SUM(E12:E19) -> 0
A21: =A19+1 -> 15 | B21: 00229 | C21: 쟈스 글루타치온 | D21: 쟈스 글루타치온 엑스퍼트 1000 크림 | E21: =SUM(F21:M21)-N21-O21 -> 0
A22: =A21+1 -> 16 | B22: 00230 | C22: 쟈스 글루타치온 | D22: 쟈스 글루타치온 엑스퍼트 세럼 | E22: =SUM(F22:M22)-N22-O22 -> 0
A23: =A22+1 -> 17 | B23: 00256 | C23: 쟈스 글루타치온 | D23: 쟈스 글루타치온 엑스퍼트 1000 크림(60ml) | E23: =SUM(F23:M23)-N23-O23 -> 0
A24: =A23+1 -> 18 | B24: 00263 | C24: 쟈스 글루타치온 | D24: 쟈스 글루타치온 크림 파우치(1.5g) | E24: =SUM(F24:M24)-N24-O24 -> 0
D25: 쟈스 글루타치온 소계 | E25: =SUM(E21:E24) -> 0
A26: =A24+1 -> 19 | B26: 00223 | C26: 슬로우 테라피 | D26: 슬로우테라피 구슬 앰플 마스크 유칼립투스 진정(10개입) | E26: =SUM(F26:M26)-N26-O26 -> 0
A27: =A26+1 -> 20 | B27: 00218 | C27: 슬로우 테라피 | D27: 슬로우테라피 구슬 앰플 마스크 유칼립투스 진정 | E27: =SUM(F27:M27)-N27-O27 -> 0
A28: =A27+1 -> 21 | B28: 00225 | C28: 슬로우 테라피 | D28: 슬로우테라피 구슬 앰플 마스크 브라이토닝 비타(10개입) | E28: =SUM(F28:M28)-N28-O28 -> 0
A29: =A28+1 -> 22 | B29: 00220 | C29: 슬로우 테라피 | D29: 슬로우테라피 구슬 앰플 마스크 브라이토닝 비타 | E29: =SUM(F29:M29)-N29-O29 -> 0
A30: =A29+1 -> 23 | B30: 00227 | C30: 슬로우 테라피 | D30: 슬로우테라피 구슬 앰플 마스크 그린토마토 모공(10개입) | E30: =SUM(F30:M30)-N30-O30 -> 0
A31: =A30+1 -> 24 | B31: 00222 | C31: 슬로우 테라피 | D31: 슬로우테라피 구슬 앰플 마스크 그린토마토 모공 | E31: =SUM(F31:M31)-N31-O31 -> 0
A32: =A31+1 -> 25 | B32: 00226 | C32: 슬로우 테라피 | D32: 슬로우테라피 구슬 앰플 마스크 화이트밀크 브라이트닝(10개입) | E32: =SUM(F32:M32)-N32-O32 -> 0
A33: =A32+1 -> 26 | B33: 00221 | C33: 슬로우 테라피 | D33: 슬로우테라피 구슬 앰플 마스크 화이트밀크 브라이트닝 | E33: =SUM(F33:M33)-N33-O33 -> 0
A34: =A33+1 -> 27 | B34: 00224 | C34: 슬로우 테라피 | D34: 슬로우테라피 구슬 앰플 마스크 카멜리아 탄력(10개입) | E34: =SUM(F34:M34)-N34-O34 -> 0
A35: =A34+1 -> 28 | B35: 00219 | C35: 슬로우 테라피 | D35: 슬로우테라피 구슬 앰플 마스크 카멜리아 탄력 | E35: =SUM(F35:M35)-N35-O35 -> 0
D36: 슬로우테라피 구슬앰플 마스크 소계 | E36: =SUM(E26:E35) -> 0
A37: =A35+1 -> 29 | B37: 00214 | C37: 장로젯 | D37: 장로젯 라부 셀룰라 앰플 엘릭시어 엑스이피018 50미리 | E37: =SUM(F37:M37)-N37-O37 -> 0
A38: =A37+1 -> 30 | B38: 00252 | C38: 장로젯 | D38: 장로젯 라부 셀룰라 앰플 엘릭시어 엑스이피018 20미리 | E38: =SUM(F38:M38)-N38-O38 -> 0
D39: 장로젯 소계 | E39: =SUM(E37:E38) -> 0
A40: =A38+1 -> 31 | B40: 00196 | C40: 더마클라센 | D40: 블랙 체인지 샴푸 | E40: =SUM(F40:M40)-N40-O40 -> 0
A41: =A40+1 -> 32 | B41: 00205 | C41: 더마클라센 | D41: 블랙 체인지 샴푸(흑갈색) | E41: =SUM(F41:M41)-N41-O41 -> 0
D42: 블랙 체인지 샴푸 소계 | E42: =SUM(E40:E41) -> 0
A43: =A41+1 -> 33 | B43: S00188 | C43: 아트델리 | D43: 듀얼웨어 립 글로우밤001 | E43: =SUM(F43:M43)-N43-O43 -> 0
A44: =A43+1 -> 34 | B44: S00189 | C44: 아트델리 | D44: 듀얼웨어 립 글로우밤002 | E44: =SUM(F44:M44)-N44-O44 -> 0
A45: =A44+1 -> 35 | B45: S00190 | C45: 아트델리 | D45: 듀얼웨어 립 글로우밤003 | E45: =SUM(F45:M45)-N45-O45 -> 0
A46: =A45+1 -> 36 | B46: S00191 | C46: 아트델리 | D46: 듀얼웨어 립 글로우밤004 | E46: =SUM(F46:M46)-N46-O46 -> 0
A47: =A46+1 -> 37 | B47: S00193 | C47: 아트델리 | D47: 맥시마이저 립 글로우 밤 101 | E47: =SUM(F47:M47)-N47-O47 -> 0
A48: =A47+1 -> 38 | B48: S00194 | C48: 아트델리 | D48: 맥시마이저 립 글로우 밤 102 | E48: =SUM(F48:M48)-N48-O48 -> 0
A49: =A48+1 -> 39 | B49: S00195 | C49: 아트델리 | D49: 맥시마이저 립 글로우 밤 103 | E49: =SUM(F49:M49)-N49-O49 -> 0
C50: 아트델리 | D50: 맥시마이저 립 글로우 밤 003 | E50: =SUM(E43:E49) -> 0
A51: =A49+1 -> 40 | B51: 00001 | C51: 쟈스 멀티밤 | D51: 쟈스 멀티밤 | E51: =SUM(F51:M51)-N51-O51 -> 0
A52: =A51+1 -> 41 | B52: 00002 | C52: 쟈스 멀티밤 | D52: 쟈스 키스밤 | E52: =SUM(F52:M52)-N52-O52 -> 0
A53: =A52+1 -> 42 | B53: 00003 | C53: 쟈스 멀티밤 | D53: 쟈스 콜라겐 세콜지 앰플 미스트 | E53: =SUM(F53:M53)-N53-O53 -> 0
A54: =A53+1 -> 43 | B54: 00004 | C54: 쟈스 멀티밤 | D54: 쟈스 콜라겐 밀키 크림 | E54: =SUM(F54:M54)-N54-O54 -> 0
A55: =A54+1 -> 44 | B55: 00005 | C55: 쟈스 멀티밤 | D55: 쟈스 콜라겐 밀키 앰플 | E55: =SUM(F55:M55)-N55-O55 -> 0
A56: =A55+1 -> 45 | B56: 00006 | C56: 쟈스 멀티밤 | D56: 쟈스 콜라겐 밀키 아이크림 | E56: =SUM(F56:M56)-N56-O56 -> 0
C57: 쟈스 멀티밤 | D57: 쟈스 멀티밤 단품 소계 | E57: =SUM(E51:E56) -> 0
A58: =A56+1 -> 46 | B58: 00007 | C58: 쟈스 톤업 스틱 | D58: 쟈스 콜라겐 글로우 업 엔젤 밤 (블랙) | E58: =SUM(F58:M58)-N58-O58 -> 0
A59: =A58+1 -> 47 | B59: 00008 | C59: 쟈스 톤업 스틱 | D59: 쟈스 콜라겐 글로우 업 엔젤 밤 (핑크) | E59: =SUM(F59:M59)-N59-O59 -> 0
A60: =A59+1 -> 48 | B60: 00009 | C60: 쟈스 톤업 스틱 | D60: 쟈스 콜라겐 글로우 업 엔젤 밤 (오렌지) | E60: =SUM(F60:M60)-N60-O60 -> 0
C61: 쟈스 멀티밤 | D61: 쟈스 비비 멀티밤 단품 소계 | E61: =SUM(E58:E60) -> 0
A62: =A60+1 -> 49 | B62: 00012 | C62: 쟈스 선패치 | D62: 쟈스 콜라겐 프로 컷 화이트닝 패치 소형 베이지 (일반) | E62: =SUM(F62:M62)-N62-O62 -> 0
A63: =A62+1 -> 50 | B63: 00013 | C63: 쟈스 선패치 | D63: 쟈스 콜라겐 프로 컷 화이트닝 패치 소형 (4가지 멀티) | E63: =SUM(F63:M63)-N63-O63 -> 0
A64: =A63+1 -> 51 | B64: 00014 | C64: 쟈스 선패치 | D64: 쟈스 콜라겐 프로 컷 화이트닝 패치 대형 (일반) | E64: =SUM(F64:M64)-N64-O64 -> 0
A65: =A64+1 -> 52 | B65: 00015 | C65: 쟈스 선패치 | D65: 쟈스 콜라겐 프로 컷 화이트닝 패치 마스크형 (일반) | E65: =SUM(F65:M65)-N65-O65 -> 0
A66: =A65+1 -> 53 | B66: 00016 | C66: 쟈스 선패치 | D66: 쟈스 콜라겐 프로 컷 화이트닝 패치 소형 베이지 (일반) 파우치 | E66: =SUM(F66:M66)-N66-O66 -> 0
C67: 쟈스 선패치 | D67: 쟈스 선패치 단품 소계 | E67: =SUM(E62:E66) -> 0
A68: =A66+1 -> 54 | B68: 00017 | C68: 멀티쿠션 | D68: 아트델리 멀티쿠션 #그린 | E68: =SUM(F68:M68)-N68-O68 -> 0
A69: =A68+1 -> 55 | B69: 00018 | C69: 멀티쿠션 | D69: 아트델리 멀티쿠션 #핑크 | E69: =SUM(F69:M69)-N69-O69 -> 0
A70: =A69+1 -> 56 | B70: 00019 | C70: 멀티쿠션 | D70: 아트델리 멀티쿠션 #블랙 | E70: =SUM(F70:M70)-N70-O70 -> 0
A71: =A70+1 -> 57 | B71: 00020 | C71: 멀티쿠션 | D71: 아트델리 멀티쿠션 #블랙(리필) | E71: =SUM(F71:M71)-N71-O71 -> 0
A72: =A71+1 -> 58 | B72: 00208 | C72: 멀티쿠션 | D72: 아트델리 아이밤 멀티쿠션 #퍼플 | E72: =SUM(F72:M72)-N72-O72 -> 0
A73: =A72+1 -> 59 | B73: 00207 | C73: 멀티쿠션 | D73: 아트델리 아이밤 멀티쿠션 #골드 | E73: =SUM(F73:M73)-N73-O73 -> 0
A74: =A73+1 -> 60 | B74: 00206 | C74: 멀티쿠션 | D74: 아트델리 아이밤 멀티쿠션 #레드 | E74: =SUM(F74:M74)-N74-O74 -> 0
C75: 멀티쿠션 | D75: 아트델리 멀티쿠션 단품 소계 | E75: =SUM(E68:E74) -> 0
A76: =A74+1 -> 61 | B76: 00010 | C76: 칼비사노 캐비아 | D76: 칼비사노 엑스트라 캐비아 크림 | E76: =SUM(F76:M76)-N76-O76 -> 0
A77: =A76+1 -> 62 | B77: 00011 | C77: 칼비사노 캐비아 | D77: 칼비사노 엑스트라 캐비아 앰플 | E77: =SUM(F77:M77)-N77-O77 -> 0
A78: =A77+1 -> 63 | B78: 00200 | C78: 칼비사노 캐비아 | D78: 칼비사노 엑스트라 캐비아 앰플(실버) | E78: =SUM(F78:M78)-N78-O78 -> 0
A79: =A78+1 -> 64 | B79: 00210 | C79: 칼비사노 캐비아 | D79: 칼비사노 퓨어 골드 캐비아 앰플 | E79: =SUM(F79:M79)-N79-O79 -> 0
A80: =A79+1 -> 65 | B80: 00215 | C80: 칼비사노 캐비아 | D80: 칼비사노 1주년 패키지 크림 | E80: =SUM(F80:M80)-N80-O80 -> 0
A81: =A80+1 -> 66 | B81: 00251 | C81: 칼비사노 캐비아 | D81: 칼비사노 엑스트라 캐비아 크림(20g) | E81: =SUM(F81:M81)-N81-O81 -> 0
C82: 칼비사노 캐비아 | D82: 칼비사노 엑스트라 캐비아 단품 소계 | E82: =SUM(E76:E81) -> 0
A83: =A81+1 -> 67 | B83: 00021 | C83: 슬로우 테라피 | D83: 카밍 에센스 토너 | E83: =SUM(F83:M83)-N83-O83 -> 0
A84: =A83+1 -> 68 | B84: 00022 | C84: 슬로우 테라피 | D84: 카밍 밸런싱 에멀전 | E84: =SUM(F84:M84)-N84-O84 -> 0
A85: =A84+1 -> 69 | B85: 00023 | C85: 슬로우 테라피 | D85: 쓰리피 카밍 구슬 앰플 | E85: =SUM(F85:M85)-N85-O85 -> 0
A86: =A85+1 -> 70 | B86: 00024 | C86: 슬로우 테라피 | D86: 카밍 피토바이옴 크림 | E86: =SUM(F86:M86)-N86-O86 -> 0
A87: =A86+1 -> 71 | B87: 00025 | C87: 슬로우 테라피 | D87: 카밍 오아시스 클리어 패드 | E87: =SUM(F87:M87)-N87-O87 -> 0
A88: =A87+1 -> 72 | B88: 00026 | C88: 슬로우 테라피 | D88: 쓰리피 카밍 구슬 앰플 2ml 파우치 | E88: =SUM(F88:M88)-N88-O88 -> 0
A89: =A88+1 -> 73 | B89: 00027 | C89: 슬로우 테라피 | D89: 카밍 피토바이옴 크림 2ml 파우치 | E89: =SUM(F89:M89)-N89-O89 -> 0
C90: 슬로우테라피 | D90: 슬로우 테라피 단품 소계 | E90: =SUM(E83:E89) -> 0
A91: =A89+1 -> 74 | B91: 00028 | C91: 아트델리6 | D91: 아트델리 리얼 콜라겐 핏 커버 쿠션 본품(A) 민트 | E91: =SUM(F91:M91)-N91-O91 -> 0
A92: =A91+1 -> 75 | B92: 00029 | C92: 아트델리6 | D92: 아트델리 리얼 콜라겐 핏 커버 쿠션 리필(A) 민트리필 | E92: =SUM(F92:M92)-N92-O92 -> 0
A93: =A92+1 -> 76 | B93: 00030 | C93: 아트델리6 | D93: 아트델리 리얼 콜라겐 핏 커버 쿠션 본품(B) 핑크 | E93: =SUM(F93:M93)-N93-O93 -> 0
A94: =A93+1 -> 77 | B94: 00031 | C94: 아트델리6 | D94: 아트델리 리얼 콜라겐 핏 커버 쿠션 리필(B) 핑크리필 | E94: =SUM(F94:M94)-N94-O94 -> 0
A95: =A94+1 -> 78 | B95: 00033 | C95: 아트델리6 | D95: 아트델리 리얼 콜라겐 밀키 크림 | E95: =SUM(F95:M95)-N95-O95 -> 0
A96: =A95+1 -> 79 | B96: 00032 | C96: 아트델리6 | D96: 아트델리 리얼 콜라겐 밀키 앰플 | E96: =SUM(F96:M96)-N96-O96 -> 0
A97: =A96+1 -> 80 | B97: 00034 | C97: 아트델리6 | D97: 아트델리 리얼 콜라겐 아이크림 | E97: =SUM(F97:M97)-N97-O97 -> 0
A98: =A97+1 -> 81 | B98: 00035 | C98: 아트델리6 | D98: 블러링 벨벳 틴트 Burning up 픽 레드 | E98: =SUM(F98:M98)-N98-O98 -> 0
A99: =A98+1 -> 82 | B99: 00036 | C99: 아트델리6 | D99: 블러링 벨벳 틴트 just feeling 베어 브릭 | E99: =SUM(F99:M99)-N99-O99 -> 0
A100: =A99+1 -> 83 | B100: 00037 | C100: 아트델리6 | D100: 블러링 벨벳 틴트 go to lip 미드나잇 누디 | E100: =SUM(F100:M100)-N100-O100 -> 0
A101: =A100+1 -> 84 | B101: 00038 | C101: 아트델리6 | D101: 블러링 벨벳 틴트 Botanic garden 로즈 다운 | E101: =SUM(F101:M101)-N101-O101 -> 0
...

Sheet 6일
A1: NO | B1: 이지어드민 코드 | C1: 브랜드 | D1: 제품명 | E1: 합계 | F1: 이지어드민
D3: 총계
A4: 1 | B4: 00260 | C4: 쟈스_엑토인 바디크림 | D4: 쟈스 엑토인 데일리 모이스처라이징 크림(500ml) | E4: =SUM(F4:M4)-N4-O4 -> 0 | F4: =IFERROR(VLOOKUP(B4,이지어드민!$A$2:$D$100,4,0),0)*1 -> 0
A5: =A4+1 -> 2 | B5: 00257 | C5: 쟈스_엑토인 바디크림 | D5: 쟈스 엑토인 데일리 모이스처라이징 크림(100ml) | E5: =SUM(F5:M5)-N5-O5 -> 0
C6: 쟈스_엑토인 바디크림 | D6: 쟈스_엑토인 바디크림 소계 | E6: =SUM(E4:E5) -> 0
A7: =A5+1 -> 3 | B7: 00249 | C7: 쟈스_엑토인 맨얼굴 | D7: 쟈스 맨얼굴크림 | E7: =SUM(F7:M7)-N7-O7 -> 0
A8: =A7+1 -> 4 | B8: 00250 | C8: 쟈스_엑토인 맨얼굴 | D8: 쟈스 맨얼굴크림 튜브 | E8: =SUM(F8:M8)-N8-O8 -> 0
A9: =A8+1 -> 5 | B9: 00255 | C9: 쟈스_엑토인 맨얼굴 | D9: 쟈스 엑토인 퍼스트 케어 세럼 | E9: =SUM(F9:M9)-N9-O9 -> 0
A10: =A9+1 -> 6 | B10: 00262 | C10: 쟈스_엑토인 맨얼굴 | D10: 쟈스 맨얼굴크림 파우치(1.5g) | E10: =SUM(F10:M10)-N10-O10 -> 0
C11: 쟈스_엑토인 맨얼굴 | D11: 쟈스_엑토인 맨얼굴 소계 | E11: =SUM(E7:E10) -> 0
A12: =A10+1 -> 7 | B12: 00245 | C12: 아트델리_갈바덤 | D12: 아트델리 갈바덤 리프팅 커버쿠션 21호_실버 | E12: =SUM(F12:M12)-N12-O12 -> 0
A13: =A12+1 -> 8 | B13: 00243 | C13: 아트델리_갈바덤 | D13: 아트델리 갈바덤 리프팅 커버쿠션 21호_블랙 | E13: =SUM(F13:M13)-N13-O13 -> 0
A14: =A13+1 -> 9 | B14: 00241 | C14: 아트델리_갈바덤 | D14: 아트델리 갈바덤 리프팅 커버쿠션 21호_그린 | E14: =SUM(F14:M14)-N14-O14 -> 0
A15: =A14+1 -> 10 | B15: 00247 | C15: 아트델리_갈바덤 | D15: 아트델리 갈바덤 리프팅 커버쿠션 21호_리필 | E15: =SUM(F15:M15)-N15-O15 -> 0
A16: =A15+1 -> 11 | B16: 00246 | C16: 아트델리_갈바덤 | D16: 아트델리 갈바덤 리프팅 커버쿠션 23호_실버 | E16: =SUM(F16:M16)-N16-O16 -> 0
A17: =A16+1 -> 12 | B17: 00244 | C17: 아트델리_갈바덤 | D17: 아트델리 갈바덤 리프팅 커버쿠션 23호_블랙 | E17: =SUM(F17:M17)-N17-O17 -> 0
A18: =A17+1 -> 13 | B18: 00242 | C18: 아트델리_갈바덤 | D18: 아트델리 갈바덤 리프팅 커버쿠션 23호_그린 | E18: =SUM(F18:M18)-N18-O18 -> 0
A19: =A18+1 -> 14 | B19: 00248 | C19: 아트델리_갈바덤 | D19: 아트델리 갈바덤 리프팅 커버쿠션 23호_리필 | E19: =SUM(F19:M19)-N19-O19 -> 0
C20: 아트델리_갈바덤 | D20: 아트델리 갈바덤 리프팅 커버쿠션 소계 | E20: =SUM(E12:E19) -> 0
A21: =A19+1 -> 15 | B21: 00229 | C21: 쟈스 글루타치온 | D21: 쟈스 글루타치온 엑스퍼트 1000 크림 | E21: =SUM(F21:M21)-N21-O21 -> 0
A22: =A21+1 -> 16 | B22: 00230 | C22: 쟈스 글루타치온 | D22: 쟈스 글루타치온 엑스퍼트 세럼 | E22: =SUM(F22:M22)-N22-O22 -> 0
A23: =A22+1 -> 17 | B23: 00256 | C23: 쟈스 글루타치온 | D23: 쟈스 글루타치온 엑스퍼트 1000 크림(60ml) | E23: =SUM(F23:M23)-N23-O23 -> 0
A24: =A23+1 -> 18 | B24: 00263 | C24: 쟈스 글루타치온 | D24: 쟈스 글루타치온 크림 파우치(1.5g) | E24: =SUM(F24:M24)-N24-O24 -> 0
D25: 쟈스 글루타치온 소계 | E25: =SUM(E21:E24) -> 0
A26: =A24+1 -> 19 | B26: 00223 | C26: 슬로우 테라피 | D26: 슬로우테라피 구슬 앰플 마스크 유칼립투스 진정(10개입) | E26: =SUM(F26:M26)-N26-O26 -> 0
A27: =A26+1 -> 20 | B27: 00218 | C27: 슬로우 테라피 | D27: 슬로우테라피 구슬 앰플 마스크 유칼립투스 진정 | E27: =SUM(F27:M27)-N27-O27 -> 0
A28: =A27+1 -> 21 | B28: 00225 | C28: 슬로우 테라피 | D28: 슬로우테라피 구슬 앰플 마스크 브라이토닝 비타(10개입) | E28: =SUM(F28:M28)-N28-O28 -> 0
A29: =A28+1 -> 22 | B29: 00220 | C29: 슬로우 테라피 | D29: 슬로우테라피 구슬 앰플 마스크 브라이토닝 비타 | E29: =SUM(F29:M29)-N29-O29 -> 0
A30: =A29+1 -> 23 | B30: 00227 | C30: 슬로우 테라피 | D30: 슬로우테라피 구슬 앰플 마스크 그린토마토 모공(10개입) | E30: =SUM(F30:M30)-N30-O30 -> 0
A31: =A30+1 -> 24 | B31: 00222 | C31: 슬로우 테라피 | D31: 슬로우테라피 구슬 앰플 마스크 그린토마토 모공 | E31: =SUM(F31:M31)-N31-O31 -> 0
A32: =A31+1 -> 25 | B32: 00226 | C32: 슬로우 테라피 | D32: 슬로우테라피 구슬 앰플 마스크 화이트밀크 브라이트닝(10개입) | E32: =SUM(F32:M32)-N32-O32 -> 0
A33: =A32+1 -> 26 | B33: 00221 | C33: 슬로우 테라피 | D33: 슬로우테라피 구슬 앰플 마스크 화이트밀크 브라이트닝 | E33: =SUM(F33:M33)-N33-O33 -> 0
A34: =A33+1 -> 27 | B34: 00224 | C34: 슬로우 테라피 | D34: 슬로우테라피 구슬 앰플 마스크 카멜리아 탄력(10개입) | E34: =SUM(F34:M34)-N34-O34 -> 0
A35: =A34+1 -> 28 | B35: 00219 | C35: 슬로우 테라피 | D35: 슬로우테라피 구슬 앰플 마스크 카멜리아 탄력 | E35: =SUM(F35:M35)-N35-O35 -> 0
D36: 슬로우테라피 구슬앰플 마스크 소계 | E36: =SUM(E26:E35) -> 0
A37: =A35+1 -> 29 | B37: 00214 | C37: 장로젯 | D37: 장로젯 라부 셀룰라 앰플 엘릭시어 엑스이피018 50미리 | E37: =SUM(F37:M37)-N37-O37 -> 0
A38: =A37+1 -> 30 | B38: 00252 | C38: 장로젯 | D38: 장로젯 라부 셀룰라 앰플 엘릭시어 엑스이피018 20미리 | E38: =SUM(F38:M38)-N38-O38 -> 0
D39: 장로젯 소계 | E39: =SUM(E37:E38) -> 0
A40: =A38+1 -> 31 | B40: 00196 | C40: 더마클라센 | D40: 블랙 체인지 샴푸 | E40: =SUM(F40:M40)-N40-O40 -> 0
A41: =A40+1 -> 32 | B41: 00205 | C41: 더마클라센 | D41: 블랙 체인지 샴푸(흑갈색) | E41: =SUM(F41:M41)-N41-O41 -> 0
D42: 블랙 체인지 샴푸 소계 | E42: =SUM(E40:E41) -> 0
A43: =A41+1 -> 33 | B43: S00188 | C43: 아트델리 | D43: 듀얼웨어 립 글로우밤001 | E43: =SUM(F43:M43)-N43-O43 -> 0
A44: =A43+1 -> 34 | B44: S00189 | C44: 아트델리 | D44: 듀얼웨어 립 글로우밤002 | E44: =SUM(F44:M44)-N44-O44 -> 0
A45: =A44+1 -> 35 | B45: S00190 | C45: 아트델리 | D45: 듀얼웨어 립 글로우밤003 | E45: =SUM(F45:M45)-N45-O45 -> 0
A46: =A45+1 -> 36 | B46: S00191 | C46: 아트델리 | D46: 듀얼웨어 립 글로우밤004 | E46: =SUM(F46:M46)-N46-O46 -> 0
A47: =A46+1 -> 37 | B47: S00193 | C47: 아트델리 | D47: 맥시마이저 립 글로우 밤 101 | E47: =SUM(F47:M47)-N47-O47 -> 0
A48: =A47+1 -> 38 | B48: S00194 | C48: 아트델리 | D48: 맥시마이저 립 글로우 밤 102 | E48: =SUM(F48:M48)-N48-O48 -> 0
A49: =A48+1 -> 39 | B49: S00195 | C49: 아트델리 | D49: 맥시마이저 립 글로우 밤 103 | E49: =SUM(F49:M49)-N49-O49 -> 0
C50: 아트델리 | D50: 맥시마이저 립 글로우 밤 003 | E50: =SUM(E43:E49) -> 0
A51: =A49+1 -> 40 | B51: 00001 | C51: 쟈스 멀티밤 | D51: 쟈스 멀티밤 | E51: =SUM(F51:M51)-N51-O51 -> 0
A52: =A51+1 -> 41 | B52: 00002 | C52: 쟈스 멀티밤 | D52: 쟈스 키스밤 | E52: =SUM(F52:M52)-N52-O52 -> 0
A53: =A52+1 -> 42 | B53: 00003 | C53: 쟈스 멀티밤 | D53: 쟈스 콜라겐 세콜지 앰플 미스트 | E53: =SUM(F53:M53)-N53-O53 -> 0
A54: =A53+1 -> 43 | B54: 00004 | C54: 쟈스 멀티밤 | D54: 쟈스 콜라겐 밀키 크림 | E54: =SUM(F54:M54)-N54-O54 -> 0
A55: =A54+1 -> 44 | B55: 00005 | C55: 쟈스 멀티밤 | D55: 쟈스 콜라겐 밀키 앰플 | E55: =SUM(F55:M55)-N55-O55 -> 0
A56: =A55+1 -> 45 | B56: 00006 | C56: 쟈스 멀티밤 | D56: 쟈스 콜라겐 밀키 아이크림 | E56: =SUM(F56:M56)-N56-O56 -> 0
C57: 쟈스 멀티밤 | D57: 쟈스 멀티밤 단품 소계 | E57: =SUM(E51:E56) -> 0
A58: =A56+1 -> 46 | B58: 00007 | C58: 쟈스 톤업 스틱 | D58: 쟈스 콜라겐 글로우 업 엔젤 밤 (블랙) | E58: =SUM(F58:M58)-N58-O58 -> 0
A59: =A58+1 -> 47 | B59: 00008 | C59: 쟈스 톤업 스틱 | D59: 쟈스 콜라겐 글로우 업 엔젤 밤 (핑크) | E59: =SUM(F59:M59)-N59-O59 -> 0
A60: =A59+1 -> 48 | B60: 00009 | C60: 쟈스 톤업 스틱 | D60: 쟈스 콜라겐 글로우 업 엔젤 밤 (오렌지) | E60: =SUM(F60:M60)-N60-O60 -> 0
C61: 쟈스 멀티밤 | D61: 쟈스 비비 멀티밤 단품 소계 | E61: =SUM(E58:E60) -> 0
A62: =A60+1 -> 49 | B62: 00012 | C62: 쟈스 선패치 | D62: 쟈스 콜라겐 프로 컷 화이트닝 패치 소형 베이지 (일반) | E62: =SUM(F62:M62)-N62-O62 -> 0
A63: =A62+1 -> 50 | B63: 00013 | C63: 쟈스 선패치 | D63: 쟈스 콜라겐 프로 컷 화이트닝 패치 소형 (4가지 멀티) | E63: =SUM(F63:M63)-N63-O63 -> 0
A64: =A63+1 -> 51 | B64: 00014 | C64: 쟈스 선패치 | D64: 쟈스 콜라겐 프로 컷 화이트닝 패치 대형 (일반) | E64: =SUM(F64:M64)-N64-O64 -> 0
A65: =A64+1 -> 52 | B65: 00015 | C65: 쟈스 선패치 | D65: 쟈스 콜라겐 프로 컷 화이트닝 패치 마스크형 (일반) | E65: =SUM(F65:M65)-N65-O65 -> 0
A66: =A65+1 -> 53 | B66: 00016 | C66: 쟈스 선패치 | D66: 쟈스 콜라겐 프로 컷 화이트닝 패치 소형 베이지 (일반) 파우치 | E66: =SUM(F66:M66)-N66-O66 -> 0
C67: 쟈스 선패치 | D67: 쟈스 선패치 단품 소계 | E67: =SUM(E62:E66) -> 0
A68: =A66+1 -> 54 | B68: 00017 | C68: 멀티쿠션 | D68: 아트델리 멀티쿠션 #그린 | E68: =SUM(F68:M68)-N68-O68 -> 0
A69: =A68+1 -> 55 | B69: 00018 | C69: 멀티쿠션 | D69: 아트델리 멀티쿠션 #핑크 | E69: =SUM(F69:M69)-N69-O69 -> 0
A70: =A69+1 -> 56 | B70: 00019 | C70: 멀티쿠션 | D70: 아트델리 멀티쿠션 #블랙 | E70: =SUM(F70:M70)-N70-O70 -> 0
A71: =A70+1 -> 57 | B71: 00020 | C71: 멀티쿠션 | D71: 아트델리 멀티쿠션 #블랙(리필) | E71: =SUM(F71:M71)-N71-O71 -> 0
A72: =A71+1 -> 58 | B72: 00208 | C72: 멀티쿠션 | D72: 아트델리 아이밤 멀티쿠션 #퍼플 | E72: =SUM(F72:M72)-N72-O72 -> 0
A73: =A72+1 -> 59 | B73: 00207 | C73: 멀티쿠션 | D73: 아트델리 아이밤 멀티쿠션 #골드 | E73: =SUM(F73:M73)-N73-O73 -> 0
A74: =A73+1 -> 60 | B74: 00206 | C74: 멀티쿠션 | D74: 아트델리 아이밤 멀티쿠션 #레드 | E74: =SUM(F74:M74)-N74-O74 -> 0
C75: 멀티쿠션 | D75: 아트델리 멀티쿠션 단품 소계 | E75: =SUM(E68:E74) -> 0
A76: =A74+1 -> 61 | B76: 00010 | C76: 칼비사노 캐비아 | D76: 칼비사노 엑스트라 캐비아 크림 | E76: =SUM(F76:M76)-N76-O76 -> 0
A77: =A76+1 -> 62 | B77: 00011 | C77: 칼비사노 캐비아 | D77: 칼비사노 엑스트라 캐비아 앰플 | E77: =SUM(F77:M77)-N77-O77 -> 0
A78: =A77+1 -> 63 | B78: 00200 | C78: 칼비사노 캐비아 | D78: 칼비사노 엑스트라 캐비아 앰플(실버) | E78: =SUM(F78:M78)-N78-O78 -> 0
A79: =A78+1 -> 64 | B79: 00210 | C79: 칼비사노 캐비아 | D79: 칼비사노 퓨어 골드 캐비아 앰플 | E79: =SUM(F79:M79)-N79-O79 -> 0
A80: =A79+1 -> 65 | B80: 00215 | C80: 칼비사노 캐비아 | D80: 칼비사노 1주년 패키지 크림 | E80: =SUM(F80:M80)-N80-O80 -> 0
A81: =A80+1 -> 66 | B81: 00251 | C81: 칼비사노 캐비아 | D81: 칼비사노 엑스트라 캐비아 크림(20g) | E81: =SUM(F81:M81)-N81-O81 -> 0
C82: 칼비사노 캐비아 | D82: 칼비사노 엑스트라 캐비아 단품 소계 | E82: =SUM(E76:E81) -> 0
A83: =A81+1 -> 67 | B83: 00021 | C83: 슬로우 테라피 | D83: 카밍 에센스 토너 | E83: =SUM(F83:M83)-N83-O83 -> 0
A84: =A83+1 -> 68 | B84: 00022 | C84: 슬로우 테라피 | D84: 카밍 밸런싱 에멀전 | E84: =SUM(F84:M84)-N84-O84 -> 0
A85: =A84+1 -> 69 | B85: 00023 | C85: 슬로우 테라피 | D85: 쓰리피 카밍 구슬 앰플 | E85: =SUM(F85:M85)-N85-O85 -> 0
A86: =A85+1 -> 70 | B86: 00024 | C86: 슬로우 테라피 | D86: 카밍 피토바이옴 크림 | E86: =SUM(F86:M86)-N86-O86 -> 0
A87: =A86+1 -> 71 | B87: 00025 | C87: 슬로우 테라피 | D87: 카밍 오아시스 클리어 패드 | E87: =SUM(F87:M87)-N87-O87 -> 0
A88: =A87+1 -> 72 | B88: 00026 | C88: 슬로우 테라피 | D88: 쓰리피 카밍 구슬 앰플 2ml 파우치 | E88: =SUM(F88:M88)-N88-O88 -> 0
A89: =A88+1 -> 73 | B89: 00027 | C89: 슬로우 테라피 | D89: 카밍 피토바이옴 크림 2ml 파우치 | E89: =SUM(F89:M89)-N89-O89 -> 0
C90: 슬로우테라피 | D90: 슬로우 테라피 단품 소계 | E90: =SUM(E83:E89) -> 0
A91: =A89+1 -> 74 | B91: 00028 | C91: 아트델리6 | D91: 아트델리 리얼 콜라겐 핏 커버 쿠션 본품(A) 민트 | E91: =SUM(F91:M91)-N91-O91 -> 0
A92: =A91+1 -> 75 | B92: 00029 | C92: 아트델리6 | D92: 아트델리 리얼 콜라겐 핏 커버 쿠션 리필(A) 민트리필 | E92: =SUM(F92:M92)-N92-O92 -> 0
A93: =A92+1 -> 76 | B93: 00030 | C93: 아트델리6 | D93: 아트델리 리얼 콜라겐 핏 커버 쿠션 본품(B) 핑크 | E93: =SUM(F93:M93)-N93-O93 -> 0
A94: =A93+1 -> 77 | B94: 00031 | C94: 아트델리6 | D94: 아트델리 리얼 콜라겐 핏 커버 쿠션 리필(B) 핑크리필 | E94: =SUM(F94:M94)-N94-O94 -> 0
A95: =A94+1 -> 78 | B95: 00033 | C95: 아트델리6 | D95: 아트델리 리얼 콜라겐 밀키 크림 | E95: =SUM(F95:M95)-N95-O95 -> 0
A96: =A95+1 -> 79 | B96: 00032 | C96: 아트델리6 | D96: 아트델리 리얼 콜라겐 밀키 앰플 | E96: =SUM(F96:M96)-N96-O96 -> 0
A97: =A96+1 -> 80 | B97: 00034 | C97: 아트델리6 | D97: 아트델리 리얼 콜라겐 아이크림 | E97: =SUM(F97:M97)-N97-O97 -> 0
A98: =A97+1 -> 81 | B98: 00035 | C98: 아트델리6 | D98: 블러링 벨벳 틴트 Burning up 픽 레드 | E98: =SUM(F98:M98)-N98-O98 -> 0
A99: =A98+1 -> 82 | B99: 00036 | C99: 아트델리6 | D99: 블러링 벨벳 틴트 just feeling 베어 브릭 | E99: =SUM(F99:M99)-N99-O99 -> 0
A100: =A99+1 -> 83 | B100: 00037 | C100: 아트델리6 | D100: 블러링 벨벳 틴트 go to lip 미드나잇 누디 | E100: =SUM(F100:M100)-N100-O100 -> 0
A101: =A100+1 -> 84 | B101: 00038 | C101: 아트델리6 | D101: 블러링 벨벳 틴트 Botanic garden 로즈 다운 | E101: =SUM(F101:M101)-N101-O101 -> 0
...

Sheet 7일
A1: NO | B1: 이지어드민 코드 | C1: 브랜드 | D1: 제품명 | E1: 합계 | F1: 이지어드민
D3: 총계
A4: 1 | B4: 00260 | C4: 쟈스_엑토인 바디크림 | D4: 쟈스 엑토인 데일리 모이스처라이징 크림(500ml) | E4: =SUM(F4:N4)-O4-P4 -> 0 | F4: =IFERROR(VLOOKUP(B4,이지어드민!$A$2:$D$100,4,0),0)*1 -> 0
A5: =A4+1 -> 2 | B5: 00257 | C5: 쟈스_엑토인 바디크림 | D5: 쟈스 엑토인 데일리 모이스처라이징 크림(100ml) | E5: =SUM(F5:N5)-O5-P5 -> 0
C6: 쟈스_엑토인 바디크림 | D6: 쟈스_엑토인 바디크림 소계 | E6: =SUM(E4:E5) -> 0
A7: =A5+1 -> 3 | B7: 00249 | C7: 쟈스_엑토인 맨얼굴 | D7: 쟈스 맨얼굴크림 | E7: =SUM(F7:N7)-O7-P7 -> 0
A8: =A7+1 -> 4 | B8: 00250 | C8: 쟈스_엑토인 맨얼굴 | D8: 쟈스 맨얼굴크림 튜브 | E8: =SUM(F8:N8)-O8-P8 -> 0
A9: =A8+1 -> 5 | B9: 00255 | C9: 쟈스_엑토인 맨얼굴 | D9: 쟈스 엑토인 퍼스트 케어 세럼 | E9: =SUM(F9:N9)-O9-P9 -> 0
A10: =A9+1 -> 6 | B10: 00262 | C10: 쟈스_엑토인 맨얼굴 | D10: 쟈스 맨얼굴크림 파우치(1.5g) | E10: =SUM(F10:N10)-O10-P10 -> 0
C11: 쟈스_엑토인 맨얼굴 | D11: 쟈스_엑토인 맨얼굴 소계 | E11: =SUM(E7:E10) -> 0
A12: =A10+1 -> 7 | B12: 00245 | C12: 아트델리_갈바덤 | D12: 아트델리 갈바덤 리프팅 커버쿠션 21호_실버 | E12: =SUM(F12:N12)-O12-P12 -> 0
A13: =A12+1 -> 8 | B13: 00243 | C13: 아트델리_갈바덤 | D13: 아트델리 갈바덤 리프팅 커버쿠션 21호_블랙 | E13: =SUM(F13:N13)-O13-P13 -> 0
A14: =A13+1 -> 9 | B14: 00241 | C14: 아트델리_갈바덤 | D14: 아트델리 갈바덤 리프팅 커버쿠션 21호_그린 | E14: =SUM(F14:N14)-O14-P14 -> 0
A15: =A14+1 -> 10 | B15: 00247 | C15: 아트델리_갈바덤 | D15: 아트델리 갈바덤 리프팅 커버쿠션 21호_리필 | E15: =SUM(F15:N15)-O15-P15 -> 0
A16: =A15+1 -> 11 | B16: 00246 | C16: 아트델리_갈바덤 | D16: 아트델리 갈바덤 리프팅 커버쿠션 23호_실버 | E16: =SUM(F16:N16)-O16-P16 -> 0
A17: =A16+1 -> 12 | B17: 00244 | C17: 아트델리_갈바덤 | D17: 아트델리 갈바덤 리프팅 커버쿠션 23호_블랙 | E17: =SUM(F17:N17)-O17-P17 -> 0
A18: =A17+1 -> 13 | B18: 00242 | C18: 아트델리_갈바덤 | D18: 아트델리 갈바덤 리프팅 커버쿠션 23호_그린 | E18: =SUM(F18:N18)-O18-P18 -> 0
A19: =A18+1 -> 14 | B19: 00248 | C19: 아트델리_갈바덤 | D19: 아트델리 갈바덤 리프팅 커버쿠션 23호_리필 | E19: =SUM(F19:N19)-O19-P19 -> 0
C20: 아트델리_갈바덤 | D20: 아트델리 갈바덤 리프팅 커버쿠션 소계 | E20: =SUM(E12:E19) -> 0
A21: =A19+1 -> 15 | B21: 00229 | C21: 쟈스 글루타치온 | D21: 쟈스 글루타치온 엑스퍼트 1000 크림 | E21: =SUM(F21:N21)-O21-P21 -> 0
A22: =A21+1 -> 16 | B22: 00230 | C22: 쟈스 글루타치온 | D22: 쟈스 글루타치온 엑스퍼트 세럼 | E22: =SUM(F22:N22)-O22-P22 -> 0
A23: =A22+1 -> 17 | B23: 00256 | C23: 쟈스 글루타치온 | D23: 쟈스 글루타치온 엑스퍼트 1000 크림(60ml) | E23: =SUM(F23:N23)-O23-P23 -> 0
A24: =A23+1 -> 18 | B24: 00263 | C24: 쟈스 글루타치온 | D24: 쟈스 글루타치온 크림 파우치(1.5g) | E24: =SUM(F24:N24)-O24-P24 -> 0
D25: 쟈스 글루타치온 소계 | E25: =SUM(E21:E24) -> 0
A26: =A24+1 -> 19 | B26: 00223 | C26: 슬로우 테라피 | D26: 슬로우테라피 구슬 앰플 마스크 유칼립투스 진정(10개입) | E26: =SUM(F26:N26)-O26-P26 -> 0
A27: =A26+1 -> 20 | B27: 00218 | C27: 슬로우 테라피 | D27: 슬로우테라피 구슬 앰플 마스크 유칼립투스 진정 | E27: =SUM(F27:N27)-O27-P27 -> 0
A28: =A27+1 -> 21 | B28: 00225 | C28: 슬로우 테라피 | D28: 슬로우테라피 구슬 앰플 마스크 브라이토닝 비타(10개입) | E28: =SUM(F28:N28)-O28-P28 -> 0
A29: =A28+1 -> 22 | B29: 00220 | C29: 슬로우 테라피 | D29: 슬로우테라피 구슬 앰플 마스크 브라이토닝 비타 | E29: =SUM(F29:N29)-O29-P29 -> 0
A30: =A29+1 -> 23 | B30: 00227 | C30: 슬로우 테라피 | D30: 슬로우테라피 구슬 앰플 마스크 그린토마토 모공(10개입) | E30: =SUM(F30:N30)-O30-P30 -> 0
A31: =A30+1 -> 24 | B31: 00222 | C31: 슬로우 테라피 | D31: 슬로우테라피 구슬 앰플 마스크 그린토마토 모공 | E31: =SUM(F31:N31)-O31-P31 -> 0
A32: =A31+1 -> 25 | B32: 00226 | C32: 슬로우 테라피 | D32: 슬로우테라피 구슬 앰플 마스크 화이트밀크 브라이트닝(10개입) | E32: =SUM(F32:N32)-O32-P32 -> 0
A33: =A32+1 -> 26 | B33: 00221 | C33: 슬로우 테라피 | D33: 슬로우테라피 구슬 앰플 마스크 화이트밀크 브라이트닝 | E33: =SUM(F33:N33)-O33-P33 -> 0
A34: =A33+1 -> 27 | B34: 00224 | C34: 슬로우 테라피 | D34: 슬로우테라피 구슬 앰플 마스크 카멜리아 탄력(10개입) | E34: =SUM(F34:N34)-O34-P34 -> 0
A35: =A34+1 -> 28 | B35: 00219 | C35: 슬로우 테라피 | D35: 슬로우테라피 구슬 앰플 마스크 카멜리아 탄력 | E35: =SUM(F35:N35)-O35-P35 -> 0
D36: 슬로우테라피 구슬앰플 마스크 소계 | E36: =SUM(E26:E35) -> 0
A37: =A35+1 -> 29 | B37: 00214 | C37: 장로젯 | D37: 장로젯 라부 셀룰라 앰플 엘릭시어 엑스이피018 50미리 | E37: =SUM(F37:N37)-O37-P37 -> 0
A38: =A37+1 -> 30 | B38: 00252 | C38: 장로젯 | D38: 장로젯 라부 셀룰라 앰플 엘릭시어 엑스이피018 20미리 | E38: =SUM(F38:N38)-O38-P38 -> 0
D39: 장로젯 소계 | E39: =SUM(E37:E38) -> 0
A40: =A38+1 -> 31 | B40: 00196 | C40: 더마클라센 | D40: 블랙 체인지 샴푸 | E40: =SUM(F40:N40)-O40-P40 -> 0
A41: =A40+1 -> 32 | B41: 00205 | C41: 더마클라센 | D41: 블랙 체인지 샴푸(흑갈색) | E41: =SUM(F41:N41)-O41-P41 -> 0
D42: 블랙 체인지 샴푸 소계 | E42: =SUM(E40:E41) -> 0
A43: =A41+1 -> 33 | B43: S00188 | C43: 아트델리 | D43: 듀얼웨어 립 글로우밤001 | E43: =SUM(F43:N43)-O43-P43 -> 0
A44: =A43+1 -> 34 | B44: S00189 | C44: 아트델리 | D44: 듀얼웨어 립 글로우밤002 | E44: =SUM(F44:N44)-O44-P44 -> 0
A45: =A44+1 -> 35 | B45: S00190 | C45: 아트델리 | D45: 듀얼웨어 립 글로우밤003 | E45: =SUM(F45:N45)-O45-P45 -> 0
A46: =A45+1 -> 36 | B46: S00191 | C46: 아트델리 | D46: 듀얼웨어 립 글로우밤004 | E46: =SUM(F46:N46)-O46-P46 -> 0
A47: =A46+1 -> 37 | B47: S00193 | C47: 아트델리 | D47: 맥시마이저 립 글로우 밤 101 | E47: =SUM(F47:N47)-O47-P47 -> 0
A48: =A47+1 -> 38 | B48: S00194 | C48: 아트델리 | D48: 맥시마이저 립 글로우 밤 102 | E48: =SUM(F48:N48)-O48-P48 -> 0
A49: =A48+1 -> 39 | B49: S00195 | C49: 아트델리 | D49: 맥시마이저 립 글로우 밤 103 | E49: =SUM(F49:N49)-O49-P49 -> 0
C50: 아트델리 | D50: 맥시마이저 립 글로우 밤 003 | E50: =SUM(E43:E49) -> 0
A51: =A49+1 -> 40 | B51: 00001 | C51: 쟈스 멀티밤 | D51: 쟈스 멀티밤 | E51: =SUM(F51:N51)-O51-P51 -> 0
A52: =A51+1 -> 41 | B52: 00002 | C52: 쟈스 멀티밤 | D52: 쟈스 키스밤 | E52: =SUM(F52:N52)-O52-P52 -> 0
A53: =A52+1 -> 42 | B53: 00003 | C53: 쟈스 멀티밤 | D53: 쟈스 콜라겐 세콜지 앰플 미스트 | E53: =SUM(F53:N53)-O53-P53 -> 0
A54: =A53+1 -> 43 | B54: 00004 | C54: 쟈스 멀티밤 | D54: 쟈스 콜라겐 밀키 크림 | E54: =SUM(F54:N54)-O54-P54 -> 0
A55: =A54+1 -> 44 | B55: 00005 | C55: 쟈스 멀티밤 | D55: 쟈스 콜라겐 밀키 앰플 | E55: =SUM(F55:N55)-O55-P55 -> 0
A56: =A55+1 -> 45 | B56: 00006 | C56: 쟈스 멀티밤 | D56: 쟈스 콜라겐 밀키 아이크림 | E56: =SUM(F56:N56)-O56-P56 -> 0
C57: 쟈스 멀티밤 | D57: 쟈스 멀티밤 단품 소계 | E57: =SUM(E51:E56) -> 0
A58: =A56+1 -> 46 | B58: 00007 | C58: 쟈스 톤업 스틱 | D58: 쟈스 콜라겐 글로우 업 엔젤 밤 (블랙) | E58: =SUM(F58:N58)-O58-P58 -> 0
A59: =A58+1 -> 47 | B59: 00008 | C59: 쟈스 톤업 스틱 | D59: 쟈스 콜라겐 글로우 업 엔젤 밤 (핑크) | E59: =SUM(F59:N59)-O59-P59 -> 0
A60: =A59+1 -> 48 | B60: 00009 | C60: 쟈스 톤업 스틱 | D60: 쟈스 콜라겐 글로우 업 엔젤 밤 (오렌지) | E60: =SUM(F60:N60)-O60-P60 -> 0
C61: 쟈스 멀티밤 | D61: 쟈스 비비 멀티밤 단품 소계 | E61: =SUM(E58:E60) -> 0
A62: =A60+1 -> 49 | B62: 00012 | C62: 쟈스 선패치 | D62: 쟈스 콜라겐 프로 컷 화이트닝 패치 소형 베이지 (일반) | E62: =SUM(F62:N62)-O62-P62 -> 0
A63: =A62+1 -> 50 | B63: 00013 | C63: 쟈스 선패치 | D63: 쟈스 콜라겐 프로 컷 화이트닝 패치 소형 (4가지 멀티) | E63: =SUM(F63:N63)-O63-P63 -> 0
A64: =A63+1 -> 51 | B64: 00014 | C64: 쟈스 선패치 | D64: 쟈스 콜라겐 프로 컷 화이트닝 패치 대형 (일반) | E64: =SUM(F64:N64)-O64-P64 -> 0
A65: =A64+1 -> 52 | B65: 00015 | C65: 쟈스 선패치 | D65: 쟈스 콜라겐 프로 컷 화이트닝 패치 마스크형 (일반) | E65: =SUM(F65:N65)-O65-P65 -> 0
A66: =A65+1 -> 53 | B66: 00016 | C66: 쟈스 선패치 | D66: 쟈스 콜라겐 프로 컷 화이트닝 패치 소형 베이지 (일반) 파우치 | E66: =SUM(F66:N66)-O66-P66 -> 0
C67: 쟈스 선패치 | D67: 쟈스 선패치 단품 소계 | E67: =SUM(E62:E66) -> 0
A68: =A66+1 -> 54 | B68: 00017 | C68: 멀티쿠션 | D68: 아트델리 멀티쿠션 #그린 | E68: =SUM(F68:N68)-O68-P68 -> 0
A69: =A68+1 -> 55 | B69: 00018 | C69: 멀티쿠션 | D69: 아트델리 멀티쿠션 #핑크 | E69: =SUM(F69:N69)-O69-P69 -> 0
A70: =A69+1 -> 56 | B70: 00019 | C70: 멀티쿠션 | D70: 아트델리 멀티쿠션 #블랙 | E70: =SUM(F70:N70)-O70-P70 -> 0
A71: =A70+1 -> 57 | B71: 00020 | C71: 멀티쿠션 | D71: 아트델리 멀티쿠션 #블랙(리필) | E71: =SUM(F71:N71)-O71-P71 -> 0
A72: =A71+1 -> 58 | B72: 00208 | C72: 멀티쿠션 | D72: 아트델리 아이밤 멀티쿠션 #퍼플 | E72: =SUM(F72:N72)-O72-P72 -> 0
A73: =A72+1 -> 59 | B73: 00207 | C73: 멀티쿠션 | D73: 아트델리 아이밤 멀티쿠션 #골드 | E73: =SUM(F73:N73)-O73-P73 -> 0
A74: =A73+1 -> 60 | B74: 00206 | C74: 멀티쿠션 | D74: 아트델리 아이밤 멀티쿠션 #레드 | E74: =SUM(F74:N74)-O74-P74 -> 0
C75: 멀티쿠션 | D75: 아트델리 멀티쿠션 단품 소계 | E75: =SUM(E68:E74) -> 0
A76: =A74+1 -> 61 | B76: 00010 | C76: 칼비사노 캐비아 | D76: 칼비사노 엑스트라 캐비아 크림 | E76: =SUM(F76:N76)-O76-P76 -> 0
A77: =A76+1 -> 62 | B77: 00011 | C77: 칼비사노 캐비아 | D77: 칼비사노 엑스트라 캐비아 앰플 | E77: =SUM(F77:N77)-O77-P77 -> 0
A78: =A77+1 -> 63 | B78: 00200 | C78: 칼비사노 캐비아 | D78: 칼비사노 엑스트라 캐비아 앰플(실버) | E78: =SUM(F78:N78)-O78-P78 -> 0
A79: =A78+1 -> 64 | B79: 00210 | C79: 칼비사노 캐비아 | D79: 칼비사노 퓨어 골드 캐비아 앰플 | E79: =SUM(F79:N79)-O79-P79 -> 0
A80: =A79+1 -> 65 | B80: 00215 | C80: 칼비사노 캐비아 | D80: 칼비사노 1주년 패키지 크림 | E80: =SUM(F80:N80)-O80-P80 -> 0
A81: =A80+1 -> 66 | B81: 00251 | C81: 칼비사노 캐비아 | D81: 칼비사노 엑스트라 캐비아 크림(20g) | E81: =SUM(F81:N81)-O81-P81 -> 0
C82: 칼비사노 캐비아 | D82: 칼비사노 엑스트라 캐비아 단품 소계 | E82: =SUM(E76:E81) -> 0
A83: =A81+1 -> 67 | B83: 00021 | C83: 슬로우 테라피 | D83: 카밍 에센스 토너 | E83: =SUM(F83:N83)-O83-P83 -> 0
A84: =A83+1 -> 68 | B84: 00022 | C84: 슬로우 테라피 | D84: 카밍 밸런싱 에멀전 | E84: =SUM(F84:N84)-O84-P84 -> 0
A85: =A84+1 -> 69 | B85: 00023 | C85: 슬로우 테라피 | D85: 쓰리피 카밍 구슬 앰플 | E85: =SUM(F85:N85)-O85-P85 -> 0
A86: =A85+1 -> 70 | B86: 00024 | C86: 슬로우 테라피 | D86: 카밍 피토바이옴 크림 | E86: =SUM(F86:N86)-O86-P86 -> 0
A87: =A86+1 -> 71 | B87: 00025 | C87: 슬로우 테라피 | D87: 카밍 오아시스 클리어 패드 | E87: =SUM(F87:N87)-O87-P87 -> 0
A88: =A87+1 -> 72 | B88: 00026 | C88: 슬로우 테라피 | D88: 쓰리피 카밍 구슬 앰플 2ml 파우치 | E88: =SUM(F88:N88)-O88-P88 -> 0
A89: =A88+1 -> 73 | B89: 00027 | C89: 슬로우 테라피 | D89: 카밍 피토바이옴 크림 2ml 파우치 | E89: =SUM(F89:N89)-O89-P89 -> 0
C90: 슬로우테라피 | D90: 슬로우 테라피 단품 소계 | E90: =SUM(E83:E89) -> 0
A91: =A89+1 -> 74 | B91: 00028 | C91: 아트델리6 | D91: 아트델리 리얼 콜라겐 핏 커버 쿠션 본품(A) 민트 | E91: =SUM(F91:N91)-O91-P91 -> 0
A92: =A91+1 -> 75 | B92: 00029 | C92: 아트델리6 | D92: 아트델리 리얼 콜라겐 핏 커버 쿠션 리필(A) 민트리필 | E92: =SUM(F92:N92)-O92-P92 -> 0
A93: =A92+1 -> 76 | B93: 00030 | C93: 아트델리6 | D93: 아트델리 리얼 콜라겐 핏 커버 쿠션 본품(B) 핑크 | E93: =SUM(F93:N93)-O93-P93 -> 0
A94: =A93+1 -> 77 | B94: 00031 | C94: 아트델리6 | D94: 아트델리 리얼 콜라겐 핏 커버 쿠션 리필(B) 핑크리필 | E94: =SUM(F94:N94)-O94-P94 -> 0
A95: =A94+1 -> 78 | B95: 00033 | C95: 아트델리6 | D95: 아트델리 리얼 콜라겐 밀키 크림 | E95: =SUM(F95:N95)-O95-P95 -> 0
A96: =A95+1 -> 79 | B96: 00032 | C96: 아트델리6 | D96: 아트델리 리얼 콜라겐 밀키 앰플 | E96: =SUM(F96:N96)-O96-P96 -> 0
A97: =A96+1 -> 80 | B97: 00034 | C97: 아트델리6 | D97: 아트델리 리얼 콜라겐 아이크림 | E97: =SUM(F97:N97)-O97-P97 -> 0
A98: =A97+1 -> 81 | B98: 00035 | C98: 아트델리6 | D98: 블러링 벨벳 틴트 Burning up 픽 레드 | E98: =SUM(F98:N98)-O98-P98 -> 0
A99: =A98+1 -> 82 | B99: 00036 | C99: 아트델리6 | D99: 블러링 벨벳 틴트 just feeling 베어 브릭 | E99: =SUM(F99:N99)-O99-P99 -> 0
A100: =A99+1 -> 83 | B100: 00037 | C100: 아트델리6 | D100: 블러링 벨벳 틴트 go to lip 미드나잇 누디 | E100: =SUM(F100:N100)-O100-P100 -> 0
A101: =A100+1 -> 84 | B101: 00038 | C101: 아트델리6 | D101: 블러링 벨벳 틴트 Botanic garden 로즈 다운 | E101: =SUM(F101:N101)-O101-P101 -> 0
...

Sheet 8일
A1: NO | B1: 이지어드민 코드 | C1: 브랜드 | D1: 제품명 | E1: 합계 | F1: 이지어드민
D3: 총계
A4: 1 | B4: 00260 | C4: 쟈스_엑토인 바디크림 | D4: 쟈스 엑토인 데일리 모이스처라이징 크림(500ml) | E4: =SUM(F4:M4)-N4-O4 -> 0 | F4: =IFERROR(VLOOKUP(B4,이지어드민!$A$2:$D$100,4,0),0)*1 -> 0
A5: =A4+1 -> 2 | B5: 00257 | C5: 쟈스_엑토인 바디크림 | D5: 쟈스 엑토인 데일리 모이스처라이징 크림(100ml) | E5: =SUM(F5:M5)-N5-O5 -> 0
C6: 쟈스_엑토인 바디크림 | D6: 쟈스_엑토인 바디크림 소계 | E6: =SUM(E4:E5) -> 0
A7: =A5+1 -> 3 | B7: 00249 | C7: 쟈스_엑토인 맨얼굴 | D7: 쟈스 맨얼굴크림 | E7: =SUM(F7:M7)-N7-O7 -> 0
A8: =A7+1 -> 4 | B8: 00250 | C8: 쟈스_엑토인 맨얼굴 | D8: 쟈스 맨얼굴크림 튜브 | E8: =SUM(F8:M8)-N8-O8 -> 0
A9: =A8+1 -> 5 | B9: 00255 | C9: 쟈스_엑토인 맨얼굴 | D9: 쟈스 엑토인 퍼스트 케어 세럼 | E9: =SUM(F9:M9)-N9-O9 -> 0
A10: =A9+1 -> 6 | B10: 00262 | C10: 쟈스_엑토인 맨얼굴 | D10: 쟈스 맨얼굴크림 파우치(1.5g) | E10: =SUM(F10:M10)-N10-O10 -> 0
C11: 쟈스_엑토인 맨얼굴 | D11: 쟈스_엑토인 맨얼굴 소계 | E11: =SUM(E7:E10) -> 0
A12: =A10+1 -> 7 | B12: 00245 | C12: 아트델리_갈바덤 | D12: 아트델리 갈바덤 리프팅 커버쿠션 21호_실버 | E12: =SUM(F12:M12)-N12-O12 -> 0
A13: =A12+1 -> 8 | B13: 00243 | C13: 아트델리_갈바덤 | D13: 아트델리 갈바덤 리프팅 커버쿠션 21호_블랙 | E13: =SUM(F13:M13)-N13-O13 -> 0
A14: =A13+1 -> 9 | B14: 00241 | C14: 아트델리_갈바덤 | D14: 아트델리 갈바덤 리프팅 커버쿠션 21호_그린 | E14: =SUM(F14:M14)-N14-O14 -> 0
A15: =A14+1 -> 10 | B15: 00247 | C15: 아트델리_갈바덤 | D15: 아트델리 갈바덤 리프팅 커버쿠션 21호_리필 | E15: =SUM(F15:M15)-N15-O15 -> 0
A16: =A15+1 -> 11 | B16: 00246 | C16: 아트델리_갈바덤 | D16: 아트델리 갈바덤 리프팅 커버쿠션 23호_실버 | E16: =SUM(F16:M16)-N16-O16 -> 0
A17: =A16+1 -> 12 | B17: 00244 | C17: 아트델리_갈바덤 | D17: 아트델리 갈바덤 리프팅 커버쿠션 23호_블랙 | E17: =SUM(F17:M17)-N17-O17 -> 0
A18: =A17+1 -> 13 | B18: 00242 | C18: 아트델리_갈바덤 | D18: 아트델리 갈바덤 리프팅 커버쿠션 23호_그린 | E18: =SUM(F18:M18)-N18-O18 -> 0
A19: =A18+1 -> 14 | B19: 00248 | C19: 아트델리_갈바덤 | D19: 아트델리 갈바덤 리프팅 커버쿠션 23호_리필 | E19: =SUM(F19:M19)-N19-O19 -> 0
C20: 아트델리_갈바덤 | D20: 아트델리 갈바덤 리프팅 커버쿠션 소계 | E20: =SUM(E12:E19) -> 0
A21: =A19+1 -> 15 | B21: 00229 | C21: 쟈스 글루타치온 | D21: 쟈스 글루타치온 엑스퍼트 1000 크림 | E21: =SUM(F21:M21)-N21-O21 -> 0
A22: =A21+1 -> 16 | B22: 00230 | C22: 쟈스 글루타치온 | D22: 쟈스 글루타치온 엑스퍼트 세럼 | E22: =SUM(F22:M22)-N22-O22 -> 0
A23: =A22+1 -> 17 | B23: 00256 | C23: 쟈스 글루타치온 | D23: 쟈스 글루타치온 엑스퍼트 1000 크림(60ml) | E23: =SUM(F23:M23)-N23-O23 -> 0
A24: =A23+1 -> 18 | B24: 00263 | C24: 쟈스 글루타치온 | D24: 쟈스 글루타치온 크림 파우치(1.5g) | E24: =SUM(F24:M24)-N24-O24 -> 0
D25: 쟈스 글루타치온 소계 | E25: =SUM(E21:E24) -> 0
A26: =A24+1 -> 19 | B26: 00223 | C26: 슬로우 테라피 | D26: 슬로우테라피 구슬 앰플 마스크 유칼립투스 진정(10개입) | E26: =SUM(F26:M26)-N26-O26 -> 0
A27: =A26+1 -> 20 | B27: 00218 | C27: 슬로우 테라피 | D27: 슬로우테라피 구슬 앰플 마스크 유칼립투스 진정 | E27: =SUM(F27:M27)-N27-O27 -> 0
A28: =A27+1 -> 21 | B28: 00225 | C28: 슬로우 테라피 | D28: 슬로우테라피 구슬 앰플 마스크 브라이토닝 비타(10개입) | E28: =SUM(F28:M28)-N28-O28 -> 0
A29: =A28+1 -> 22 | B29: 00220 | C29: 슬로우 테라피 | D29: 슬로우테라피 구슬 앰플 마스크 브라이토닝 비타 | E29: =SUM(F29:M29)-N29-O29 -> 0
A30: =A29+1 -> 23 | B30: 00227 | C30: 슬로우 테라피 | D30: 슬로우테라피 구슬 앰플 마스크 그린토마토 모공(10개입) | E30: =SUM(F30:M30)-N30-O30 -> 0
A31: =A30+1 -> 24 | B31: 00222 | C31: 슬로우 테라피 | D31: 슬로우테라피 구슬 앰플 마스크 그린토마토 모공 | E31: =SUM(F31:M31)-N31-O31 -> 0
A32: =A31+1 -> 25 | B32: 00226 | C32: 슬로우 테라피 | D32: 슬로우테라피 구슬 앰플 마스크 화이트밀크 브라이트닝(10개입) | E32: =SUM(F32:M32)-N32-O32 -> 0
A33: =A32+1 -> 26 | B33: 00221 | C33: 슬로우 테라피 | D33: 슬로우테라피 구슬 앰플 마스크 화이트밀크 브라이트닝 | E33: =SUM(F33:M33)-N33-O33 -> 0
A34: =A33+1 -> 27 | B34: 00224 | C34: 슬로우 테라피 | D34: 슬로우테라피 구슬 앰플 마스크 카멜리아 탄력(10개입) | E34: =SUM(F34:M34)-N34-O34 -> 0
A35: =A34+1 -> 28 | B35: 00219 | C35: 슬로우 테라피 | D35: 슬로우테라피 구슬 앰플 마스크 카멜리아 탄력 | E35: =SUM(F35:M35)-N35-O35 -> 0
D36: 슬로우테라피 구슬앰플 마스크 소계 | E36: =SUM(E26:E35) -> 0
A37: =A35+1 -> 29 | B37: 00214 | C37: 장로젯 | D37: 장로젯 라부 셀룰라 앰플 엘릭시어 엑스이피018 50미리 | E37: =SUM(F37:M37)-N37-O37 -> 0
A38: =A37+1 -> 30 | B38: 00252 | C38: 장로젯 | D38: 장로젯 라부 셀룰라 앰플 엘릭시어 엑스이피018 20미리 | E38: =SUM(F38:M38)-N38-O38 -> 0
D39: 장로젯 소계 | E39: =SUM(E37:E38) -> 0
A40: =A38+1 -> 31 | B40: 00196 | C40: 더마클라센 | D40: 블랙 체인지 샴푸 | E40: =SUM(F40:M40)-N40-O40 -> 0
A41: =A40+1 -> 32 | B41: 00205 | C41: 더마클라센 | D41: 블랙 체인지 샴푸(흑갈색) | E41: =SUM(F41:M41)-N41-O41 -> 0
D42: 블랙 체인지 샴푸 소계 | E42: =SUM(E40:E41) -> 0
A43: =A41+1 -> 33 | B43: S00188 | C43: 아트델리 | D43: 듀얼웨어 립 글로우밤001 | E43: =SUM(F43:M43)-N43-O43 -> 0
A44: =A43+1 -> 34 | B44: S00189 | C44: 아트델리 | D44: 듀얼웨어 립 글로우밤002 | E44: =SUM(F44:M44)-N44-O44 -> 0
A45: =A44+1 -> 35 | B45: S00190 | C45: 아트델리 | D45: 듀얼웨어 립 글로우밤003 | E45: =SUM(F45:M45)-N45-O45 -> 0
A46: =A45+1 -> 36 | B46: S00191 | C46: 아트델리 | D46: 듀얼웨어 립 글로우밤004 | E46: =SUM(F46:M46)-N46-O46 -> 0
A47: =A46+1 -> 37 | B47: S00193 | C47: 아트델리 | D47: 맥시마이저 립 글로우 밤 101 | E47: =SUM(F47:M47)-N47-O47 -> 0
A48: =A47+1 -> 38 | B48: S00194 | C48: 아트델리 | D48: 맥시마이저 립 글로우 밤 102 | E48: =SUM(F48:M48)-N48-O48 -> 0
A49: =A48+1 -> 39 | B49: S00195 | C49: 아트델리 | D49: 맥시마이저 립 글로우 밤 103 | E49: =SUM(F49:M49)-N49-O49 -> 0
C50: 아트델리 | D50: 맥시마이저 립 글로우 밤 003 | E50: =SUM(E43:E49) -> 0
A51: =A49+1 -> 40 | B51: 00001 | C51: 쟈스 멀티밤 | D51: 쟈스 멀티밤 | E51: =SUM(F51:M51)-N51-O51 -> 0
A52: =A51+1 -> 41 | B52: 00002 | C52: 쟈스 멀티밤 | D52: 쟈스 키스밤 | E52: =SUM(F52:M52)-N52-O52 -> 0
A53: =A52+1 -> 42 | B53: 00003 | C53: 쟈스 멀티밤 | D53: 쟈스 콜라겐 세콜지 앰플 미스트 | E53: =SUM(F53:M53)-N53-O53 -> 0
A54: =A53+1 -> 43 | B54: 00004 | C54: 쟈스 멀티밤 | D54: 쟈스 콜라겐 밀키 크림 | E54: =SUM(F54:M54)-N54-O54 -> 0
A55: =A54+1 -> 44 | B55: 00005 | C55: 쟈스 멀티밤 | D55: 쟈스 콜라겐 밀키 앰플 | E55: =SUM(F55:M55)-N55-O55 -> 0
A56: =A55+1 -> 45 | B56: 00006 | C56: 쟈스 멀티밤 | D56: 쟈스 콜라겐 밀키 아이크림 | E56: =SUM(F56:M56)-N56-O56 -> 0
C57: 쟈스 멀티밤 | D57: 쟈스 멀티밤 단품 소계 | E57: =SUM(E51:E56) -> 0
A58: =A56+1 -> 46 | B58: 00007 | C58: 쟈스 톤업 스틱 | D58: 쟈스 콜라겐 글로우 업 엔젤 밤 (블랙) | E58: =SUM(F58:M58)-N58-O58 -> 0
A59: =A58+1 -> 47 | B59: 00008 | C59: 쟈스 톤업 스틱 | D59: 쟈스 콜라겐 글로우 업 엔젤 밤 (핑크) | E59: =SUM(F59:M59)-N59-O59 -> 0
A60: =A59+1 -> 48 | B60: 00009 | C60: 쟈스 톤업 스틱 | D60: 쟈스 콜라겐 글로우 업 엔젤 밤 (오렌지) | E60: =SUM(F60:M60)-N60-O60 -> 0
C61: 쟈스 멀티밤 | D61: 쟈스 비비 멀티밤 단품 소계 | E61: =SUM(E58:E60) -> 0
A62: =A60+1 -> 49 | B62: 00012 | C62: 쟈스 선패치 | D62: 쟈스 콜라겐 프로 컷 화이트닝 패치 소형 베이지 (일반) | E62: =SUM(F62:M62)-N62-O62 -> 0
A63: =A62+1 -> 50 | B63: 00013 | C63: 쟈스 선패치 | D63: 쟈스 콜라겐 프로 컷 화이트닝 패치 소형 (4가지 멀티) | E63: =SUM(F63:M63)-N63-O63 -> 0
A64: =A63+1 -> 51 | B64: 00014 | C64: 쟈스 선패치 | D64: 쟈스 콜라겐 프로 컷 화이트닝 패치 대형 (일반) | E64: =SUM(F64:M64)-N64-O64 -> 0
A65: =A64+1 -> 52 | B65: 00015 | C65: 쟈스 선패치 | D65: 쟈스 콜라겐 프로 컷 화이트닝 패치 마스크형 (일반) | E65: =SUM(F65:M65)-N65-O65 -> 0
A66: =A65+1 -> 53 | B66: 00016 | C66: 쟈스 선패치 | D66: 쟈스 콜라겐 프로 컷 화이트닝 패치 소형 베이지 (일반) 파우치 | E66: =SUM(F66:M66)-N66-O66 -> 0
C67: 쟈스 선패치 | D67: 쟈스 선패치 단품 소계 | E67: =SUM(E62:E66) -> 0
A68: =A66+1 -> 54 | B68: 00017 | C68: 멀티쿠션 | D68: 아트델리 멀티쿠션 #그린 | E68: =SUM(F68:M68)-N68-O68 -> 0
A69: =A68+1 -> 55 | B69: 00018 | C69: 멀티쿠션 | D69: 아트델리 멀티쿠션 #핑크 | E69: =SUM(F69:M69)-N69-O69 -> 0
A70: =A69+1 -> 56 | B70: 00019 | C70: 멀티쿠션 | D70: 아트델리 멀티쿠션 #블랙 | E70: =SUM(F70:M70)-N70-O70 -> 0
A71: =A70+1 -> 57 | B71: 00020 | C71: 멀티쿠션 | D71: 아트델리 멀티쿠션 #블랙(리필) | E71: =SUM(F71:M71)-N71-O71 -> 0
A72: =A71+1 -> 58 | B72: 00208 | C72: 멀티쿠션 | D72: 아트델리 아이밤 멀티쿠션 #퍼플 | E72: =SUM(F72:M72)-N72-O72 -> 0
A73: =A72+1 -> 59 | B73: 00207 | C73: 멀티쿠션 | D73: 아트델리 아이밤 멀티쿠션 #골드 | E73: =SUM(F73:M73)-N73-O73 -> 0
A74: =A73+1 -> 60 | B74: 00206 | C74: 멀티쿠션 | D74: 아트델리 아이밤 멀티쿠션 #레드 | E74: =SUM(F74:M74)-N74-O74 -> 0
C75: 멀티쿠션 | D75: 아트델리 멀티쿠션 단품 소계 | E75: =SUM(E68:E74) -> 0
A76: =A74+1 -> 61 | B76: 00010 | C76: 칼비사노 캐비아 | D76: 칼비사노 엑스트라 캐비아 크림 | E76: =SUM(F76:M76)-N76-O76 -> 0
A77: =A76+1 -> 62 | B77: 00011 | C77: 칼비사노 캐비아 | D77: 칼비사노 엑스트라 캐비아 앰플 | E77: =SUM(F77:M77)-N77-O77 -> 0
A78: =A77+1 -> 63 | B78: 00200 | C78: 칼비사노 캐비아 | D78: 칼비사노 엑스트라 캐비아 앰플(실버) | E78: =SUM(F78:M78)-N78-O78 -> 0
A79: =A78+1 -> 64 | B79: 00210 | C79: 칼비사노 캐비아 | D79: 칼비사노 퓨어 골드 캐비아 앰플 | E79: =SUM(F79:M79)-N79-O79 -> 0
A80: =A79+1 -> 65 | B80: 00215 | C80: 칼비사노 캐비아 | D80: 칼비사노 1주년 패키지 크림 | E80: =SUM(F80:M80)-N80-O80 -> 0
A81: =A80+1 -> 66 | B81: 00251 | C81: 칼비사노 캐비아 | D81: 칼비사노 엑스트라 캐비아 크림(20g) | E81: =SUM(F81:M81)-N81-O81 -> 0
C82: 칼비사노 캐비아 | D82: 칼비사노 엑스트라 캐비아 단품 소계 | E82: =SUM(E76:E81) -> 0
A83: =A81+1 -> 67 | B83: 00021 | C83: 슬로우 테라피 | D83: 카밍 에센스 토너 | E83: =SUM(F83:M83)-N83-O83 -> 0
A84: =A83+1 -> 68 | B84: 00022 | C84: 슬로우 테라피 | D84: 카밍 밸런싱 에멀전 | E84: =SUM(F84:M84)-N84-O84 -> 0
A85: =A84+1 -> 69 | B85: 00023 | C85: 슬로우 테라피 | D85: 쓰리피 카밍 구슬 앰플 | E85: =SUM(F85:M85)-N85-O85 -> 0
A86: =A85+1 -> 70 | B86: 00024 | C86: 슬로우 테라피 | D86: 카밍 피토바이옴 크림 | E86: =SUM(F86:M86)-N86-O86 -> 0
A87: =A86+1 -> 71 | B87: 00025 | C87: 슬로우 테라피 | D87: 카밍 오아시스 클리어 패드 | E87: =SUM(F87:M87)-N87-O87 -> 0
A88: =A87+1 -> 72 | B88: 00026 | C88: 슬로우 테라피 | D88: 쓰리피 카밍 구슬 앰플 2ml 파우치 | E88: =SUM(F88:M88)-N88-O88 -> 0
A89: =A88+1 -> 73 | B89: 00027 | C89: 슬로우 테라피 | D89: 카밍 피토바이옴 크림 2ml 파우치 | E89: =SUM(F89:M89)-N89-O89 -> 0
C90: 슬로우테라피 | D90: 슬로우 테라피 단품 소계 | E90: =SUM(E83:E89) -> 0
A91: =A89+1 -> 74 | B91: 00028 | C91: 아트델리6 | D91: 아트델리 리얼 콜라겐 핏 커버 쿠션 본품(A) 민트 | E91: =SUM(F91:M91)-N91-O91 -> 0
A92: =A91+1 -> 75 | B92: 00029 | C92: 아트델리6 | D92: 아트델리 리얼 콜라겐 핏 커버 쿠션 리필(A) 민트리필 | E92: =SUM(F92:M92)-N92-O92 -> 0
A93: =A92+1 -> 76 | B93: 00030 | C93: 아트델리6 | D93: 아트델리 리얼 콜라겐 핏 커버 쿠션 본품(B) 핑크 | E93: =SUM(F93:M93)-N93-O93 -> 0
A94: =A93+1 -> 77 | B94: 00031 | C94: 아트델리6 | D94: 아트델리 리얼 콜라겐 핏 커버 쿠션 리필(B) 핑크리필 | E94: =SUM(F94:M94)-N94-O94 -> 0
A95: =A94+1 -> 78 | B95: 00033 | C95: 아트델리6 | D95: 아트델리 리얼 콜라겐 밀키 크림 | E95: =SUM(F95:M95)-N95-O95 -> 0
A96: =A95+1 -> 79 | B96: 00032 | C96: 아트델리6 | D96: 아트델리 리얼 콜라겐 밀키 앰플 | E96: =SUM(F96:M96)-N96-O96 -> 0
A97: =A96+1 -> 80 | B97: 00034 | C97: 아트델리6 | D97: 아트델리 리얼 콜라겐 아이크림 | E97: =SUM(F97:M97)-N97-O97 -> 0
A98: =A97+1 -> 81 | B98: 00035 | C98: 아트델리6 | D98: 블러링 벨벳 틴트 Burning up 픽 레드 | E98: =SUM(F98:M98)-N98-O98 -> 0
A99: =A98+1 -> 82 | B99: 00036 | C99: 아트델리6 | D99: 블러링 벨벳 틴트 just feeling 베어 브릭 | E99: =SUM(F99:M99)-N99-O99 -> 0
A100: =A99+1 -> 83 | B100: 00037 | C100: 아트델리6 | D100: 블러링 벨벳 틴트 go to lip 미드나잇 누디 | E100: =SUM(F100:M100)-N100-O100 -> 0
A101: =A100+1 -> 84 | B101: 00038 | C101: 아트델리6 | D101: 블러링 벨벳 틴트 Botanic garden 로즈 다운 | E101: =SUM(F101:M101)-N101-O101 -> 0
...

Sheet 9일
A1: NO | B1: 이지어드민 코드 | C1: 브랜드 | D1: 제품명 | E1: 합계 | F1: 이지어드민
D3: 총계
A4: 1 | B4: 00260 | C4: 쟈스_엑토인 바디크림 | D4: 쟈스 엑토인 데일리 모이스처라이징 크림(500ml) | E4: =SUM(F4:M4)-N4-O4 -> 0 | F4: =IFERROR(VLOOKUP(B4,이지어드민!$A$2:$D$100,4,0),0)*1 -> 0
A5: =A4+1 -> 2 | B5: 00257 | C5: 쟈스_엑토인 바디크림 | D5: 쟈스 엑토인 데일리 모이스처라이징 크림(100ml) | E5: =SUM(F5:M5)-N5-O5 -> 0
C6: 쟈스_엑토인 바디크림 | D6: 쟈스_엑토인 바디크림 소계 | E6: =SUM(E4:E5) -> 0
A7: =A5+1 -> 3 | B7: 00249 | C7: 쟈스_엑토인 맨얼굴 | D7: 쟈스 맨얼굴크림 | E7: =SUM(F7:M7)-N7-O7 -> 0
A8: =A7+1 -> 4 | B8: 00250 | C8: 쟈스_엑토인 맨얼굴 | D8: 쟈스 맨얼굴크림 튜브 | E8: =SUM(F8:M8)-N8-O8 -> 0
A9: =A8+1 -> 5 | B9: 00255 | C9: 쟈스_엑토인 맨얼굴 | D9: 쟈스 엑토인 퍼스트 케어 세럼 | E9: =SUM(F9:M9)-N9-O9 -> 0
A10: =A9+1 -> 6 | B10: 00262 | C10: 쟈스_엑토인 맨얼굴 | D10: 쟈스 맨얼굴크림 파우치(1.5g) | E10: =SUM(F10:M10)-N10-O10 -> 0
C11: 쟈스_엑토인 맨얼굴 | D11: 쟈스_엑토인 맨얼굴 소계 | E11: =SUM(E7:E10) -> 0
A12: =A10+1 -> 7 | B12: 00245 | C12: 아트델리_갈바덤 | D12: 아트델리 갈바덤 리프팅 커버쿠션 21호_실버 | E12: =SUM(F12:M12)-N12-O12 -> 0
A13: =A12+1 -> 8 | B13: 00243 | C13: 아트델리_갈바덤 | D13: 아트델리 갈바덤 리프팅 커버쿠션 21호_블랙 | E13: =SUM(F13:M13)-N13-O13 -> 0
A14: =A13+1 -> 9 | B14: 00241 | C14: 아트델리_갈바덤 | D14: 아트델리 갈바덤 리프팅 커버쿠션 21호_그린 | E14: =SUM(F14:M14)-N14-O14 -> 0
A15: =A14+1 -> 10 | B15: 00247 | C15: 아트델리_갈바덤 | D15: 아트델리 갈바덤 리프팅 커버쿠션 21호_리필 | E15: =SUM(F15:M15)-N15-O15 -> 0
A16: =A15+1 -> 11 | B16: 00246 | C16: 아트델리_갈바덤 | D16: 아트델리 갈바덤 리프팅 커버쿠션 23호_실버 | E16: =SUM(F16:M16)-N16-O16 -> 0
A17: =A16+1 -> 12 | B17: 00244 | C17: 아트델리_갈바덤 | D17: 아트델리 갈바덤 리프팅 커버쿠션 23호_블랙 | E17: =SUM(F17:M17)-N17-O17 -> 0
A18: =A17+1 -> 13 | B18: 00242 | C18: 아트델리_갈바덤 | D18: 아트델리 갈바덤 리프팅 커버쿠션 23호_그린 | E18: =SUM(F18:M18)-N18-O18 -> 0
A19: =A18+1 -> 14 | B19: 00248 | C19: 아트델리_갈바덤 | D19: 아트델리 갈바덤 리프팅 커버쿠션 23호_리필 | E19: =SUM(F19:M19)-N19-O19 -> 0
C20: 아트델리_갈바덤 | D20: 아트델리 갈바덤 리프팅 커버쿠션 소계 | E20: =SUM(E12:E19) -> 0
A21: =A19+1 -> 15 | B21: 00229 | C21: 쟈스 글루타치온 | D21: 쟈스 글루타치온 엑스퍼트 1000 크림 | E21: =SUM(F21:M21)-N21-O21 -> 0
A22: =A21+1 -> 16 | B22: 00230 | C22: 쟈스 글루타치온 | D22: 쟈스 글루타치온 엑스퍼트 세럼 | E22: =SUM(F22:M22)-N22-O22 -> 0
A23: =A22+1 -> 17 | B23: 00256 | C23: 쟈스 글루타치온 | D23: 쟈스 글루타치온 엑스퍼트 1000 크림(60ml) | E23: =SUM(F23:M23)-N23-O23 -> 0
A24: =A23+1 -> 18 | B24: 00263 | C24: 쟈스 글루타치온 | D24: 쟈스 글루타치온 크림 파우치(1.5g) | E24: =SUM(F24:M24)-N24-O24 -> 0
D25: 쟈스 글루타치온 소계 | E25: =SUM(E21:E24) -> 0
A26: =A24+1 -> 19 | B26: 00223 | C26: 슬로우 테라피 | D26: 슬로우테라피 구슬 앰플 마스크 유칼립투스 진정(10개입) | E26: =SUM(F26:M26)-N26-O26 -> 0
A27: =A26+1 -> 20 | B27: 00218 | C27: 슬로우 테라피 | D27: 슬로우테라피 구슬 앰플 마스크 유칼립투스 진정 | E27: =SUM(F27:M27)-N27-O27 -> 0
A28: =A27+1 -> 21 | B28: 00225 | C28: 슬로우 테라피 | D28: 슬로우테라피 구슬 앰플 마스크 브라이토닝 비타(10개입) | E28: =SUM(F28:M28)-N28-O28 -> 0
A29: =A28+1 -> 22 | B29: 00220 | C29: 슬로우 테라피 | D29: 슬로우테라피 구슬 앰플 마스크 브라이토닝 비타 | E29: =SUM(F29:M29)-N29-O29 -> 0
A30: =A29+1 -> 23 | B30: 00227 | C30: 슬로우 테라피 | D30: 슬로우테라피 구슬 앰플 마스크 그린토마토 모공(10개입) | E30: =SUM(F30:M30)-N30-O30 -> 0
A31: =A30+1 -> 24 | B31: 00222 | C31: 슬로우 테라피 | D31: 슬로우테라피 구슬 앰플 마스크 그린토마토 모공 | E31: =SUM(F31:M31)-N31-O31 -> 0
A32: =A31+1 -> 25 | B32: 00226 | C32: 슬로우 테라피 | D32: 슬로우테라피 구슬 앰플 마스크 화이트밀크 브라이트닝(10개입) | E32: =SUM(F32:M32)-N32-O32 -> 0
A33: =A32+1 -> 26 | B33: 00221 | C33: 슬로우 테라피 | D33: 슬로우테라피 구슬 앰플 마스크 화이트밀크 브라이트닝 | E33: =SUM(F33:M33)-N33-O33 -> 0
A34: =A33+1 -> 27 | B34: 00224 | C34: 슬로우 테라피 | D34: 슬로우테라피 구슬 앰플 마스크 카멜리아 탄력(10개입) | E34: =SUM(F34:M34)-N34-O34 -> 0
A35: =A34+1 -> 28 | B35: 00219 | C35: 슬로우 테라피 | D35: 슬로우테라피 구슬 앰플 마스크 카멜리아 탄력 | E35: =SUM(F35:M35)-N35-O35 -> 0
D36: 슬로우테라피 구슬앰플 마스크 소계 | E36: =SUM(E26:E35) -> 0
A37: =A35+1 -> 29 | B37: 00214 | C37: 장로젯 | D37: 장로젯 라부 셀룰라 앰플 엘릭시어 엑스이피018 50미리 | E37: =SUM(F37:M37)-N37-O37 -> 0
A38: =A37+1 -> 30 | B38: 00252 | C38: 장로젯 | D38: 장로젯 라부 셀룰라 앰플 엘릭시어 엑스이피018 20미리 | E38: =SUM(F38:M38)-N38-O38 -> 0
D39: 장로젯 소계 | E39: =SUM(E37:E38) -> 0
A40: =A38+1 -> 31 | B40: 00196 | C40: 더마클라센 | D40: 블랙 체인지 샴푸 | E40: =SUM(F40:M40)-N40-O40 -> 0
A41: =A40+1 -> 32 | B41: 00205 | C41: 더마클라센 | D41: 블랙 체인지 샴푸(흑갈색) | E41: =SUM(F41:M41)-N41-O41 -> 0
D42: 블랙 체인지 샴푸 소계 | E42: =SUM(E40:E41) -> 0
A43: =A41+1 -> 33 | B43: S00188 | C43: 아트델리 | D43: 듀얼웨어 립 글로우밤001 | E43: =SUM(F43:M43)-N43-O43 -> 0
A44: =A43+1 -> 34 | B44: S00189 | C44: 아트델리 | D44: 듀얼웨어 립 글로우밤002 | E44: =SUM(F44:M44)-N44-O44 -> 0
A45: =A44+1 -> 35 | B45: S00190 | C45: 아트델리 | D45: 듀얼웨어 립 글로우밤003 | E45: =SUM(F45:M45)-N45-O45 -> 0
A46: =A45+1 -> 36 | B46: S00191 | C46: 아트델리 | D46: 듀얼웨어 립 글로우밤004 | E46: =SUM(F46:M46)-N46-O46 -> 0
A47: =A46+1 -> 37 | B47: S00193 | C47: 아트델리 | D47: 맥시마이저 립 글로우 밤 101 | E47: =SUM(F47:M47)-N47-O47 -> 0
A48: =A47+1 -> 38 | B48: S00194 | C48: 아트델리 | D48: 맥시마이저 립 글로우 밤 102 | E48: =SUM(F48:M48)-N48-O48 -> 0
A49: =A48+1 -> 39 | B49: S00195 | C49: 아트델리 | D49: 맥시마이저 립 글로우 밤 103 | E49: =SUM(F49:M49)-N49-O49 -> 0
C50: 아트델리 | D50: 맥시마이저 립 글로우 밤 003 | E50: =SUM(E43:E49) -> 0
A51: =A49+1 -> 40 | B51: 00001 | C51: 쟈스 멀티밤 | D51: 쟈스 멀티밤 | E51: =SUM(F51:M51)-N51-O51 -> 0
A52: =A51+1 -> 41 | B52: 00002 | C52: 쟈스 멀티밤 | D52: 쟈스 키스밤 | E52: =SUM(F52:M52)-N52-O52 -> 0
A53: =A52+1 -> 42 | B53: 00003 | C53: 쟈스 멀티밤 | D53: 쟈스 콜라겐 세콜지 앰플 미스트 | E53: =SUM(F53:M53)-N53-O53 -> 0
A54: =A53+1 -> 43 | B54: 00004 | C54: 쟈스 멀티밤 | D54: 쟈스 콜라겐 밀키 크림 | E54: =SUM(F54:M54)-N54-O54 -> 0
A55: =A54+1 -> 44 | B55: 00005 | C55: 쟈스 멀티밤 | D55: 쟈스 콜라겐 밀키 앰플 | E55: =SUM(F55:M55)-N55-O55 -> 0
A56: =A55+1 -> 45 | B56: 00006 | C56: 쟈스 멀티밤 | D56: 쟈스 콜라겐 밀키 아이크림 | E56: =SUM(F56:M56)-N56-O56 -> 0
C57: 쟈스 멀티밤 | D57: 쟈스 멀티밤 단품 소계 | E57: =SUM(E51:E56) -> 0
A58: =A56+1 -> 46 | B58: 00007 | C58: 쟈스 톤업 스틱 | D58: 쟈스 콜라겐 글로우 업 엔젤 밤 (블랙) | E58: =SUM(F58:M58)-N58-O58 -> 0
A59: =A58+1 -> 47 | B59: 00008 | C59: 쟈스 톤업 스틱 | D59: 쟈스 콜라겐 글로우 업 엔젤 밤 (핑크) | E59: =SUM(F59:M59)-N59-O59 -> 0
A60: =A59+1 -> 48 | B60: 00009 | C60: 쟈스 톤업 스틱 | D60: 쟈스 콜라겐 글로우 업 엔젤 밤 (오렌지) | E60: =SUM(F60:M60)-N60-O60 -> 0
C61: 쟈스 멀티밤 | D61: 쟈스 비비 멀티밤 단품 소계 | E61: =SUM(E58:E60) -> 0
A62: =A60+1 -> 49 | B62: 00012 | C62: 쟈스 선패치 | D62: 쟈스 콜라겐 프로 컷 화이트닝 패치 소형 베이지 (일반) | E62: =SUM(F62:M62)-N62-O62 -> 0
A63: =A62+1 -> 50 | B63: 00013 | C63: 쟈스 선패치 | D63: 쟈스 콜라겐 프로 컷 화이트닝 패치 소형 (4가지 멀티) | E63: =SUM(F63:M63)-N63-O63 -> 0
A64: =A63+1 -> 51 | B64: 00014 | C64: 쟈스 선패치 | D64: 쟈스 콜라겐 프로 컷 화이트닝 패치 대형 (일반) | E64: =SUM(F64:M64)-N64-O64 -> 0
A65: =A64+1 -> 52 | B65: 00015 | C65: 쟈스 선패치 | D65: 쟈스 콜라겐 프로 컷 화이트닝 패치 마스크형 (일반) | E65: =SUM(F65:M65)-N65-O65 -> 0
A66: =A65+1 -> 53 | B66: 00016 | C66: 쟈스 선패치 | D66: 쟈스 콜라겐 프로 컷 화이트닝 패치 소형 베이지 (일반) 파우치 | E66: =SUM(F66:M66)-N66-O66 -> 0
C67: 쟈스 선패치 | D67: 쟈스 선패치 단품 소계 | E67: =SUM(E62:E66) -> 0
A68: =A66+1 -> 54 | B68: 00017 | C68: 멀티쿠션 | D68: 아트델리 멀티쿠션 #그린 | E68: =SUM(F68:M68)-N68-O68 -> 0
A69: =A68+1 -> 55 | B69: 00018 | C69: 멀티쿠션 | D69: 아트델리 멀티쿠션 #핑크 | E69: =SUM(F69:M69)-N69-O69 -> 0
A70: =A69+1 -> 56 | B70: 00019 | C70: 멀티쿠션 | D70: 아트델리 멀티쿠션 #블랙 | E70: =SUM(F70:M70)-N70-O70 -> 0
A71: =A70+1 -> 57 | B71: 00020 | C71: 멀티쿠션 | D71: 아트델리 멀티쿠션 #블랙(리필) | E71: =SUM(F71:M71)-N71-O71 -> 0
A72: =A71+1 -> 58 | B72: 00208 | C72: 멀티쿠션 | D72: 아트델리 아이밤 멀티쿠션 #퍼플 | E72: =SUM(F72:M72)-N72-O72 -> 0
A73: =A72+1 -> 59 | B73: 00207 | C73: 멀티쿠션 | D73: 아트델리 아이밤 멀티쿠션 #골드 | E73: =SUM(F73:M73)-N73-O73 -> 0
A74: =A73+1 -> 60 | B74: 00206 | C74: 멀티쿠션 | D74: 아트델리 아이밤 멀티쿠션 #레드 | E74: =SUM(F74:M74)-N74-O74 -> 0
C75: 멀티쿠션 | D75: 아트델리 멀티쿠션 단품 소계 | E75: =SUM(E68:E74) -> 0
A76: =A74+1 -> 61 | B76: 00010 | C76: 칼비사노 캐비아 | D76: 칼비사노 엑스트라 캐비아 크림 | E76: =SUM(F76:M76)-N76-O76 -> 0
A77: =A76+1 -> 62 | B77: 00011 | C77: 칼비사노 캐비아 | D77: 칼비사노 엑스트라 캐비아 앰플 | E77: =SUM(F77:M77)-N77-O77 -> 0
A78: =A77+1 -> 63 | B78: 00200 | C78: 칼비사노 캐비아 | D78: 칼비사노 엑스트라 캐비아 앰플(실버) | E78: =SUM(F78:M78)-N78-O78 -> 0
A79: =A78+1 -> 64 | B79: 00210 | C79: 칼비사노 캐비아 | D79: 칼비사노 퓨어 골드 캐비아 앰플 | E79: =SUM(F79:M79)-N79-O79 -> 0
A80: =A79+1 -> 65 | B80: 00215 | C80: 칼비사노 캐비아 | D80: 칼비사노 1주년 패키지 크림 | E80: =SUM(F80:M80)-N80-O80 -> 0
A81: =A80+1 -> 66 | B81: 00251 | C81: 칼비사노 캐비아 | D81: 칼비사노 엑스트라 캐비아 크림(20g) | E81: =SUM(F81:M81)-N81-O81 -> 0
C82: 칼비사노 캐비아 | D82: 칼비사노 엑스트라 캐비아 단품 소계 | E82: =SUM(E76:E81) -> 0
A83: =A81+1 -> 67 | B83: 00021 | C83: 슬로우 테라피 | D83: 카밍 에센스 토너 | E83: =SUM(F83:M83)-N83-O83 -> 0
A84: =A83+1 -> 68 | B84: 00022 | C84: 슬로우 테라피 | D84: 카밍 밸런싱 에멀전 | E84: =SUM(F84:M84)-N84-O84 -> 0
A85: =A84+1 -> 69 | B85: 00023 | C85: 슬로우 테라피 | D85: 쓰리피 카밍 구슬 앰플 | E85: =SUM(F85:M85)-N85-O85 -> 0
A86: =A85+1 -> 70 | B86: 00024 | C86: 슬로우 테라피 | D86: 카밍 피토바이옴 크림 | E86: =SUM(F86:M86)-N86-O86 -> 0
A87: =A86+1 -> 71 | B87: 00025 | C87: 슬로우 테라피 | D87: 카밍 오아시스 클리어 패드 | E87: =SUM(F87:M87)-N87-O87 -> 0
A88: =A87+1 -> 72 | B88: 00026 | C88: 슬로우 테라피 | D88: 쓰리피 카밍 구슬 앰플 2ml 파우치 | E88: =SUM(F88:M88)-N88-O88 -> 0
A89: =A88+1 -> 73 | B89: 00027 | C89: 슬로우 테라피 | D89: 카밍 피토바이옴 크림 2ml 파우치 | E89: =SUM(F89:M89)-N89-O89 -> 0
C90: 슬로우테라피 | D90: 슬로우 테라피 단품 소계 | E90: =SUM(E83:E89) -> 0
A91: =A89+1 -> 74 | B91: 00028 | C91: 아트델리6 | D91: 아트델리 리얼 콜라겐 핏 커버 쿠션 본품(A) 민트 | E91: =SUM(F91:M91)-N91-O91 -> 0
A92: =A91+1 -> 75 | B92: 00029 | C92: 아트델리6 | D92: 아트델리 리얼 콜라겐 핏 커버 쿠션 리필(A) 민트리필 | E92: =SUM(F92:M92)-N92-O92 -> 0
A93: =A92+1 -> 76 | B93: 00030 | C93: 아트델리6 | D93: 아트델리 리얼 콜라겐 핏 커버 쿠션 본품(B) 핑크 | E93: =SUM(F93:M93)-N93-O93 -> 0
A94: =A93+1 -> 77 | B94: 00031 | C94: 아트델리6 | D94: 아트델리 리얼 콜라겐 핏 커버 쿠션 리필(B) 핑크리필 | E94: =SUM(F94:M94)-N94-O94 -> 0
