Workbook

Sheet 주차별통계
A1: NO | B1: 브랜드 | C1: 제품명 | D1: 합계 | E1: 1주차 | F1: 2주차 | G1: 3주차 | H1: 4주차 | I1: 5주차
C3: 총계
A4: 1 | B4: 쟈스_엑토인 | C4: 쟈스 엑토인 데일리 모이스처라이징 크림(500ml) | D4: =SUM(E4:L4) -> 0 | E4: =월총계!E4+월총계!F4+월총계!G4 -> 0 | F4: =월총계!J4+월총계!K4+월총계!L4+월총계!H4+월총계!I4 -> 0 | G4: =월총계!Q4+월총계!R4+월총계!S4+월총계!O4+월총계!P4 -> 0 | H4: =월총계!X4+월총계!Y4+월총계!Z4+월총계!V4+월총계!W4 -> 0 | I4: =월총계!AE4+월총계!AF4+월총계!AG4+월총계!AH4+월총계!AD4 -> 0
A5: =A4+1 -> 2 | B5: 쟈스_엑토인 | C5: 쟈스 엑토인 데일리 모이스처라이징 크림(100ml) | D5: =SUM(E5:L5) -> 0 | E5: =월총계!E5+월총계!F5+월총계!G5 -> 0 | F5: =월총계!J5+월총계!K5+월총계!L5+월총계!H5+월총계!I5 -> 0 | G5: =월총계!Q5+월총계!R5+월총계!S5+월총계!O5+월총계!P5 -> 0 | H5: =월총계!X5+월총계!Y5+월총계!Z5+월총계!V5+월총계!W5 -> 0 | I5: =월총계!AE5+월총계!AF5+월총계!AG5+월총계!AH5+월총계!AD5 -> 0
B6: 쟈스_엑토인 바디크림 | C6: 쟈스_엑토인 바디크림 소계 | D6: =SUM(D4:D5) -> 0 | E6: =월총계!E6+월총계!F6+월총계!G6 -> 0 | F6: =월총계!J6+월총계!K6+월총계!L6+월총계!H6+월총계!I6 -> 0 | G6: =월총계!Q6+월총계!R6+월총계!S6+월총계!O6+월총계!P6 -> 0 | H6: =월총계!X6+월총계!Y6+월총계!Z6+월총계!V6+월총계!W6 -> 0 | I6: =월총계!AE6+월총계!AF6+월총계!AG6+월총계!AH6+월총계!AD6 -> 0
A7: =A5+1 -> 3 | B7: 쟈스_엑토인 | C7: 쟈스 맨얼굴크림 | D7: =SUM(E7:L7) -> 0 | E7: =월총계!E7+월총계!F7+월총계!G7 -> 0 | F7: =월총계!J7+월총계!K7+월총계!L7+월총계!H7+월총계!I7 -> 0 | G7: =월총계!Q7+월총계!R7+월총계!S7+월총계!O7+월총계!P7 -> 0 | H7: =월총계!X7+월총계!Y7+월총계!Z7+월총계!V7+월총계!W7 -> 0 | I7: =월총계!AE7+월총계!AF7+월총계!AG7+월총계!AH7+월총계!AD7 -> 0
A8: =A7+1 -> 4 | B8: 쟈스_엑토인 | C8: 쟈스 맨얼굴크림 튜브 | D8: =SUM(E8:L8) -> 0 | E8: =월총계!E8+월총계!F8+월총계!G8 -> 0 | F8: =월총계!J8+월총계!K8+월총계!L8+월총계!H8+월총계!I8 -> 0 | G8: =월총계!Q8+월총계!R8+월총계!S8+월총계!O8+월총계!P8 -> 0 | H8: =월총계!X8+월총계!Y8+월총계!Z8+월총계!V8+월총계!W8 -> 0 | I8: =월총계!AE8+월총계!AF8+월총계!AG8+월총계!AH8+월총계!AD8 -> 0
A9: =A8+1 -> 5 | B9: 쟈스_엑토인 | C9: 쟈스 엑토인 퍼스트 케어 세럼 | D9: =SUM(E9:L9) -> 0 | E9: =월총계!E9+월총계!F9+월총계!G9 -> 0 | F9: =월총계!J9+월총계!K9+월총계!L9+월총계!H9+월총계!I9 -> 0 | G9: =월총계!Q9+월총계!R9+월총계!S9+월총계!O9+월총계!P9 -> 0 | H9: =월총계!X9+월총계!Y9+월총계!Z9+월총계!V9+월총계!W9 -> 0 | I9: =월총계!AE9+월총계!AF9+월총계!AG9+월총계!AH9+월총계!AD9 -> 0
A10: =A9+1 -> 6 | B10: 쟈스_엑토인 | C10: 쟈스 맨얼굴크림 파우치(1.5g) | D10: =SUM(E10:L10) -> 0 | E10: =월총계!E10+월총계!F10+월총계!G10 -> 0 | F10: =월총계!J10+월총계!K10+월총계!L10+월총계!H10+월총계!I10 -> 0 | G10: =월총계!Q10+월총계!R10+월총계!S10+월총계!O10+월총계!P10 -> 0 | H10: =월총계!X10+월총계!Y10+월총계!Z10+월총계!V10+월총계!W10 -> 0 | I10: =월총계!AE10+월총계!AF10+월총계!AG10+월총계!AH10+월총계!AD10 -> 0
B11: 쟈스_엑토인 맨얼굴 | C11: 쟈스_엑토인 맨얼굴 소계 | D11: =SUM(D7:D10) -> 0 | E11: =월총계!E11+월총계!F11+월총계!G11 -> 0 | F11: =월총계!J11+월총계!K11+월총계!L11+월총계!H11+월총계!I11 -> 0 | G11: =월총계!Q11+월총계!R11+월총계!S11+월총계!O11+월총계!P11 -> 0 | H11: =월총계!X11+월총계!Y11+월총계!Z11+월총계!V11+월총계!W11 -> 0 | I11: =월총계!AE11+월총계!AF11+월총계!AG11+월총계!AH11+월총계!AD11 -> 0
A12: =A10+1 -> 7 | B12: 아트델리_갈바덤 | C12: 아트델리 갈바덤 리프팅 커버쿠션 21호_실버 | D12: =SUM(E12:L12) -> 0 | E12: =월총계!E12+월총계!F12+월총계!G12 -> 0 | F12: =월총계!J12+월총계!K12+월총계!L12+월총계!H12+월총계!I12 -> 0 | G12: =월총계!Q12+월총계!R12+월총계!S12+월총계!O12+월총계!P12 -> 0 | H12: =월총계!X12+월총계!Y12+월총계!Z12+월총계!V12+월총계!W12 -> 0 | I12: =월총계!AE12+월총계!AF12+월총계!AG12+월총계!AH12+월총계!AD12 -> 0
A13: =A12+1 -> 8 | B13: 아트델리_갈바덤 | C13: 아트델리 갈바덤 리프팅 커버쿠션 21호_블랙 | D13: =SUM(E13:L13) -> 0 | E13: =월총계!E13+월총계!F13+월총계!G13 -> 0 | F13: =월총계!J13+월총계!K13+월총계!L13+월총계!H13+월총계!I13 -> 0 | G13: =월총계!Q13+월총계!R13+월총계!S13+월총계!O13+월총계!P13 -> 0 | H13: =월총계!X13+월총계!Y13+월총계!Z13+월총계!V13+월총계!W13 -> 0 | I13: =월총계!AE13+월총계!AF13+월총계!AG13+월총계!AH13+월총계!AD13 -> 0
A14: =A13+1 -> 9 | B14: 아트델리_갈바덤 | C14: 아트델리 갈바덤 리프팅 커버쿠션 21호_그린 | D14: =SUM(E14:L14) -> 0 | E14: =월총계!E14+월총계!F14+월총계!G14 -> 0 | F14: =월총계!J14+월총계!K14+월총계!L14+월총계!H14+월총계!I14 -> 0 | G14: =월총계!Q14+월총계!R14+월총계!S14+월총계!O14+월총계!P14 -> 0 | H14: =월총계!X14+월총계!Y14+월총계!Z14+월총계!V14+월총계!W14 -> 0 | I14: =월총계!AE14+월총계!AF14+월총계!AG14+월총계!AH14+월총계!AD14 -> 0
A15: =A14+1 -> 10 | B15: 아트델리_갈바덤 | C15: 아트델리 갈바덤 리프팅 커버쿠션 21호_리필 | D15: =SUM(E15:L15) -> 0 | E15: =월총계!E15+월총계!F15+월총계!G15 -> 0 | F15: =월총계!J15+월총계!K15+월총계!L15+월총계!H15+월총계!I15 -> 0 | G15: =월총계!Q15+월총계!R15+월총계!S15+월총계!O15+월총계!P15 -> 0 | H15: =월총계!X15+월총계!Y15+월총계!Z15+월총계!V15+월총계!W15 -> 0 | I15: =월총계!AE15+월총계!AF15+월총계!AG15+월총계!AH15+월총계!AD15 -> 0
A16: =A15+1 -> 11 | B16: 아트델리_갈바덤 | C16: 아트델리 갈바덤 리프팅 커버쿠션 23호_실버 | D16: =SUM(E16:L16) -> 0 | E16: =월총계!E16+월총계!F16+월총계!G16 -> 0 | F16: =월총계!J16+월총계!K16+월총계!L16+월총계!H16+월총계!I16 -> 0 | G16: =월총계!Q16+월총계!R16+월총계!S16+월총계!O16+월총계!P16 -> 0 | H16: =월총계!X16+월총계!Y16+월총계!Z16+월총계!V16+월총계!W16 -> 0 | I16: =월총계!AE16+월총계!AF16+월총계!AG16+월총계!AH16+월총계!AD16 -> 0
A17: =A16+1 -> 12 | B17: 아트델리_갈바덤 | C17: 아트델리 갈바덤 리프팅 커버쿠션 23호_블랙 | D17: =SUM(E17:L17) -> 0 | E17: =월총계!E17+월총계!F17+월총계!G17 -> 0 | F17: =월총계!J17+월총계!K17+월총계!L17+월총계!H17+월총계!I17 -> 0 | G17: =월총계!Q17+월총계!R17+월총계!S17+월총계!O17+월총계!P17 -> 0 | H17: =월총계!X17+월총계!Y17+월총계!Z17+월총계!V17+월총계!W17 -> 0 | I17: =월총계!AE17+월총계!AF17+월총계!AG17+월총계!AH17+월총계!AD17 -> 0
A18: =A17+1 -> 13 | B18: 아트델리_갈바덤 | C18: 아트델리 갈바덤 리프팅 커버쿠션 23호_그린 | D18: =SUM(E18:L18) -> 0 | E18: =월총계!E18+월총계!F18+월총계!G18 -> 0 | F18: =월총계!J18+월총계!K18+월총계!L18+월총계!H18+월총계!I18 -> 0 | G18: =월총계!Q18+월총계!R18+월총계!S18+월총계!O18+월총계!P18 -> 0 | H18: =월총계!X18+월총계!Y18+월총계!Z18+월총계!V18+월총계!W18 -> 0 | I18: =월총계!AE18+월총계!AF18+월총계!AG18+월총계!AH18+월총계!AD18 -> 0
A19: =A18+1 -> 14 | B19: 아트델리_갈바덤 | C19: 아트델리 갈바덤 리프팅 커버쿠션 23호_리필 | D19: =SUM(E19:L19) -> 0 | E19: =월총계!E19+월총계!F19+월총계!G19 -> 0 | F19: =월총계!J19+월총계!K19+월총계!L19+월총계!H19+월총계!I19 -> 0 | G19: =월총계!Q19+월총계!R19+월총계!S19+월총계!O19+월총계!P19 -> 0 | H19: =월총계!X19+월총계!Y19+월총계!Z19+월총계!V19+월총계!W19 -> 0 | I19: =월총계!AE19+월총계!AF19+월총계!AG19+월총계!AH19+월총계!AD19 -> 0
B20: 아트델리_갈바덤 | C20: 아트델리 갈바덤 리프팅 커버쿠션 소계 | D20: =SUM(D12:D19) -> 0 | E20: =월총계!E20+월총계!F20+월총계!G20 -> 0 | F20: =월총계!J20+월총계!K20+월총계!L20+월총계!H20+월총계!I20 -> 0 | G20: =월총계!Q20+월총계!R20+월총계!S20+월총계!O20+월총계!P20 -> 0 | H20: =월총계!X20+월총계!Y20+월총계!Z20+월총계!V20+월총계!W20 -> 0 | I20: =월총계!AE20+월총계!AF20+월총계!AG20+월총계!AH20+월총계!AD20 -> 0
A21: =A19+1 -> 15 | B21: 쟈스 글루타치온 | C21: 쟈스 글루타치온 엑스퍼트 1000 크림 | D21: =SUM(E21:L21) -> 0 | E21: =월총계!E21+월총계!F21+월총계!G21 -> 0 | F21: =월총계!J21+월총계!K21+월총계!L21+월총계!H21+월총계!I21 -> 0 | G21: =월총계!Q21+월총계!R21+월총계!S21+월총계!O21+월총계!P21 -> 0 | H21: =월총계!X21+월총계!Y21+월총계!Z21+월총계!V21+월총계!W21 -> 0 | I21: =월총계!AE21+월총계!AF21+월총계!AG21+월총계!AH21+월총계!AD21 -> 0
A22: =A21+1 -> 16 | B22: 쟈스 글루타치온 | C22: 쟈스 글루타치온 엑스퍼트 세럼 | D22: =SUM(E22:L22) -> 0 | E22: =월총계!E22+월총계!F22+월총계!G22 -> 0 | F22: =월총계!J22+월총계!K22+월총계!L22+월총계!H22+월총계!I22 -> 0 | G22: =월총계!Q22+월총계!R22+월총계!S22+월총계!O22+월총계!P22 -> 0 | H22: =월총계!X22+월총계!Y22+월총계!Z22+월총계!V22+월총계!W22 -> 0 | I22: =월총계!AE22+월총계!AF22+월총계!AG22+월총계!AH22+월총계!AD22 -> 0
A23: =A22+1 -> 17 | B23: 쟈스 글루타치온 | C23: 쟈스 글루타치온 엑스퍼트 1000 크림(60ml) | D23: =SUM(E23:L23) -> 0 | E23: =월총계!E23+월총계!F23+월총계!G23 -> 0 | F23: =월총계!J23+월총계!K23+월총계!L23+월총계!H23+월총계!I23 -> 0 | G23: =월총계!Q23+월총계!R23+월총계!S23+월총계!O23+월총계!P23 -> 0 | H23: =월총계!X23+월총계!Y23+월총계!Z23+월총계!V23+월총계!W23 -> 0 | I23: =월총계!AE23+월총계!AF23+월총계!AG23+월총계!AH23+월총계!AD23 -> 0
A24: =A23+1 -> 18 | B24: 쟈스 글루타치온 | C24: 쟈스 글루타치온 크림 파우치(1.5g) | D24: =SUM(E24:L24) -> 0 | E24: =월총계!E24+월총계!F24+월총계!G24 -> 0 | F24: =월총계!J24+월총계!K24+월총계!L24+월총계!H24+월총계!I24 -> 0 | G24: =월총계!Q24+월총계!R24+월총계!S24+월총계!O24+월총계!P24 -> 0 | H24: =월총계!X24+월총계!Y24+월총계!Z24+월총계!V24+월총계!W24 -> 0 | I24: =월총계!AE24+월총계!AF24+월총계!AG24+월총계!AH24+월총계!AD24 -> 0
C25: 쟈스 글루타치온 소계 | D25: =SUM(D21:D24) -> 0 | E25: =월총계!E25+월총계!F25+월총계!G25 -> 0 | F25: =월총계!J25+월총계!K25+월총계!L25+월총계!H25+월총계!I25 -> 0 | G25: =월총계!Q25+월총계!R25+월총계!S25+월총계!O25+월총계!P25 -> 0 | H25: =월총계!X25+월총계!Y25+월총계!Z25+월총계!V25+월총계!W25 -> 0 | I25: =월총계!AE25+월총계!AF25+월총계!AG25+월총계!AH25+월총계!AD25 -> 0
A26: =A24+1 -> 19 | B26: 슬로우 테라피 | C26: 슬로우테라피 구슬 앰플 마스크 유칼립투스 진정(10개입) | D26: =SUM(E26:L26) -> 0 | E26: =월총계!E26+월총계!F26+월총계!G26 -> 0 | F26: =월총계!J26+월총계!K26+월총계!L26+월총계!H26+월총계!I26 -> 0 | G26: =월총계!Q26+월총계!R26+월총계!S26+월총계!O26+월총계!P26 -> 0 | H26: =월총계!X26+월총계!Y26+월총계!Z26+월총계!V26+월총계!W26 -> 0 | I26: =월총계!AE26+월총계!AF26+월총계!AG26+월총계!AH26+월총계!AD26 -> 0
A27: =A26+1 -> 20 | B27: 슬로우 테라피 | C27: 슬로우테라피 구슬 앰플 마스크 유칼립투스 진정 | D27: =SUM(E27:L27) -> 0 | E27: =월총계!E27+월총계!F27+월총계!G27 -> 0 | F27: =월총계!J27+월총계!K27+월총계!L27+월총계!H27+월총계!I27 -> 0 | G27: =월총계!Q27+월총계!R27+월총계!S27+월총계!O27+월총계!P27 -> 0 | H27: =월총계!X27+월총계!Y27+월총계!Z27+월총계!V27+월총계!W27 -> 0 | I27: =월총계!AE27+월총계!AF27+월총계!AG27+월총계!AH27+월총계!AD27 -> 0
A28: =A27+1 -> 21 | B28: 슬로우 테라피 | C28: 슬로우테라피 구슬 앰플 마스크 브라이토닝 비타(10개입) | D28: =SUM(E28:L28) -> 0 | E28: =월총계!E28+월총계!F28+월총계!G28 -> 0 | F28: =월총계!J28+월총계!K28+월총계!L28+월총계!H28+월총계!I28 -> 0 | G28: =월총계!Q28+월총계!R28+월총계!S28+월총계!O28+월총계!P28 -> 0 | H28: =월총계!X28+월총계!Y28+월총계!Z28+월총계!V28+월총계!W28 -> 0 | I28: =월총계!AE28+월총계!AF28+월총계!AG28+월총계!AH28+월총계!AD28 -> 0
A29: =A28+1 -> 22 | B29: 슬로우 테라피 | C29: 슬로우테라피 구슬 앰플 마스크 브라이토닝 비타 | D29: =SUM(E29:L29) -> 0 | E29: =월총계!E29+월총계!F29+월총계!G29 -> 0 | F29: =월총계!J29+월총계!K29+월총계!L29+월총계!H29+월총계!I29 -> 0 | G29: =월총계!Q29+월총계!R29+월총계!S29+월총계!O29+월총계!P29 -> 0 | H29: =월총계!X29+월총계!Y29+월총계!Z29+월총계!V29+월총계!W29 -> 0 | I29: =월총계!AE29+월총계!AF29+월총계!AG29+월총계!AH29+월총계!AD29 -> 0
A30: =A29+1 -> 23 | B30: 슬로우 테라피 | C30: 슬로우테라피 구슬 앰플 마스크 그린토마토 모공(10개입) | D30: =SUM(E30:L30) -> 0 | E30: =월총계!E30+월총계!F30+월총계!G30 -> 0 | F30: =월총계!J30+월총계!K30+월총계!L30+월총계!H30+월총계!I30 -> 0 | G30: =월총계!Q30+월총계!R30+월총계!S30+월총계!O30+월총계!P30 -> 0 | H30: =월총계!X30+월총계!Y30+월총계!Z30+월총계!V30+월총계!W30 -> 0 | I30: =월총계!AE30+월총계!AF30+월총계!AG30+월총계!AH30+월총계!AD30 -> 0
A31: =A30+1 -> 24 | B31: 슬로우 테라피 | C31: 슬로우테라피 구슬 앰플 마스크 그린토마토 모공 | D31: =SUM(E31:L31) -> 0 | E31: =월총계!E31+월총계!F31+월총계!G31 -> 0 | F31: =월총계!J31+월총계!K31+월총계!L31+월총계!H31+월총계!I31 -> 0 | G31: =월총계!Q31+월총계!R31+월총계!S31+월총계!O31+월총계!P31 -> 0 | H31: =월총계!X31+월총계!Y31+월총계!Z31+월총계!V31+월총계!W31 -> 0 | I31: =월총계!AE31+월총계!AF31+월총계!AG31+월총계!AH31+월총계!AD31 -> 0
A32: =A31+1 -> 25 | B32: 슬로우 테라피 | C32: 슬로우테라피 구슬 앰플 마스크 화이트밀크 브라이트닝(10개입) | D32: =SUM(E32:L32) -> 0 | E32: =월총계!E32+월총계!F32+월총계!G32 -> 0 | F32: =월총계!J32+월총계!K32+월총계!L32+월총계!H32+월총계!I32 -> 0 | G32: =월총계!Q32+월총계!R32+월총계!S32+월총계!O32+월총계!P32 -> 0 | H32: =월총계!X32+월총계!Y32+월총계!Z32+월총계!V32+월총계!W32 -> 0 | I32: =월총계!AE32+월총계!AF32+월총계!AG32+월총계!AH32+월총계!AD32 -> 0
A33: =A32+1 -> 26 | B33: 슬로우 테라피 | C33: 슬로우테라피 구슬 앰플 마스크 화이트밀크 브라이트닝 | D33: =SUM(E33:L33) -> 0 | E33: =월총계!E33+월총계!F33+월총계!G33 -> 0 | F33: =월총계!J33+월총계!K33+월총계!L33+월총계!H33+월총계!I33 -> 0 | G33: =월총계!Q33+월총계!R33+월총계!S33+월총계!O33+월총계!P33 -> 0 | H33: =월총계!X33+월총계!Y33+월총계!Z33+월총계!V33+월총계!W33 -> 0 | I33: =월총계!AE33+월총계!AF33+월총계!AG33+월총계!AH33+월총계!AD33 -> 0
A34: =A33+1 -> 27 | B34: 슬로우 테라피 | C34: 슬로우테라피 구슬 앰플 마스크 카멜리아 탄력(10개입) | D34: =SUM(E34:L34) -> 0 | E34: =월총계!E34+월총계!F34+월총계!G34 -> 0 | F34: =월총계!J34+월총계!K34+월총계!L34+월총계!H34+월총계!I34 -> 0 | G34: =월총계!Q34+월총계!R34+월총계!S34+월총계!O34+월총계!P34 -> 0 | H34: =월총계!X34+월총계!Y34+월총계!Z34+월총계!V34+월총계!W34 -> 0 | I34: =월총계!AE34+월총계!AF34+월총계!AG34+월총계!AH34+월총계!AD34 -> 0
A35: =A34+1 -> 28 | B35: 슬로우 테라피 | C35: 슬로우테라피 구슬 앰플 마스크 카멜리아 탄력 | D35: =SUM(E35:L35) -> 0 | E35: =월총계!E35+월총계!F35+월총계!G35 -> 0 | F35: =월총계!J35+월총계!K35+월총계!L35+월총계!H35+월총계!I35 -> 0 | G35: =월총계!Q35+월총계!R35+월총계!S35+월총계!O35+월총계!P35 -> 0 | H35: =월총계!X35+월총계!Y35+월총계!Z35+월총계!V35+월총계!W35 -> 0 | I35: =월총계!AE35+월총계!AF35+월총계!AG35+월총계!AH35+월총계!AD35 -> 0
C36: 슬로우테라피 구슬앰플 마스크 소계 | D36: =SUM(D26:D35) -> 0 | E36: =월총계!E36+월총계!F36+월총계!G36 -> 0 | F36: =월총계!J36+월총계!K36+월총계!L36+월총계!H36+월총계!I36 -> 0 | G36: =월총계!Q36+월총계!R36+월총계!S36+월총계!O36+월총계!P36 -> 0 | H36: =월총계!X36+월총계!Y36+월총계!Z36+월총계!V36+월총계!W36 -> 0 | I36: =월총계!AE36+월총계!AF36+월총계!AG36+월총계!AH36+월총계!AD36 -> 0
A37: =A35+1 -> 29 | B37: 장로젯 | C37: 장로젯 라부 셀룰라 앰플 엘릭시어 엑스이피018 50미리 | D37: =SUM(E37:L37) -> 0 | E37: =월총계!E37+월총계!F37+월총계!G37 -> 0 | F37: =월총계!J37+월총계!K37+월총계!L37+월총계!H37+월총계!I37 -> 0 | G37: =월총계!Q37+월총계!R37+월총계!S37+월총계!O37+월총계!P37 -> 0 | H37: =월총계!X37+월총계!Y37+월총계!Z37+월총계!V37+월총계!W37 -> 0 | I37: =월총계!AE37+월총계!AF37+월총계!AG37+월총계!AH37+월총계!AD37 -> 0
A38: =A37+1 -> 30 | B38: 장로젯 | C38: 장로젯 라부 셀룰라 앰플 엘릭시어 엑스이피018 20미리 | D38: =SUM(E38:L38) -> 0 | E38: =월총계!E38+월총계!F38+월총계!G38 -> 0 | F38: =월총계!J38+월총계!K38+월총계!L38+월총계!H38+월총계!I38 -> 0 | G38: =월총계!Q38+월총계!R38+월총계!S38+월총계!O38+월총계!P38 -> 0 | H38: =월총계!X38+월총계!Y38+월총계!Z38+월총계!V38+월총계!W38 -> 0 | I38: =월총계!AE38+월총계!AF38+월총계!AG38+월총계!AH38+월총계!AD38 -> 0
C39: 장로젯 소계 | D39: =SUM(D37:D38) -> 0 | E39: =월총계!E39+월총계!F39+월총계!G39 -> 0 | F39: =월총계!J39+월총계!K39+월총계!L39+월총계!H39+월총계!I39 -> 0 | G39: =월총계!Q39+월총계!R39+월총계!S39+월총계!O39+월총계!P39 -> 0 | H39: =월총계!X39+월총계!Y39+월총계!Z39+월총계!V39+월총계!W39 -> 0 | I39: =월총계!AE39+월총계!AF39+월총계!AG39+월총계!AH39+월총계!AD39 -> 0
A40: =A38+1 -> 31 | B40: 더마클라센 | C40: 블랙 체인지 샴푸 | D40: =SUM(E40:L40) -> 0 | E40: =월총계!E40+월총계!F40+월총계!G40 -> 0 | F40: =월총계!J40+월총계!K40+월총계!L40+월총계!H40+월총계!I40 -> 0 | G40: =월총계!Q40+월총계!R40+월총계!S40+월총계!O40+월총계!P40 -> 0 | H40: =월총계!X40+월총계!Y40+월총계!Z40+월총계!V40+월총계!W40 -> 0 | I40: =월총계!AE40+월총계!AF40+월총계!AG40+월총계!AH40+월총계!AD40 -> 0
A41: =A40+1 -> 32 | B41: 더마클라센 | C41: 블랙 체인지 샴푸(흑갈색) | D41: =SUM(E41:L41) -> 0 | E41: =월총계!E41+월총계!F41+월총계!G41 -> 0 | F41: =월총계!J41+월총계!K41+월총계!L41+월총계!H41+월총계!I41 -> 0 | G41: =월총계!Q41+월총계!R41+월총계!S41+월총계!O41+월총계!P41 -> 0 | H41: =월총계!X41+월총계!Y41+월총계!Z41+월총계!V41+월총계!W41 -> 0 | I41: =월총계!AE41+월총계!AF41+월총계!AG41+월총계!AH41+월총계!AD41 -> 0
...

Sheet 월총계
A1: NO | B1: 브랜드 | C1: 제품명 | D1: 합계 | E1: 1일 | F1: 2일 | G1: 3일 | H1: 4일 | I1: 5일 | J1: 6일 | K1: 7일 | L1: 8일 | M1: 9일 | N1: 10일 | O1: 11일 | P1: 12일 | Q1: 13일 | R1: 14일 | S1: 15일 | T1: 16일 | U1: 17일 | V1: 18일 | W1: 19일 | X1: 20일 | Y1: 21일 | Z1: 22일 | AA1: 23일 | AB1: 24일 | AC1: 25일 | AD1: 26일 | AE1: 27일 | AF1: 28일 | AG1: 29일 | AH1: 30일 | AI1: 31일
C3: 총계
A4: 1 | B4: 쟈스_엑토인 바디크림 | C4: 쟈스 엑토인 데일리 모이스처라이징 크림(500ml) | D4: =SUM(E4:AI4) -> 0 | E4: ='1일'!E4 -> 0 | F4: ='2일'!E4 -> 0 | G4: ='3일'!E4 -> 0 | H4: ='4일'!E4 -> 0 | I4: ='5일'!E4 -> 0 | J4: ='6일'!E4 -> 0 | K4: ='7일'!E4 -> 0 | L4: ='8일'!E4 -> 0 | M4: ='9일'!E4 -> 0 | N4: ='10일'!E4 -> 0 | O4: ='11일'!E4 -> 0 | P4: ='12일'!E4 -> 0 | Q4: ='13일'!E4 -> 0 | R4: ='14일'!E4 -> 0 | S4: ='15일'!E4 -> 0 | T4: ='16일'!E4 -> 0 | U4: ='17일'!E4 -> 0 | V4: ='18일'!E4 -> 0 | W4: ='19일'!E4 -> 0 | X4: ='20일'!E4 -> 0 | Y4: ='21일'!E4 -> 0 | Z4: ='22일'!E4 -> 0 | AA4: ='23일'!E4 -> 0 | AB4: ='24일'!E4 -> 0 | AC4: ='25일'!E4 -> 0 | AD4: ='26일'!E4 -> 0 | AE4: ='27일'!E4 -> 0 | AF4: ='28일'!E4 -> 0 | AG4: ='29일'!E4 -> 0 | AH4: ='30일'!E4 -> 0 | AI4: ='31일'!E4 -> 0
A5: =A4+1 -> 2 | B5: 쟈스_엑토인 바디크림 | C5: 쟈스 엑토인 데일리 모이스처라이징 크림(100ml) | D5: =SUM(E5:AI5) -> 0 | E5: ='1일'!E5 -> 0 | F5: ='2일'!E5 -> 0 | G5: ='3일'!E5 -> 0 | H5: ='4일'!E5 -> 0 | I5: ='5일'!E5 -> 0 | J5: ='6일'!E5 -> 0 | K5: ='7일'!E5 -> 0 | L5: ='8일'!E5 -> 0 | M5: ='9일'!E5 -> 0 | N5: ='10일'!E5 -> 0 | O5: ='11일'!E5 -> 0 | P5: ='12일'!E5 -> 0 | Q5: ='13일'!E5 -> 0 | R5: ='14일'!E5 -> 0 | S5: ='15일'!E5 -> 0 | T5: ='16일'!E5 -> 0 | U5: ='17일'!E5 -> 0 | V5: ='18일'!E5 -> 0 | W5: ='19일'!E5 -> 0 | X5: ='20일'!E5 -> 0 | Y5: ='21일'!E5 -> 0 | Z5: ='22일'!E5 -> 0 | AA5: ='23일'!E5 -> 0 | AB5: ='24일'!E5 -> 0 | AC5: ='25일'!E5 -> 0 | AD5: ='26일'!E5 -> 0 | AE5: ='27일'!E5 -> 0 | AF5: ='28일'!E5 -> 0 | AG5: ='29일'!E5 -> 0 | AH5: ='30일'!E5 -> 0 | AI5: ='31일'!E5 -> 0
B6: 쟈스_엑토인 바디크림 | C6: 쟈스_엑토인 바디크림 소계 | D6: =SUM(D4:D5) -> 0 | E6: ='1일'!E6 -> 0 | F6: ='2일'!E6 -> 0 | G6: ='3일'!E6 -> 0 | H6: ='4일'!E6 -> 0 | I6: ='5일'!E6 -> 0 | J6: ='6일'!E6 -> 0 | K6: ='7일'!E6 -> 0 | L6: ='8일'!E6 -> 0 | M6: ='9일'!E6 -> 0 | N6: ='10일'!E6 -> 0 | O6: ='11일'!E6 -> 0 | P6: ='12일'!E6 -> 0 | Q6: ='13일'!E6 -> 0 | R6: ='14일'!E6 -> 0 | S6: ='15일'!E6 -> 0 | T6: ='16일'!E6 -> 0 | U6: ='17일'!E6 -> 0 | V6: ='18일'!E6 -> 0 | W6: ='19일'!E6 -> 0 | X6: ='20일'!E6 -> 0 | Y6: ='21일'!E6 -> 0 | Z6: ='22일'!E6 -> 0 | AA6: ='23일'!E6 -> 0 | AB6: ='24일'!E6 -> 0 | AC6: ='25일'!E6 -> 0 | AD6: ='26일'!E6 -> 0 | AE6: ='27일'!E6 -> 0 | AF6: ='28일'!E6 -> 0 | AG6: ='29일'!E6 -> 0 | AH6: ='30일'!E6 -> 0 | AI6: ='31일'!E6 -> 0
A7: =A5+1 -> 3 | B7: 쟈스_엑토인 맨얼굴 | C7: 쟈스 맨얼굴크림 | D7: =SUM(E7:AI7) -> 0 | E7: ='1일'!E7 -> 0 | F7: ='2일'!E7 -> 0 | G7: ='3일'!E7 -> 0 | H7: ='4일'!E7 -> 0 | I7: ='5일'!E7 -> 0 | J7: ='6일'!E7 -> 0 | K7: ='7일'!E7 -> 0 | L7: ='8일'!E7 -> 0 | M7: ='9일'!E7 -> 0 | N7: ='10일'!E7 -> 0 | O7: ='11일'!E7 -> 0 | P7: ='12일'!E7 -> 0 | Q7: ='13일'!E7 -> 0 | R7: ='14일'!E7 -> 0 | S7: ='15일'!E7 -> 0 | T7: ='16일'!E7 -> 0 | U7: ='17일'!E7 -> 0 | V7: ='18일'!E7 -> 0 | W7: ='19일'!E7 -> 0 | X7: ='20일'!E7 -> 0 | Y7: ='21일'!E7 -> 0 | Z7: ='22일'!E7 -> 0 | AA7: ='23일'!E7 -> 0 | AB7: ='24일'!E7 -> 0 | AC7: ='25일'!E7 -> 0 | AD7: ='26일'!E7 -> 0 | AE7: ='27일'!E7 -> 0 | AF7: ='28일'!E7 -> 0 | AG7: ='29일'!E7 -> 0 | AH7: ='30일'!E7 -> 0 | AI7: ='31일'!E7 -> 0
A8: =A7+1 -> 4 | B8: 쟈스_엑토인 맨얼굴 | C8: 쟈스 맨얼굴크림 튜브 | D8: =SUM(E8:AI8) -> 0 | E8: ='1일'!E8 -> 0 | F8: ='2일'!E8 -> 0 | G8: ='3일'!E8 -> 0 | H8: ='4일'!E8 -> 0 | I8: ='5일'!E8 -> 0 | J8: ='6일'!E8 -> 0 | K8: ='7일'!E8 -> 0 | L8: ='8일'!E8 -> 0 | M8: ='9일'!E8 -> 0 | N8: ='10일'!E8 -> 0 | O8: ='11일'!E8 -> 0 | P8: ='12일'!E8 -> 0 | Q8: ='13일'!E8 -> 0 | R8: ='14일'!E8 -> 0 | S8: ='15일'!E8 -> 0 | T8: ='16일'!E8 -> 0 | U8: ='17일'!E8 -> 0 | V8: ='18일'!E8 -> 0 | W8: ='19일'!E8 -> 0 | X8: ='20일'!E8 -> 0 | Y8: ='21일'!E8 -> 0 | Z8: ='22일'!E8 -> 0 | AA8: ='23일'!E8 -> 0 | AB8: ='24일'!E8 -> 0 | AC8: ='25일'!E8 -> 0 | AD8: ='26일'!E8 -> 0 | AE8: ='27일'!E8 -> 0 | AF8: ='28일'!E8 -> 0 | AG8: ='29일'!E8 -> 0 | AH8: ='30일'!E8 -> 0 | AI8: ='31일'!E8 -> 0
A9: =A8+1 -> 5 | B9: 쟈스_엑토인 맨얼굴 | C9: 쟈스 엑토인 퍼스트 케어 세럼 | D9: =SUM(E9:AI9) -> 0 | E9: ='1일'!E9 -> 0 | F9: ='2일'!E9 -> 0 | G9: ='3일'!E9 -> 0 | H9: ='4일'!E9 -> 0 | I9: ='5일'!E9 -> 0 | J9: ='6일'!E9 -> 0 | K9: ='7일'!E9 -> 0 | L9: ='8일'!E9 -> 0 | M9: ='9일'!E9 -> 0 | N9: ='10일'!E9 -> 0 | O9: ='11일'!E9 -> 0 | P9: ='12일'!E9 -> 0 | Q9: ='13일'!E9 -> 0 | R9: ='14일'!E9 -> 0 | S9: ='15일'!E9 -> 0 | T9: ='16일'!E9 -> 0 | U9: ='17일'!E9 -> 0 | V9: ='18일'!E9 -> 0 | W9: ='19일'!E9 -> 0 | X9: ='20일'!E9 -> 0 | Y9: ='21일'!E9 -> 0 | Z9: ='22일'!E9 -> 0 | AA9: ='23일'!E9 -> 0 | AB9: ='24일'!E9 -> 0 | AC9: ='25일'!E9 -> 0 | AD9: ='26일'!E9 -> 0 | AE9: ='27일'!E9 -> 0 | AF9: ='28일'!E9 -> 0 | AG9: ='29일'!E9 -> 0 | AH9: ='30일'!E9 -> 0 | AI9: ='31일'!E9 -> 0
A10: =A9+1 -> 6 | B10: 쟈스_엑토인 맨얼굴 | C10: 쟈스 맨얼굴크림 파우치(1.5g) | D10: =SUM(E10:AI10) -> 0 | E10: ='1일'!E10 -> 0 | F10: ='2일'!E10 -> 0 | G10: ='3일'!E10 -> 0 | H10: ='4일'!E10 -> 0 | I10: ='5일'!E10 -> 0 | J10: ='6일'!E10 -> 0 | K10: ='7일'!E10 -> 0 | L10: ='8일'!E10 -> 0 | M10: ='9일'!E10 -> 0 | N10: ='10일'!E10 -> 0 | O10: ='11일'!E10 -> 0 | P10: ='12일'!E10 -> 0 | Q10: ='13일'!E10 -> 0 | R10: ='14일'!E10 -> 0 | S10: ='15일'!E10 -> 0 | T10: ='16일'!E10 -> 0 | U10: ='17일'!E10 -> 0 | V10: ='18일'!E10 -> 0 | W10: ='19일'!E10 -> 0 | X10: ='20일'!E10 -> 0 | Y10: ='21일'!E10 -> 0 | Z10: ='22일'!E10 -> 0 | AA10: ='23일'!E10 -> 0 | AB10: ='24일'!E10 -> 0 | AC10: ='25일'!E10 -> 0 | AD10: ='26일'!E10 -> 0 | AE10: ='27일'!E10 -> 0 | AF10: ='28일'!E10 -> 0 | AG10: ='29일'!E10 -> 0 | AH10: ='30일'!E10 -> 0 | AI10: ='31일'!E10 -> 0
B11: 쟈스_엑토인 맨얼굴 | C11: 쟈스_엑토인 맨얼굴 소계 | D11: =SUM(D7:D10) -> 0 | E11: ='1일'!E11 -> 0 | F11: ='2일'!E11 -> 0 | G11: ='3일'!E11 -> 0 | H11: ='4일'!E11 -> 0 | I11: ='5일'!E11 -> 0 | J11: ='6일'!E11 -> 0 | K11: ='7일'!E11 -> 0 | L11: ='8일'!E11 -> 0 | M11: ='9일'!E11 -> 0 | N11: ='10일'!E11 -> 0 | O11: ='11일'!E11 -> 0 | P11: ='12일'!E11 -> 0 | Q11: ='13일'!E11 -> 0 | R11: ='14일'!E11 -> 0 | S11: ='15일'!E11 -> 0 | T11: ='16일'!E11 -> 0 | U11: ='17일'!E11 -> 0 | V11: ='18일'!E11 -> 0 | W11: ='19일'!E11 -> 0 | X11: ='20일'!E11 -> 0 | Y11: ='21일'!E11 -> 0 | Z11: ='22일'!E11 -> 0 | AA11: ='23일'!E11 -> 0 | AB11: ='24일'!E11 -> 0 | AC11: ='25일'!E11 -> 0 | AD11: ='26일'!E11 -> 0 | AE11: ='27일'!E11 -> 0 | AF11: ='28일'!E11 -> 0 | AG11: ='29일'!E11 -> 0 | AH11: ='30일'!E11 -> 0 | AI11: ='31일'!E11 -> 0
A12: =A10+1 -> 7 | B12: 아트델리_갈바덤 | C12: 아트델리 갈바덤 리프팅 커버쿠션 21호_실버 | D12: =SUM(E12:AI12) -> 0 | E12: ='1일'!E12 -> 0 | F12: ='2일'!E12 -> 0 | G12: ='3일'!E12 -> 0 | H12: ='4일'!E12 -> 0 | I12: ='5일'!E12 -> 0 | J12: ='6일'!E12 -> 0 | K12: ='7일'!E12 -> 0 | L12: ='8일'!E12 -> 0 | M12: ='9일'!E12 -> 0 | N12: ='10일'!E12 -> 0 | O12: ='11일'!E12 -> 0 | P12: ='12일'!E12 -> 0 | Q12: ='13일'!E12 -> 0 | R12: ='14일'!E12 -> 0 | S12: ='15일'!E12 -> 0 | T12: ='16일'!E12 -> 0 | U12: ='17일'!E12 -> 0 | V12: ='18일'!E12 -> 0 | W12: ='19일'!E12 -> 0 | X12: ='20일'!E12 -> 0 | Y12: ='21일'!E12 -> 0 | Z12: ='22일'!E12 -> 0 | AA12: ='23일'!E12 -> 0 | AB12: ='24일'!E12 -> 0 | AC12: ='25일'!E12 -> 0 | AD12: ='26일'!E12 -> 0 | AE12: ='27일'!E12 -> 0 | AF12: ='28일'!E12 -> 0 | AG12: ='29일'!E12 -> 0 | AH12: ='30일'!E12 -> 0 | AI12: ='31일'!E12 -> 0
A13: =A12+1 -> 8 | B13: 아트델리_갈바덤 | C13: 아트델리 갈바덤 리프팅 커버쿠션 21호_블랙 | D13: =SUM(E13:AI13) -> 0 | E13: ='1일'!E13 -> 0 | F13: ='2일'!E13 -> 0 | G13: ='3일'!E13 -> 0 | H13: ='4일'!E13 -> 0 | I13: ='5일'!E13 -> 0 | J13: ='6일'!E13 -> 0 | K13: ='7일'!E13 -> 0 | L13: ='8일'!E13 -> 0 | M13: ='9일'!E13 -> 0 | N13: ='10일'!E13 -> 0 | O13: ='11일'!E13 -> 0 | P13: ='12일'!E13 -> 0 | Q13: ='13일'!E13 -> 0 | R13: ='14일'!E13 -> 0 | S13: ='15일'!E13 -> 0 | T13: ='16일'!E13 -> 0 | U13: ='17일'!E13 -> 0 | V13: ='18일'!E13 -> 0 | W13: ='19일'!E13 -> 0 | X13: ='20일'!E13 -> 0 | Y13: ='21일'!E13 -> 0 | Z13: ='22일'!E13 -> 0 | AA13: ='23일'!E13 -> 0 | AB13: ='24일'!E13 -> 0 | AC13: ='25일'!E13 -> 0 | AD13: ='26일'!E13 -> 0 | AE13: ='27일'!E13 -> 0 | AF13: ='28일'!E13 -> 0 | AG13: ='29일'!E13 -> 0 | AH13: ='30일'!E13 -> 0 | AI13: ='31일'!E13 -> 0
A14: =A13+1 -> 9 | B14: 아트델리_갈바덤 | C14: 아트델리 갈바덤 리프팅 커버쿠션 21호_그린 | D14: =SUM(E14:AI14) -> 0 | E14: ='1일'!E14 -> 0 | F14: ='2일'!E14 -> 0 | G14: ='3일'!E14 -> 0 | H14: ='4일'!E14 -> 0 | I14: ='5일'!E14 -> 0 | J14: ='6일'!E14 -> 0 | K14: ='7일'!E14 -> 0 | L14: ='8일'!E14 -> 0 | M14: ='9일'!E14 -> 0 | N14: ='10일'!E14 -> 0 | O14: ='11일'!E14 -> 0 | P14: ='12일'!E14 -> 0 | Q14: ='13일'!E14 -> 0 | R14: ='14일'!E14 -> 0 | S14: ='15일'!E14 -> 0 | T14: ='16일'!E14 -> 0 | U14: ='17일'!E14 -> 0 | V14: ='18일'!E14 -> 0 | W14: ='19일'!E14 -> 0 | X14: ='20일'!E14 -> 0 | Y14: ='21일'!E14 -> 0 | Z14: ='22일'!E14 -> 0 | AA14: ='23일'!E14 -> 0 | AB14: ='24일'!E14 -> 0 | AC14: ='25일'!E14 -> 0 | AD14: ='26일'!E14 -> 0 | AE14: ='27일'!E14 -> 0 | AF14: ='28일'!E14 -> 0 | AG14: ='29일'!E14 -> 0 | AH14: ='30일'!E14 -> 0 | AI14: ='31일'!E14 -> 0
A15: =A14+1 -> 10 | B15: 아트델리_갈바덤 | C15: 아트델리 갈바덤 리프팅 커버쿠션 21호_리필 | D15: =SUM(E15:AI15) -> 0 | E15: ='1일'!E15 -> 0 | F15: ='2일'!E15 -> 0 | G15: ='3일'!E15 -> 0 | H15: ='4일'!E15 -> 0 | I15: ='5일'!E15 -> 0 | J15: ='6일'!E15 -> 0 | K15: ='7일'!E15 -> 0 | L15: ='8일'!E15 -> 0 | M15: ='9일'!E15 -> 0 | N15: ='10일'!E15 -> 0 | O15: ='11일'!E15 -> 0 | P15: ='12일'!E15 -> 0 | Q15: ='13일'!E15 -> 0 | R15: ='14일'!E15 -> 0 | S15: ='15일'!E15 -> 0 | T15: ='16일'!E15 -> 0 | U15: ='17일'!E15 -> 0 | V15: ='18일'!E15 -> 0 | W15: ='19일'!E15 -> 0 | X15: ='20일'!E15 -> 0 | Y15: ='21일'!E15 -> 0 | Z15: ='22일'!E15 -> 0 | AA15: ='23일'!E15 -> 0 | AB15: ='24일'!E15 -> 0 | AC15: ='25일'!E15 -> 0 | AD15: ='26일'!E15 -> 0 | AE15: ='27일'!E15 -> 0 | AF15: ='28일'!E15 -> 0 | AG15: ='29일'!E15 -> 0 | AH15: ='30일'!E15 -> 0 | AI15: ='31일'!E15 -> 0
A16: =A15+1 -> 11 | B16: 아트델리_갈바덤 | C16: 아트델리 갈바덤 리프팅 커버쿠션 23호_실버 | D16: =SUM(E16:AI16) -> 0 | E16: ='1일'!E16 -> 0 | F16: ='2일'!E16 -> 0 | G16: ='3일'!E16 -> 0 | H16: ='4일'!E16 -> 0 | I16: ='5일'!E16 -> 0 | J16: ='6일'!E16 -> 0 | K16: ='7일'!E16 -> 0 | L16: ='8일'!E16 -> 0 | M16: ='9일'!E16 -> 0 | N16: ='10일'!E16 -> 0 | O16: ='11일'!E16 -> 0 | P16: ='12일'!E16 -> 0 | Q16: ='13일'!E16 -> 0 | R16: ='14일'!E16 -> 0 | S16: ='15일'!E16 -> 0 | T16: ='16일'!E16 -> 0 | U16: ='17일'!E16 -> 0 | V16: ='18일'!E16 -> 0 | W16: ='19일'!E16 -> 0 | X16: ='20일'!E16 -> 0 | Y16: ='21일'!E16 -> 0 | Z16: ='22일'!E16 -> 0 | AA16: ='23일'!E16 -> 0 | AB16: ='24일'!E16 -> 0 | AC16: ='25일'!E16 -> 0 | AD16: ='26일'!E16 -> 0 | AE16: ='27일'!E16 -> 0 | AF16: ='28일'!E16 -> 0 | AG16: ='29일'!E16 -> 0 | AH16: ='30일'!E16 -> 0 | AI16: ='31일'!E16 -> 0
A17: =A16+1 -> 12 | B17: 아트델리_갈바덤 | C17: 아트델리 갈바덤 리프팅 커버쿠션 23호_블랙 | D17: =SUM(E17:AI17) -> 0 | E17: ='1일'!E17 -> 0 | F17: ='2일'!E17 -> 0 | G17: ='3일'!E17 -> 0 | H17: ='4일'!E17 -> 0 | I17: ='5일'!E17 -> 0 | J17: ='6일'!E17 -> 0 | K17: ='7일'!E17 -> 0 | L17: ='8일'!E17 -> 0 | M17: ='9일'!E17 -> 0 | N17: ='10일'!E17 -> 0 | O17: ='11일'!E17 -> 0 | P17: ='12일'!E17 -> 0 | Q17: ='13일'!E17 -> 0 | R17: ='14일'!E17 -> 0 | S17: ='15일'!E17 -> 0 | T17: ='16일'!E17 -> 0 | U17: ='17일'!E17 -> 0 | V17: ='18일'!E17 -> 0 | W17: ='19일'!E17 -> 0 | X17: ='20일'!E17 -> 0 | Y17: ='21일'!E17 -> 0 | Z17: ='22일'!E17 -> 0 | AA17: ='23일'!E17 -> 0 | AB17: ='24일'!E17 -> 0 | AC17: ='25일'!E17 -> 0 | AD17: ='26일'!E17 -> 0 | AE17: ='27일'!E17 -> 0 | AF17: ='28일'!E17 -> 0 | AG17: ='29일'!E17 -> 0 | AH17: ='30일'!E17 -> 0 | AI17: ='31일'!E17 -> 0
A18: =A17+1 -> 13 | B18: 아트델리_갈바덤 | C18: 아트델리 갈바덤 리프팅 커버쿠션 23호_그린 | D18: =SUM(E18:AI18) -> 0 | E18: ='1일'!E18 -> 0 | F18: ='2일'!E18 -> 0 | G18: ='3일'!E18 -> 0 | H18: ='4일'!E18 -> 0 | I18: ='5일'!E18 -> 0 | J18: ='6일'!E18 -> 0 | K18: ='7일'!E18 -> 0 | L18: ='8일'!E18 -> 0 | M18: ='9일'!E18 -> 0 | N18: ='10일'!E18 -> 0 | O18: ='11일'!E18 -> 0 | P18: ='12일'!E18 -> 0 | Q18: ='13일'!E18 -> 0 | R18: ='14일'!E18 -> 0 | S18: ='15일'!E18 -> 0 | T18: ='16일'!E18 -> 0 | U18: ='17일'!E18 -> 0 | V18: ='18일'!E18 -> 0 | W18: ='19일'!E18 -> 0 | X18: ='20일'!E18 -> 0 | Y18: ='21일'!E18 -> 0 | Z18: ='22일'!E18 -> 0 | AA18: ='23일'!E18 -> 0 | AB18: ='24일'!E18 -> 0 | AC18: ='25일'!E18 -> 0 | AD18: ='26일'!E18 -> 0 | AE18: ='27일'!E18 -> 0 | AF18: ='28일'!E18 -> 0 | AG18: ='29일'!E18 -> 0 | AH18: ='30일'!E18 -> 0 | AI18: ='31일'!E18 -> 0
A19: =A18+1 -> 14 | B19: 아트델리_갈바덤 | C19: 아트델리 갈바덤 리프팅 커버쿠션 23호_리필 | D19: =SUM(E19:AI19) -> 0 | E19: ='1일'!E19 -> 0 | F19: ='2일'!E19 -> 0 | G19: ='3일'!E19 -> 0 | H19: ='4일'!E19 -> 0 | I19: ='5일'!E19 -> 0 | J19: ='6일'!E19 -> 0 | K19: ='7일'!E19 -> 0 | L19: ='8일'!E19 -> 0 | M19: ='9일'!E19 -> 0 | N19: ='10일'!E19 -> 0 | O19: ='11일'!E19 -> 0 | P19: ='12일'!E19 -> 0 | Q19: ='13일'!E19 -> 0 | R19: ='14일'!E19 -> 0 | S19: ='15일'!E19 -> 0 | T19: ='16일'!E19 -> 0 | U19: ='17일'!E19 -> 0 | V19: ='18일'!E19 -> 0 | W19: ='19일'!E19 -> 0 | X19: ='20일'!E19 -> 0 | Y19: ='21일'!E19 -> 0 | Z19: ='22일'!E19 -> 0 | AA19: ='23일'!E19 -> 0 | AB19: ='24일'!E19 -> 0 | AC19: ='25일'!E19 -> 0 | AD19: ='26일'!E19 -> 0 | AE19: ='27일'!E19 -> 0 | AF19: ='28일'!E19 -> 0 | AG19: ='29일'!E19 -> 0 | AH19: ='30일'!E19 -> 0 | AI19: ='31일'!E19 -> 0
B20: 아트델리_갈바덤 | C20: 아트델리 갈바덤 리프팅 커버쿠션 소계 | D20: =SUM(D12:D19) -> 0 | E20: ='1일'!E20 -> 0 | F20: ='2일'!E20 -> 0 | G20: ='3일'!E20 -> 0 | H20: ='4일'!E20 -> 0 | I20: ='5일'!E20 -> 0 | J20: ='6일'!E20 -> 0 | K20: ='7일'!E20 -> 0 | L20: ='8일'!E20 -> 0 | M20: ='9일'!E20 -> 0 | N20: ='10일'!E20 -> 0 | O20: ='11일'!E20 -> 0 | P20: ='12일'!E20 -> 0 | Q20: ='13일'!E20 -> 0 | R20: ='14일'!E20 -> 0 | S20: ='15일'!E20 -> 0 | T20: ='16일'!E20 -> 0 | U20: ='17일'!E20 -> 0 | V20: ='18일'!E20 -> 0 | W20: ='19일'!E20 -> 0 | X20: ='20일'!E20 -> 0 | Y20: ='21일'!E20 -> 0 | Z20: ='22일'!E20 -> 0 | AA20: ='23일'!E20 -> 0 | AB20: ='24일'!E20 -> 0 | AC20: ='25일'!E20 -> 0 | AD20: ='26일'!E20 -> 0 | AE20: ='27일'!E20 -> 0 | AF20: ='28일'!E20 -> 0 | AG20: ='29일'!E20 -> 0 | AH20: ='30일'!E20 -> 0 | AI20: ='31일'!E20 -> 0
A21: =A19+1 -> 15 | B21: 쟈스 글루타치온 | C21: 쟈스 글루타치온 엑스퍼트 1000 크림 | D21: =SUM(E21:AI21) -> 0 | E21: ='1일'!E21 -> 0 | F21: ='2일'!E21 -> 0 | G21: ='3일'!E21 -> 0 | H21: ='4일'!E21 -> 0 | I21: ='5일'!E21 -> 0 | J21: ='6일'!E21 -> 0 | K21: ='7일'!E21 -> 0 | L21: ='8일'!E21 -> 0 | M21: ='9일'!E21 -> 0 | N21: ='10일'!E21 -> 0 | O21: ='11일'!E21 -> 0 | P21: ='12일'!E21 -> 0 | Q21: ='13일'!E21 -> 0 | R21: ='14일'!E21 -> 0 | S21: ='15일'!E21 -> 0 | T21: ='16일'!E21 -> 0 | U21: ='17일'!E21 -> 0 | V21: ='18일'!E21 -> 0 | W21: ='19일'!E21 -> 0 | X21: ='20일'!E21 -> 0 | Y21: ='21일'!E21 -> 0 | Z21: ='22일'!E21 -> 0 | AA21: ='23일'!E21 -> 0 | AB21: ='24일'!E21 -> 0 | AC21: ='25일'!E21 -> 0 | AD21: ='26일'!E21 -> 0 | AE21: ='27일'!E21 -> 0 | AF21: ='28일'!E21 -> 0 | AG21: ='29일'!E21 -> 0 | AH21: ='30일'!E21 -> 0 | AI21: ='31일'!E21 -> 0
A22: =A21+1 -> 16 | B22: 쟈스 글루타치온 | C22: 쟈스 글루타치온 엑스퍼트 세럼 | D22: =SUM(E22:AI22) -> 0 | E22: ='1일'!E22 -> 0 | F22: ='2일'!E22 -> 0 | G22: ='3일'!E22 -> 0 | H22: ='4일'!E22 -> 0 | I22: ='5일'!E22 -> 0 | J22: ='6일'!E22 -> 0 | K22: ='7일'!E22 -> 0 | L22: ='8일'!E22 -> 0 | M22: ='9일'!E22 -> 0 | N22: ='10일'!E22 -> 0 | O22: ='11일'!E22 -> 0 | P22: ='12일'!E22 -> 0 | Q22: ='13일'!E22 -> 0 | R22: ='14일'!E22 -> 0 | S22: ='15일'!E22 -> 0 | T22: ='16일'!E22 -> 0 | U22: ='17일'!E22 -> 0 | V22: ='18일'!E22 -> 0 | W22: ='19일'!E22 -> 0 | X22: ='20일'!E22 -> 0 | Y22: ='21일'!E22 -> 0 | Z22: ='22일'!E22 -> 0 | AA22: ='23일'!E22 -> 0 | AB22: ='24일'!E22 -> 0 | AC22: ='25일'!E22 -> 0 | AD22: ='26일'!E22 -> 0 | AE22: ='27일'!E22 -> 0 | AF22: ='28일'!E22 -> 0 | AG22: ='29일'!E22 -> 0 | AH22: ='30일'!E22 -> 0 | AI22: ='31일'!E22 -> 0
A23: =A22+1 -> 17 | B23: 쟈스 글루타치온 | C23: 쟈스 글루타치온 엑스퍼트 1000 크림(60ml) | D23: =SUM(E23:AI23) -> 0 | E23: ='1일'!E23 -> 0 | F23: ='2일'!E23 -> 0 | G23: ='3일'!E23 -> 0 | H23: ='4일'!E23 -> 0 | I23: ='5일'!E23 -> 0 | J23: ='6일'!E23 -> 0 | K23: ='7일'!E23 -> 0 | L23: ='8일'!E23 -> 0 | M23: ='9일'!E23 -> 0 | N23: ='10일'!E23 -> 0 | O23: ='11일'!E23 -> 0 | P23: ='12일'!E23 -> 0 | Q23: ='13일'!E23 -> 0 | R23: ='14일'!E23 -> 0 | S23: ='15일'!E23 -> 0 | T23: ='16일'!E23 -> 0 | U23: ='17일'!E23 -> 0 | V23: ='18일'!E23 -> 0 | W23: ='19일'!E23 -> 0 | X23: ='20일'!E23 -> 0 | Y23: ='21일'!E23 -> 0 | Z23: ='22일'!E23 -> 0 | AA23: ='23일'!E23 -> 0 | AB23: ='24일'!E23 -> 0 | AC23: ='25일'!E23 -> 0 | AD23: ='26일'!E23 -> 0 | AE23: ='27일'!E23 -> 0 | AF23: ='28일'!E23 -> 0 | AG23: ='29일'!E23 -> 0 | AH23: ='30일'!E23 -> 0 | AI23: ='31일'!E23 -> 0
A24: =A23+1 -> 18 | B24: 쟈스 글루타치온 | C24: 쟈스 글루타치온 크림 파우치(1.5g) | D24: =SUM(E24:AI24) -> 0 | E24: ='1일'!E24 -> 0 | F24: ='2일'!E24 -> 0 | G24: ='3일'!E24 -> 0 | H24: ='4일'!E24 -> 0 | I24: ='5일'!E24 -> 0 | J24: ='6일'!E24 -> 0 | K24: ='7일'!E24 -> 0 | L24: ='8일'!E24 -> 0 | M24: ='9일'!E24 -> 0 | N24: ='10일'!E24 -> 0 | O24: ='11일'!E24 -> 0 | P24: ='12일'!E24 -> 0 | Q24: ='13일'!E24 -> 0 | R24: ='14일'!E24 -> 0 | S24: ='15일'!E24 -> 0 | T24: ='16일'!E24 -> 0 | U24: ='17일'!E24 -> 0 | V24: ='18일'!E24 -> 0 | W24: ='19일'!E24 -> 0 | X24: ='20일'!E24 -> 0 | Y24: ='21일'!E24 -> 0 | Z24: ='22일'!E24 -> 0 | AA24: ='23일'!E24 -> 0 | AB24: ='24일'!E24 -> 0 | AC24: ='25일'!E24 -> 0 | AD24: ='26일'!E24 -> 0 | AE24: ='27일'!E24 -> 0 | AF24: ='28일'!E24 -> 0 | AG24: ='29일'!E24 -> 0 | AH24: ='30일'!E24 -> 0 | AI24: ='31일'!E24 -> 0
C25: 쟈스 글루타치온 소계 | D25: =SUM(D21:D24) -> 0 | E25: ='1일'!E25 -> 0 | F25: ='2일'!E25 -> 0 | G25: ='3일'!E25 -> 0 | H25: ='4일'!E25 -> 0 | I25: ='5일'!E25 -> 0 | J25: ='6일'!E25 -> 0 | K25: ='7일'!E25 -> 0 | L25: ='8일'!E25 -> 0 | M25: ='9일'!E25 -> 0 | N25: ='10일'!E25 -> 0 | O25: ='11일'!E25 -> 0 | P25: ='12일'!E25 -> 0 | Q25: ='13일'!E25 -> 0 | R25: ='14일'!E25 -> 0 | S25: ='15일'!E25 -> 0 | T25: ='16일'!E25 -> 0 | U25: ='17일'!E25 -> 0 | V25: ='18일'!E25 -> 0 | W25: ='19일'!E25 -> 0 | X25: ='20일'!E25 -> 0 | Y25: ='21일'!E25 -> 0 | Z25: ='22일'!E25 -> 0 | AA25: ='23일'!E25 -> 0 | AB25: ='24일'!E25 -> 0 | AC25: ='25일'!E25 -> 0 | AD25: ='26일'!E25 -> 0 | AE25: ='27일'!E25 -> 0 | AF25: ='28일'!E25 -> 0 | AG25: ='29일'!E25 -> 0 | AH25: ='30일'!E25 -> 0 | AI25: ='31일'!E25 -> 0
A26: =A24+1 -> 19 | B26: 슬로우 테라피 | C26: 슬로우테라피 구슬 앰플 마스크 유칼립투스 진정(10개입) | D26: =SUM(E26:AI26) -> 0 | E26: ='1일'!E26 -> 0 | F26: ='2일'!E26 -> 0 | G26: ='3일'!E26 -> 0 | H26: ='4일'!E26 -> 0 | I26: ='5일'!E26 -> 0 | J26: ='6일'!E26 -> 0 | K26: ='7일'!E26 -> 0 | L26: ='8일'!E26 -> 0 | M26: ='9일'!E26 -> 0 | N26: ='10일'!E26 -> 0 | O26: ='11일'!E26 -> 0 | P26: ='12일'!E26 -> 0 | Q26: ='13일'!E26 -> 0 | R26: ='14일'!E26 -> 0 | S26: ='15일'!E26 -> 0 | T26: ='16일'!E26 -> 0 | U26: ='17일'!E26 -> 0 | V26: ='18일'!E26 -> 0 | W26: ='19일'!E26 -> 0 | X26: ='20일'!E26 -> 0 | Y26: ='21일'!E26 -> 0 | Z26: ='22일'!E26 -> 0 | AA26: ='23일'!E26 -> 0 | AB26: ='24일'!E26 -> 0 | AC26: ='25일'!E26 -> 0 | AD26: ='26일'!E26 -> 0 | AE26: ='27일'!E26 -> 0 | AF26: ='28일'!E26 -> 0 | AG26: ='29일'!E26 -> 0 | AH26: ='30일'!E26 -> 0 | AI26: ='31일'!E26 -> 0
A27: =A26+1 -> 20 | B27: 슬로우 테라피 | C27: 슬로우테라피 구슬 앰플 마스크 유칼립투스 진정 | D27: =SUM(E27:AI27) -> 0 | E27: ='1일'!E27 -> 0 | F27: ='2일'!E27 -> 0 | G27: ='3일'!E27 -> 0 | H27: ='4일'!E27 -> 0 | I27: ='5일'!E27 -> 0 | J27: ='6일'!E27 -> 0 | K27: ='7일'!E27 -> 0 | L27: ='8일'!E27 -> 0 | M27: ='9일'!E27 -> 0 | N27: ='10일'!E27 -> 0 | O27: ='11일'!E27 -> 0 | P27: ='12일'!E27 -> 0 | Q27: ='13일'!E27 -> 0 | R27: ='14일'!E27 -> 0 | S27: ='15일'!E27 -> 0 | T27: ='16일'!E27 -> 0 | U27: ='17일'!E27 -> 0 | V27: ='18일'!E27 -> 0 | W27: ='19일'!E27 -> 0 | X27: ='20일'!E27 -> 0 | Y27: ='21일'!E27 -> 0 | Z27: ='22일'!E27 -> 0 | AA27: ='23일'!E27 -> 0 | AB27: ='24일'!E27 -> 0 | AC27: ='25일'!E27 -> 0 | AD27: ='26일'!E27 -> 0 | AE27: ='27일'!E27 -> 0 | AF27: ='28일'!E27 -> 0 | AG27: ='29일'!E27 -> 0 | AH27: ='30일'!E27 -> 0 | AI27: ='31일'!E27 -> 0
A28: =A27+1 -> 21 | B28: 슬로우 테라피 | C28: 슬로우테라피 구슬 앰플 마스크 브라이토닝 비타(10개입) | D28: =SUM(E28:AI28) -> 0 | E28: ='1일'!E28 -> 0 | F28: ='2일'!E28 -> 0 | G28: ='3일'!E28 -> 0 | H28: ='4일'!E28 -> 0 | I28: ='5일'!E28 -> 0 | J28: ='6일'!E28 -> 0 | K28: ='7일'!E28 -> 0 | L28: ='8일'!E28 -> 0 | M28: ='9일'!E28 -> 0 | N28: ='10일'!E28 -> 0 | O28: ='11일'!E28 -> 0 | P28: ='12일'!E28 -> 0 | Q28: ='13일'!E28 -> 0 | R28: ='14일'!E28 -> 0 | S28: ='15일'!E28 -> 0 | T28: ='16일'!E28 -> 0 | U28: ='17일'!E28 -> 0 | V28: ='18일'!E28 -> 0 | W28: ='19일'!E28 -> 0 | X28: ='20일'!E28 -> 0 | Y28: ='21일'!E28 -> 0 | Z28: ='22일'!E28 -> 0 | AA28: ='23일'!E28 -> 0 | AB28: ='24일'!E28 -> 0 | AC28: ='25일'!E28 -> 0 | AD28: ='26일'!E28 -> 0 | AE28: ='27일'!E28 -> 0 | AF28: ='28일'!E28 -> 0 | AG28: ='29일'!E28 -> 0 | AH28: ='30일'!E28 -> 0 | AI28: ='31일'!E28 -> 0
A29: =A28+1 -> 22 | B29: 슬로우 테라피 | C29: 슬로우테라피 구슬 앰플 마스크 브라이토닝 비타 | D29: =SUM(E29:AI29) -> 0 | E29: ='1일'!E29 -> 0 | F29: ='2일'!E29 -> 0 | G29: ='3일'!E29 -> 0 | H29: ='4일'!E29 -> 0 | I29: ='5일'!E29 -> 0 | J29: ='6일'!E29 -> 0 | K29: ='7일'!E29 -> 0 | L29: ='8일'!E29 -> 0 | M29: ='9일'!E29 -> 0 | N29: ='10일'!E29 -> 0 | O29: ='11일'!E29 -> 0 | P29: ='12일'!E29 -> 0 | Q29: ='13일'!E29 -> 0 | R29: ='14일'!E29 -> 0 | S29: ='15일'!E29 -> 0 | T29: ='16일'!E29 -> 0 | U29: ='17일'!E29 -> 0 | V29: ='18일'!E29 -> 0 | W29: ='19일'!E29 -> 0 | X29: ='20일'!E29 -> 0 | Y29: ='21일'!E29 -> 0 | Z29: ='22일'!E29 -> 0 | AA29: ='23일'!E29 -> 0 | AB29: ='24일'!E29 -> 0 | AC29: ='25일'!E29 -> 0 | AD29: ='26일'!E29 -> 0 | AE29: ='27일'!E29 -> 0 | AF29: ='28일'!E29 -> 0 | AG29: ='29일'!E29 -> 0 | AH29: ='30일'!E29 -> 0 | AI29: ='31일'!E29 -> 0
A30: =A29+1 -> 23 | B30: 슬로우 테라피 | C30: 슬로우테라피 구슬 앰플 마스크 그린토마토 모공(10개입) | D30: =SUM(E30:AI30) -> 0 | E30: ='1일'!E30 -> 0 | F30: ='2일'!E30 -> 0 | G30: ='3일'!E30 -> 0 | H30: ='4일'!E30 -> 0 | I30: ='5일'!E30 -> 0 | J30: ='6일'!E30 -> 0 | K30: ='7일'!E30 -> 0 | L30: ='8일'!E30 -> 0 | M30: ='9일'!E30 -> 0 | N30: ='10일'!E30 -> 0 | O30: ='11일'!E30 -> 0 | P30: ='12일'!E30 -> 0 | Q30: ='13일'!E30 -> 0 | R30: ='14일'!E30 -> 0 | S30: ='15일'!E30 -> 0 | T30: ='16일'!E30 -> 0 | U30: ='17일'!E30 -> 0 | V30: ='18일'!E30 -> 0 | W30: ='19일'!E30 -> 0 | X30: ='20일'!E30 -> 0 | Y30: ='21일'!E30 -> 0 | Z30: ='22일'!E30 -> 0 | AA30: ='23일'!E30 -> 0 | AB30: ='24일'!E30 -> 0 | AC30: ='25일'!E30 -> 0 | AD30: ='26일'!E30 -> 0 | AE30: ='27일'!E30 -> 0 | AF30: ='28일'!E30 -> 0 | AG30: ='29일'!E30 -> 0 | AH30: ='30일'!E30 -> 0 | AI30: ='31일'!E30 -> 0
A31: =A30+1 -> 24 | B31: 슬로우 테라피 | C31: 슬로우테라피 구슬 앰플 마스크 그린토마토 모공 | D31: =SUM(E31:AI31) -> 0 | E31: ='1일'!E31 -> 0 | F31: ='2일'!E31 -> 0 | G31: ='3일'!E31 -> 0 | H31: ='4일'!E31 -> 0 | I31: ='5일'!E31 -> 0 | J31: ='6일'!E31 -> 0 | K31: ='7일'!E31 -> 0 | L31: ='8일'!E31 -> 0 | M31: ='9일'!E31 -> 0 | N31: ='10일'!E31 -> 0 | O31: ='11일'!E31 -> 0 | P31: ='12일'!E31 -> 0 | Q31: ='13일'!E31 -> 0 | R31: ='14일'!E31 -> 0 | S31: ='15일'!E31 -> 0 | T31: ='16일'!E31 -> 0 | U31: ='17일'!E31 -> 0 | V31: ='18일'!E31 -> 0 | W31: ='19일'!E31 -> 0 | X31: ='20일'!E31 -> 0 | Y31: ='21일'!E31 -> 0 | Z31: ='22일'!E31 -> 0 | AA31: ='23일'!E31 -> 0 | AB31: ='24일'!E31 -> 0 | AC31: ='25일'!E31 -> 0 | AD31: ='26일'!E31 -> 0 | AE31: ='27일'!E31 -> 0 | AF31: ='28일'!E31 -> 0 | AG31: ='29일'!E31 -> 0 | AH31: ='30일'!E31 -> 0 | AI31: ='31일'!E31 -> 0
A32: =A31+1 -> 25 | B32: 슬로우 테라피 | C32: 슬로우테라피 구슬 앰플 마스크 화이트밀크 브라이트닝(10개입) | D32: =SUM(E32:AI32) -> 0 | E32: ='1일'!E32 -> 0 | F32: ='2일'!E32 -> 0 | G32: ='3일'!E32 -> 0 | H32: ='4일'!E32 -> 0 | I32: ='5일'!E32 -> 0 | J32: ='6일'!E32 -> 0 | K32: ='7일'!E32 -> 0 | L32: ='8일'!E32 -> 0 | M32: ='9일'!E32 -> 0 | N32: ='10일'!E32 -> 0 | O32: ='11일'!E32 -> 0 | P32: ='12일'!E32 -> 0 | Q32: ='13일'!E32 -> 0 | R32: ='14일'!E32 -> 0 | S32: ='15일'!E32 -> 0 | T32: ='16일'!E32 -> 0 | U32: ='17일'!E32 -> 0 | V32: ='18일'!E32 -> 0 | W32: ='19일'!E32 -> 0 | X32: ='20일'!E32 -> 0 | Y32: ='21일'!E32 -> 0 | Z32: ='22일'!E32 -> 0 | AA32: ='23일'!E32 -> 0 | AB32: ='24일'!E32 -> 0 | AC32: ='25일'!E32 -> 0 | AD32: ='26일'!E32 -> 0 | AE32: ='27일'!E32 -> 0 | AF32: ='28일'!E32 -> 0 | AG32: ='29일'!E32 -> 0 | AH32: ='30일'!E32 -> 0 | AI32: ='31일'!E32 -> 0
A33: =A32+1 -> 26 | B33: 슬로우 테라피 | C33: 슬로우테라피 구슬 앰플 마스크 화이트밀크 브라이트닝 | D33: =SUM(E33:AI33) -> 0 | E33: ='1일'!E33 -> 0 | F33: ='2일'!E33 -> 0 | G33: ='3일'!E33 -> 0 | H33: ='4일'!E33 -> 0 | I33: ='5일'!E33 -> 0 | J33: ='6일'!E33 -> 0 | K33: ='7일'!E33 -> 0 | L33: ='8일'!E33 -> 0 | M33: ='9일'!E33 -> 0 | N33: ='10일'!E33 -> 0 | O33: ='11일'!E33 -> 0 | P33: ='12일'!E33 -> 0 | Q33: ='13일'!E33 -> 0 | R33: ='14일'!E33 -> 0 | S33: ='15일'!E33 -> 0 | T33: ='16일'!E33 -> 0 | U33: ='17일'!E33 -> 0 | V33: ='18일'!E33 -> 0 | W33: ='19일'!E33 -> 0 | X33: ='20일'!E33 -> 0 | Y33: ='21일'!E33 -> 0 | Z33: ='22일'!E33 -> 0 | AA33: ='23일'!E33 -> 0 | AB33: ='24일'!E33 -> 0 | AC33: ='25일'!E33 -> 0 | AD33: ='26일'!E33 -> 0 | AE33: ='27일'!E33 -> 0 | AF33: ='28일'!E33 -> 0 | AG33: ='29일'!E33 -> 0 | AH33: ='30일'!E33 -> 0 | AI33: ='31일'!E33 -> 0
A34: =A33+1 -> 27 | B34: 슬로우 테라피 | C34: 슬로우테라피 구슬 앰플 마스크 카멜리아 탄력(10개입) | D34: =SUM(E34:AI34) -> 0 | E34: ='1일'!E34 -> 0 | F34: ='2일'!E34 -> 0 | G34: ='3일'!E34 -> 0 | H34: ='4일'!E34 -> 0 | I34: ='5일'!E34 -> 0 | J34: ='6일'!E34 -> 0 | K34: ='7일'!E34 -> 0 | L34: ='8일'!E34 -> 0 | M34: ='9일'!E34 -> 0 | N34: ='10일'!E34 -> 0 | O34: ='11일'!E34 -> 0 | P34: ='12일'!E34 -> 0 | Q34: ='13일'!E34 -> 0 | R34: ='14일'!E34 -> 0 | S34: ='15일'!E34 -> 0 | T34: ='16일'!E34 -> 0 | U34: ='17일'!E34 -> 0 | V34: ='18일'!E34 -> 0 | W34: ='19일'!E34 -> 0 | X34: ='20일'!E34 -> 0 | Y34: ='21일'!E34 -> 0 | Z34: ='22일'!E34 -> 0 | AA34: ='23일'!E34 -> 0 | AB34: ='24일'!E34 -> 0 | AC34: ='25일'!E34 -> 0 | AD34: ='26일'!E34 -> 0 | AE34: ='27일'!E34 -> 0 | AF34: ='28일'!E34 -> 0 | AG34: ='29일'!E34 -> 0 | AH34: ='30일'!E34 -> 0 | AI34: ='31일'!E34 -> 0
A35: =A34+1 -> 28 | B35: 슬로우 테라피 | C35: 슬로우테라피 구슬 앰플 마스크 카멜리아 탄력 | D35: =SUM(E35:AI35) -> 0 | E35: ='1일'!E35 -> 0 | F35: ='2일'!E35 -> 0 | G35: ='3일'!E35 -> 0 | H35: ='4일'!E35 -> 0 | I35: ='5일'!E35 -> 0 | J35: ='6일'!E35 -> 0 | K35: ='7일'!E35 -> 0 | L35: ='8일'!E35 -> 0 | M35: ='9일'!E35 -> 0 | N35: ='10일'!E35 -> 0 | O35: ='11일'!E35 -> 0 | P35: ='12일'!E35 -> 0 | Q35: ='13일'!E35 -> 0 | R35: ='14일'!E35 -> 0 | S35: ='15일'!E35 -> 0 | T35: ='16일'!E35 -> 0 | U35: ='17일'!E35 -> 0 | V35: ='18일'!E35 -> 0 | W35: ='19일'!E35 -> 0 | X35: ='20일'!E35 -> 0 | Y35: ='21일'!E35 -> 0 | Z35: ='22일'!E35 -> 0 | AA35: ='23일'!E35 -> 0 | AB35: ='24일'!E35 -> 0 | AC35: ='25일'!E35 -> 0 | AD35: ='26일'!E35 -> 0 | AE35: ='27일'!E35 -> 0 | AF35: ='28일'!E35 -> 0 | AG35: ='29일'!E35 -> 0 | AH35: ='30일'!E35 -> 0 | AI35: ='31일'!E35 -> 0
C36: 슬로우테라피 구슬앰플 마스크 소계 | D36: =SUM(D26:D35) -> 0 | E36: ='1일'!E36 -> 0 | F36: ='2일'!E36 -> 0 | G36: ='3일'!E36 -> 0 | H36: ='4일'!E36 -> 0 | I36: ='5일'!E36 -> 0 | J36: ='6일'!E36 -> 0 | K36: ='7일'!E36 -> 0 | L36: ='8일'!E36 -> 0 | M36: ='9일'!E36 -> 0 | N36: ='10일'!E36 -> 0 | O36: ='11일'!E36 -> 0 | P36: ='12일'!E36 -> 0 | Q36: ='13일'!E36 -> 0 | R36: ='14일'!E36 -> 0 | S36: ='15일'!E36 -> 0 | T36: ='16일'!E36 -> 0 | U36: ='17일'!E36 -> 0 | V36: ='18일'!E36 -> 0 | W36: ='19일'!E36 -> 0 | X36: ='20일'!E36 -> 0 | Y36: ='21일'!E36 -> 0 | Z36: ='22일'!E36 -> 0 | AA36: ='23일'!E36 -> 0 | AB36: ='24일'!E36 -> 0 | AC36: ='25일'!E36 -> 0 | AD36: ='26일'!E36 -> 0 | AE36: ='27일'!E36 -> 0 | AF36: ='28일'!E36 -> 0 | AG36: ='29일'!E36 -> 0 | AH36: ='30일'!E36 -> 0 | AI36: ='31일'!E36 -> 0
A37: =A35+1 -> 29 | B37: 장로젯 | C37: 장로젯 라부 셀룰라 앰플 엘릭시어 엑스이피018 50미리 | D37: =SUM(E37:AI37) -> 0 | E37: ='1일'!E37 -> 0 | F37: ='2일'!E37 -> 0 | G37: ='3일'!E37 -> 0 | H37: ='4일'!E37 -> 0 | I37: ='5일'!E37 -> 0 | J37: ='6일'!E37 -> 0 | K37: ='7일'!E37 -> 0 | L37: ='8일'!E37 -> 0 | M37: ='9일'!E37 -> 0 | N37: ='10일'!E37 -> 0 | O37: ='11일'!E37 -> 0 | P37: ='12일'!E37 -> 0 | Q37: ='13일'!E37 -> 0 | R37: ='14일'!E37 -> 0 | S37: ='15일'!E37 -> 0 | T37: ='16일'!E37 -> 0 | U37: ='17일'!E37 -> 0 | V37: ='18일'!E37 -> 0 | W37: ='19일'!E37 -> 0 | X37: ='20일'!E37 -> 0 | Y37: ='21일'!E37 -> 0 | Z37: ='22일'!E37 -> 0 | AA37: ='23일'!E37 -> 0 | AB37: ='24일'!E37 -> 0 | AC37: ='25일'!E37 -> 0 | AD37: ='26일'!E37 -> 0 | AE37: ='27일'!E37 -> 0 | AF37: ='28일'!E37 -> 0 | AG37: ='29일'!E37 -> 0 | AH37: ='30일'!E37 -> 0 | AI37: ='31일'!E37 -> 0
A38: =A37+1 -> 30 | B38: 장로젯 | C38: 장로젯 라부 셀룰라 앰플 엘릭시어 엑스이피018 20미리 | D38: =SUM(E38:AI38) -> 0 | E38: ='1일'!E38 -> 0 | F38: ='2일'!E38 -> 0 | G38: ='3일'!E38 -> 0 | H38: ='4일'!E38 -> 0 | I38: ='5일'!E38 -> 0 | J38: ='6일'!E38 -> 0 | K38: ='7일'!E38 -> 0 | L38: ='8일'!E38 -> 0 | M38: ='9일'!E38 -> 0 | N38: ='10일'!E38 -> 0 | O38: ='11일'!E38 -> 0 | P38: ='12일'!E38 -> 0 | Q38: ='13일'!E38 -> 0 | R38: ='14일'!E38 -> 0 | S38: ='15일'!E38 -> 0 | T38: ='16일'!E38 -> 0 | U38: ='17일'!E38 -> 0 | V38: ='18일'!E38 -> 0 | W38: ='19일'!E38 -> 0 | X38: ='20일'!E38 -> 0 | Y38: ='21일'!E38 -> 0 | Z38: ='22일'!E38 -> 0 | AA38: ='23일'!E38 -> 0 | AB38: ='24일'!E38 -> 0 | AC38: ='25일'!E38 -> 0 | AD38: ='26일'!E38 -> 0 | AE38: ='27일'!E38 -> 0 | AF38: ='28일'!E38 -> 0 | AG38: ='29일'!E38 -> 0 | AH38: ='30일'!E38 -> 0 | AI38: ='31일'!E38 -> 0
C39: 장로젯 소계 | D39: =SUM(D37:D38) -> 0 | E39: ='1일'!E39 -> 0 | F39: ='2일'!E39 -> 0 | G39: ='3일'!E39 -> 0 | H39: ='4일'!E39 -> 0 | I39: ='5일'!E39 -> 0 | J39: ='6일'!E39 -> 0 | K39: ='7일'!E39 -> 0 | L39: ='8일'!E39 -> 0 | M39: ='9일'!E39 -> 0 | N39: ='10일'!E39 -> 0 | O39: ='11일'!E39 -> 0 | P39: ='12일'!E39 -> 0 | Q39: ='13일'!E39 -> 0 | R39: ='14일'!E39 -> 0 | S39: ='15일'!E39 -> 0 | T39: ='16일'!E39 -> 0 | U39: ='17일'!E39 -> 0 | V39: ='18일'!E39 -> 0 | W39: ='19일'!E39 -> 0 | X39: ='20일'!E39 -> 0 | Y39: ='21일'!E39 -> 0 | Z39: ='22일'!E39 -> 0 | AA39: ='23일'!E39 -> 0 | AB39: ='24일'!E39 -> 0 | AC39: ='25일'!E39 -> 0 | AD39: ='26일'!E39 -> 0 | AE39: ='27일'!E39 -> 0 | AF39: ='28일'!E39 -> 0 | AG39: ='29일'!E39 -> 0 | AH39: ='30일'!E39 -> 0 | AI39: ='31일'!E39 -> 0
A40: =A38+1 -> 31 | B40: 더마클라센 | C40: 블랙 체인지 샴푸 | D40: =SUM(E40:AI40) -> 0 | E40: ='1일'!E40 -> 0 | F40: ='2일'!E40 -> 0 | G40: ='3일'!E40 -> 0 | H40: ='4일'!E40 -> 0 | I40: ='5일'!E40 -> 0 | J40: ='6일'!E40 -> 0 | K40: ='7일'!E40 -> 0 | L40: ='8일'!E40 -> 0 | M40: ='9일'!E40 -> 0 | N40: ='10일'!E40 -> 0 | O40: ='11일'!E40 -> 0 | P40: ='12일'!E40 -> 0 | Q40: ='13일'!E40 -> 0 | R40: ='14일'!E40 -> 0 | S40: ='15일'!E40 -> 0 | T40: ='16일'!E40 -> 0 | U40: ='17일'!E40 -> 0 | V40: ='18일'!E40 -> 0 | W40: ='19일'!E40 -> 0 | X40: ='20일'!E40 -> 0 | Y40: ='21일'!E40 -> 0 | Z40: ='22일'!E40 -> 0 | AA40: ='23일'!E40 -> 0 | AB40: ='24일'!E40 -> 0 | AC40: ='25일'!E40 -> 0 | AD40: ='26일'!E40 -> 0 | AE40: ='27일'!E40 -> 0 | AF40: ='28일'!E40 -> 0 | AG40: ='29일'!E40 -> 0 | AH40: ='30일'!E40 -> 0 | AI40: ='31일'!E40 -> 0
A41: =A40+1 -> 32 | B41: 더마클라센 | C41: 블랙 체인지 샴푸(흑갈색) | D41: =SUM(E41:AI41) -> 0 | E41: ='1일'!E41 -> 0 | F41: ='2일'!E41 -> 0 | G41: ='3일'!E41 -> 0 | H41: ='4일'!E41 -> 0 | I41: ='5일'!E41 -> 0 | J41: ='6일'!E41 -> 0 | K41: ='7일'!E41 -> 0 | L41: ='8일'!E41 -> 0 | M41: ='9일'!E41 -> 0 | N41: ='10일'!E41 -> 0 | O41: ='11일'!E41 -> 0 | P41: ='12일'!E41 -> 0 | Q41: ='13일'!E41 -> 0 | R41: ='14일'!E41 -> 0 | S41: ='15일'!E41 -> 0 | T41: ='16일'!E41 -> 0 | U41: ='17일'!E41 -> 0 | V41: ='18일'!E41 -> 0 | W41: ='19일'!E41 -> 0 | X41: ='20일'!E41 -> 0 | Y41: ='21일'!E41 -> 0 | Z41: ='22일'!E41 -> 0 | AA41: ='23일'!E41 -> 0 | AB41: ='24일'!E41 -> 0 | AC41: ='25일'!E41 -> 0 | AD41: ='26일'!E41 -> 0 | AE41: ='27일'!E41 -> 0 | AF41: ='28일'!E41 -> 0 | AG41: ='29일'!E41 -> 0 | AH41: ='30일'!E41 -> 0 | AI41: ='31일'!E41 -> 0
...

Sheet 1일
A1: NO | B1: 이지어드민 코드 | C1: 브랜드 | D1: 제품명 | E1: 합계 | F1: 이지어드민
D3: 총계
A4: 1 | B4: 00260 | C4: 쟈스_엑토인 바디크림 | D4: 쟈스 엑토인 데일리 모이스처라이징 크림(500ml) | E4: =SUM(F4:M4)-N4-O4 -> 0 | F4: =IFERROR(VLOOKUP(B4,이지어드민!$A$2:$D$100,4,0),0)*1 -> 0
A5: =A4+1 -> 2 | B5: 00257 | C5: 쟈스_엑토인 바디크림 | D5: 쟈스 엑토인 데일리 모이스처라이징 크림(100ml) | E5: =SUM(F5:M5)-N5-O5 -> 0
C6: 쟈스_엑토인 바디크림 | D6: 쟈스_엑토인 바디크림 소계 | E6: =SUM(E4:E5) -> 0
A7: =A5+1 -> 3 | B7: 00249 | C7: 쟈스_엑토인 맨얼굴 | D7: 쟈스 맨얼굴크림 | E7: =SUM(F7:M7)-N7-O7 -> 0
A8: =A7+1 -> 4 | B8: 00250 | C8: 쟈스_엑토인 맨얼굴 | D8: 쟈스 맨얼굴크림 튜브 | E8: =SUM(F8:M8)-N8-O8 -> 0
A9: =A8+1 -> 5 | B9: 00255 | C9: 쟈스_엑토인 맨얼굴 | D9: 쟈스 엑토인 퍼스트 케어 세럼 | E9: =SUM(F9:M9)-N9-O9 -> 0
A10: =A9+1 -> 6 | B10: 00262 | C10: 쟈스_엑토인 맨얼굴 | D10: 쟈스 맨얼굴크림 파우치(1.5g) | E10: =SUM(F10:M10)-N10-O10 -> 0
C11: 쟈스_엑토인 맨얼굴 | D11: 쟈스_엑토인 맨얼굴 소계 | E11: =SUM(E7:E10) -> 0
A12: =A10+1 -> 7 | B12: 00245 | C12: 아트델리_갈바덤 | D12: 아트델리 갈바덤 리프팅 커버쿠션 21호_실버 | E12: =SUM(F12:M12)-N12-O12 -> 0
A13: =A12+1 -> 8 | B13: 00243 | C13: 아트델리_갈바덤 | D13: 아트델리 갈바덤 리프팅 커버쿠션 21호_블랙 | E13: =SUM(F13:M13)-N13-O13 -> 0
A14: =A13+1 -> 9 | B14: 00241 | C14: 아트델리_갈바덤 | D14: 아트델리 갈바덤 리프팅 커버쿠션 21호_그린 | E14: =SUM(F14:M14)-N14-O14 -> 0
A15: =A14+1 -> 10 | B15: 00247 | C15: 아트델리_갈바덤 | D15: 아트델리 갈바덤 리프팅 커버쿠션 21호_리필 | E15: =SUM(F15:M15)-N15-O15 -> 0
A16: =A15+1 -> 11 | B16: 00246 | C16: 아트델리_갈바덤 | D16: 아트델리 갈바덤 리프팅 커버쿠션 23호_실버 | E16: =SUM(F16:M16)-N16-O16 -> 0
A17: =A16+1 -> 12 | B17: 00244 | C17: 아트델리_갈바덤 | D17: 아트델리 갈바덤 리프팅 커버쿠션 23호_블랙 | E17: =SUM(F17:M17)-N17-O17 -> 0
A18: =A17+1 -> 13 | B18: 00242 | C18: 아트델리_갈바덤 | D18: 아트델리 갈바덤 리프팅 커버쿠션 23호_그린 | E18: =SUM(F18:M18)-N18-O18 -> 0
A19: =A18+1 -> 14 | B19: 00248 | C19: 아트델리_갈바덤 | D19: 아트델리 갈바덤 리프팅 커버쿠션 23호_리필 | E19: =SUM(F19:M19)-N19-O19 -> 0
C20: 아트델리_갈바덤 | D20: 아트델리 갈바덤 리프팅 커버쿠션 소계 | E20: =SUM(E12:E19) -> 0
A21: =A19+1 -> 15 | B21: 00229 | C21: 쟈스 글루타치온 | D21: 쟈스 글루타치온 엑스퍼트 1000 크림 | E21: =SUM(F21:M21)-N21-O21 -> 0
A22: =A21+1 -> 16 | B22: 00230 | C22: 쟈스 글루타치온 | D22: 쟈스 글루타치온 엑스퍼트 세럼 | E22: =SUM(F22:M22)-N22-O22 -> 0
A23: =A22+1 -> 17 | B23: 00256 | C23: 쟈스 글루타치온 | D23: 쟈스 글루타치온 엑스퍼트 1000 크림(60ml) | E23: =SUM(F23:M23)-N23-O23 -> 0
A24: =A23+1 -> 18 | B24: 00263 | C24: 쟈스 글루타치온 | D24: 쟈스 글루타치온 크림 파우치(1.5g) | E24: =SUM(F24:M24)-N24-O24 -> 0
D25: 쟈스 글루타치온 소계 | E25: =SUM(E21:E24) -> 0
A26: =A24+1 -> 19 | B26: 00223 | C26: 슬로우 테라피 | D26: 슬로우테라피 구슬 앰플 마스크 유칼립투스 진정(10개입) | E26: =SUM(F26:M26)-N26-O26 -> 0
A27: =A26+1 -> 20 | B27: 00218 | C27: 슬로우 테라피 | D27: 슬로우테라피 구슬 앰플 마스크 유칼립투스 진정 | E27: =SUM(F27:M27)-N27-O27 -> 0
A28: =A27+1 -> 21 | B28: 00225 | C28: 슬로우 테라피 | D28: 슬로우테라피 구슬 앰플 마스크 브라이토닝 비타(10개입) | E28: =SUM(F28:M28)-N28-O28 -> 0
A29: =A28+1 -> 22 | B29: 00220 | C29: 슬로우 테라피 | D29: 슬로우테라피 구슬 앰플 마스크 브라이토닝 비타 | E29: =SUM(F29:M29)-N29-O29 -> 0
A30: =A29+1 -> 23 | B30: 00227 | C30: 슬로우 테라피 | D30: 슬로우테라피 구슬 앰플 마스크 그린토마토 모공(10개입) | E30: =SUM(F30:M30)-N30-O30 -> 0
A31: =A30+1 -> 24 | B31: 00222 | C31: 슬로우 테라피 | D31: 슬로우테라피 구슬 앰플 마스크 그린토마토 모공 | E31: =SUM(F31:M31)-N31-O31 -> 0
A32: =A31+1 -> 25 | B32: 00226 | C32: 슬로우 테라피 | D32: 슬로우테라피 구슬 앰플 마스크 화이트밀크 브라이트닝(10개입) | E32: =SUM(F32:M32)-N32-O32 -> 0
A33: =A32+1 -> 26 | B33: 00221 | C33: 슬로우 테라피 | D33: 슬로우테라피 구슬 앰플 마스크 화이트밀크 브라이트닝 | E33: =SUM(F33:M33)-N33-O33 -> 0
A34: =A33+1 -> 27 | B34: 00224 | C34: 슬로우 테라피 | D34: 슬로우테라피 구슬 앰플 마스크 카멜리아 탄력(10개입) | E34: =SUM(F34:M34)-N34-O34 -> 0
A35: =A34+1 -> 28 | B35: 00219 | C35: 슬로우 테라피 | D35: 슬로우테라피 구슬 앰플 마스크 카멜리아 탄력 | E35: =SUM(F35:M35)-N35-O35 -> 0
D36: 슬로우테라피 구슬앰플 마스크 소계 | E36: =SUM(E26:E35) -> 0
A37: =A35+1 -> 29 | B37: 00214 | C37: 장로젯 | D37: 장로젯 라부 셀룰라 앰플 엘릭시어 엑스이피018 50미리 | E37: =SUM(F37:M37)-N37-O37 -> 0
A38: =A37+1 -> 30 | B38: 00252 | C38: 장로젯 | D38: 장로젯 라부 셀룰라 앰플 엘릭시어 엑스이피018 20미리 | E38: =SUM(F38:M38)-N38-O38 -> 0
D39: 장로젯 소계 | E39: =SUM(E37:E38) -> 0
A40: =A38+1 -> 31 | B40: 00196 | C40: 더마클라센 | D40: 블랙 체인지 샴푸 | E40: =SUM(F40:M40)-N40-O40 -> 0
A41: =A40+1 -> 32 | B41: 00205 | C41: 더마클라센 | D41: 블랙 체인지 샴푸(흑갈색) | E41: =SUM(F41:M41)-N41-O41 -> 0
...

Sheet 2일
A1: NO | B1: 이지어드민 코드 | C1: 브랜드 | D1: 제품명 | E1: 합계 | F1: 이지어드민
D3: 총계
A4: 1 | B4: 00260 | C4: 쟈스_엑토인 바디크림 | D4: 쟈스 엑토인 데일리 모이스처라이징 크림(500ml) | E4: =SUM(F4:M4)-N4-O4 -> 0 | F4: =IFERROR(VLOOKUP(B4,이지어드민!$A$2:$D$100,4,0),0)*1 -> 0
A5: =A4+1 -> 2 | B5: 00257 | C5: 쟈스_엑토인 바디크림 | D5: 쟈스 엑토인 데일리 모이스처라이징 크림(100ml) | E5: =SUM(F5:M5)-N5-O5 -> 0
C6: 쟈스_엑토인 바디크림 | D6: 쟈스_엑토인 바디크림 소계 | E6: =SUM(E4:E5) -> 0
A7: =A5+1 -> 3 | B7: 00249 | C7: 쟈스_엑토인 맨얼굴 | D7: 쟈스 맨얼굴크림 | E7: =SUM(F7:M7)-N7-O7 -> 0
A8: =A7+1 -> 4 | B8: 00250 | C8: 쟈스_엑토인 맨얼굴 | D8: 쟈스 맨얼굴크림 튜브 | E8: =SUM(F8:M8)-N8-O8 -> 0
A9: =A8+1 -> 5 | B9: 00255 | C9: 쟈스_엑토인 맨얼굴 | D9: 쟈스 엑토인 퍼스트 케어 세럼 | E9: =SUM(F9:M9)-N9-O9 -> 0
A10: =A9+1 -> 6 | B10: 00262 | C10: 쟈스_엑토인 맨얼굴 | D10: 쟈스 맨얼굴크림 파우치(1.5g) | E10: =SUM(F10:M10)-N10-O10 -> 0
C11: 쟈스_엑토인 맨얼굴 | D11: 쟈스_엑토인 맨얼굴 소계 | E11: =SUM(E7:E10) -> 0
A12: =A10+1 -> 7 | B12: 00245 | C12: 아트델리_갈바덤 | D12: 아트델리 갈바덤 리프팅 커버쿠션 21호_실버 | E12: =SUM(F12:M12)-N12-O12 -> 0
A13: =A12+1 -> 8 | B13: 00243 | C13: 아트델리_갈바덤 | D13: 아트델리 갈바덤 리프팅 커버쿠션 21호_블랙 | E13: =SUM(F13:M13)-N13-O13 -> 0
A14: =A13+1 -> 9 | B14: 00241 | C14: 아트델리_갈바덤 | D14: 아트델리 갈바덤 리프팅 커버쿠션 21호_그린 | E14: =SUM(F14:M14)-N14-O14 -> 0
A15: =A14+1 -> 10 | B15: 00247 | C15: 아트델리_갈바덤 | D15: 아트델리 갈바덤 리프팅 커버쿠션 21호_리필 | E15: =SUM(F15:M15)-N15-O15 -> 0
A16: =A15+1 -> 11 | B16: 00246 | C16: 아트델리_갈바덤 | D16: 아트델리 갈바덤 리프팅 커버쿠션 23호_실버 | E16: =SUM(F16:M16)-N16-O16 -> 0
A17: =A16+1 -> 12 | B17: 00244 | C17: 아트델리_갈바덤 | D17: 아트델리 갈바덤 리프팅 커버쿠션 23호_블랙 | E17: =SUM(F17:M17)-N17-O17 -> 0
A18: =A17+1 -> 13 | B18: 00242 | C18: 아트델리_갈바덤 | D18: 아트델리 갈바덤 리프팅 커버쿠션 23호_그린 | E18: =SUM(F18:M18)-N18-O18 -> 0
A19: =A18+1 -> 14 | B19: 00248 | C19: 아트델리_갈바덤 | D19: 아트델리 갈바덤 리프팅 커버쿠션 23호_리필 | E19: =SUM(F19:M19)-N19-O19 -> 0
C20: 아트델리_갈바덤 | D20: 아트델리 갈바덤 리프팅 커버쿠션 소계 | E20: =SUM(E12:E19) -> 0
A21: =A19+1 -> 15 | B21: 00229 | C21: 쟈스 글루타치온 | D21: 쟈스 글루타치온 엑스퍼트 1000 크림 | E21: =SUM(F21:M21)-N21-O21 -> 0
A22: =A21+1 -> 16 | B22: 00230 | C22: 쟈스 글루타치온 | D22: 쟈스 글루타치온 엑스퍼트 세럼 | E22: =SUM(F22:M22)-N22-O22 -> 0
A23: =A22+1 -> 17 | B23: 00256 | C23: 쟈스 글루타치온 | D23: 쟈스 글루타치온 엑스퍼트 1000 크림(60ml) | E23: =SUM(F23:M23)-N23-O23 -> 0
A24: =A23+1 -> 18 | B24: 00263 | C24: 쟈스 글루타치온 | D24: 쟈스 글루타치온 크림 파우치(1.5g) | E24: =SUM(F24:M24)-N24-O24 -> 0
D25: 쟈스 글루타치온 소계 | E25: =SUM(E21:E24) -> 0
A26: =A24+1 -> 19 | B26: 00223 | C26: 슬로우 테라피 | D26: 슬로우테라피 구슬 앰플 마스크 유칼립투스 진정(10개입) | E26: =SUM(F26:M26)-N26-O26 -> 0
A27: =A26+1 -> 20 | B27: 00218 | C27: 슬로우 테라피 | D27: 슬로우테라피 구슬 앰플 마스크 유칼립투스 진정 | E27: =SUM(F27:M27)-N27-O27 -> 0
A28: =A27+1 -> 21 | B28: 00225 | C28: 슬로우 테라피 | D28: 슬로우테라피 구슬 앰플 마스크 브라이토닝 비타(10개입) | E28: =SUM(F28:M28)-N28-O28 -> 0
A29: =A28+1 -> 22 | B29: 00220 | C29: 슬로우 테라피 | D29: 슬로우테라피 구슬 앰플 마스크 브라이토닝 비타 | E29: =SUM(F29:M29)-N29-O29 -> 0
A30: =A29+1 -> 23 | B30: 00227 | C30: 슬로우 테라피 | D30: 슬로우테라피 구슬 앰플 마스크 그린토마토 모공(10개입) | E30: =SUM(F30:M30)-N30-O30 -> 0
A31: =A30+1 -> 24 | B31: 00222 | C31: 슬로우 테라피 | D31: 슬로우테라피 구슬 앰플 마스크 그린토마토 모공 | E31: =SUM(F31:M31)-N31-O31 -> 0
A32: =A31+1 -> 25 | B32: 00226 | C32: 슬로우 테라피 | D32: 슬로우테라피 구슬 앰플 마스크 화이트밀크 브라이트닝(10개입) | E32: =SUM(F32:M32)-N32-O32 -> 0
A33: =A32+1 -> 26 | B33: 00221 | C33: 슬로우 테라피 | D33: 슬로우테라피 구슬 앰플 마스크 화이트밀크 브라이트닝 | E33: =SUM(F33:M33)-N33-O33 -> 0
A34: =A33+1 -> 27 | B34: 00224 | C34: 슬로우 테라피 | D34: 슬로우테라피 구슬 앰플 마스크 카멜리아 탄력(10개입) | E34: =SUM(F34:M34)-N34-O34 -> 0
A35: =A34+1 -> 28 | B35: 00219 | C35: 슬로우 테라피 | D35: 슬로우테라피 구슬 앰플 마스크 카멜리아 탄력 | E35: =SUM(F35:M35)-N35-O35 -> 0
D36: 슬로우테라피 구슬앰플 마스크 소계 | E36: =SUM(E26:E35) -> 0
A37: =A35+1 -> 29 | B37: 00214 | C37: 장로젯 | D37: 장로젯 라부 셀룰라 앰플 엘릭시어 엑스이피018 50미리 | E37: =SUM(F37:M37)-N37-O37 -> 0
A38: =A37+1 -> 30 | B38: 00252 | C38: 장로젯 | D38: 장로젯 라부 셀룰라 앰플 엘릭시어 엑스이피018 20미리 | E38: =SUM(F38:M38)-N38-O38 -> 0
D39: 장로젯 소계 | E39: =SUM(E37:E38) -> 0
A40: =A38+1 -> 31 | B40: 00196 | C40: 더마클라센 | D40: 블랙 체인지 샴푸 | E40: =SUM(F40:M40)-N40-O40 -> 0
A41: =A40+1 -> 32 | B41: 00205 | C41: 더마클라센 | D41: 블랙 체인지 샴푸(흑갈색) | E41: =SUM(F41:M41)-N41-O41 -> 0
...

Sheet 3일
A1: NO | B1: 이지어드민 코드 | C1: 브랜드 | D1: 제품명 | E1: 합계 | F1: 이지어드민
D3: 총계
A4: 1 | B4: 00260 | C4: 쟈스_엑토인 바디크림 | D4: 쟈스 엑토인 데일리 모이스처라이징 크림(500ml) | E4: =SUM(F4:M4)-N4-O4 -> 0 | F4: =IFERROR(VLOOKUP(B4,이지어드민!$A$2:$D$100,4,0),0)*1 -> 0
A5: =A4+1 -> 2 | B5: 00257 | C5: 쟈스_엑토인 바디크림 | D5: 쟈스 엑토인 데일리 모이스처라이징 크림(100ml) | E5: =SUM(F5:M5)-N5-O5 -> 0
C6: 쟈스_엑토인 바디크림 | D6: 쟈스_엑토인 바디크림 소계 | E6: =SUM(E4:E5) -> 0
A7: =A5+1 -> 3 | B7: 00249 | C7: 쟈스_엑토인 맨얼굴 | D7: 쟈스 맨얼굴크림 | E7: =SUM(F7:M7)-N7-O7 -> 0
A8: =A7+1 -> 4 | B8: 00250 | C8: 쟈스_엑토인 맨얼굴 | D8: 쟈스 맨얼굴크림 튜브 | E8: =SUM(F8:M8)-N8-O8 -> 0
A9: =A8+1 -> 5 | B9: 00255 | C9: 쟈스_엑토인 맨얼굴 | D9: 쟈스 엑토인 퍼스트 케어 세럼 | E9: =SUM(F9:M9)-N9-O9 -> 0
A10: =A9+1 -> 6 | B10: 00262 | C10: 쟈스_엑토인 맨얼굴 | D10: 쟈스 맨얼굴크림 파우치(1.5g) | E10: =SUM(F10:M10)-N10-O10 -> 0
C11: 쟈스_엑토인 맨얼굴 | D11: 쟈스_엑토인 맨얼굴 소계 | E11: =SUM(E7:E10) -> 0
A12: =A10+1 -> 7 | B12: 00245 | C12: 아트델리_갈바덤 | D12: 아트델리 갈바덤 리프팅 커버쿠션 21호_실버 | E12: =SUM(F12:M12)-N12-O12 -> 0
A13: =A12+1 -> 8 | B13: 00243 | C13: 아트델리_갈바덤 | D13: 아트델리 갈바덤 리프팅 커버쿠션 21호_블랙 | E13: =SUM(F13:M13)-N13-O13 -> 0
A14: =A13+1 -> 9 | B14: 00241 | C14: 아트델리_갈바덤 | D14: 아트델리 갈바덤 리프팅 커버쿠션 21호_그린 | E14: =SUM(F14:M14)-N14-O14 -> 0
A15: =A14+1 -> 10 | B15: 00247 | C15: 아트델리_갈바덤 | D15: 아트델리 갈바덤 리프팅 커버쿠션 21호_리필 | E15: =SUM(F15:M15)-N15-O15 -> 0
A16: =A15+1 -> 11 | B16: 00246 | C16: 아트델리_갈바덤 | D16: 아트델리 갈바덤 리프팅 커버쿠션 23호_실버 | E16: =SUM(F16:M16)-N16-O16 -> 0
A17: =A16+1 -> 12 | B17: 00244 | C17: 아트델리_갈바덤 | D17: 아트델리 갈바덤 리프팅 커버쿠션 23호_블랙 | E17: =SUM(F17:M17)-N17-O17 -> 0
A18: =A17+1 -> 13 | B18: 00242 | C18: 아트델리_갈바덤 | D18: 아트델리 갈바덤 리프팅 커버쿠션 23호_그린 | E18: =SUM(F18:M18)-N18-O18 -> 0
A19: =A18+1 -> 14 | B19: 00248 | C19: 아트델리_갈바덤 | D19: 아트델리 갈바덤 리프팅 커버쿠션 23호_리필 | E19: =SUM(F19:M19)-N19-O19 -> 0
C20: 아트델리_갈바덤 | D20: 아트델리 갈바덤 리프팅 커버쿠션 소계 | E20: =SUM(E12:E19) -> 0
A21: =A19+1 -> 15 | B21: 00229 | C21: 쟈스 글루타치온 | D21: 쟈스 글루타치온 엑스퍼트 1000 크림 | E21: =SUM(F21:M21)-N21-O21 -> 0
A22: =A21+1 -> 16 | B22: 00230 | C22: 쟈스 글루타치온 | D22: 쟈스 글루타치온 엑스퍼트 세럼 | E22: =SUM(F22:M22)-N22-O22 -> 0
A23: =A22+1 -> 17 | B23: 00256 | C23: 쟈스 글루타치온 | D23: 쟈스 글루타치온 엑스퍼트 1000 크림(60ml) | E23: =SUM(F23:M23)-N23-O23 -> 0
A24: =A23+1 -> 18 | B24: 00263 | C24: 쟈스 글루타치온 | D24: 쟈스 글루타치온 크림 파우치(1.5g) | E24: =SUM(F24:M24)-N24-O24 -> 0
D25: 쟈스 글루타치온 소계 | E25: =SUM(E21:E24) -> 0
A26: =A24+1 -> 19 | B26: 00223 | C26: 슬로우 테라피 | D26: 슬로우테라피 구슬 앰플 마스크 유칼립투스 진정(10개입) | E26: =SUM(F26:M26)-N26-O26 -> 0
A27: =A26+1 -> 20 | B27: 00218 | C27: 슬로우 테라피 | D27: 슬로우테라피 구슬 앰플 마스크 유칼립투스 진정 | E27: =SUM(F27:M27)-N27-O27 -> 0
A28: =A27+1 -> 21 | B28: 00225 | C28: 슬로우 테라피 | D28: 슬로우테라피 구슬 앰플 마스크 브라이토닝 비타(10개입) | E28: =SUM(F28:M28)-N28-O28 -> 0
A29: =A28+1 -> 22 | B29: 00220 | C29: 슬로우 테라피 | D29: 슬로우테라피 구슬 앰플 마스크 브라이토닝 비타 | E29: =SUM(F29:M29)-N29-O29 -> 0
A30: =A29+1 -> 23 | B30: 00227 | C30: 슬로우 테라피 | D30: 슬로우테라피 구슬 앰플 마스크 그린토마토 모공(10개입) | E30: =SUM(F30:M30)-N30-O30 -> 0
A31: =A30+1 -> 24 | B31: 00222 | C31: 슬로우 테라피 | D31: 슬로우테라피 구슬 앰플 마스크 그린토마토 모공 | E31: =SUM(F31:M31)-N31-O31 -> 0
A32: =A31+1 -> 25 | B32: 00226 | C32: 슬로우 테라피 | D32: 슬로우테라피 구슬 앰플 마스크 화이트밀크 브라이트닝(10개입) | E32: =SUM(F32:M32)-N32-O32 -> 0
A33: =A32+1 -> 26 | B33: 00221 | C33: 슬로우 테라피 | D33: 슬로우테라피 구슬 앰플 마스크 화이트밀크 브라이트닝 | E33: =SUM(F33:M33)-N33-O33 -> 0
A34: =A33+1 -> 27 | B34: 00224 | C34: 슬로우 테라피 | D34: 슬로우테라피 구슬 앰플 마스크 카멜리아 탄력(10개입) | E34: =SUM(F34:M34)-N34-O34 -> 0
A35: =A34+1 -> 28 | B35: 00219 | C35: 슬로우 테라피 | D35: 슬로우테라피 구슬 앰플 마스크 카멜리아 탄력 | E35: =SUM(F35:M35)-N35-O35 -> 0
D36: 슬로우테라피 구슬앰플 마스크 소계 | E36: =SUM(E26:E35) -> 0
A37: =A35+1 -> 29 | B37: 00214 | C37: 장로젯 | D37: 장로젯 라부 셀룰라 앰플 엘릭시어 엑스이피018 50미리 | E37: =SUM(F37:M37)-N37-O37 -> 0
A38: =A37+1 -> 30 | B38: 00252 | C38: 장로젯 | D38: 장로젯 라부 셀룰라 앰플 엘릭시어 엑스이피018 20미리 | E38: =SUM(F38:M38)-N38-O38 -> 0
D39: 장로젯 소계 | E39: =SUM(E37:E38) -> 0
A40: =A38+1 -> 31 | B40: 00196 | C40: 더마클라센 | D40: 블랙 체인지 샴푸 | E40: =SUM(F40:M40)-N40-O40 -> 0
A41: =A40+1 -> 32 | B41: 00205 | C41: 더마클라센 | D41: 블랙 체인지 샴푸(흑갈색) | E41: =SUM(F41:M41)-N41-O41 -> 0
...

Sheet 4일
A1: NO | B1: 이지어드민 코드 | C1: 브랜드 | D1: 제품명 | E1: 합계 | F1: 이지어드민
D3: 총계
A4: 1 | B4: 00260 | C4: 쟈스_엑토인 바디크림 | D4: 쟈스 엑토인 데일리 모이스처라이징 크림(500ml) | E4: =SUM(F4:M4)-N4-O4 -> 0 | F4: =IFERROR(VLOOKUP(B4,이지어드민!$A$2:$D$100,4,0),0)*1 -> 0
A5: =A4+1 -> 2 | B5: 00257 | C5: 쟈스_엑토인 바디크림 | D5: 쟈스 엑토인 데일리 모이스처라이징 크림(100ml) | E5: =SUM(F5:M5)-N5-O5 -> 0
C6: 쟈스_엑토인 바디크림 | D6: 쟈스_엑토인 바디크림 소계 | E6: =SUM(E4:E5) -> 0
A7: =A5+1 -> 3 | B7: 00249 | C7: 쟈스_엑토인 맨얼굴 | D7: 쟈스 맨얼굴크림 | E7: =SUM(F7:M7)-N7-O7 -> 0
A8: =A7+1 -> 4 | B8: 00250 | C8: 쟈스_엑토인 맨얼굴 | D8: 쟈스 맨얼굴크림 튜브 | E8: =SUM(F8:M8)-N8-O8 -> 0
A9: =A8+1 -> 5 | B9: 00255 | C9: 쟈스_엑토인 맨얼굴 | D9: 쟈스 엑토인 퍼스트 케어 세럼 | E9: =SUM(F9:M9)-N9-O9 -> 0
A10: =A9+1 -> 6 | B10: 00262 | C10: 쟈스_엑토인 맨얼굴 | D10: 쟈스 맨얼굴크림 파우치(1.5g) | E10: =SUM(F10:M10)-N10-O10 -> 0
C11: 쟈스_엑토인 맨얼굴 | D11: 쟈스_엑토인 맨얼굴 소계 | E11: =SUM(E7:E10) -> 0
A12: =A10+1 -> 7 | B12: 00245 | C12: 아트델리_갈바덤 | D12: 아트델리 갈바덤 리프팅 커버쿠션 21호_실버 | E12: =SUM(F12:M12)-N12-O12 -> 0
A13: =A12+1 -> 8 | B13: 00243 | C13: 아트델리_갈바덤 | D13: 아트델리 갈바덤 리프팅 커버쿠션 21호_블랙 | E13: =SUM(F13:M13)-N13-O13 -> 0
A14: =A13+1 -> 9 | B14: 00241 | C14: 아트델리_갈바덤 | D14: 아트델리 갈바덤 리프팅 커버쿠션 21호_그린 | E14: =SUM(F14:M14)-N14-O14 -> 0
A15: =A14+1 -> 10 | B15: 00247 | C15: 아트델리_갈바덤 | D15: 아트델리 갈바덤 리프팅 커버쿠션 21호_리필 | E15: =SUM(F15:M15)-N15-O15 -> 0
A16: =A15+1 -> 11 | B16: 00246 | C16: 아트델리_갈바덤 | D16: 아트델리 갈바덤 리프팅 커버쿠션 23호_실버 | E16: =SUM(F16:M16)-N16-O16 -> 0
A17: =A16+1 -> 12 | B17: 00244 | C17: 아트델리_갈바덤 | D17: 아트델리 갈바덤 리프팅 커버쿠션 23호_블랙 | E17: =SUM(F17:M17)-N17-O17 -> 0
A18: =A17+1 -> 13 | B18: 00242 | C18: 아트델리_갈바덤 | D18: 아트델리 갈바덤 리프팅 커버쿠션 23호_그린 | E18: =SUM(F18:M18)-N18-O18 -> 0
A19: =A18+1 -> 14 | B19: 00248 | C19: 아트델리_갈바덤 | D19: 아트델리 갈바덤 리프팅 커버쿠션 23호_리필 | E19: =SUM(F19:M19)-N19-O19 -> 0
C20: 아트델리_갈바덤 | D20: 아트델리 갈바덤 리프팅 커버쿠션 소계 | E20: =SUM(E12:E19) -> 0
A21: =A19+1 -> 15 | B21: 00229 | C21: 쟈스 글루타치온 | D21: 쟈스 글루타치온 엑스퍼트 1000 크림 | E21: =SUM(F21:M21)-N21-O21 -> 0
A22: =A21+1 -> 16 | B22: 00230 | C22: 쟈스 글루타치온 | D22: 쟈스 글루타치온 엑스퍼트 세럼 | E22: =SUM(F22:M22)-N22-O22 -> 0
A23: =A22+1 -> 17 | B23: 00256 | C23: 쟈스 글루타치온 | D23: 쟈스 글루타치온 엑스퍼트 1000 크림(60ml) | E23: =SUM(F23:M23)-N23-O23 -> 0
A24: =A23+1 -> 18 | B24: 00263 | C24: 쟈스 글루타치온 | D24: 쟈스 글루타치온 크림 파우치(1.5g) | E24: =SUM(F24:M24)-N24-O24 -> 0
D25: 쟈스 글루타치온 소계 | E25: =SUM(E21:E24) -> 0
A26: =A24+1 -> 19 | B26: 00223 | C26: 슬로우 테라피 | D26: 슬로우테라피 구슬 앰플 마스크 유칼립투스 진정(10개입) | E26: =SUM(F26:M26)-N26-O26 -> 0
A27: =A26+1 -> 20 | B27: 00218 | C27: 슬로우 테라피 | D27: 슬로우테라피 구슬 앰플 마스크 유칼립투스 진정 | E27: =SUM(F27:M27)-N27-O27 -> 0
A28: =A27+1 -> 21 | B28: 00225 | C28: 슬로우 테라피 | D28: 슬로우테라피 구슬 앰플 마스크 브라이토닝 비타(10개입) | E28: =SUM(F28:M28)-N28-O28 -> 0
A29: =A28+1 -> 22 | B29: 00220 | C29: 슬로우 테라피 | D29: 슬로우테라피 구슬 앰플 마스크 브라이토닝 비타 | E29: =SUM(F29:M29)-N29-O29 -> 0
A30: =A29+1 -> 23 | B30: 00227 | C30: 슬로우 테라피 | D30: 슬로우테라피 구슬 앰플 마스크 그린토마토 모공(10개입) | E30: =SUM(F30:M30)-N30-O30 -> 0
A31: =A30+1 -> 24 | B31: 00222 | C31: 슬로우 테라피 | D31: 슬로우테라피 구슬 앰플 마스크 그린토마토 모공 | E31: =SUM(F31:M31)-N31-O31 -> 0
A32: =A31+1 -> 25 | B32: 00226 | C32: 슬로우 테라피 | D32: 슬로우테라피 구슬 앰플 마스크 화이트밀크 브라이트닝(10개입) | E32: =SUM(F32:M32)-N32-O32 -> 0
A33: =A32+1 -> 26 | B33: 00221 | C33: 슬로우 테라피 | D33: 슬로우테라피 구슬 앰플 마스크 화이트밀크 브라이트닝 | E33: =SUM(F33:M33)-N33-O33 -> 0
A34: =A33+1 -> 27 | B34: 00224 | C34: 슬로우 테라피 | D34: 슬로우테라피 구슬 앰플 마스크 카멜리아 탄력(10개입) | E34: =SUM(F34:M34)-N34-O34 -> 0
A35: =A34+1 -> 28 | B35: 00219 | C35: 슬로우 테라피 | D35: 슬로우테라피 구슬 앰플 마스크 카멜리아 탄력 | E35: =SUM(F35:M35)-N35-O35 -> 0
D36: 슬로우테라피 구슬앰플 마스크 소계 | E36: =SUM(E26:E35) -> 0
A37: =A35+1 -> 29 | B37: 00214 | C37: 장로젯 | D37: 장로젯 라부 셀룰라 앰플 엘릭시어 엑스이피018 50미리 | E37: =SUM(F37:M37)-N37-O37 -> 0
A38: =A37+1 -> 30 | B38: 00252 | C38: 장로젯 | D38: 장로젯 라부 셀룰라 앰플 엘릭시어 엑스이피018 20미리 | E38: =SUM(F38:M38)-N38-O38 -> 0
D39: 장로젯 소계 | E39: =SUM(E37:E38) -> 0
A40: =A38+1 -> 31 | B40: 00196 | C40: 더마클라센 | D40: 블랙 체인지 샴푸 | E40: =SUM(F40:M40)-N40-O40 -> 0
A41: =A40+1 -> 32 | B41: 00205 | C41: 더마클라센 | D41: 블랙 체인지 샴푸(흑갈색) | E41: =SUM(F41:M41)-N41-O41 -> 0
...

Sheet 5일
A1: NO | B1: 이지어드민 코드 | C1: 브랜드 | D1: 제품명 | E1: 합계 | F1: 이지어드민
D3: 총계
A4: 1 | B4: 00260 | C4: 쟈스_엑토인 바디크림 | D4: 쟈스 엑토인 데일리 모이스처라이징 크림(500ml) | E4: =SUM(F4:M4)-N4-O4 -> 0 | F4: =IFERROR(VLOOKUP(B4,이지어드민!$A$2:$D$100,4,0),0)*1 -> 0
A5: =A4+1 -> 2 | B5: 00257 | C5: 쟈스_엑토인 바디크림 | D5: 쟈스 엑토인 데일리 모이스처라이징 크림(100ml) | E5: =SUM(F5:M5)-N5-O5 -> 0
C6: 쟈스_엑토인 바디크림 | D6: 쟈스_엑토인 바디크림 소계 | E6: =SUM(E4:E5) -> 0
A7: =A5+1 -> 3 | B7: 00249 | C7: 쟈스_엑토인 맨얼굴 | D7: 쟈스 맨얼굴크림 | E7: =SUM(F7:M7)-N7-O7 -> 0
A8: =A7+1 -> 4 | B8: 00250 | C8: 쟈스_엑토인 맨얼굴 | D8: 쟈스 맨얼굴크림 튜브 | E8: =SUM(F8:M8)-N8-O8 -> 0
A9: =A8+1 -> 5 | B9: 00255 | C9: 쟈스_엑토인 맨얼굴 | D9: 쟈스 엑토인 퍼스트 케어 세럼 | E9: =SUM(F9:M9)-N9-O9 -> 0
A10: =A9+1 -> 6 | B10: 00262 | C10: 쟈스_엑토인 맨얼굴 | D10: 쟈스 맨얼굴크림 파우치(1.5g) | E10: =SUM(F10:M10)-N10-O10 -> 0
C11: 쟈스_엑토인 맨얼굴 | D11: 쟈스_엑토인 맨얼굴 소계 | E11: =SUM(E7:E10) -> 0
A12: =A10+1 -> 7 | B12: 00245 | C12: 아트델리_갈바덤 | D12: 아트델리 갈바덤 리프팅 커버쿠션 21호_실버 | E12: =SUM(F12:M12)-N12-O12 -> 0
