Workbook

Sheet Table 3
D1: 접 수(청구) | H1: 지 급
A2: 일 련 번 호 | B2: 사업년도 | D2: 직역 | F2: 접수일자 | G2: 청구인원 | H2: 가산인원 | J2: 조정인원 | K2: 조정금액 | L2: 소득세 | M2: 송금액 | N2: 상세조회
B3: 지급차수 | D3: 구분 | F3: 접수번호 | G3: 청구금액 | H3: 가산금액 | J3: 삭감인원 | K3: 삭감금액 | L3: 주민세 | M3: 채권압류액
B4: 접수지사명 | E4: 검진 청구파일명 | H4: 지급인원 | J4: 지급금액 | K4: 추가지급 | L4: 환수금 | M4: 공제액 | N4: 지급일
A5: 1 | B5: 2023 | F5: 44963 | G5: 3 | H5: 0 | J5: 0 | K5: 0 | L5: 8530 | M5: 275050
B6: 20230203 | D6: 암 검진 | F6: 333 | G6: 284430 | H6: 0 | J6: 0 | K6: 0 | L6: 850 | M6: 0
B7: 서울지사 | E7: 청구내역 | H7: 3 | J7: 284430 | K7: 0 | L7: 0 | M7: 0 | N7: 44974
A8: 2 | B8: 2023 | F8: 44978 | G8: 13 | H8: 4 | J8: 0 | K8: 0 | L8: 25350 | M8: 817160
B9: 20230301 | D9: 암 검진 | F9: 111 | G9: 845040 | H9: 8028 | J9: 0 | K9: 0 | L9: 2530 | M9: 0
B10: 서울지사 | E10: 청구내역 | H10: 13 | J10: 845040 | K10: 0 | L10: 0 | M10: 0 | N10: 44988
A11: 3 | B11: 2023 | F11: 44998 | G11: 17 | H11: 3 | J11: 0 | K11: 0 | L11: 41380 | M11: 1333960
B12: 20230304 | D12: 암 검진 | F12: 222 | G12: 1379470 | H12: 6021 | J12: 0 | K12: 0 | L12: 4130 | M12: 0
B13: 서울지사 | E13: 청구내역 | H13: 17 | J13: 1379470 | K13: 0 | L13: 0 | M13: 0 | N13: 45009
A14: 4 | B14: 2023 | F14: 45014 | G14: 22 | H14: 2 | J14: 0 | K14: 0 | L14: 47350 | M14: 1526570
B15: 20230401 | D15: 암 검진 | F15: 5555 | G15: 1578650 | H15: 4014 | J15: 0 | K15: 0 | L15: 4730 | M15: 0
B16: 서울지사 | E16: 청구내역 | H16: 22 | J16: 1578650 | K16: 0 | L16: 0 | M16: 0 | N16: 45023

Sheet 정리
A1: =OFFSET('Table 3'!$A$1, (ROW()-1)*3+1 + INT((COLUMN()-1)/14), MOD(COLUMN()-1,14)) -> 일 련 번 호 | B1: =IF( OFFSET('Table 3'!$A$1, (ROW()-1)*3+1 + INT((COLUMN()-1)/14), MOD(COLUMN()-1,14))=0, "", OFFSET('Table 3'!$A$1, (ROW()-1)*3+1 + INT((COLUMN()-1)/14), MOD(COLUMN()-1,14)) ) -> 사업년도 | C1: =IF( OFFSET('Table 3'!$A$1, (ROW()-1)*3+1 + INT((COLUMN()-1)/14), MOD(COLUMN()-1,14))=0, "", OFFSET('Table 3'!$A$1, (ROW()-1)*3+1 + INT((COLUMN()-1)/14), MOD(COLUMN()-1,14)) ) | D1: =IF( OFFSET('Table 3'!$A$1, (ROW()-1)*3+1 + INT((COLUMN()-1)/14), MOD(COLUMN()-1,14))=0, "", OFFSET('Table 3'!$A$1, (ROW()-1)*3+1 + INT((COLUMN()-1)/14), MOD(COLUMN()-1,14)) ) -> 직역 | E1: =IF( OFFSET('Table 3'!$A$1, (ROW()-1)*3+1 + INT((COLUMN()-1)/14), MOD(COLUMN()-1,14))=0, "", OFFSET('Table 3'!$A$1, (ROW()-1)*3+1 + INT((COLUMN()-1)/14), MOD(COLUMN()-1,14)) ) | F1: =IF( OFFSET('Table 3'!$A$1, (ROW()-1)*3+1 + INT((COLUMN()-1)/14), MOD(COLUMN()-1,14))=0, "", OFFSET('Table 3'!$A$1, (ROW()-1)*3+1 + INT((COLUMN()-1)/14), MOD(COLUMN()-1,14)) ) -> 접수일자 | G1: =IF( OFFSET('Table 3'!$A$1, (ROW()-1)*3+1 + INT((COLUMN()-1)/14), MOD(COLUMN()-1,14))=0, "", OFFSET('Table 3'!$A$1, (ROW()-1)*3+1 + INT((COLUMN()-1)/14), MOD(COLUMN()-1,14)) ) -> 청구인원 | H1: =IF( OFFSET('Table 3'!$A$1, (ROW()-1)*3+1 + INT((COLUMN()-1)/14), MOD(COLUMN()-1,14))=0, "", OFFSET('Table 3'!$A$1, (ROW()-1)*3+1 + INT((COLUMN()-1)/14), MOD(COLUMN()-1,14)) ) -> 가산인원 | I1: =IF( OFFSET('Table 3'!$A$1, (ROW()-1)*3+1 + INT((COLUMN()-1)/14), MOD(COLUMN()-1,14))=0, "", OFFSET('Table 3'!$A$1, (ROW()-1)*3+1 + INT((COLUMN()-1)/14), MOD(COLUMN()-1,14)) ) | ... AP1: =IF( OFFSET('Table 3'!$A$1, (ROW()-1)*3+1 + INT((COLUMN()-1)/14), MOD(COLUMN()-1,14))=0, "", OFFSET('Table 3'!$A$1, (ROW()-1)*3+1 + INT((COLUMN()-1)/14), MOD(COLUMN()-1,14)) ) -> 지급일
A2: =IF( OFFSET('Table 3'!$A$1, (ROW()-1)*3+1 + INT((COLUMN()-1)/14), MOD(COLUMN()-1,14))=0, "", OFFSET('Table 3'!$A$1, (ROW()-1)*3+1 + INT((COLUMN()-1)/14), MOD(COLUMN()-1,14)) ) -> 1 | B2: =IF( OFFSET('Table 3'!$A$1, (ROW()-1)*3+1 + INT((COLUMN()-1)/14), MOD(COLUMN()-1,14))=0, "", OFFSET('Table 3'!$A$1, (ROW()-1)*3+1 + INT((COLUMN()-1)/14), MOD(COLUMN()-1,14)) ) -> 2023 | C2: =IF( OFFSET('Table 3'!$A$1, (ROW()-1)*3+1 + INT((COLUMN()-1)/14), MOD(COLUMN()-1,14))=0, "", OFFSET('Table 3'!$A$1, (ROW()-1)*3+1 + INT((COLUMN()-1)/14), MOD(COLUMN()-1,14)) ) | D2: =IF( OFFSET('Table 3'!$A$1, (ROW()-1)*3+1 + INT((COLUMN()-1)/14), MOD(COLUMN()-1,14))=0, "", OFFSET('Table 3'!$A$1, (ROW()-1)*3+1 + INT((COLUMN()-1)/14), MOD(COLUMN()-1,14)) ) | E2: =IF( OFFSET('Table 3'!$A$1, (ROW()-1)*3+1 + INT((COLUMN()-1)/14), MOD(COLUMN()-1,14))=0, "", OFFSET('Table 3'!$A$1, (ROW()-1)*3+1 + INT((COLUMN()-1)/14), MOD(COLUMN()-1,14)) ) | F2: =IF( OFFSET('Table 3'!$A$1, (ROW()-1)*3+1 + INT((COLUMN()-1)/14), MOD(COLUMN()-1,14))=0, "", OFFSET('Table 3'!$A$1, (ROW()-1)*3+1 + INT((COLUMN()-1)/14), MOD(COLUMN()-1,14)) ) -> 44963 | G2: =IF( OFFSET('Table 3'!$A$1, (ROW()-1)*3+1 + INT((COLUMN()-1)/14), MOD(COLUMN()-1,14))=0, "", OFFSET('Table 3'!$A$1, (ROW()-1)*3+1 + INT((COLUMN()-1)/14), MOD(COLUMN()-1,14)) ) -> 3 | H2: =IF( OFFSET('Table 3'!$A$1, (ROW()-1)*3+1 + INT((COLUMN()-1)/14), MOD(COLUMN()-1,14))=0, "", OFFSET('Table 3'!$A$1, (ROW()-1)*3+1 + INT((COLUMN()-1)/14), MOD(COLUMN()-1,14)) ) | ... AP2: =IF( OFFSET('Table 3'!$A$1, (ROW()-1)*3+1 + INT((COLUMN()-1)/14), MOD(COLUMN()-1,14))=0, "", OFFSET('Table 3'!$A$1, (ROW()-1)*3+1 + INT((COLUMN()-1)/14), MOD(COLUMN()-1,14)) ) -> 44974
A3: =IF( OFFSET('Table 3'!$A$1, (ROW()-1)*3+1 + INT((COLUMN()-1)/14), MOD(COLUMN()-1,14))=0, "", OFFSET('Table 3'!$A$1, (ROW()-1)*3+1 + INT((COLUMN()-1)/14), MOD(COLUMN()-1,14)) ) -> 2 | B3: =IF( OFFSET('Table 3'!$A$1, (ROW()-1)*3+1 + INT((COLUMN()-1)/14), MOD(COLUMN()-1,14))=0, "", OFFSET('Table 3'!$A$1, (ROW()-1)*3+1 + INT((COLUMN()-1)/14), MOD(COLUMN()-1,14)) ) -> 2023 | C3: =IF( OFFSET('Table 3'!$A$1, (ROW()-1)*3+1 + INT((COLUMN()-1)/14), MOD(COLUMN()-1,14))=0, "", OFFSET('Table 3'!$A$1, (ROW()-1)*3+1 + INT((COLUMN()-1)/14), MOD(COLUMN()-1,14)) ) | D3: =IF( OFFSET('Table 3'!$A$1, (ROW()-1)*3+1 + INT((COLUMN()-1)/14), MOD(COLUMN()-1,14))=0, "", OFFSET('Table 3'!$A$1, (ROW()-1)*3+1 + INT((COLUMN()-1)/14), MOD(COLUMN()-1,14)) ) | E3: =IF( OFFSET('Table 3'!$A$1, (ROW()-1)*3+1 + INT((COLUMN()-1)/14), MOD(COLUMN()-1,14))=0, "", OFFSET('Table 3'!$A$1, (ROW()-1)*3+1 + INT((COLUMN()-1)/14), MOD(COLUMN()-1,14)) ) | F3: =IF( OFFSET('Table 3'!$A$1, (ROW()-1)*3+1 + INT((COLUMN()-1)/14), MOD(COLUMN()-1,14))=0, "", OFFSET('Table 3'!$A$1, (ROW()-1)*3+1 + INT((COLUMN()-1)/14), MOD(COLUMN()-1,14)) ) -> 44978 | G3: =IF( OFFSET('Table 3'!$A$1, (ROW()-1)*3+1 + INT((COLUMN()-1)/14), MOD(COLUMN()-1,14))=0, "", OFFSET('Table 3'!$A$1, (ROW()-1)*3+1 + INT((COLUMN()-1)/14), MOD(COLUMN()-1,14)) ) -> 13 | H3: =IF( OFFSET('Table 3'!$A$1, (ROW()-1)*3+1 + INT((COLUMN()-1)/14), MOD(COLUMN()-1,14))=0, "", OFFSET('Table 3'!$A$1, (ROW()-1)*3+1 + INT((COLUMN()-1)/14), MOD(COLUMN()-1,14)) ) -> 4 | ... AP3: =IF( OFFSET('Table 3'!$A$1, (ROW()-1)*3+1 + INT((COLUMN()-1)/14), MOD(COLUMN()-1,14))=0, "", OFFSET('Table 3'!$A$1, (ROW()-1)*3+1 + INT((COLUMN()-1)/14), MOD(COLUMN()-1,14)) ) -> 44988
A4: =IF( OFFSET('Table 3'!$A$1, (ROW()-1)*3+1 + INT((COLUMN()-1)/14), MOD(COLUMN()-1,14))=0, "", OFFSET('Table 3'!$A$1, (ROW()-1)*3+1 + INT((COLUMN()-1)/14), MOD(COLUMN()-1,14)) ) -> 3 | B4: =IF( OFFSET('Table 3'!$A$1, (ROW()-1)*3+1 + INT((COLUMN()-1)/14), MOD(COLUMN()-1,14))=0, "", OFFSET('Table 3'!$A$1, (ROW()-1)*3+1 + INT((COLUMN()-1)/14), MOD(COLUMN()-1,14)) ) -> 2023 | C4: =IF( OFFSET('Table 3'!$A$1, (ROW()-1)*3+1 + INT((COLUMN()-1)/14), MOD(COLUMN()-1,14))=0, "", OFFSET('Table 3'!$A$1, (ROW()-1)*3+1 + INT((COLUMN()-1)/14), MOD(COLUMN()-1,14)) ) | D4: =IF( OFFSET('Table 3'!$A$1, (ROW()-1)*3+1 + INT((COLUMN()-1)/14), MOD(COLUMN()-1,14))=0, "", OFFSET('Table 3'!$A$1, (ROW()-1)*3+1 + INT((COLUMN()-1)/14), MOD(COLUMN()-1,14)) ) | E4: =IF( OFFSET('Table 3'!$A$1, (ROW()-1)*3+1 + INT((COLUMN()-1)/14), MOD(COLUMN()-1,14))=0, "", OFFSET('Table 3'!$A$1, (ROW()-1)*3+1 + INT((COLUMN()-1)/14), MOD(COLUMN()-1,14)) ) | F4: =IF( OFFSET('Table 3'!$A$1, (ROW()-1)*3+1 + INT((COLUMN()-1)/14), MOD(COLUMN()-1,14))=0, "", OFFSET('Table 3'!$A$1, (ROW()-1)*3+1 + INT((COLUMN()-1)/14), MOD(COLUMN()-1,14)) ) -> 44998 | G4: =IF( OFFSET('Table 3'!$A$1, (ROW()-1)*3+1 + INT((COLUMN()-1)/14), MOD(COLUMN()-1,14))=0, "", OFFSET('Table 3'!$A$1, (ROW()-1)*3+1 + INT((COLUMN()-1)/14), MOD(COLUMN()-1,14)) ) -> 17 | H4: =IF( OFFSET('Table 3'!$A$1, (ROW()-1)*3+1 + INT((COLUMN()-1)/14), MOD(COLUMN()-1,14))=0, "", OFFSET('Table 3'!$A$1, (ROW()-1)*3+1 + INT((COLUMN()-1)/14), MOD(COLUMN()-1,14)) ) -> 3 | ... AP4: =IF( OFFSET('Table 3'!$A$1, (ROW()-1)*3+1 + INT((COLUMN()-1)/14), MOD(COLUMN()-1,14))=0, "", OFFSET('Table 3'!$A$1, (ROW()-1)*3+1 + INT((COLUMN()-1)/14), MOD(COLUMN()-1,14)) ) -> 45009
A5: =IF( OFFSET('Table 3'!$A$1, (ROW()-1)*3+1 + INT((COLUMN()-1)/14), MOD(COLUMN()-1,14))=0, "", OFFSET('Table 3'!$A$1, (ROW()-1)*3+1 + INT((COLUMN()-1)/14), MOD(COLUMN()-1,14)) ) -> 4 | B5: =IF( OFFSET('Table 3'!$A$1, (ROW()-1)*3+1 + INT((COLUMN()-1)/14), MOD(COLUMN()-1,14))=0, "", OFFSET('Table 3'!$A$1, (ROW()-1)*3+1 + INT((COLUMN()-1)/14), MOD(COLUMN()-1,14)) ) -> 2023 | C5: =IF( OFFSET('Table 3'!$A$1, (ROW()-1)*3+1 + INT((COLUMN()-1)/14), MOD(COLUMN()-1,14))=0, "", OFFSET('Table 3'!$A$1, (ROW()-1)*3+1 + INT((COLUMN()-1)/14), MOD(COLUMN()-1,14)) ) | D5: =IF( OFFSET('Table 3'!$A$1, (ROW()-1)*3+1 + INT((COLUMN()-1)/14), MOD(COLUMN()-1,14))=0, "", OFFSET('Table 3'!$A$1, (ROW()-1)*3+1 + INT((COLUMN()-1)/14), MOD(COLUMN()-1,14)) ) | E5: =IF( OFFSET('Table 3'!$A$1, (ROW()-1)*3+1 + INT((COLUMN()-1)/14), MOD(COLUMN()-1,14))=0, "", OFFSET('Table 3'!$A$1, (ROW()-1)*3+1 + INT((COLUMN()-1)/14), MOD(COLUMN()-1,14)) ) | F5: =IF( OFFSET('Table 3'!$A$1, (ROW()-1)*3+1 + INT((COLUMN()-1)/14), MOD(COLUMN()-1,14))=0, "", OFFSET('Table 3'!$A$1, (ROW()-1)*3+1 + INT((COLUMN()-1)/14), MOD(COLUMN()-1,14)) ) -> 45014 | G5: =IF( OFFSET('Table 3'!$A$1, (ROW()-1)*3+1 + INT((COLUMN()-1)/14), MOD(COLUMN()-1,14))=0, "", OFFSET('Table 3'!$A$1, (ROW()-1)*3+1 + INT((COLUMN()-1)/14), MOD(COLUMN()-1,14)) ) -> 22 | H5: =IF( OFFSET('Table 3'!$A$1, (ROW()-1)*3+1 + INT((COLUMN()-1)/14), MOD(COLUMN()-1,14))=0, "", OFFSET('Table 3'!$A$1, (ROW()-1)*3+1 + INT((COLUMN()-1)/14), MOD(COLUMN()-1,14)) ) -> 2 | ... AP5: =IF( OFFSET('Table 3'!$A$1, (ROW()-1)*3+1 + INT((COLUMN()-1)/14), MOD(COLUMN()-1,14))=0, "", OFFSET('Table 3'!$A$1, (ROW()-1)*3+1 + INT((COLUMN()-1)/14), MOD(COLUMN()-1,14)) ) -> 45023
A6: =IF( OFFSET('Table 3'!$A$1, (ROW()-1)*3+1 + INT((COLUMN()-1)/14), MOD(COLUMN()-1,14))=0, "", OFFSET('Table 3'!$A$1, (ROW()-1)*3+1 + INT((COLUMN()-1)/14), MOD(COLUMN()-1,14)) ) | B6: =IF( OFFSET('Table 3'!$A$1, (ROW()-1)*3+1 + INT((COLUMN()-1)/14), MOD(COLUMN()-1,14))=0, "", OFFSET('Table 3'!$A$1, (ROW()-1)*3+1 + INT((COLUMN()-1)/14), MOD(COLUMN()-1,14)) ) | C6: =IF( OFFSET('Table 3'!$A$1, (ROW()-1)*3+1 + INT((COLUMN()-1)/14), MOD(COLUMN()-1,14))=0, "", OFFSET('Table 3'!$A$1, (ROW()-1)*3+1 + INT((COLUMN()-1)/14), MOD(COLUMN()-1,14)) ) | D6: =IF( OFFSET('Table 3'!$A$1, (ROW()-1)*3+1 + INT((COLUMN()-1)/14), MOD(COLUMN()-1,14))=0, "", OFFSET('Table 3'!$A$1, (ROW()-1)*3+1 + INT((COLUMN()-1)/14), MOD(COLUMN()-1,14)) ) | E6: =IF( OFFSET('Table 3'!$A$1, (ROW()-1)*3+1 + INT((COLUMN()-1)/14), MOD(COLUMN()-1,14))=0, "", OFFSET('Table 3'!$A$1, (ROW()-1)*3+1 + INT((COLUMN()-1)/14), MOD(COLUMN()-1,14)) ) | F6: =IF( OFFSET('Table 3'!$A$1, (ROW()-1)*3+1 + INT((COLUMN()-1)/14), MOD(COLUMN()-1,14))=0, "", OFFSET('Table 3'!$A$1, (ROW()-1)*3+1 + INT((COLUMN()-1)/14), MOD(COLUMN()-1,14)) ) | G6: =IF( OFFSET('Table 3'!$A$1, (ROW()-1)*3+1 + INT((COLUMN()-1)/14), MOD(COLUMN()-1,14))=0, "", OFFSET('Table 3'!$A$1, (ROW()-1)*3+1 + INT((COLUMN()-1)/14), MOD(COLUMN()-1,14)) ) | H6: =IF( OFFSET('Table 3'!$A$1, (ROW()-1)*3+1 + INT((COLUMN()-1)/14), MOD(COLUMN()-1,14))=0, "", OFFSET('Table 3'!$A$1, (ROW()-1)*3+1 + INT((COLUMN()-1)/14), MOD(COLUMN()-1,14)) ) | ... AP6: =IF( OFFSET('Table 3'!$A$1, (ROW()-1)*3+1 + INT((COLUMN()-1)/14), MOD(COLUMN()-1,14))=0, "", OFFSET('Table 3'!$A$1, (ROW()-1)*3+1 + INT((COLUMN()-1)/14), MOD(COLUMN()-1,14)) )
A7: =IF( OFFSET('Table 3'!$A$1, (ROW()-1)*3+1 + INT((COLUMN()-1)/14), MOD(COLUMN()-1,14))=0, "", OFFSET('Table 3'!$A$1, (ROW()-1)*3+1 + INT((COLUMN()-1)/14), MOD(COLUMN()-1,14)) ) | B7: =IF( OFFSET('Table 3'!$A$1, (ROW()-1)*3+1 + INT((COLUMN()-1)/14), MOD(COLUMN()-1,14))=0, "", OFFSET('Table 3'!$A$1, (ROW()-1)*3+1 + INT((COLUMN()-1)/14), MOD(COLUMN()-1,14)) ) | C7: =IF( OFFSET('Table 3'!$A$1, (ROW()-1)*3+1 + INT((COLUMN()-1)/14), MOD(COLUMN()-1,14))=0, "", OFFSET('Table 3'!$A$1, (ROW()-1)*3+1 + INT((COLUMN()-1)/14), MOD(COLUMN()-1,14)) ) | D7: =IF( OFFSET('Table 3'!$A$1, (ROW()-1)*3+1 + INT((COLUMN()-1)/14), MOD(COLUMN()-1,14))=0, "", OFFSET('Table 3'!$A$1, (ROW()-1)*3+1 + INT((COLUMN()-1)/14), MOD(COLUMN()-1,14)) ) | E7: =IF( OFFSET('Table 3'!$A$1, (ROW()-1)*3+1 + INT((COLUMN()-1)/14), MOD(COLUMN()-1,14))=0, "", OFFSET('Table 3'!$A$1, (ROW()-1)*3+1 + INT((COLUMN()-1)/14), MOD(COLUMN()-1,14)) ) | F7: =IF( OFFSET('Table 3'!$A$1, (ROW()-1)*3+1 + INT((COLUMN()-1)/14), MOD(COLUMN()-1,14))=0, "", OFFSET('Table 3'!$A$1, (ROW()-1)*3+1 + INT((COLUMN()-1)/14), MOD(COLUMN()-1,14)) ) | G7: =IF( OFFSET('Table 3'!$A$1, (ROW()-1)*3+1 + INT((COLUMN()-1)/14), MOD(COLUMN()-1,14))=0, "", OFFSET('Table 3'!$A$1, (ROW()-1)*3+1 + INT((COLUMN()-1)/14), MOD(COLUMN()-1,14)) ) | H7: =IF( OFFSET('Table 3'!$A$1, (ROW()-1)*3+1 + INT((COLUMN()-1)/14), MOD(COLUMN()-1,14))=0, "", OFFSET('Table 3'!$A$1, (ROW()-1)*3+1 + INT((COLUMN()-1)/14), MOD(COLUMN()-1,14)) ) | ... AP7: =IF( OFFSET('Table 3'!$A$1, (ROW()-1)*3+1 + INT((COLUMN()-1)/14), MOD(COLUMN()-1,14))=0, "", OFFSET('Table 3'!$A$1, (ROW()-1)*3+1 + INT((COLUMN()-1)/14), MOD(COLUMN()-1,14)) )
