Workbook

Sheet 기초데이터
A1: 데이터 입력란 | H1: 좌측 데이터 목록별 입력가능 범위
A2: 구입연도 | B2: 구입월 | C2: 난이도 | D2: 제조사 | E2: 구입수량 | F2: 구입금액 | H2: 난이도 | I2: 제조사 | J2: 구입연도 | K2: 구입월
A3: 2023 | B3: 1 | C3: 노말 | D3: 체코 | E3: 5000 | F3: 45857571 | H3: 노말 | I3: 체코 | J3: 2000 | K3: 1
A4: 2023 | B4: 2 | C4: 하드 | D4: 프랑스 | E4: 5200 | F4: 45967885 | H4: 노말 | I4: 캄보디아 | J4: 2001 | K4: 2
A5: 2023 | B5: 3 | C5: 하드 | D5: 체코 | E5: 2500 | F5: 22818471 | H5: 하드 | I5: 체코 | J5: 2002 | K5: 3
A6: 2023 | B6: 4 | C6: 하드 | D6: 캄보디아 | E6: 3000 | F6: 45325320 | H6: 하드 | I6: 카타르 | J6: 2003 | K6: 4
A7: 2023 | B7: 5 | C7: 노말 | D7: 캄보디아 | E7: 1500 | F7: 22985874 | H7: 하드 | I7: 프랑스 | J7: 2004 | K7: 5
A8: 2023 | B8: 6 | C8: 하드 | D8: 카타르 | E8: 2500 | F8: 68930686 | H8: 하드 | I8: 캄보디아 | J8: 2005 | K8: 6
A9: 2023 | B9: 7 | C9: 하드 | D9: 체코 | E9: 4000 | F9: 64424718 | H9: 이지 | I9: 체코 | J9: 2006 | K9: 7
A10: 2023 | B10: 1 | C10: 하드 | D10: 카타르 | E10: 7800 | F10: 45864010 | H10: 이지 | I10: 캄보디아 | J10: 2007 | K10: 8
A11: 2023 | B11: 2 | C11: 이지 | D11: 체코 | E11: 9000 | F11: 45702403 | H11: 이지 | I11: 싱가포르 | J11: 2008 | K11: 9
A12: 2023 | B12: 3 | C12: 노말 | D12: 체코 | E12: 3300 | F12: 64424718 | H12: 추가입력1 | I12: 추가입력1-1 | J12: 2009 | K12: 10
A13: 2023 | B13: 4 | C13: 하드 | D13: 캄보디아 | E13: 3000 | F13: 44740653 | H13: 추가입력2 | I13: 추가입력2-1 | J13: 2010 | K13: 11
A14: 2023 | B14: 5 | C14: 하드 | D14: 체코 | E14: 8000 | F14: 64424718 | H14: 추가입력3 | I14: 추가입력3-1 | J14: 2011 | K14: 12
A15: 2023 | B15: 6 | C15: 이지 | D15: 체코 | E15: 5200 | F15: 44185951 | H15: 추가입력4 | I15: 추가입력4-1 | J15: 2012
A16: 2023 | B16: 7 | C16: 노말 | D16: 캄보디아 | E16: 2500 | F16: 44291608 | H16: 추가입력5 | I16: 추가입력5-1 | J16: 2013
A17: 2023 | B17: 1 | C17: 하드 | D17: 프랑스 | E17: 3000 | F17: 21960903 | H17: 추가입력6 | I17: 추가입력6-1 | J17: 2014
A18: 2023 | B18: 2 | C18: 하드 | D18: 체코 | E18: 1500 | F18: 22066561 | H18: 추가입력7 | I18: 추가입력7-1 | J18: 2015
A19: 2023 | B19: 3 | C19: 하드 | D19: 프랑스 | E19: 7000 | F19: 22330704 | H19: 추가입력8 | I19: 추가입력8-1 | J19: 2016
A20: 2023 | B20: 4 | C20: 이지 | D20: 체코 | E20: 3000 | F20: 21818449 | H20: 추가입력9 | I20: 추가입력9-1 | J20: 2017
A21: 2023 | B21: 5 | C21: 하드 | D21: 캄보디아 | E21: 1500 | F21: 22171456 | H21: 추가입력10 | I21: 추가입력10-1 | J21: 2018
A22: 2023 | B22: 6 | C22: 노말 | D22: 체코 | E22: 2500 | F22: 22341423 | H22: 추가입력11 | I22: 추가입력11-1 | J22: 2019
A23: 2023 | B23: 7 | C23: 이지 | D23: 캄보디아 | E23: 4000 | F23: 21923043 | H23: 추가입력12 | I23: 추가입력12-1 | J23: 2020
A24: 2023 | B24: 1 | C24: 하드 | D24: 체코 | E24: 7800 | F24: 22341423 | H24: 추가입력13 | I24: 추가입력13-1 | J24: 2021
A25: 2023 | B25: 2 | C25: 하드 | D25: 캄보디아 | E25: 9000 | F25: 22001490 | H25: 추가입력14 | I25: 추가입력14-1 | J25: 2022
A26: 2023 | B26: 3 | C26: 이지 | D26: 싱가포르 | E26: 3300 | F26: 21883821 | H26: 추가입력15 | I26: 추가입력15-1 | J26: 2023
... A33: 2023 | B33: 4 | C33: 하드 | D33: 프랑스 | E33: 1500 | F33: 281781500 | H33: 추가입력22 | I33: 추가입력22-1 | J33: 2030
A34: 2023 | B34: 5 | C34: 노말 | D34: 체코 | E34: 2500 | F34: 533375700 | H34: ☞ 원료타입 및 제조사 추가시 하단에 공란 기입必
A35: 2023 | B35: 7 | C35: 하드 | D35: 캄보디아 | E35: 4000 | F35: 73087600
A36: 2023 | B36: 5 | C36: 하드 | D36: 체코 | E36: 7800 | F36: 290510800 | H36: 구입수량계 | I36: 구입금액계
A37: 2023 | B37: 1 | C37: 이지 | D37: 캄보디아 | E37: 7800 | F37: 290510800 | H37: =SUM(표1[구입수량]) -> 276500 | I37: =SUM(표1[구입금액]) -> 3411953464
A38: 2023 | B38: 4 | C38: 노말 | D38: 체코 | E38: 3300 | F38: 21504665
A39: 2023 | B39: 2 | C39: 이지 | D39: 싱가포르 | E39: 9000 | F39: 21975340
A40: 2023 | B40: 5 | C40: 이지 | D40: 체코 | E40: 9500 | F40: 22180830
A41: 2023 | B41: 6 | C41: 노말 | D41: 캄보디아 | E41: 9400 | F41: 22102026
A42: 2023 | B42: 1 | C42: 이지 | D42: 캄보디아 | E42: 2500 | F42: 22180830
A43: 2023 | B43: 2 | C43: 하드 | D43: 체코 | E43: 4000 | F43: 22417244
A44: 2023 | B44: 3 | C44: 하드 | D44: 프랑스 | E44: 7800 | F44: 22364708
A45: 2023 | B45: 4 | C45: 하드 | D45: 캄보디아 | E45: 7800 | F45: 22390976
A46: 2023 | B46: 5 | C46: 노말 | D46: 캄보디아 | E46: 2000 | F46: 44624342
A47: 2023 | B47: 6 | C47: 이지 | D47: 체코 | E47: 1500 | F47: 22023221
A48: 2023 | B48: 7 | C48: 하드 | D48: 카타르 | E48: 2500 | F48: 22102027
A49: 2023 | B49: 5 | C49: 이지 | D49: 캄보디아 | E49: 4000 | F49: 62178232
... A66: 2023 | B66: 3 | C66: 하드 | D66: 카타르 | E66: 4000 | F66: 20168801

Sheet 추이분석
A1: ◆ 난이도별 구매현황(2023년)
X2: (단위: KG/백만)
A3: 난이도 | B3: 제조사 | C3: 월별 | D3: 1 | E3: 2 | F3: 3 | G3: 4 | H3: 5 | I3: 6 | J3: 7 | K3: 8 | L3: 9 | M3: 10 | N3: 11 | O3: 12 | P3: 월별추이 | Q3: 1분기 계 | S3: 2분기 계 | U3: 3분기 계 | W3: 4분기 계
A4: 노말 | B4: 체코 | C4: 수량 | D4: =IFERROR(SUMIFS(표1[구입수량],표1[난이도],추이분석!$A4,표1[제조사],추이분석!$B4,표1[구입월],추이분석!D$3),0) -> 5000 | E4: =IFERROR(SUMIFS(표1[구입수량],표1[난이도],추이분석!$A4,표1[제조사],추이분석!$B4,표1[구입월],추이분석!E$3),0) -> 0 | F4: =IFERROR(SUMIFS(표1[구입수량],표1[난이도],추이분석!$A4,표1[제조사],추이분석!$B4,표1[구입월],추이분석!F$3),0) -> 3300 | G4: =IFERROR(SUMIFS(표1[구입수량],표1[난이도],추이분석!$A4,표1[제조사],추이분석!$B4,표1[구입월],추이분석!G$3),0) -> 3300 | H4: =IFERROR(SUMIFS(표1[구입수량],표1[난이도],추이분석!$A4,표1[제조사],추이분석!$B4,표1[구입월],추이분석!H$3),0) -> 9000 | I4: =IFERROR(SUMIFS(표1[구입수량],표1[난이도],추이분석!$A4,표1[제조사],추이분석!$B4,표1[구입월],추이분석!I$3),0) -> 2500 | J4: =IFERROR(SUMIFS(표1[구입수량],표1[난이도],추이분석!$A4,표1[제조사],추이분석!$B4,표1[구입월],추이분석!J$3),0) -> 0 | K4: =IFERROR(SUMIFS(표1[구입수량],표1[난이도],추이분석!$A4,표1[제조사],추이분석!$B4,표1[구입월],추이분석!K$3),0) -> 0 | ... O4: =IFERROR(SUMIFS(표1[구입수량],표1[난이도],추이분석!$A4,표1[제조사],추이분석!$B4,표1[구입월],추이분석!O$3),0) -> 0 | Q4: =IFERROR(SUM(D4:F4),0) -> 8300 | S4: =IFERROR(SUM(G4:I4),0) -> 14800 | U4: =IFERROR(SUM(J4:L4),0) -> 0 | W4: =IFERROR(SUM(M4:O4),0) -> 0
A5: 노말 | B5: 체코 | C5: 금액 | D5: =IFERROR(SUMIFS(표1[구입금액],표1[난이도],추이분석!$A5,표1[제조사],추이분석!$B5,표1[구입월],추이분석!D$3),0) -> 45857571 | E5: =IFERROR(SUMIFS(표1[구입금액],표1[난이도],추이분석!$A5,표1[제조사],추이분석!$B5,표1[구입월],추이분석!E$3),0) -> 0 | F5: =IFERROR(SUMIFS(표1[구입금액],표1[난이도],추이분석!$A5,표1[제조사],추이분석!$B5,표1[구입월],추이분석!F$3),0) -> 64424718 | G5: =IFERROR(SUMIFS(표1[구입금액],표1[난이도],추이분석!$A5,표1[제조사],추이분석!$B5,표1[구입월],추이분석!G$3),0) -> 21504665 | H5: =IFERROR(SUMIFS(표1[구입금액],표1[난이도],추이분석!$A5,표1[제조사],추이분석!$B5,표1[구입월],추이분석!H$3),0) -> 574795204 | I5: =IFERROR(SUMIFS(표1[구입금액],표1[난이도],추이분석!$A5,표1[제조사],추이분석!$B5,표1[구입월],추이분석!I$3),0) -> 22341423 | J5: =IFERROR(SUMIFS(표1[구입금액],표1[난이도],추이분석!$A5,표1[제조사],추이분석!$B5,표1[구입월],추이분석!J$3),0) -> 0 | K5: =IFERROR(SUMIFS(표1[구입금액],표1[난이도],추이분석!$A5,표1[제조사],추이분석!$B5,표1[구입월],추이분석!K$3),0) -> 0 | ... O5: =IFERROR(SUMIFS(표1[구입금액],표1[난이도],추이분석!$A5,표1[제조사],추이분석!$B5,표1[구입월],추이분석!O$3),0) -> 0 | Q5: 비중 | R5: =IFERROR(Q4/SUM($D$8:$F$8),0) -> 0.51552795 | S5: 비중 | T5: =IFERROR(S4/SUM($G$8:$I$8),0) -> 0.51567944 | U5: 비중 | V5: =IFERROR(U4/SUM($J$8:$L$8),0) -> 0 | W5: 비중 | X5: =IFERROR(W4/SUM($M$8:$O$8),0) -> 0
A6: 노말 | B6: 캄보디아 | C6: 수량 | D6: =IFERROR(SUMIFS(표1[구입수량],표1[난이도],추이분석!$A6,표1[제조사],추이분석!$B6,표1[구입월],추이분석!D$3),0) -> 0 | E6: =IFERROR(SUMIFS(표1[구입수량],표1[난이도],추이분석!$A6,표1[제조사],추이분석!$B6,표1[구입월],추이분석!E$3),0) -> 7800 | F6: =IFERROR(SUMIFS(표1[구입수량],표1[난이도],추이분석!$A6,표1[제조사],추이분석!$B6,표1[구입월],추이분석!F$3),0) -> 0 | G6: =IFERROR(SUMIFS(표1[구입수량],표1[난이도],추이분석!$A6,표1[제조사],추이분석!$B6,표1[구입월],추이분석!G$3),0) -> 1000 | H6: =IFERROR(SUMIFS(표1[구입수량],표1[난이도],추이분석!$A6,표1[제조사],추이분석!$B6,표1[구입월],추이분석!H$3),0) -> 3500 | I6: =IFERROR(SUMIFS(표1[구입수량],표1[난이도],추이분석!$A6,표1[제조사],추이분석!$B6,표1[구입월],추이분석!I$3),0) -> 9400 | J6: =IFERROR(SUMIFS(표1[구입수량],표1[난이도],추이분석!$A6,표1[제조사],추이분석!$B6,표1[구입월],추이분석!J$3),0) -> 10300 | K6: =IFERROR(SUMIFS(표1[구입수량],표1[난이도],추이분석!$A6,표1[제조사],추이분석!$B6,표1[구입월],추이분석!K$3),0) -> 0 | ... O6: =IFERROR(SUMIFS(표1[구입수량],표1[난이도],추이분석!$A6,표1[제조사],추이분석!$B6,표1[구입월],추이분석!O$3),0) -> 0 | Q6: =IFERROR(SUM(D6:F6),0) -> 7800 | S6: =IFERROR(SUM(G6:I6),0) -> 13900 | U6: =IFERROR(SUM(J6:L6),0) -> 10300 | W6: =IFERROR(SUM(M6:O6),0) -> 0
A7: 노말 | B7: 캄보디아 | C7: 금액 | D7: =IFERROR(SUMIFS(표1[구입금액],표1[난이도],추이분석!$A7,표1[제조사],추이분석!$B7,표1[구입월],추이분석!D$3),0) -> 0 | E7: =IFERROR(SUMIFS(표1[구입금액],표1[난이도],추이분석!$A7,표1[제조사],추이분석!$B7,표1[구입월],추이분석!E$3),0) -> 21425786 | F7: =IFERROR(SUMIFS(표1[구입금액],표1[난이도],추이분석!$A7,표1[제조사],추이분석!$B7,표1[구입월],추이분석!F$3),0) -> 0 | G7: =IFERROR(SUMIFS(표1[구입금액],표1[난이도],추이분석!$A7,표1[제조사],추이분석!$B7,표1[구입월],추이분석!G$3),0) -> 7280000 | H7: =IFERROR(SUMIFS(표1[구입금액],표1[난이도],추이분석!$A7,표1[제조사],추이분석!$B7,표1[구입월],추이분석!H$3),0) -> 67610216 | I7: =IFERROR(SUMIFS(표1[구입금액],표1[난이도],추이분석!$A7,표1[제조사],추이분석!$B7,표1[구입월],추이분석!I$3),0) -> 22102026 | J7: =IFERROR(SUMIFS(표1[구입금액],표1[난이도],추이분석!$A7,표1[제조사],추이분석!$B7,표1[구입월],추이분석!J$3),0) -> 106469840 | K7: =IFERROR(SUMIFS(표1[구입금액],표1[난이도],추이분석!$A7,표1[제조사],추이분석!$B7,표1[구입월],추이분석!K$3),0) -> 0 | ... O7: =IFERROR(SUMIFS(표1[구입금액],표1[난이도],추이분석!$A7,표1[제조사],추이분석!$B7,표1[구입월],추이분석!O$3),0) -> 0 | Q7: 비중 | R7: =IFERROR(Q6/SUM($D$8:$F$8),0) -> 0.48447205 | S7: 비중 | T7: =IFERROR(S6/SUM($G$8:$I$8),0) -> 0.48432056 | U7: 비중 | V7: =IFERROR(U6/SUM($J$8:$L$8),0) -> 1 | W7: 비중 | X7: =IFERROR(W6/SUM($M$8:$O$8),0) -> 0
A8: 노말 | C8: 수량 | D8: =IFERROR(D4+D6,0) -> 5000 | E8: =IFERROR(E4+E6,0) -> 7800 | F8: =IFERROR(F4+F6,0) -> 3300 | G8: =IFERROR(G4+G6,0) -> 4300 | H8: =IFERROR(H4+H6,0) -> 12500 | I8: =IFERROR(I4+I6,0) -> 11900 | J8: =IFERROR(J4+J6,0) -> 10300 | K8: =IFERROR(K4+K6,0) -> 0 | ... O8: =IFERROR(O4+O6,0) -> 0 | Q8: =IFERROR(Q4+Q6,0) -> 16100 | S8: =IFERROR(S4+S6,0) -> 28700 | U8: =IFERROR(U4+U6,0) -> 10300 | W8: =IFERROR(W4+W6,0) -> 0
A9: 소계 | C9: 금액 | D9: =IFERROR(D5+D7,0) -> 45857571 | E9: =IFERROR(E5+E7,0) -> 21425786 | F9: =IFERROR(F5+F7,0) -> 64424718 | G9: =IFERROR(G5+G7,0) -> 28784665 | H9: =IFERROR(H5+H7,0) -> 642405420 | I9: =IFERROR(I5+I7,0) -> 44443449 | J9: =IFERROR(J5+J7,0) -> 106469840 | K9: =IFERROR(K5+K7,0) -> 0 | ... O9: =IFERROR(O5+O7,0) -> 0 | Q9: =IFERROR(SUM(D9:F9),0) -> 131708075 | S9: =IFERROR(SUM(G9:I9),0) -> 715633534 | U9: =IFERROR(SUM(J9:L9),0) -> 106469840 | W9: =IFERROR(SUM(M9:O9),0) -> 0
A10: 하드 | B10: 체코 | C10: 수량 | D10: =IFERROR(SUMIFS(표1[구입수량],표1[난이도],추이분석!$A10,표1[제조사],추이분석!$B10,표1[구입월],추이분석!D$3),0) -> 7800 | E10: =IFERROR(SUMIFS(표1[구입수량],표1[난이도],추이분석!$A10,표1[제조사],추이분석!$B10,표1[구입월],추이분석!E$3),0) -> 5500 | F10: =IFERROR(SUMIFS(표1[구입수량],표1[난이도],추이분석!$A10,표1[제조사],추이분석!$B10,표1[구입월],추이분석!F$3),0) -> 2500 | G10: =IFERROR(SUMIFS(표1[구입수량],표1[난이도],추이분석!$A10,표1[제조사],추이분석!$B10,표1[구입월],추이분석!G$3),0) -> 0 | H10: =IFERROR(SUMIFS(표1[구입수량],표1[난이도],추이분석!$A10,표1[제조사],추이분석!$B10,표1[구입월],추이분석!H$3),0) -> 15800 | I10: =IFERROR(SUMIFS(표1[구입수량],표1[난이도],추이분석!$A10,표1[제조사],추이분석!$B10,표1[구입월],추이분석!I$3),0) -> 1500 | J10: =IFERROR(SUMIFS(표1[구입수량],표1[난이도],추이분석!$A10,표1[제조사],추이분석!$B10,표1[구입월],추이분석!J$3),0) -> 4000 | K10: =IFERROR(SUMIFS(표1[구입수량],표1[난이도],추이분석!$A10,표1[제조사],추이분석!$B10,표1[구입월],추이분석!K$3),0) -> 0 | ... O10: =IFERROR(SUMIFS(표1[구입수량],표1[난이도],추이분석!$A10,표1[제조사],추이분석!$B10,표1[구입월],추이분석!O$3),0) -> 0 | Q10: =IFERROR(SUM(D10:F10),0) -> 15800 | S10: =IFERROR(SUM(G10:I10),0) -> 17300 | U10: =IFERROR(SUM(J10:L10),0) -> 4000 | W10: =IFERROR(SUM(M10:O10),0) -> 0
A11: 하드 | B11: 체코 | C11: 금액 | D11: =IFERROR(SUMIFS(표1[구입금액],표1[난이도],추이분석!$A11,표1[제조사],추이분석!$B11,표1[구입월],추이분석!D$3),0) -> 22341423 | E11: =IFERROR(SUMIFS(표1[구입금액],표1[난이도],추이분석!$A11,표1[제조사],추이분석!$B11,표1[구입월],추이분석!E$3),0) -> 44483805 | F11: =IFERROR(SUMIFS(표1[구입금액],표1[난이도],추이분석!$A11,표1[제조사],추이분석!$B11,표1[구입월],추이분석!F$3),0) -> 22818471 | G11: =IFERROR(SUMIFS(표1[구입금액],표1[난이도],추이분석!$A11,표1[제조사],추이분석!$B11,표1[구입월],추이분석!G$3),0) -> 0 | H11: =IFERROR(SUMIFS(표1[구입금액],표1[난이도],추이분석!$A11,표1[제조사],추이분석!$B11,표1[구입월],추이분석!H$3),0) -> 354935518 | I11: =IFERROR(SUMIFS(표1[구입금액],표1[난이도],추이분석!$A11,표1[제조사],추이분석!$B11,표1[구입월],추이분석!I$3),0) -> 134519000 | J11: =IFERROR(SUMIFS(표1[구입금액],표1[난이도],추이분석!$A11,표1[제조사],추이분석!$B11,표1[구입월],추이분석!J$3),0) -> 64424718 | K11: =IFERROR(SUMIFS(표1[구입금액],표1[난이도],추이분석!$A11,표1[제조사],추이분석!$B11,표1[구입월],추이분석!K$3),0) -> 0 | ... O11: =IFERROR(SUMIFS(표1[구입금액],표1[난이도],추이분석!$A11,표1[제조사],추이분석!$B11,표1[구입월],추이분석!O$3),0) -> 0 | Q11: 비중 | R11: =IFERROR(Q10/SUM($D$18:$F$18),0) -> 0.25859247 | S11: 비중 | T11: =IFERROR(S10/SUM($G$18:$I$18),0) -> 0.37124464 | U11: 비중 | V11: =IFERROR(U10/SUM($J$18:$L$18),0) -> 0.18779343 | W11: 비중 | X11: =IFERROR(W10/SUM($M$18:$O$18),0) -> 0
A12: 하드 | B12: 카타르 | C12: 수량 | D12: =IFERROR(SUMIFS(표1[구입수량],표1[난이도],추이분석!$A12,표1[제조사],추이분석!$B12,표1[구입월],추이분석!D$3),0) -> 7800 | E12: =IFERROR(SUMIFS(표1[구입수량],표1[난이도],추이분석!$A12,표1[제조사],추이분석!$B12,표1[구입월],추이분석!E$3),0) -> 0 | F12: =IFERROR(SUMIFS(표1[구입수량],표1[난이도],추이분석!$A12,표1[제조사],추이분석!$B12,표1[구입월],추이분석!F$3),0) -> 4000 | G12: =IFERROR(SUMIFS(표1[구입수량],표1[난이도],추이분석!$A12,표1[제조사],추이분석!$B12,표1[구입월],추이분석!G$3),0) -> 3000 | H12: =IFERROR(SUMIFS(표1[구입수량],표1[난이도],추이분석!$A12,표1[제조사],추이분석!$B12,표1[구입월],추이분석!H$3),0) -> 0 | I12: =IFERROR(SUMIFS(표1[구입수량],표1[난이도],추이분석!$A12,표1[제조사],추이분석!$B12,표1[구입월],추이분석!I$3),0) -> 5500 | J12: =IFERROR(SUMIFS(표1[구입수량],표1[난이도],추이분석!$A12,표1[제조사],추이분석!$B12,표1[구입월],추이분석!J$3),0) -> 5500 | K12: =IFERROR(SUMIFS(표1[구입수량],표1[난이도],추이분석!$A12,표1[제조사],추이분석!$B12,표1[구입월],추이분석!K$3),0) -> 0 | ... O12: =IFERROR(SUMIFS(표1[구입수량],표1[난이도],추이분석!$A12,표1[제조사],추이분석!$B12,표1[구입월],추이분석!O$3),0) -> 0 | Q12: =IFERROR(SUM(D12:F12),0) -> 11800 | S12: =IFERROR(SUM(G12:I12),0) -> 8500 | U12: =IFERROR(SUM(J12:L12),0) -> 5500 | W12: =IFERROR(SUM(M12:O12),0) -> 0
A13: 하드 | B13: 카타르 | C13: 금액 | D13: =IFERROR(SUMIFS(표1[구입금액],표1[난이도],추이분석!$A13,표1[제조사],추이분석!$B13,표1[구입월],추이분석!D$3),0) -> 45864010 | E13: =IFERROR(SUMIFS(표1[구입금액],표1[난이도],추이분석!$A13,표1[제조사],추이분석!$B13,표1[구입월],추이분석!E$3),0) -> 0 | F13: =IFERROR(SUMIFS(표1[구입금액],표1[난이도],추이분석!$A13,표1[제조사],추이분석!$B13,표1[구입월],추이분석!F$3),0) -> 20168801 | G13: =IFERROR(SUMIFS(표1[구입금액],표1[난이도],추이분석!$A13,표1[제조사],추이분석!$B13,표1[구입월],추이분석!G$3),0) -> 28600000 | H13: =IFERROR(SUMIFS(표1[구입금액],표1[난이도],추이분석!$A13,표1[제조사],추이분석!$B13,표1[구입월],추이분석!H$3),0) -> 0 | I13: =IFERROR(SUMIFS(표1[구입금액],표1[난이도],추이분석!$A13,표1[제조사],추이분석!$B13,표1[구입월],추이분석!I$3),0) -> 111479918 | J13: =IFERROR(SUMIFS(표1[구입금액],표1[난이도],추이분석!$A13,표1[제조사],추이분석!$B13,표1[구입월],추이분석!J$3),0) -> 42246914 | K13: =IFERROR(SUMIFS(표1[구입금액],표1[난이도],추이분석!$A13,표1[제조사],추이분석!$B13,표1[구입월],추이분석!K$3),0) -> 0 | ... O13: =IFERROR(SUMIFS(표1[구입금액],표1[난이도],추이분석!$A13,표1[제조사],추이분석!$B13,표1[구입월],추이분석!O$3),0) -> 0 | Q13: 비중 | R13: =IFERROR(Q12/SUM($D$18:$F$18),0) -> 0.19312602 | S13: 비중 | T13: =IFERROR(S12/SUM($G$18:$I$18),0) -> 0.18240343 | U13: 비중 | V13: =IFERROR(U12/SUM($J$18:$L$18),0) -> 0.25821596 | W13: 비중 | X13: =IFERROR(W12/SUM($M$18:$O$18),0) -> 0
A14: 하드 | B14: 프랑스 | C14: 수량 | D14: =IFERROR(SUMIFS(표1[구입수량],표1[난이도],추이분석!$A14,표1[제조사],추이분석!$B14,표1[구입월],추이분석!D$3),0) -> 4500 | E14: =IFERROR(SUMIFS(표1[구입수량],표1[난이도],추이분석!$A14,표1[제조사],추이분석!$B14,표1[구입월],추이분석!E$3),0) -> 5200 | F14: =IFERROR(SUMIFS(표1[구입수량],표1[난이도],추이분석!$A14,표1[제조사],추이분석!$B14,표1[구입월],추이분석!F$3),0) -> 14800 | G14: =IFERROR(SUMIFS(표1[구입수량],표1[난이도],추이분석!$A14,표1[제조사],추이분석!$B14,표1[구입월],추이분석!G$3),0) -> 5500 | H14: =IFERROR(SUMIFS(표1[구입수량],표1[난이도],추이분석!$A14,표1[제조사],추이분석!$B14,표1[구입월],추이분석!H$3),0) -> 0 | I14: =IFERROR(SUMIFS(표1[구입수량],표1[난이도],추이분석!$A14,표1[제조사],추이분석!$B14,표1[구입월],추이분석!I$3),0) -> 0 | J14: =IFERROR(SUMIFS(표1[구입수량],표1[난이도],추이분석!$A14,표1[제조사],추이분석!$B14,표1[구입월],추이분석!J$3),0) -> 0 | K14: =IFERROR(SUMIFS(표1[구입수량],표1[난이도],추이분석!$A14,표1[제조사],추이분석!$B14,표1[구입월],추이분석!K$3),0) -> 0 | ... O14: =IFERROR(SUMIFS(표1[구입수량],표1[난이도],추이분석!$A14,표1[제조사],추이분석!$B14,표1[구입월],추이분석!O$3),0) -> 0 | Q14: =IFERROR(SUM(D14:F14),0) -> 24500 | S14: =IFERROR(SUM(G14:I14),0) -> 5500 | U14: =IFERROR(SUM(J14:L14),0) -> 0 | W14: =IFERROR(SUM(M14:O14),0) -> 0
A15: 하드 | B15: 프랑스 | C15: 금액 | D15: =IFERROR(SUMIFS(표1[구입금액],표1[난이도],추이분석!$A15,표1[제조사],추이분석!$B15,표1[구입월],추이분석!D$3),0) -> 62298506 | E15: =IFERROR(SUMIFS(표1[구입금액],표1[난이도],추이분석!$A15,표1[제조사],추이분석!$B15,표1[구입월],추이분석!E$3),0) -> 45967885 | F15: =IFERROR(SUMIFS(표1[구입금액],표1[난이도],추이분석!$A15,표1[제조사],추이분석!$B15,표1[구입월],추이분석!F$3),0) -> 44695412 | G15: =IFERROR(SUMIFS(표1[구입금액],표1[난이도],추이분석!$A15,표1[제조사],추이분석!$B15,표1[구입월],추이분석!G$3),0) -> 303207286 | H15: =IFERROR(SUMIFS(표1[구입금액],표1[난이도],추이분석!$A15,표1[제조사],추이분석!$B15,표1[구입월],추이분석!H$3),0) -> 0 | I15: =IFERROR(SUMIFS(표1[구입금액],표1[난이도],추이분석!$A15,표1[제조사],추이분석!$B15,표1[구입월],추이분석!I$3),0) -> 0 | J15: =IFERROR(SUMIFS(표1[구입금액],표1[난이도],추이분석!$A15,표1[제조사],추이분석!$B15,표1[구입월],추이분석!J$3),0) -> 0 | K15: =IFERROR(SUMIFS(표1[구입금액],표1[난이도],추이분석!$A15,표1[제조사],추이분석!$B15,표1[구입월],추이분석!K$3),0) -> 0 | ... O15: =IFERROR(SUMIFS(표1[구입금액],표1[난이도],추이분석!$A15,표1[제조사],추이분석!$B15,표1[구입월],추이분석!O$3),0) -> 0 | Q15: 비중 | R15: =IFERROR(Q14/SUM($D$18:$F$18),0) -> 0.400982 | S15: 비중 | T15: =IFERROR(S14/SUM($G$18:$I$18),0) -> 0.11802575 | U15: 비중 | V15: =IFERROR(U14/SUM($J$18:$L$18),0) -> 0 | W15: 비중 | X15: =IFERROR(W14/SUM($M$18:$O$18),0) -> 0
A16: 하드 | B16: 캄보디아 | C16: 수량 | D16: =IFERROR(SUMIFS(표1[구입수량],표1[난이도],추이분석!$A16,표1[제조사],추이분석!$B16,표1[구입월],추이분석!D$3),0) -> 0 | E16: =IFERROR(SUMIFS(표1[구입수량],표1[난이도],추이분석!$A16,표1[제조사],추이분석!$B16,표1[구입월],추이분석!E$3),0) -> 9000 | F16: =IFERROR(SUMIFS(표1[구입수량],표1[난이도],추이분석!$A16,표1[제조사],추이분석!$B16,표1[구입월],추이분석!F$3),0) -> 0 | G16: =IFERROR(SUMIFS(표1[구입수량],표1[난이도],추이분석!$A16,표1[제조사],추이분석!$B16,표1[구입월],추이분석!G$3),0) -> 13800 | H16: =IFERROR(SUMIFS(표1[구입수량],표1[난이도],추이분석!$A16,표1[제조사],추이분석!$B16,표1[구입월],추이분석!H$3),0) -> 1500 | I16: =IFERROR(SUMIFS(표1[구입수량],표1[난이도],추이분석!$A16,표1[제조사],추이분석!$B16,표1[구입월],추이분석!I$3),0) -> 0 | J16: =IFERROR(SUMIFS(표1[구입수량],표1[난이도],추이분석!$A16,표1[제조사],추이분석!$B16,표1[구입월],추이분석!J$3),0) -> 11800 | K16: =IFERROR(SUMIFS(표1[구입수량],표1[난이도],추이분석!$A16,표1[제조사],추이분석!$B16,표1[구입월],추이분석!K$3),0) -> 0 | ... O16: =IFERROR(SUMIFS(표1[구입수량],표1[난이도],추이분석!$A16,표1[제조사],추이분석!$B16,표1[구입월],추이분석!O$3),0) -> 0 | Q16: =IFERROR(SUM(D16:F16),0) -> 9000 | S16: =IFERROR(SUM(G16:I16),0) -> 15300 | U16: =IFERROR(SUM(J16:L16),0) -> 11800 | W16: =IFERROR(SUM(M16:O16),0) -> 0
A17: 하드 | B17: 캄보디아 | C17: 금액 | D17: =IFERROR(SUMIFS(표1[구입금액],표1[난이도],추이분석!$A17,표1[제조사],추이분석!$B17,표1[구입월],추이분석!D$3),0) -> 0 | E17: =IFERROR(SUMIFS(표1[구입금액],표1[난이도],추이분석!$A17,표1[제조사],추이분석!$B17,표1[구입월],추이분석!E$3),0) -> 22001490 | F17: =IFERROR(SUMIFS(표1[구입금액],표1[난이도],추이분석!$A17,표1[제조사],추이분석!$B17,표1[구입월],추이분석!F$3),0) -> 0 | G17: =IFERROR(SUMIFS(표1[구입금액],표1[난이도],추이분석!$A17,표1[제조사],추이분석!$B17,표1[구입월],추이분석!G$3),0) -> 112456949 | H17: =IFERROR(SUMIFS(표1[구입금액],표1[난이도],추이분석!$A17,표1[제조사],추이분석!$B17,표1[구입월],추이분석!H$3),0) -> 22171456 | I17: =IFERROR(SUMIFS(표1[구입금액],표1[난이도],추이분석!$A17,표1[제조사],추이분석!$B17,표1[구입월],추이분석!I$3),0) -> 0 | J17: =IFERROR(SUMIFS(표1[구입금액],표1[난이도],추이분석!$A17,표1[제조사],추이분석!$B17,표1[구입월],추이분석!J$3),0) -> 135265832 | K17: =IFERROR(SUMIFS(표1[구입금액],표1[난이도],추이분석!$A17,표1[제조사],추이분석!$B17,표1[구입월],추이분석!K$3),0) -> 0 | ... O17: =IFERROR(SUMIFS(표1[구입금액],표1[난이도],추이분석!$A17,표1[제조사],추이분석!$B17,표1[구입월],추이분석!O$3),0) -> 0 | Q17: 비중 | R17: =IFERROR(Q16/SUM($D$18:$F$18),0) -> 0.14729951 | S17: 비중 | T17: =IFERROR(S16/SUM($G$18:$I$18),0) -> 0.32832618 | U17: 비중 | V17: =IFERROR(U16/SUM($J$18:$L$18),0) -> 0.55399061 | W17: 비중 | X17: =IFERROR(W16/SUM($M$18:$O$18),0) -> 0
A18: 하드 | C18: 수량 | D18: =IFERROR(D10+D12+D14+D16,0) -> 20100 | E18: =IFERROR(E10+E12+E14+E16,0) -> 19700 | F18: =IFERROR(F10+F12+F14+F16,0) -> 21300 | G18: =IFERROR(G10+G12+G14+G16,0) -> 22300 | H18: =IFERROR(H10+H12+H14+H16,0) -> 17300 | I18: =IFERROR(I10+I12+I14+I16,0) -> 7000 | J18: =IFERROR(J10+J12+J14+J16,0) -> 21300 | K18: =IFERROR(K10+K12+K14+K16,0) -> 0 | ... O18: =IFERROR(O10+O12+O14+O16,0) -> 0 | Q18: =IFERROR(Q10+Q12+Q14+Q16,0) -> 61100 | S18: =IFERROR(S10+S12+S14+S16,0) -> 46600 | U18: =IFERROR(U10+U12+U14+U16,0) -> 21300 | W18: =IFERROR(W10+W12+W14+W16,0) -> 0
A19: 소계 | C19: 금액 | D19: =IFERROR(D11+D13+D15+D17,0) -> 130503939 | E19: =IFERROR(E11+E13+E15+E17,0) -> 112453180 | F19: =IFERROR(F11+F13+F15+F17,0) -> 87682684 | G19: =IFERROR(G11+G13+G15+G17,0) -> 444264235 | H19: =IFERROR(H11+H13+H15+H17,0) -> 377106974 | I19: =IFERROR(I11+I13+I15+I17,0) -> 245998918 | J19: =IFERROR(J11+J13+J15+J17,0) -> 241937464 | K19: =IFERROR(K11+K13+K15+K17,0) -> 0 | ... O19: =IFERROR(O11+O13+O15+O17,0) -> 0 | Q19: =IFERROR(SUM(D19:F19),0) -> 330639803 | S19: =IFERROR(SUM(G19:I19),0) -> 1067370127 | U19: =IFERROR(SUM(J19:L19),0) -> 241937464 | W19: =IFERROR(SUM(M19:O19),0) -> 0
A20: 이지 | B20: 체코 | C20: 수량 | D20: =IFERROR(SUMIFS(표1[구입수량],표1[난이도],추이분석!$A20,표1[제조사],추이분석!$B20,표1[구입월],추이분석!D$3),0) -> 0 | E20: =IFERROR(SUMIFS(표1[구입수량],표1[난이도],추이분석!$A20,표1[제조사],추이분석!$B20,표1[구입월],추이분석!E$3),0) -> 11500 | F20: =IFERROR(SUMIFS(표1[구입수량],표1[난이도],추이분석!$A20,표1[제조사],추이분석!$B20,표1[구입월],추이분석!F$3),0) -> 3300 | G20: =IFERROR(SUMIFS(표1[구입수량],표1[난이도],추이분석!$A20,표1[제조사],추이분석!$B20,표1[구입월],추이분석!G$3),0) -> 3000 | H20: =IFERROR(SUMIFS(표1[구입수량],표1[난이도],추이분석!$A20,표1[제조사],추이분석!$B20,표1[구입월],추이분석!H$3),0) -> 9500 | I20: =IFERROR(SUMIFS(표1[구입수량],표1[난이도],추이분석!$A20,표1[제조사],추이분석!$B20,표1[구입월],추이분석!I$3),0) -> 6700 | J20: =IFERROR(SUMIFS(표1[구입수량],표1[난이도],추이분석!$A20,표1[제조사],추이분석!$B20,표1[구입월],추이분석!J$3),0) -> 0 | K20: =IFERROR(SUMIFS(표1[구입수량],표1[난이도],추이분석!$A20,표1[제조사],추이분석!$B20,표1[구입월],추이분석!K$3),0) -> 0 | ... O20: =IFERROR(SUMIFS(표1[구입수량],표1[난이도],추이분석!$A20,표1[제조사],추이분석!$B20,표1[구입월],추이분석!O$3),0) -> 0 | Q20: =IFERROR(SUM(D20:F20),0) -> 14800 | S20: =IFERROR(SUM(G20:I20),0) -> 19200 | U20: =IFERROR(SUM(J20:L20),0) -> 0 | W20: =IFERROR(SUM(M20:O20),0) -> 0
A21: 이지 | B21: 체코 | C21: 금액 | D21: =IFERROR(SUMIFS(표1[구입금액],표1[난이도],추이분석!$A21,표1[제조사],추이분석!$B21,표1[구입월],추이분석!D$3),0) -> 0 | E21: =IFERROR(SUMIFS(표1[구입금액],표1[난이도],추이분석!$A21,표1[제조사],추이분석!$B21,표1[구입월],추이분석!E$3),0) -> 65895117 | F21: =IFERROR(SUMIFS(표1[구입금액],표1[난이도],추이분석!$A21,표1[제조사],추이분석!$B21,표1[구입월],추이분석!F$3),0) -> 21425785 | G21: =IFERROR(SUMIFS(표1[구입금액],표1[난이도],추이분석!$A21,표1[제조사],추이분석!$B21,표1[구입월],추이분석!G$3),0) -> 21818449 | H21: =IFERROR(SUMIFS(표1[구입금액],표1[난이도],추이분석!$A21,표1[제조사],추이분석!$B21,표1[구입월],추이분석!H$3),0) -> 22180830 | I21: =IFERROR(SUMIFS(표1[구입금액],표1[난이도],추이분석!$A21,표1[제조사],추이분석!$B21,표1[구입월],추이분석!I$3),0) -> 66209172 | J21: =IFERROR(SUMIFS(표1[구입금액],표1[난이도],추이분석!$A21,표1[제조사],추이분석!$B21,표1[구입월],추이분석!J$3),0) -> 0 | K21: =IFERROR(SUMIFS(표1[구입금액],표1[난이도],추이분석!$A21,표1[제조사],추이분석!$B21,표1[구입월],추이분석!K$3),0) -> 0 | ... O21: =IFERROR(SUMIFS(표1[구입금액],표1[난이도],추이분석!$A21,표1[제조사],추이분석!$B21,표1[구입월],추이분석!O$3),0) -> 0 | Q21: 비중 | R21: =IFERROR(Q20/SUM($D$26:$F$26),0) -> 0.32743363 | S21: 비중 | T21: =IFERROR(S20/SUM($G$26:$I$26),0) -> 0.47174447 | U21: 비중 | V21: =IFERROR(U20/SUM($J$26:$L$26),0) -> 0 | W21: 비중 | X21: =IFERROR(W20/SUM($M$26:$O$26),0) -> 0
A22: 이지 | B22: 캄보디아 | C22: 수량 | D22: =IFERROR(SUMIFS(표1[구입수량],표1[난이도],추이분석!$A22,표1[제조사],추이분석!$B22,표1[구입월],추이분석!D$3),0) -> 10300 | E22: =IFERROR(SUMIFS(표1[구입수량],표1[난이도],추이분석!$A22,표1[제조사],추이분석!$B22,표1[구입월],추이분석!E$3),0) -> 0 | F22: =IFERROR(SUMIFS(표1[구입수량],표1[난이도],추이분석!$A22,표1[제조사],추이분석!$B22,표1[구입월],추이분석!F$3),0) -> 0 | G22: =IFERROR(SUMIFS(표1[구입수량],표1[난이도],추이분석!$A22,표1[제조사],추이분석!$B22,표1[구입월],추이분석!G$3),0) -> 4000 | H22: =IFERROR(SUMIFS(표1[구입수량],표1[난이도],추이분석!$A22,표1[제조사],추이분석!$B22,표1[구입월],추이분석!H$3),0) -> 5500 | I22: =IFERROR(SUMIFS(표1[구입수량],표1[난이도],추이분석!$A22,표1[제조사],추이분석!$B22,표1[구입월],추이분석!I$3),0) -> 0 | J22: =IFERROR(SUMIFS(표1[구입수량],표1[난이도],추이분석!$A22,표1[제조사],추이분석!$B22,표1[구입월],추이분석!J$3),0) -> 6500 | K22: =IFERROR(SUMIFS(표1[구입수량],표1[난이도],추이분석!$A22,표1[제조사],추이분석!$B22,표1[구입월],추이분석!K$3),0) -> 0 | ... O22: =IFERROR(SUMIFS(표1[구입수량],표1[난이도],추이분석!$A22,표1[제조사],추이분석!$B22,표1[구입월],추이분석!O$3),0) -> 0 | Q22: =IFERROR(SUM(D22:F22),0) -> 10300 | S22: =IFERROR(SUM(G22:I22),0) -> 9500 | U22: =IFERROR(SUM(J22:L22),0) -> 6500 | W22: =IFERROR(SUM(M22:O22),0) -> 0
A23: 이지 | B23: 캄보디아 | C23: 금액 | D23: =IFERROR(SUMIFS(표1[구입금액],표1[난이도],추이분석!$A23,표1[제조사],추이분석!$B23,표1[구입월],추이분석!D$3),0) -> 312691630 | E23: =IFERROR(SUMIFS(표1[구입금액],표1[난이도],추이분석!$A23,표1[제조사],추이분석!$B23,표1[구입월],추이분석!E$3),0) -> 0 | F23: =IFERROR(SUMIFS(표1[구입금액],표1[난이도],추이분석!$A23,표1[제조사],추이분석!$B23,표1[구입월],추이분석!F$3),0) -> 0 | G23: =IFERROR(SUMIFS(표1[구입금액],표1[난이도],추이분석!$A23,표1[제조사],추이분석!$B23,표1[구입월],추이분석!G$3),0) -> 20216628 | H23: =IFERROR(SUMIFS(표1[구입금액],표1[난이도],추이분석!$A23,표1[제조사],추이분석!$B23,표1[구입월],추이분석!H$3),0) -> 83226093 | I23: =IFERROR(SUMIFS(표1[구입금액],표1[난이도],추이분석!$A23,표1[제조사],추이분석!$B23,표1[구입월],추이분석!I$3),0) -> 0 | J23: =IFERROR(SUMIFS(표1[구입금액],표1[난이도],추이분석!$A23,표1[제조사],추이분석!$B23,표1[구입월],추이분석!J$3),0) -> 29570095 | K23: =IFERROR(SUMIFS(표1[구입금액],표1[난이도],추이분석!$A23,표1[제조사],추이분석!$B23,표1[구입월],추이분석!K$3),0) -> 0 | ... O23: =IFERROR(SUMIFS(표1[구입금액],표1[난이도],추이분석!$A23,표1[제조사],추이분석!$B23,표1[구입월],추이분석!O$3),0) -> 0 | Q23: 비중 | R23: =IFERROR(Q22/SUM($D$26:$F$26),0) -> 0.22787611 | S23: 비중 | T23: =IFERROR(S22/SUM($G$26:$I$26),0) -> 0.23341523 | U23: 비중 | V23: =IFERROR(U22/SUM($J$26:$L$26),0) -> 1 | W23: 비중 | X23: =IFERROR(W22/SUM($M$26:$O$26),0) -> 0
A24: 이지 | B24: 싱가포르 | C24: 수량 | D24: =IFERROR(SUMIFS(표1[구입수량],표1[난이도],추이분석!$A24,표1[제조사],추이분석!$B24,표1[구입월],추이분석!D$3),0) -> 7800 | E24: =IFERROR(SUMIFS(표1[구입수량],표1[난이도],추이분석!$A24,표1[제조사],추이분석!$B24,표1[구입월],추이분석!E$3),0) -> 9000 | F24: =IFERROR(SUMIFS(표1[구입수량],표1[난이도],추이분석!$A24,표1[제조사],추이분석!$B24,표1[구입월],추이분석!F$3),0) -> 3300 | G24: =IFERROR(SUMIFS(표1[구입수량],표1[난이도],추이분석!$A24,표1[제조사],추이분석!$B24,표1[구입월],추이분석!G$3),0) -> 4000 | H24: =IFERROR(SUMIFS(표1[구입수량],표1[난이도],추이분석!$A24,표1[제조사],추이분석!$B24,표1[구입월],추이분석!H$3),0) -> 2000 | I24: =IFERROR(SUMIFS(표1[구입수량],표1[난이도],추이분석!$A24,표1[제조사],추이분석!$B24,표1[구입월],추이분석!I$3),0) -> 6000 | J24: =IFERROR(SUMIFS(표1[구입수량],표1[난이도],추이분석!$A24,표1[제조사],추이분석!$B24,표1[구입월],추이분석!J$3),0) -> 0 | K24: =IFERROR(SUMIFS(표1[구입수량],표1[난이도],추이분석!$A24,표1[제조사],추이분석!$B24,표1[구입월],추이분석!K$3),0) -> 0 | ... O24: =IFERROR(SUMIFS(표1[구입수량],표1[난이도],추이분석!$A24,표1[제조사],추이분석!$B24,표1[구입월],추이분석!O$3),0) -> 0 | Q24: =IFERROR(SUM(D24:F24),0) -> 20100 | S24: =IFERROR(SUM(G24:I24),0) -> 12000 | U24: =IFERROR(SUM(J24:L24),0) -> 0 | W24: =IFERROR(SUM(M24:O24),0) -> 0
A25: 이지 | B25: 싱가포르 | C25: 금액 | D25: =IFERROR(SUMIFS(표1[구입금액],표1[난이도],추이분석!$A25,표1[제조사],추이분석!$B25,표1[구입월],추이분석!D$3),0) -> 42700402 | E25: =IFERROR(SUMIFS(표1[구입금액],표1[난이도],추이분석!$A25,표1[제조사],추이분석!$B25,표1[구입월],추이분석!E$3),0) -> 21975340 | F25: =IFERROR(SUMIFS(표1[구입금액],표1[난이도],추이분석!$A25,표1[제조사],추이분석!$B25,표1[구입월],추이분석!F$3),0) -> 21883821 | G25: =IFERROR(SUMIFS(표1[구입금액],표1[난이도],추이분석!$A25,표1[제조사],추이분석!$B25,표1[구입월],추이분석!G$3),0) -> 22053787 | H25: =IFERROR(SUMIFS(표1[구입금액],표1[난이도],추이분석!$A25,표1[제조사],추이분석!$B25,표1[구입월],추이분석!H$3),0) -> 24840000 | I25: =IFERROR(SUMIFS(표1[구입금액],표1[난이도],추이분석!$A25,표1[제조사],추이분석!$B25,표1[구입월],추이분석!I$3),0) -> 41507472 | J25: =IFERROR(SUMIFS(표1[구입금액],표1[난이도],추이분석!$A25,표1[제조사],추이분석!$B25,표1[구입월],추이분석!J$3),0) -> 0 | K25: =IFERROR(SUMIFS(표1[구입금액],표1[난이도],추이분석!$A25,표1[제조사],추이분석!$B25,표1[구입월],추이분석!K$3),0) -> 0 | ... O25: =IFERROR(SUMIFS(표1[구입금액],표1[난이도],추이분석!$A25,표1[제조사],추이분석!$B25,표1[구입월],추이분석!O$3),0) -> 0 | Q25: 비중 | R25: =IFERROR(Q24/SUM($D$26:$F$26),0) -> 0.44469027 | S25: 비중 | T25: =IFERROR(S24/SUM($G$26:$I$26),0) -> 0.29484029 | U25: 비중 | V25: =IFERROR(U24/SUM($J$26:$L$26),0) -> 0 | W25: 비중 | X25: =IFERROR(W24/SUM($M$26:$O$26),0) -> 0
A26: 이지 | C26: 수량 | D26: =IFERROR(D20+D22+D24,0) -> 18100 | E26: =IFERROR(E20+E22+E24,0) -> 20500 | F26: =IFERROR(F20+F22+F24,0) -> 6600 | G26: =IFERROR(G20+G22+G24,0) -> 11000 | H26: =IFERROR(H20+H22+H24,0) -> 17000 | I26: =IFERROR(I20+I22+I24,0) -> 12700 | J26: =IFERROR(J20+J22+J24,0) -> 6500 | K26: =IFERROR(K20+K22+K24,0) -> 0 | ... O26: =IFERROR(O20+O22+O24,0) -> 0 | Q26: =IFERROR(Q20+Q22+Q24,0) -> 45200 | S26: =IFERROR(S20+S22+S24,0) -> 40700 | U26: =IFERROR(U20+U22+U24,0) -> 6500 | W26: =IFERROR(W20+W22+W24,0) -> 0
A27: 소계 | C27: 금액 | D27: =IFERROR(D21+D23+D25,0) -> 355392032 | E27: =IFERROR(E21+E23+E25,0) -> 87870457 | F27: =IFERROR(F21+F23+F25,0) -> 43309606 | G27: =IFERROR(G21+G23+G25,0) -> 64088864 | H27: =IFERROR(H21+H23+H25,0) -> 130246923 | I27: =IFERROR(I21+I23+I25,0) -> 107716644 | J27: =IFERROR(J21+J23+J25,0) -> 29570095 | K27: =IFERROR(K21+K23+K25,0) -> 0 | ... O27: =IFERROR(O21+O23+O25,0) -> 0 | Q27: =IFERROR(SUM(D27:F27),0) -> 486572095 | S27: =IFERROR(SUM(G27:I27),0) -> 302052431 | U27: =IFERROR(SUM(J27:L27),0) -> 29570095 | W27: =IFERROR(SUM(M27:O27),0) -> 0
