Workbook
Name 담임의견: '설문지 응답 시트1'!$I$2:$I$300
Name 응답_1번: '설문지 응답 시트1'!$E$2:$E$300
Name 응답_2번: '설문지 응답 시트1'!$F$2:$F$300
Name 응답_3번: '설문지 응답 시트1'!$G$2:$G$300
Name 응답_4번: '설문지 응답 시트1'!$H$2:$H$300
Name 응답_개별넘버링: '설문지 응답 시트1'!$J$2:$J$300
Name 응답_이름: '설문지 응답 시트1'!$C$2:$C$300
Name 응답_작성일: '설문지 응답 시트1'!$A$2:$A$300
Name 응답_책제목: '설문지 응답 시트1'!$D$2:$D$300
Name 응답_학번: '설문지 응답 시트1'!$B$2:$B$300

Sheet Sheet1
D6: 학번 | F6: 1102 | H6: 이름 | J6: =INDEX(응답_이름,MATCH($F$6,응답_학번,0),1) -> 안수빈 | L6: 제출권수 | M6: =COUNTIF(응답_학번,$F$6) -> 2
D7: 출력번호 | E7: 2 | F7: 책제목(작가) | H7: {=INDEX(응답_책제목,MATCH(1,($F$6=응답_학번)*($E$7=응답_개별넘버링),0))} -> 철학자의 사물들(장석주) | K7: 작성일 | L7: {=INDEX(응답_작성일,MATCH(1,($F$6=응답_학번)*($E$7=응답_개별넘버링),0))} -> 43879.869
D9: 1. 이 책을 읽게 된 동기, 이유가 있나요?
D10: {=INDEX(응답_1번,MATCH(1,($F$6=응답_학번)*($E$7=응답_개별넘버링),0))} -> 이 책은 일상 속에서 흔히 볼 수 있는 사물들을 여러 철학자들의 철학과 엮어 사물을 통해 철학을 이해하고 새로운 시각으로 바라볼 수 있게 해준다.
D11: 2. 이 책을 읽으면서 감동 깊었거나, 기억에 남아 다른 친구 또는 선생님들과 공유하고 싶었던 구절이 있나요?
D12: {=INDEX(응답_2번,MATCH(1,($F$6=응답_학번)*($E$7=응답_개별넘버링),0))} -> 철학을 단지 철학의 개념에서 끝내지 않고 일상 속 물건들의 특성과 접목하여 더욱 심화적으로 탐구할 수 있다는 점이 흥미로웠다.
D13: 3. 이 책을 읽으면서 이해가 되지 않거나 궁금해진 것들, 질문거리 등이 생겼나요?
D14: {=INDEX(응답_3번,MATCH(1,($F$6=응답_학번)*($E$7=응답_개별넘버링),0))} -> 전부 알아들을 수 없었다.
D15: 4. 이 책을 읽고 나서 어떤 것을 생각하거나 느끼게 되었나요?
D16: {=INDEX(응답_4번,MATCH(1,($F$6=응답_학번)*($E$7=응답_개별넘버링),0))} -> 재미있었다.
D17: 5. 담임 의견 | P17: 담임의견 입력 칸
D18: {=INDEX(담임의견,MATCH(1,($F$6=응답_학번)*($E$7=응답_개별넘버링),0))} -> 안녕하세요 | P18: 안녕하세요

Sheet 설문지 응답 시트1
A1: 타임스탬프 | B1: 당신의 학번은? | C1: 당신의 이름은? | D1: 책 제목(작가명)을 입력해 주세요. | E1: 1. 이 책을 읽게 된 동기, 이유가 있나요? | F1: 2. 이 책을 읽으면서 감동 깊었거나, 기억에 남아 다른 친구 또는 선생님들과 공유하고 싶었던 구절이 있나요? | G1: 3. 이 책을 읽으면서 이해가 되지 않거나 궁금해진 것들, 질문거리 등이 생겼나요? | H1: 4. 이 책을 읽고 나서 어떤 것을 생각하거나 느끼게 되었나요? | I1: 5. 담임의견(피드백) | J1: 개별넘버링
A2: 43877.853 | B2: 1101 | C2: 박주은 | D2: 소크라테스의 변명, 진리를 위해 죽다(안광복) | E2: 윤리와 사상 시간에 서양 학자에 대해 배울 때 가장 처음으로 소크라테스에 대해 배웠다. 서양 학자에 대한 책을 읽어보고 싶었지만 어떤 책을 읽어야 할지 감을 못잡던 때에 ‘소크라테스의 변명’이라는 책이 생각났다. ‘소크라테스의 변명’이라는 책은 유명해서 한 번 읽어보고 싶은 생각이 들었다. | F2: 책의 전반적 내용은 이렇다. 소크라테스는 멜레토스라는 젊은이의 고발에 법정에 서게 된다. 그의 죄목은 젊은이들을 타락시키고 국가가 인정한 신을 믿지 않는다는 이유였다. 당시 재판은 501명을 재판관으로 세우고 법정에서 고발자와 피고인이 각자의 입장에 대해 연설과 반론을 하며 논쟁을 벌였다. 소크라테스는 재판에서 유죄를 선고받고 주변 사람들의 탈출 권유에도 마다한 뒤 결국 사약이라는 사형 형벌을 받은 뒤 세상을 떠난다. | G2: 소크라테스의 변명이라는 부분은 바로 이 재판동안 이뤄졌던 소크라테스의 재판 중에 이뤄진 대화들을 토대로 그의 진정한 면모를 볼 수 있는 이야기를 다루고 있다.이 책을 읽고 크게 감동받은 문구가 있다. 사람들은 소크라테스의 명언이라고 하면 ‘너 자신을 알라.’, ‘악법도 법이다.’를 주로 떠올릴 것이다. 하지만 사실 소크라테스는 ‘약법도 법이다.’라는 말을 하지 않았다고 이 책에서는 전해진다. 사형이 결정된 뒤 그의 모습을 바라보고 소크라테스가 말한 것처럼 알려진 것이다. 내가 가장 크게 감동받은 문구는 이것이다. ‘무지를 아는 것이 곧 앎의 시작이다.’라는 것이다. | H2: 이 말을 들으며 무지를 깨닫게 한다는 말에 대해 다시 생각해보게 되었다. 예전에는 무지를 안다는 것이 어떤 말인지도 모르고 그랬다. 하지만 이 책을 통해서 정말로 무지를 아는 것이란 무엇인지, 이 말을 깨닫는 것이 나를 더 발전시킬 수 있는 것이라고 생각했다. | I2: =IF(AND(B2=Sheet1!$F$6,'설문지 응답 시트1'!J2=Sheet1!$E$7),Sheet1!$P$18,"") | J2: =COUNTIF($C$2:C2, C2) -> 1
A3: 43878.868 | B3: 1102 | C3: 안수빈 | D3: 인생이란 여행길에서 만난 철학우화(류관홍) | E3: 이 책은 각 철학자들의 일화를 통해 철학자의 사상과 교훈을 딱딱하지 않게 알려주어 읽는 내내 흥미롭게 볼 수 있었다. | F3: 가장 인상 깊었던 내용이 솔론과 크로이소스의 일화인데 솔론의 말로 인해 한 국왕은 목숨을 구하고 한 국왕은 깨달음을 얻었다는 내용을 통해 철학자의 교훈은 가장 높은 자리의 왕이라도 가르침을 얻고 낮아질 수 있게 하는 | G3: 모두 이해할 수 있었다. | H3: 없다. | I3: =IF(AND(B3=Sheet1!$F$6,'설문지 응답 시트1'!J3=Sheet1!$E$7),Sheet1!$P$18,"") | J3: =COUNTIF($C$2:C3, C3) -> 1
A4: 43879.869 | B4: 1102 | C4: 안수빈 | D4: 철학자의 사물들(장석주) | E4: 이 책은 일상 속에서 흔히 볼 수 있는 사물들을 여러 철학자들의 철학과 엮어 사물을 통해 철학을 이해하고 새로운 시각으로 바라볼 수 있게 해준다. | F4: 철학을 단지 철학의 개념에서 끝내지 않고 일상 속 물건들의 특성과 접목하여 더욱 심화적으로 탐구할 수 있다는 점이 흥미로웠다. | G4: 전부 알아들을 수 없었다. | H4: 재미있었다. | I4: =IF(AND(B4=Sheet1!$F$6,'설문지 응답 시트1'!J4=Sheet1!$E$7),Sheet1!$P$18,"") -> 안녕하세요 | J4: =COUNTIF($C$2:C4, C4) -> 2
A5: 43880.936 | B5: 1103 | C5: 진가은 | D5: 묵자 읽기(박문헌) | E5: 윤리와 사상 수업시간에 유교로 바라본 세상에서 인간복제 문제와 연관지어 묵자의 의리합일에 대해 다루게 되었고 이후에 관심을 가지게 되었다. 이를 계기로 묵자에 대한 더 많은 정보를 얻기 위해 이 책을 접하였다. | F5: 남을 사랑하는 사람은 남으로부터 반드시 사랑을 받게 되고 남을 이롭게 하는 사람은 남으로부터 반드시 이익을 받게 마련이다. 즉 남을 이롭게 하면 그 상대방도 그렇게 할 것이므로 사람들마다 겸애를 하게 되면 자애와 다름없음. 평소 남에게 베풀어야 한다는 생각을 하긴 했지만 이에 대한 확실한 관념이 없었다. 하지만 이를 바탕으로 내가 먼저 실천해야 남도 실천한다는 것을 명확하게 깨달을 수 있었고 공공사회 발전에 남을 사랑하고 베푸는 마음이 필요하다는 것이 확실히 와닿는 구문이었다. | G5: 묵자는 사람과 사람의 관계를 기계적 관점이 아닌 유기적 관점에서 본다. 이에 따라 묵가에서는 전체 인류가 겸이라면 개인은 체가 된다. 겸이 훼손되면 체가 되는데 자연에서 이루어진 만물은 겸이 아닌 것이 없다. 천지에 따르려면 자연의 원리에 맞추어 일마다 오로지 겸해야 한다. 비명론-묵자는 비록 천지가 있고 귀신이 있다 하더라도 사람들은 오히려 열심히 노력하여 복을 구할 것이지 팔짱 끼고 앉아서 하늘의 도움을 기다리면 안 된다는 것을 주장. 운명론자들은 의를 뒤엎는 결과라 비판. | I5: =IF(AND(B5=Sheet1!$F$6,'설문지 응답 시트1'!J5=Sheet1!$E$7),Sheet1!$P$18,"") | J5: =COUNTIF($C$2:C5, C5) -> 1
I6: =IF(AND(B6=Sheet1!$F$6,'설문지 응답 시트1'!J6=Sheet1!$E$7),Sheet1!$P$18,"") | J6: =COUNTIF($C$2:C6, C6) -> 0
I7: =IF(AND(B7=Sheet1!$F$6,'설문지 응답 시트1'!J7=Sheet1!$E$7),Sheet1!$P$18,"") | J7: =COUNTIF($C$2:C7, C7) -> 0
I8: =IF(AND(B8=Sheet1!$F$6,'설문지 응답 시트1'!J8=Sheet1!$E$7),Sheet1!$P$18,"") | J8: =COUNTIF($C$2:C8, C8) -> 0
I9: =IF(AND(B9=Sheet1!$F$6,'설문지 응답 시트1'!J9=Sheet1!$E$7),Sheet1!$P$18,"") | J9: =COUNTIF($C$2:C9, C9) -> 0
I10: =IF(AND(B10=Sheet1!$F$6,'설문지 응답 시트1'!J10=Sheet1!$E$7),Sheet1!$P$18,"") | J10: =COUNTIF($C$2:C10, C10) -> 0
I11: =IF(AND(B11=Sheet1!$F$6,'설문지 응답 시트1'!J11=Sheet1!$E$7),Sheet1!$P$18,"") | J11: =COUNTIF($C$2:C11, C11) -> 0
I12: =IF(AND(B12=Sheet1!$F$6,'설문지 응답 시트1'!J12=Sheet1!$E$7),Sheet1!$P$18,"") | J12: =COUNTIF($C$2:C12, C12) -> 0
